{"text_format":"1","workbook":"xlsx","n_sheets":20,"sheets":["Form Instructions","Project Information","Checklist & Acknowledgement","Terms and Conditions","Technical Requirements","Retrofit Lighting Incentives","Retrofit LED Lighting","Lighting Control Incentives","Input Instructions","Input - Retrofit Lighting","Input - Lighting Controls Only","Measure Code Summary","Device Code Reference","Wattage Table","Validation","Full Wattage Table","Version Tracking","AEG Import - Ret","AEG Import - Con","AEG Import"],"not_rendered":{"charts":0,"images":11,"macros":1,"external_links":15,"defined_names":386,"comments":2,"pivot_tables":0},"unopened":[],"bounds":{"document_bytes":16777216,"sheet_cells":100000,"rows_first":2000,"rows_last":500,"rows_between":2000,"halvings":0,"cell_chars":16384,"cell_head_chars":4096},"cells_cut":0,"cells_raw":0,"read":"whole","date_system":"1900"}

{"sheet":"Form Instructions","index":0,"n_rows":23,"n_cols":19,"rows_kept":23,"cut":false,"hidden":false,"merged":[[0,1,1,19],[12,1,12,9],[22,1,22,9],[14,1,14,9],[16,1,16,9],[18,1,18,9],[2,6,2,14],[3,6,3,14],[4,6,4,14],[22,11,23,19],[10,18,10,19],[10,4,10,16],[18,11,21,19],[11,11,16,19],[17,12,17,15],[20,1,20,9]]}
[]
[]
[null,null,null,null,null,null,"Retrofit Lighting Application - Electronic Version"]
[null,null,null,null,null,null,"Dominion Energy South Carolina, Inc."]
[]
[]
[]
[]
[]
[]
[null,null,null,null,"*If an error occurs when using buttons above, manually navigate to appropriate tab",null,null,null,null,null,null,null,null,null,null,null,null,null,{"$f":"\"Version # \"&'Version Tracking'!C4","v":"Version # 10.2"}]
[null,"Application and Instructions",null,null,null,null,null,null,null,null,null,"Participation Instructions\nPlease review the program Terms and Conditions tab and the Technical Requirements tab for all program rules and requirements.  Tabs colored Blue should be filled in by applicant.        \n\nStep 1\nReview program materials to confirm your proposed equipment meets program requirements. Visit the program website at www.DominionEnergySC.com/ForYourBusiness or contact us at SCEnergyExperts@DominionEnergySC.com or call 877-784-7234 with any questions about eligibility.\n\nStep 2\n→  Complete the blue Project Information tab.  Please indicate the mailing address for all correspondence under the Customer Contact Information including incentive checks if applicable.  Please indicate if the incentive payment should be made payable to the customer of record or a third party, such as the installation contractor. All incentive payments require authorization from the customer of record. IRS Form W-9 must be completed for the party receiving the incentive payment from Dominion Energy South Carolina. This form is available at www.irs.gov. Regardless of who is receiving the incentive payment, the customer’s Federal tax ID number must be provided on this tab. \n\n→  Complete the applicable blue Input tab(s). Refer to the black Input Instructions tab for additional information.\n\n→ Complete the Checklist and Acknowledgement tab.  Provide customer signature and verify that all required information and documentation are included for submission to Dominion Energy South Carolina.  Incomplete applications will not be accepted and will be returned to the customer for completion.\n\n→ Complete application packages must be submitted by email."]
[null,"The EnergyWise for Your Business Program is designed to help non-residential\ncustomers replace aging, inefficient equipment and systems with energy-efficient technologies. The program provides customers with incentives and technical assistance that will facilitate the installation of premium efficient equipment. The maximum incentive for a lighting retrofit project will be capped at 50% of the Total Project Cost provided on the \"Input - Retrofit Lighting\" tab.   For each program year (December 1–November 30), EnergyWise for Your Business incentive payments are capped per Customer Federal tax ID number at $100,000. Details of the program, including incentive levels and technical requirements, are subject to change without prior notice. You may go to www.DominionEnergySC.com/ForYourBusiness to get the most current program information, or you may call 877-784-7234."]
[null,"Eligible Participants"]
[null,"EnergyWise for Your Business is open to all non-residential electric customers within the Dominion Energy South Carolina service territory, except for industrial customers and certain large retail customers who have elected to opt out of the Demand Side Management (DSM) programs by notifying us in writing using the Opt-Out form."]
[null,"Eligible Equipment"]
[null,"Eligible lighting equipment and incentive amounts are listed on the Retrofit Lighting Incentives and Lighting Control Incentives tabs. These measures are subject to the associated technical eligibility criteria (refer to the Technical Requirements tab). All equipment must be new; used or refurbished equipment is not eligible. This application form is applicable to lighting retrofit projects. Measures can include T5 & T8 lamps, hardwired CFLs, interior and exterior LEDs, and lighting controls. New construction projects, major renovation projects, or additions to existing facilities are not eligible through this application and should use the New Construction Lighting application."]
[null,"Pre-Approval Requirements ",null,null,null,null,null,null,null,null,null,"Email:","SCEnergyExperts@DominionEnergySC.com"]
[null,"All projects require pre-approval prior to ordering, purchasing or installing any equipment. After the application has been pre-approved by Dominion Energy South Carolina, the customer will be notified in writing, assigned a project identification number, and given any specific instructions. The customer may then purchase and install the pre-approved equipment.",null,null,null,null,null,null,null,null,null,"Step 3\nApplications will be processed and Dominion Energy South Carolina  will notify the customer in writing when the review is complete and funds have been reserved. Upon receipt of program pre-approval, customers may purchase and install their energy efficient equipment. We will notify customers if an inspection of the facility is necessary prior to pre-approval.\n\nAny changes in the proposed equipment, quantities, or operating conditions\nmust be approved by us prior to implementing."]
[null,"Maximum Incentive will be Capped at 50% of Total Project Cost"]
[null,"\nTotal Project Cost is determined by the cost of eligible equipment and labor needed to install eligible equipment.  Total Project Cost does NOT include the tax burden/tariffs of project and/or freight/transportation/shipping/storage for eligible equipment.  Ancillary costs (e.g. lift fees, electrical upgrades, wiring, etc.) related to the project are not included in the Total Project Costs and may only be included if it is required for replacing existing equipment with the eligible equipment."]
[null,"Questions"]
[null,"If you have questions, email SCEnergyExperts@DominionEnergySC.com, visit www.DominionEnergySC.com/ForYourBusiness or call 877-784-7234.",null,null,null,null,null,null,null,null,null,"Step 4\nUpon project completion, please return the signed customer acknowledgment\nat bottom of the pre-approval letter along with proof of purchase. We will notify customers if an inspection of the facility is necessary prior to final payment processing."]

{"sheet":"Project Information","index":1,"n_rows":41,"n_cols":15,"rows_kept":41,"cut":false,"hidden":false,"merged":[[14,11,14,14],[12,8,12,9],[38,6,38,9],[39,1,39,14],[38,0,38,5],[27,3,27,14],[32,0,32,14],[20,0,20,2],[20,3,20,9],[20,11,20,14],[31,0,31,14],[16,0,16,14],[17,0,17,2],[17,3,17,14],[19,8,19,9],[19,11,19,14],[40,0,40,9],[9,0,9,14],[10,0,10,2],[10,3,10,14],[11,0,11,14],[12,0,12,2],[12,3,12,6],[35,0,35,3],[33,0,33,14],[13,11,13,14],[14,0,14,2],[14,3,14,6],[14,8,14,9],[38,10,38,12],[38,13,38,14],[15,0,15,14],[21,3,21,6],[21,8,21,9],[21,11,21,14],[18,0,18,2],[18,3,18,14],[19,0,19,2],[19,3,19,6],[8,11,8,13],[37,0,37,2],[37,3,37,9],[37,11,37,14],[34,0,34,2],[34,3,34,9],[12,11,12,14],[13,0,13,2],[13,3,13,9],[36,0,36,9],[23,0,23,14],[25,0,25,14],[26,0,26,2],[26,3,26,14],[27,0,27,2],[21,0,21,2],[4,3,4,9],[4,10,4,12],[4,13,4,14],[2,13,2,14],[6,0,6,12],[3,0,3,2],[3,3,3,9],[3,10,3,12],[3,13,3,14],[4,0,4,2],[7,0,7,9],[5,0,5,2],[5,3,5,6],[5,8,5,9],[5,11,5,14],[0,0,0,14],[1,0,1,14],[2,0,2,2],[2,3,2,9],[2,10,2,12],[30,0,30,2],[30,3,30,6],[30,8,30,9],[30,11,30,14],[22,0,22,14],[24,0,24,14],[28,0,28,2],[28,3,28,6],[28,8,28,9],[28,11,28,14],[29,0,29,2],[29,3,29,9],[29,11,29,14]]}
["Dominion Energy South Carolina, Inc. (Fill in Blue and Orange Cells Only!)"]
["PROJECT INFORMATION"]
["Application Date    ",null,null,null,null,null,null,null,null,null,"Expected Completion Date"]
["Company Name    ",null,null,null,null,null,null,null,null,null,"Electric Account # "]
["Street Address (of the facility) ",null,null,null,null,null,null,null,null,null,"Customer Federal Tax ID "]
["City   ",null,null,null,null,null,null,"State   ","SC",null,"Zip  "]
["Building Type (select one)"]
[]
[null,null,null,null,null,null,null,null,null,null,null,"Please indicate \"other\" type:"]
["CUSTOMER CONTACT INFORMATION"]
["Mailing Address"]
["(where all correspondence will be mailed, including incentive check if payment is to the customer)"]
["City   ",null,null,null,null,null,null,"State   ",null,null,"Zip  "]
["Contact Person     ",null,null,null,null,null,null,null,null,null,"Title"]
["Telephone No.       ",null,null,null,null,null,null,"Fax No.",null,null,"Email "]
[]
["CONTRACTOR INFORMATION"]
["Company Name  "]
["Street Address   "]
["City   ",null,null,null,null,null,null,"State   ",null,null,"Zip  "]
["Contact Person     ",null,null,null,null,null,null,null,null,null,"Title"]
["Telephone No.       ",null,null,null,null,null,null,"Fax No.",null,null,"Email "]
[]
["Please indicate if the Customer or Contractor should be primary point of contact for this project.  If another party should be primary point of contact, please indicate below:"]
["             Customer                                          Contractor                                   Other (fill out below)"]
["PRIMARY POINT OF CONTACT (IF APPLICABLE)"]
["Company Name  "]
["Street Address   "]
["City   ",null,null,null,null,null,null,"State   ",null,null,"Zip  "]
["Contact Person     ",null,null,null,null,null,null,null,null,null,"Title"]
["Telephone No.       ",null,null,null,null,null,null,"Fax No.",null,null,"Email "]
[]
["PAYMENT INFORMATION"]
["Payment to: "]
["Federal Tax ID # (of recipient)"]
["Tax Status of Recipient (select one)"]
[]
["Customer Name",null,null,null,null,null,null,null,null,null,"Title"]
["Customer Signature (if payment to contractor, Customer must type his/her name in the orange box to the right and check the box below)    ",null,null,null,null,null,null,null,null,null,"Date (XX/XX/XXXX)"]
[null,"I understand and intend that my electronic, PDF or facsimile signature be accepted and have the same force and effect as an original signature."]
["Dominion Energy South Carolina, Inc. Retrofit Lighting Application - Electronic Version",null,null,null,null,null,null,null,null,null,null,null,null,"Version",{"$f":"'Version Tracking'!C4","v":10.199999999999999}]

{"sheet":"Checklist & Acknowledgement","index":2,"n_rows":16,"n_cols":15,"rows_kept":16,"cut":false,"hidden":false,"merged":[[5,0,5,14],[15,0,15,9],[11,0,11,14],[12,0,13,2],[12,3,13,7],[12,8,12,9],[12,10,12,14],[13,8,13,12],[13,13,13,14],[14,1,14,14],[6,0,6,14],[10,0,10,14],[8,0,8,14],[7,0,7,14],[9,0,9,14],[0,0,0,14],[1,0,1,14],[2,0,2,14],[3,0,3,14],[4,0,4,14]]}
["Dominion Energy South Carolina, Inc. (Fill in Blue and Orange Cells Only!)"]
["APPLICATION CHECKLIST"]
["For faster application processing, please include the following items with your application:"]
["     Complete application (Project Information tab and Customer Acknowledgment below)."]
["     Electric account number (on Customer Information tab). Submit copy of electric bill."]
["     IRS Form W-9 completed for payment recipient (available at www.irs.gov). If payment is to a contractor, customer's W-9 must also be provided."]
["     Supporting documentation to include manufacturer’s specification (cut) sheets for all lamps, ballasts, fixtures and controls."]
["     Complete Input Tab(s) - Retrofit Lighting OR Controls Only tab - refer to Input Instructions tab first."]
["     Customer signature and proof of purchase (contractor receipts), at time of project completion."]
["Applications submitted for processing will be processed in the order in which they are received. Applicants will be notified as to their pre-approval status and/or any pre-inspection requirements within 10 business days from receipt of complete application. Applicants will be notified if post-installation inspections are required."]
[]
["CUSTOMER ACKNOWLEDGMENT"]
["Authorized Representative  ",null,null,null,null,null,null,null,"Title"]
[null,null,null,null,null,null,null,null,"Date (XX/XX/XXXX)"]
[null,"By checking this box and typing my name, I hereby certify that all statements made on this application are correct to the best of my knowledge and that I have read and agree to the Terms and Conditions. Furthermore, I understand and intend that my electronic, PDF or facsimile signature be accepted and have the same force and effect as an original signature.\n\nNote: Upon completion of project, Dominion Energy South Carolina, Inc. customer of record must sign and return the written pre-approval letter and provide invoices for all energy efficiency measures."]
[{"$f":"'Project Information'!A41:J41","v":"Dominion Energy South Carolina, Inc. Retrofit Lighting Application - Electronic Version"},null,null,null,null,null,null,null,null,null,null,null,null,"Version",{"$f":"'Project Information'!O41","v":10.199999999999999}]

{"sheet":"Terms and Conditions","index":3,"n_rows":7,"n_cols":2,"rows_kept":7,"cut":false,"hidden":false,"merged":[[0,0,0,1],[1,0,1,1],[6,1,6,2]]}
["Dominion Energy South Carolina, Inc."]
["TERMS AND CONDITIONS"]
["1.  Eligibility: EnergyWise For Your Business Program (“Program”) incentives are available to Dominion Energy South Carolina non-residential electric customers for the purchase and installation of qualifying energy conservation measures (ECMs) in our service territory, subject to these Terms and Conditions (T&Cs). The process of purchasing and installing ECMs for an eligible Customer pursuant to the Program is referred to herein as a “Project.” Industrial customers and specific large retail customers who have elected to opt out of Demand Side Management programs, by notifying us in writing using the Dominion Energy South Carolina Opt-Out form, are not eligible to participate. Dominion Energy South Carolina and our program implementer (“Implementer”) (together, “We”) reserve the right to deny any application that may result in exceeding our Program budget. Program incentives are limited, offered on a first-come/first-served basis, and are subject to Project and Customer eligibility and funds availability. For each Program year (December 1–November 30), Program incentive payments are capped per Customer Federal tax ID number at $100,000.\n2.  Authorization, Program Changes, Suspension, or Cancellation: We may change the program requirements, incentives or T&Cs, including suspending acceptance of applications or terminating the program, at any time and without notice. In the event of a program change, pre-approved applications will be processed to completion under the T&Cs in effect at time of pre-approval. Submission of a completed application does not entitle Customer to program participation. For all projects, entitlement to program participation and our obligation to pay incentives may occur only after we have granted written authorization, which we may grant or not at its sole discretion.","7.  Customer Tax Obligation: Customer or Customer’s designated contractor is responsible for declaring and paying any and all applicable federal, state, and local taxes that may be owed on any incentive payment. Neither Dominino Energy South Carolina, Inc. nor any of its subsidiaries shall be liable for any federal, state, and local taxes that may be owed on or as a result of any incentive payment. The party receiving the incentive payment (Customer or Contractor) must complete IRS Form W-9 and submit it to us with the incentive application materials. If payment is to a contractor, customer's W-9 must also be provided.\n8.  Compliance: Customer is responsible for obtaining any and all necessary licenses and permits related to the installation of ECMs. Customer also agrees to comply with all federal, state, and local laws, codes, and regulations related to the installation and disposal of all equipment.\n9.  Removal of Equipment: Customer agrees to remove and dispose of the equipment being replaced by the ECMs in accordance with all legal requirements. Customer agrees not to re-install any of this equipment in our service territory or transfer it to any other party for such installation.\n10.  Replacement of Failed Equipment: Customers who install ECMs are expected to replace any of the ECMs that fail with similar or superior energy savings equipment at Customer’s expense.  11.  Evaluation Follow-up Visits: With advance notice, we reserve the right to make or to have its contractor(s) make follow-up visits to Customer facilities during the 36 months following completion of the project to provide us with an opportunity to review the operation of the ECMs for program evaluation purposes. Customer agrees to cooperate with this effort.                            "]
["3.  Project Approval: Pre-approval is required for all projects. We reserve the right to inspect any project prior to pre-approval. For all projects, no project-related ECMs may be ordered or installed prior to the date of our pre-approval. Violation of this prohibition will disqualify the ECM for incentives. Projects must be\ncompleted by the date listed on the pre-approval notification letter (within 180 \ncalendar days for retrofit projects or one year for new construction projects).\n4. Creditworthiness: An incentive payment is conditioned upon and subject to Customer maintaining its financial creditworthiness and keeping its account in good standing.   At any time prior to an issuance of an incentive check, we may \nrequest financial information to support its financial due diligence procedures. Customer agrees to assist in this reasonable financial review.  If we believe in good faith that the Customer’s account is not in good standing, or if creditworthiness of participant has been diminished, we may reject approval of an incentive payment.  ","\n\n12.  Contractor Selection: Customer may select any contractor to perform the work contemplated by the application, even after the application is pre-approved by us. However, we reserve the right, in its sole discretion, to prohibit specific contractors from program participation.                                                                                                                                                                     13.  No Warranties: We do not endorse, guarantee, or warrant any particular manufacturer or product and we provide no warranties, express or implied, for\n any products or services, and herein specifically disclaims any such guarantees or warranties. We are not liable or responsible for any act or omission of any contractor hired by Customer. Customer’s reliance on warranties is limited to any warranties that may arise from, or be provided by contractors, vendors, etc. Customer acknowledges that neither Dominion Energy South Carolina, Inc. nor any of its subsidiaries are responsible for ensuring that the design, engineering, and construction of the facility or installation of the ECMs are proper or comply with any particular laws (including patent laws), codes, regulations, or industry standards. We make no representations of any kind regarding the results to be achieved by the ECMs or the adequacy or safety of such measures."]
["5.  Proof of Purchase: Prior to our verification of the ECM installation, Customer must provide copies of all invoices or other appropriate documentation that clearly verifies the costs of purchasing and installing the ECMs, including all material, labor, and equipment discounts. Invoices must indicate a verifiable breakout of all ECMs purchased for installation under the ECM incentives application, including model numbers and quantity.\n6.  Project Verification: We (or our Evaluator) may conduct an inspection of Customer’s facility to verify pre- and post-installation conditions or verify documentation prior to incentive payment at any time after receipt of an application. No warranty is expressed or implied by this verification. We are not obligated to pay any incentive until it has performed a satisfactory post-installation inspection. Should we determine that ECMs were not installed in accordance with the approved application, or if an unapproved ECM was installed, or if the installation was not consistent with generally accepted engineering/construction practices, changes may be required before payment is issued. Notwithstanding anything to the contrary, should we determine at any point before payment of the incentive that there has been significant deviation in the type, amount, cost or performance of the ECMs underlying this incentive commitment that were set forth in the Program application and pre-approved, we retain the right to revoke this commitment or reduce the final  incentive amount accordingly. We reserve this right despite a satisfactory post-installation inspection. Customer agrees to provide prompt notice to us of any","\n14.  Assumption of Risk and Limitation of Liability: Customer assumes and acknowledges all risks arising from its participation in the Program including but not limited to exposure to the novel coronavirus (“COVID-19”), and releases and discharges Dominion Energy, Inc., Dominion Energy South Carolina, its Implementer, Evaluator and their respective officers, directors, employees and agents from any liability related thereto. Our sole obligation is limited to paying the properly qualified rebates specified herein. Neither Dominion Energy South Carolina, Inc., any of its subsidiaries, nor its Implementer or Evaluator shall be liable to Customer or any other party for any special, indirect, consequential, or incidental damages, regardless of the theory of recovery, caused by or arising from any activities associated with this program.\n\n15.  Obligations between the Parties: Customer acknowledges that any contractor selected by Customer is not an agent, contractor, or subcontractor of our and is an independent contractor engaged by Customer, and that we do not manage or control the contractor’s performance. We shall have no obligation to maintain, remove, or perform any work whatsoever on the ECMs installed. We shall have no liability for a contractor’s failure to perform, for failure of the energysavings measures to function, for any damage to Customer’s premises caused by the contractor, or for any and all damages to property or injuries to persons caused by or associated with the energy savings measures. "]
[" significant deviation in the type, amount, cost or performance of the ECMs underlying this incentive commitment that were set forth in the program application and pre-approved by Dominion Energy South Carolina.","\n16.  Miscellaneous: These T&Cs and this application, of which these T&Cs are an integral part, constitute the entire agreement between the parties and supersede all other communications, representations, and understandings."]
[null,{"$f":"\"Version # \"&'Version Tracking'!C4","v":"Version # 10.2"}]

{"sheet":"Technical Requirements","index":4,"n_rows":27,"n_cols":15,"rows_kept":27,"cut":false,"hidden":false,"merged":[[0,0,0,14],[1,0,1,14],[3,0,3,14],[17,0,17,14],[18,0,18,14],[13,0,13,6],[2,0,2,6],[7,0,7,13],[4,1,4,7],[5,1,5,8],[6,1,6,8],[25,0,25,14],[14,0,14,14],[16,0,16,14],[8,0,8,14],[12,0,12,14],[21,0,21,14],[22,0,22,14],[23,0,23,14],[20,0,20,6],[15,1,15,10],[24,0,24,14],[9,0,9,14],[10,0,10,14],[11,0,11,14]]}
["Dominion Energy South Carolina, Inc. "]
[" TECHNICAL REQUIREMENTS"]
["LED Lighting"]
["§ LED integral replacement lamps, TLEDs, and replacement luminaires and retrofit kits must be either Design Lights Consortium or ENERGY STAR qualified products. Visit:"]
[null,"http://www.designlights.org/QPL"]
[null,"https://www.energystar.gov/productfinder/product/certified-light-bulbs/results"]
[null,"https://www.energystar.gov/productfinder/product/certified-light-fixtures/results"]
["▪    Applicant must verify compatibility with existing controls\nand transformer/power supply."]
["§ “TLED” refers to a linear LED replacement lamp for an existing linear fluorescent lamp such as a T12 or a T8."]
["§ All interior LED fiixtures must be Design Lights Consortium listed under Indoor Luminaires category and outdoor fixtures listed under Outdoor Luminaire category."]
["§ All indoor self-contained retrofit kits must be Design Lights Consortium listed under Indoor Retrofit Kit category and outdoor retrofit kits listed under Outdoor Retrofit Kit    category."]
["§ Screw-base replacements must be Design Lights Consortium listed under Mogul (E39) Screw-Base Replacements for HID Lamps category."]
[]
["Linear Fluorescent Lighting"]
["§ 32W 4ft HPT8 and reduced wattage T8 lamps must be listed on the Consortium for Energy Efficiency (CEE) product list or must meet CEE standards. Visit:"]
[null,"http://library.cee1.org/content/commercial-lighting-qualifying-products-lists"]
["§ 32W T8 U-Bend lamps must have minimum efficacy of 79 lumens/watt."]
["§ 17W 2ft T8 lamps must have minimum efficacy of 75 lumens/watt."]
["§    8ft T8 lamps and ballasts are not eligible for incentives."]
[]
["Delamping"]
["§    Delamping is defined as permanently removing lamps or reducing total lamp footage in a luminaire."]
["§    UL or CSA-listed retrofit kits must be certified by a Nationally Recognized Testing Laboratory (NRTL) to qualify for incentives; lamps should be re-centered in luminaire."]
["§    Reflectors, if specified, shall have a minimum reflectivity of 90% and should be used as necessary to maintain proper light levels."]
["§    Permanent delamping may affect light levels; therefore, this may not be an appropriate strategy for all situations."]
[]
[null,null,null,null,null,null,null,null,null,null,null,null,null,null,{"$f":"\"Version # \"&'Version Tracking'!C4","v":"Version # 10.2"}]

{"sheet":"Retrofit Lighting Incentives","index":5,"n_rows":26,"n_cols":6,"rows_kept":26,"cut":false,"hidden":false,"merged":[[23,0,23,5],[0,0,0,5],[1,0,1,5],[11,5,12,5],[13,0,13,5],[19,0,19,5],[17,0,17,5]]}
["Dominion Energy South Carolina, Inc. "]
["LIGHTING MEASURES AND INCENTIVES"]
["Proposed\nMeasure","Measure Code","Proposed Measure Description","Min. Watts Reduced","Incentive/ Unit","Technical Requirements"]
["Lamp and Ballast Retrofits",101,"Relamp/Reballast T12 or\nStandard T8 with HPT8 or\nReduced Wattage T8",0.1,{"$f":"Validation!$E$1","v":0.35},"\n§ Tandem wiring of luminaires is accepted; incentives available on a “per ballast” basis.\n"]
[]
["New Fluorescent Fixtures",102,"Replace T12, Standard T8, Incandescent or Low-Wattage HID fixture with HPT8, RWT8 or T5/T5HO fixture",0.1,{"$f":"Validation!$E$1","v":0.35},"\n§ Retrofit kits for existing fixtures also qualify.\n\n\n"]
[]
["New High Bay Fluorescent Fixtures",103,"Replace HID High Bay or 8’ T12 fixtures with HPT8 or T5HO fixtures",0.1,{"$f":"Validation!$E$1","v":0.35},"§ Fixtures must contain qualifying ballast designed to provide high light output; low ballast factor ballasts are not permitted.\n§ Fixtures must have overall fixture efficiencies ≥ 80%; less wireguards or lenses; manufacturer’s specification sheets with photometric report must be provided.\n§ High bay fixtures must be installed at least 15ft above finished floor; lower ceiling heights will qualify for measure code category 102.\n"]
[]
["CFL Downlight Fixtures",104,"Replace Incandescent or HID with Hardwired CFL Downlight, Surface, Pendant, or Wallpack",0.1,{"$f":"Validation!$E$1","v":0.35},"§ Each unit is comprised of one ballast and 1, 2, or 3 pinbased compact fluorescent lamp and electronic ballast with THD < 33%.\n§ ENERGY STAR® rated GU-24 based luminaires are acceptable."]
[]
["LED Screw-in Replacement Lamps",105,"Screw-in integral LED replacement lamps",0.1,{"$f":"Validation!$E$1","v":0.35},"§ LED recessed downlight trim/retrofit kits are acceptable.\n§ Pin-base replacement lamps must be either ENERGY STAR Certified Light Bulbs or Design Lights Consortium listed under Four Pin-Base Replacement Lamps for CFLs category.\n§ Screw-base replacement lamps for HID Lamps are eligible under measure codes 110 (interior) and 111 (exterior), as appropriate."]
["LED pin-based Replacement Lamp",106,"Pin-based integral LED replacement lamps",0.1,{"$f":"Validation!$E$1","v":0.35}]
[]
["Linear LED lamps replacing T8 or T12",107,"Interior lamp replacements with TLEDs in Troffer or Panel fixtures replacing linear fluorescent T8 or T12 lamps",0.1,{"$f":"Validation!$E$1","v":0.35},"§ If TLED is not using existing fluorescent ballast as power supply, then the existing ballast shall be removed.\n§ If TLED is using a dedicated external driver, technical specifications for the power supply/driver being used shall be submitted.\n§ If TLED is using line voltage via lampholder, condition of existing lampholders shall be verified by applicant.\n"]
[]
["LED Downlight or Pendant Fixture",108,"Pendant, or track downlight fixtures replacing incandescent, halogen, or hardwired compact fluorescent fixtures",0.1,{"$f":"Validation!$E$1","v":0.35},"§ Recessed downlight trim/retrofit kits qualify for incentives under measure code 105."]
[]
["LED Troffer or Panel Fixture",109,"Interior LED Troffer, Panel fixtures, linear ambient fixtures or retrofit kits replacing linear fluorescent fixtures",0.1,{"$f":"Validation!$E$1","v":0.35},"\n§ New fixtures and self-contained retrofit kits are acceptable.\n"]
[]
["LED High Bays",110,"Replace HID High Bay or T12 fixtures with LED high bays",0.1,{"$f":"Validation!$E$1","v":0.35},"\n§ High bay fixtures must be installed at least 15’ above\nfinished floor; for lower ceiling heights please reference\nmeasure code category 108 or 109.\n§ New fixtures, self-contained retrofit kits, and screw-in lamps are acceptable.\n"]
[]
["LED Exterior Fixtures",111,"Exterior parking garage, canopy, parking lot, area and flood LED fixtures replacing HID or fluorescent fixtures  ",0.1,{"$f":"Validation!$E$1","v":0.35},"§ New fixtures, self-contained retrofit kits, and screw-in lamps are acceptable.\n"]
[]
["LED Exit Signs","90C","Replace Existing Exit Sign with LED Exit Sign",10,"$10/Sign","§ Installation of LED exit signs to replace incandescent or fluorescent installations.\n▪ Equipment must be new; retrofit kits are not permitted."]
[null,null,null,null,null,{"$f":"\"Version # \"&'Version Tracking'!C4","v":"Version # 10.2"}]

{"sheet":"Retrofit LED Lighting","index":6,"n_rows":38,"n_cols":6,"rows_kept":38,"cut":false,"hidden":true,"merged":[[33,0,37,0],[33,1,35,1],[33,2,35,2],[20,0,27,0],[7,2,8,2],[22,2,24,2],[22,1,24,1],[29,1,31,1],[29,2,31,2],[9,2,10,2],[14,1,18,1],[14,2,18,2],[11,2,13,2],[11,1,13,1],[9,1,10,1],[7,0,18,0],[7,1,8,1],[29,0,31,0],[4,0,5,0],[4,1,5,1],[4,2,5,2],[4,3,5,3],[4,4,5,4],[0,0,0,5],[1,0,1,5],[2,1,3,1],[2,2,3,2],[2,4,3,4],[2,5,3,5],[25,5,27,5],[33,5,37,5],[11,3,13,3],[11,4,13,4],[20,4,21,4],[14,4,18,4],[33,3,35,3],[33,4,35,4],[20,3,21,3],[7,5,12,5],[29,3,31,3],[29,4,31,4],[7,3,8,3],[9,3,10,3],[9,4,10,4],[7,4,8,4],[14,3,18,3],[22,3,24,3],[22,4,24,4],[20,1,21,1],[20,2,21,2]]}
[]
["LIGHTING MEASURES AND INCENTIVES continued"]
[null,"Measure Code","Proposed Description","Min. Watts","Incentive/ Unit","Technical Requirements"]
[null,null,null,"Reduced"]
["LED Exit Signs","90C","Replace Existing Exit Sign with LED Exit Sign",10,"$10/Sign","§ Installation of LED exit signs to replace incandescent or fluorescent installations."]
[null,null,null,null,null,"§ Equipment must be new; retrofit kits are not permitted."]
[]
["LED Integral Replacement Lamps","91A","PAR, BR and R screw-in integral LED replacement lamps, size 30 or larger",23,"$12/Lamp","§ Applicant must verify compatibility with existing controls\nand transformer/power supply.\n§ LED recessed downlight trim/retrofit kits are acceptable\n▪ Self contained retrofit kits are acceptable."]
[]
[null,"91B","MR integral LED replacement lamps",25,"$10/Lamp"]
[]
[null,"91C","A-type and size 20 PAR, BR, and R screw-in integral LED replacement lamps",15,"$10/Lamp"]
[]
[]
[null,"91D","Interior lamp replacements with TLEDs in Troffer or Panel fixtures replacing linear fluorescent T8 or T12 lamps",23,"$15/Fixture","§ Installation lamps only in existing fluorescent fixtures."]
[null,null,null,null,null,"§ If TLED is not using existing fluorescent ballast as power supply, then the existing ballast shall be removed."]
[null,null,null,null,null,"§ If TLED is using a dedicated external driver, technical specifications for the power supply/driver being used shall be submitted."]
[null,null,null,null,null,"§ If TLED is using line voltage via lampholder, condition of existing lampholders shall be verified by applicant."]
[null,null,null,null,null,"§ Incentive is per fixture."]
[]
["LED Interior Fixtures",92,"Pendant, or track downlight fixtures replacing incandescent, halogen, or hardwired compact fluorescent fixtures",15,"$20/Fixture","§ Applicant must verify compatibility with existing controls."]
[null,null,null,null,null,"§ Recessed downlight trim/retrofit kits qualify for incentives under 91A."]
[null,"94A","Interior LED Troffer, Panel fixtures, linear ambient fixtures or retrofit kits replacing linear fluorescent fixtures",35,"$25/Fixture","§ Installation of LED troffer, linear ambient or panel style luminaires to replace linear fluorescent luminaires."]
[null,null,null,null,null,"§ Applicant must verify compatibility with existing controls."]
[null,null,null,null,null,"§ New fixtures and self-contained retrofit kits are acceptable."]
[null,"94B","Replace 150-250w HID High Bay or 8’ T12 fixtures with LED high bays",90,"$40/Fixture","§ Installation of LED high bay luminaires to replace linear fluorescent high bay fixtures or HID fixtures.\n§ Applicant must verify compatibility with existing controls.\n§ High bay fixtures must be installed at least 15’ above\nfinished floor; for lower ceiling heights please reference\nmeasure code category 92 or 94A.\n§ New fixtures and self-contained retrofit kits are\nacceptable."]
[null,"94C","Replace 251-500w HID High Bay with LED high bays",150,"$50/Fixture"]
[null,"94D","Replace 501-1000w HID High Bay fixtures with LED high bays",200,"$80/Fixture"]
[]
["LED Refrigerated Case Lighting",95,"LED Refrigerated Case Lighting","N/A","$20/Door","§ LED refrigerated case lighting must be installed as a retrofit measure to replace existing linear fluorescent case lighting."]
[null,null,null,null,null,"§ To qualify for incentives, the existing ballast and lampholders must be permanently removed and replaced with an LED refrigeration retrofit kit certified by a Nationally Recognized Testing Laboratory (NRTL)."]
[null,null,null,null,null,"§ Existing wiring may be reused, if necessary."]
[]
["LED Exterior Fixtures","95A","Exterior parking garage, canopy, parking lot, area and flood fixtures replacing up to 250W HID or fluorescent fixtures  ",70,"$55/Fixture","§ New fixtures and self-contained retrofit kits are acceptable."]
[]
[]
[null,"95B","Exterior parking garage, canopy, parking lot, area and flood fixtures replacing 251-500W HID or fluorescent fixtures",190,"$65/Fixture"]
[null,"95C","Exterior parking garage, canopy, parking lot, area and flood fixtures replacing 501-1000W HID fixtures",280,"$80/Fixture"]

{"sheet":"Lighting Control Incentives","index":7,"n_rows":14,"n_cols":6,"rows_kept":14,"cut":false,"hidden":false,"merged":[[11,1,12,1],[11,2,12,2],[11,3,12,3],[11,4,12,4],[0,0,0,5],[1,0,1,5],[2,0,12,0],[2,2,3,2],[2,4,3,4],[2,5,3,5],[4,1,6,1],[4,2,6,2],[4,3,6,3],[4,4,6,4],[7,1,8,1],[7,2,8,2],[7,3,8,3],[7,4,8,4],[9,1,10,1],[9,2,10,2],[9,3,10,3],[9,4,10,4]]}
["Dominion Energy South Carolina, Inc."]
["LIGHTING CONTROL MEASURES AND INCENTIVES"]
["Lighting Controls","Measure","Proposed Measure","Minimum Watts","Incentive/ Unit","Technical Requirements"]
[null,"Code",null,"Controlled"]
[null,"80A","Occupancy Control: Wall Switch Replacement",40,"$15/Control","§ Installation of hardwired or wireless passive infrared or dual technology wall switch replacement occupancy or vacancy controls."]
[null,null,null,null,null,"§ Installations must comply with manufacturer’s guidelines on coverage and maximum controlled watts."]
[null,null,null,null,null,"§ Residential-grade controls or those with manual-on capability are not eligible for incentives."]
[null,"80B","Occupancy Control:\nRemote Ceiling/Wall Mount",119,"$35/Control","§ Installation of hardwired or wireless; passive infrared, ultrasonic, or dual technology; remote-mounted wall or ceiling occupancy controls."]
[null,null,null,null,null,"§ Installations must comply with manufacturer’s guidelines on coverage and maximum controlled watts."]
[null,"80C","Occupancy Control:\nFixture Mounted/High Bay",40,"$15/Control","§ Installation of hardwired, passive infrared, or dual technology, fixture-mounted occupancy controls in high bay applications."]
[null,null,null,null,null,"§ Installations must comply with manufacturer’s guidelines on coverage and maximum controlled watts."]
[null,"80E","Daylight Control/Harvesting (On/Off)",119,"$35/Control","§ Installation of hardwired daylight harvesting (on/ off) system consisting of photocell or other control apparatus, wired to standard ballasts."]
[null,null,null,null,null,"§ System designed to control lighting on/off in response to ambient lighting conditions."]
[null,null,null,null,null,{"$f":"\"Version # \"&'Version Tracking'!C4","v":"Version # 10.2"}]

{"sheet":"Input Instructions","index":8,"n_rows":42,"n_cols":8,"rows_kept":42,"cut":false,"hidden":false,"merged":[[1,1,1,7],[2,1,2,7],[3,1,3,7],[4,1,4,7],[25,2,25,6],[15,2,15,6],[24,2,24,6],[5,1,5,7],[16,2,16,6],[13,3,13,6],[18,3,18,4]]}
[]
[]
[]
[null,"Retrofit Lighting Worksheet"]
[null,"Dominion Energy South Carolina, Inc."]
[]
[null,null,null,"Copyright © 2010 ICF Resources, LLC, All Rights Reserved. Do not copy, distribute or quote without ICF’s written permission."]
[]
[]
[]
[]
[]
[]
[null,null,null,"*If an error occurs when using buttons above, manually navigate to appropriate tab"]
[null,null,"Instructions"]
[null,null,"1. Read the Form Instructions tab for detailed information on participation for this program."]
[null,null,"2. Completed applicable Input tab is required for all Prescriptive Lighting projects. Application packages must be submitted by email."]
[null,null,null,"Email Address:"]
[null,null,null,"SCEnergyExperts@DominionEnergySC.com"]
[null,null,"3. Select appropriate worksheet tab:"]
[null,null,null,"- For a retrofit lighting project select Retrofit Lighting Inventory tab."]
[null,null,null,"- For a project with only lighting controls select Lighting Controls Only tab."]
[null,null,"4. Enter required project information at the top of the appropriate worksheet.  Lighting Building Type, Building AC/Heating Type, and Total Project Cost "]
[null,null,null,"are required input fields. "]
[null,null,"5. The Measure Code Summary tab shows the quantity of fixtures that are proposed to be installed and is listed by measure code. "]
[null,null,"6. Enter the required project information in the shaded areas only. A description of this information is provided below in the Inputs section. All other information will be populated automatically. The Orange Device Code Reference tab and Wattage Table tab are reference tabs for additional information related to the Input tabs."]
[]
[null,null,"Inputs"]
[null,null,null,"Field","Unit","Input Range","Description"]
[null,null,"1.","Location","n/a","Any","Location of each fixture"]
[null,null,"2.","Space Use Type \n(If different from Lighting Building Type input above) ","n/a","(Space Use Type)","Space Use Type for the location, if different from the Lighting Building Type selected in the Required General Project Information section"]
[null,null,"3.","Space AC / Heat Type\n(If different from Building AC / Heat Type input above)","n/a","(Space AC / Heat Type)","Space AC / Heat type for the location, if different from the Building AC / Heat Type selected in the Required General Project Information section"]
[null,null,"4.","Measure Type","Retrofit Type","(See Measure Code Summary Tab)","Describes the type of Retrofit that is being implemented"]
[null,null,"5.","Proposed Device Manufacturer and Proposed Device Model Number","n/a","Any","Manufacturer and model number for the specific lamp, fixture, or retrofit-kit that will be installed."]
[null,null,"6.","Proposed and Existing Device","Devices","Drop down list will autopopulate depending upon Measure Code","Existing and Proposed Device by Device Code"]
[null,null,"7.","Proposed and Existing Device Quantity","Quantity of Devices","Any","Quantity of devices to be installed"]
[null,null,"8.","Annual Hours of Operation","Hours","1000 - 8760","Hours of operation for each device"]
[null,null,"9.","Controls Included?","Control Type","(See Measure Code Summary Tab)","Description of control being installed"]
[null,null,"10.","Quantity of Controls","Control Quantity","Any","Quantity of controls to be installed"]
[null,null,"11.","Quantity of Devices Controlled","Fixture Controlled","Any","For Controls Only tab, quantity of fixtures to be controlled by control device(s)"]
[]
[null,null,null,null,null,null,null,{"$f":"\"Version # \"&'Version Tracking'!C4","v":"Version # 10.2"}]

{"sheet":"Input - Retrofit Lighting","index":9,"n_rows":224,"n_cols":36,"rows_kept":224,"cut":false,"hidden":false,"merged":[[17,6,17,10],[18,1,19,1],[10,12,10,13],[11,12,11,13],[12,12,12,13],[11,3,11,4],[10,3,10,4],[12,3,12,4],[13,3,13,4],[14,3,14,4],[15,3,15,4],[16,3,16,4],[10,6,10,7],[11,6,11,7],[12,6,12,7],[13,6,13,7],[1,1,1,35],[2,1,2,35],[3,1,3,35],[5,1,5,35],[8,24,8,26],[8,1,8,10],[21,33,21,34],[21,2,21,4],[21,29,21,32],[21,5,21,19],[21,20,21,23],[21,24,21,25]]}
[]
[]
[]
[]
[null,null,null,null,null,null,null,null,null,null,null,null,null,{"$f":"\"Version # \"&'Version Tracking'!C4","v":"Version # 10.2"}]
[null," "]
[null,"Copyright © 2010 ICF Resources, LLC, All Rights Reserved. Do not copy, distribute or quote without ICF’s written permission."]
[]
[null,"Required General Project Information",null,null,null,null,null,null,null,null,null,"Administrative Use Only",null,null,null,null,null,null,null,null,null,null,null,null,"Summary Table"]
[null,null,null,null,null,null,null,null,null,null,null,null,null,null,null,null,null,null,null,null,null,null,null,null,"Total kWh ","Total Summer Coincident Peak (kW)","Total Project Incentive"]
[null,null,"Project Name",null,null,"Prepared By",null,null,null,null,null,"Project ID",null,null,null,null,null,null,null,null,null,null,null,null,{"$f":"SUM(Y25:Y224)","v":0},{"$f":"SUM(Z25:Z224)","v":0},{"$f":"'Measure Code Summary'!J54","v":""}]
[null,null,"Project Address",null,null,"Contact Person",null,null,null,null,null,"Data Input By",null,null,null,null,null,"*If print button malfunctions, select printer settings manually from print menu"]
[null,null,"City",null,null,"Phone",null,null,null,null,null,"Input Date"]
[null,null,"ZIP",null,null,"Email"]
[null,null,"Lighting Building Type "]
[null,null,"Building AC / Heat Type",null,null,"Required Inputs"]
[null,null,"Total Project Cost"]
[null,null,null,null,null,null,"Note: Maximum incentive will be capped at 50% of the Total Project Cost provided on this tab."]
[null,"Input Cells"]
[null,null,"Data input allowed in shaded cells only.",null,null,null,null,null,"HIDE THIS COLUMN"]
[]
[null,null,"Location Information",null,null,"Measures Installed",null,null,null,null,null,null,null,null,null,null,null,null,null,null,"Lighting Controls Installed",null,null,null,"Savings",null,"Fixture Count","Control Count","Total Wattage","Fixture Savings",null,null,null,"Control Savings"]
[null,"Line Item","Location Description","Space Use Type \n(If different from Lighting Building Type input above) ","Space AC / Heat Type\n(If different from Building AC / Heat Type input above)","Measure Type","Measure Code","Proposed Measure","Required Minimum Wattage Reduction","Proposed Device Manufacturer","Proposed Device Model Number","Proposed Device","Proposed Device Description","Proposed\n Device \nQuantity","Proposed Device \nWatts","Existing Device","Existing Device Description","Existing Device Quantity","Existing Device Watts","Hours of Operation","Controls Included","Control Type","Quantity of Controls (If Measure Code 80F input number of case doors)","Hours Reduced by Controls","Total kWh Saved","Total Summer Coincident Peak kW Saved",null,null,"Post retrofit wattage","kWh","Coincident Peak kW","Pre retrofit wattage","Fixture Watts Reduced","kWh","Coincident Peak kW","Controls Qualify?\n(1=Yes)"]
[null,"Ex.","Stockroom",null,null,"Lamp and Ballast Retrofits",{"$f":"IF(F24=\"\",\"\",HLOOKUP(F24,Validation!$F$5:$Q$6,2,FALSE))","v":101},{"$f":"IF(G24=\"\",\"\",INDEX('Measure Code Summary'!$D$20:$D$52,MATCH(G24,'Measure Code Summary'!$C$20:$C$52,0),1))","v":"Relamp/Reballast T12 or\nStandard T8 with HPT8 or\nReduced Wattage T8"},{"$f":"IF(G24=\"\",\"\",IF(G24=\"90C\",Min_Watts,0))","v":0},null,null,"1F32SSE",{"$f":"IF(L24=\"\",\"\",VLOOKUP(L24,'Wattage Table'!$D:$E,2,0))","v":" 1L4' T8/ELIG  "},6,{"$f":"IF(L24=\"\",\"\",VLOOKUP(L24,'Wattage Table'!D:F,3,0))","v":28},"1F34SSS",{"$f":"IF(P24=\"\",\"\",VLOOKUP(P24,'Wattage Table'!D:E,2,0))","v":" 1L4' EE/STD  "},6,{"$f":"IF(P24=\"\",\"\",VLOOKUP(P24,'Wattage Table'!D:F,3,0))","v":41},4000,"80A",{"$f":"IF(U24=\"\",\"\",IF(U24=\"None\",\"None\",INDEX('Measure Code Summary'!$D$50:$D$53,MATCH(U24,'Measure Code Summary'!$C$50:$C$53,0),1)))","v":"Occupancy Control: Wall Switch Replacement"},1,{"$f":"IF(U24=\"\",0,IF(U24=\"None\",0,-0.25*T24))","v":-1000},{"$f":"IF(OR(P24=\"\",L24=\"\"),0,AD24+AH24)","v":{"$error":"#N/A"}},{"$f":"IF(OR(P24=\"\",L24=\"\", T24=0),0,((((S24*R24)-(O24*N24))/1000)*0.747)+IF(OR(U24=\"\",W24=\"\"),0,0.25*N24*O24/1000))","v":0.10026599999999999},{"$f":"IF(AND(G24=\"90C\",S24-O24<I24),0,N24)","v":6},{"$f":"W24*AJ24","v":1},{"$f":"IF(N24=\"\",\"\",N24*O24)","v":168},{"$f":"IF(OR(P24=\"\",L24=\"\", D$16=\"\"),0,((S24*R24)-(O24*N24))*IF(G24=\"90C\",Validation!B$32,T24)*VLOOKUP(IF(E24=\"\",$D$16,E24),ClgHtgTypeData,3,FALSE)/1000)","v":0},{"$f":"IF(OR(P24=\"\",L24=\"\",T24=0,D$16=\"\"),0,(((S24*R24)-(O24*N24))/1000)*IF(G24=\"90C\",1,VLOOKUP(IF(D24=\"\",$D$15,D24),LtgBldgTypeData,3,FALSE))*VLOOKUP(IF(E24=\"\",$D$16,E24),ClgHtgTypeData,2,FALSE))","v":0},{"$f":"IF(R24=\"\",\"\",R24*S24)","v":246},{"$f":"AF24-AC24","v":78},{"$f":"IF(U24=\"\",0,X24*O24*N24)*VLOOKUP(IF(E24=\"\",$D$16,E24),ClgHtgTypeData,3,FALSE)/1000","v":{"$error":"#N/A"}},{"$f":"IF(OR(U24=\"\",W24=\"\"),0,IF(U24=\"80F\",Validation!W11,(VLOOKUP(IF(D24=\"\",$D$15,D24),LtgBldgTypeData,3,FALSE)-VLOOKUP(U24,Control_Data,5)))*N24*O24*VLOOKUP(IF(E24=\"\",$D$16,E24),ClgHtgTypeData,2,FALSE)/1000)","v":{"$error":"#N/A"}},{"$f":"IF(OR(U24=\"\",W24=\"\"),\"\",IF(VLOOKUP(L24,'Wattage Table'!D:F,3,0)*N24/W24>=VLOOKUP(U24,Control_Data,3,0),1,0))","v":1}]
[null,1,null,null,null,null,{"$f":"IF(F25=\"\",\"\",HLOOKUP(F25,Validation!$F$5:$Q$6,2,FALSE))","v":""},{"$f":"IF(G25=\"\",\"\",INDEX('Measure Code Summary'!$D$20:$D$52,MATCH(G25,'Measure Code Summary'!$C$20:$C$52,0),1))","v":""},"",null,null,null,{"$f":"IF(L25=\"\",\"\",VLOOKUP(L25,'Wattage Table'!$D:$E,2,0))","v":""},null,{"$f":"IF(L25=\"\",\"\",VLOOKUP(L25,'Wattage Table'!D:F,3,0))","v":""},null,{"$f":"IF(P25=\"\",\"\",VLOOKUP(P25,'Wattage Table'!D:E,2,0))","v":""},null,{"$f":"IF(P25=\"\",\"\",VLOOKUP(P25,'Wattage Table'!D:F,3,0))","v":""},null,null,{"$f":"IF(U25=\"\",\"\",IF(U25=\"None\",\"None\",INDEX('Measure Code Summary'!$D$50:$D$53,MATCH(U25,'Measure Code Summary'!$C$50:$C$53,0),1)))","v":""},null,0,0,{"$f":"IF(OR(P25=\"\",L25=\"\",T25=0),0,(AE25+AI25))","v":0},{"$error":"#VALUE!"},{"$error":"#VALUE!"},"",{"$f":"IF(OR(P25=\"\",L25=\"\", D$16=\"\"),0,((S25*R25)-(O25*N25))*IF(G25=\"90C\",Validation!B$32,T25)*VLOOKUP(IF(E25=\"\",$D$16,E25),ClgHtgTypeData,3,FALSE)/1000)","v":0},0,{"$f":"IF(R25=\"\",\"\",R25*S25)","v":""},{"$f":"AF25-AC25","v":{"$error":"#VALUE!"}},{"$f":"IF(OR(U25=\"\",AJ25=\"No\"),0,0.25*O25*T25*N25)/1000","v":0},{"$f":"IF(OR(U25=\"\",W25=\"\"),0,IF(U25=\"80F\",Validation!W12,(VLOOKUP(IF(D25=\"\",$D$15,D25),LtgBldgTypeData,3,FALSE)-VLOOKUP(U25,Control_Data,5)))*N25*O25*VLOOKUP(IF(E25=\"\",$D$16,E25),ClgHtgTypeData,2,FALSE)/1000)","v":0},{"$f":"IF(OR(U25=\"\",W25=\"\"),\"\",IF(VLOOKUP(L25,'Wattage Table'!D:F,3,0)*N25/W25>=VLOOKUP(U25,Control_Data,3,0),1,0))","v":""}]
[null,2,null,null,null,null,{"$f":"IF(F26=\"\",\"\",HLOOKUP(F26,Validation!$F$5:$Q$6,2,FALSE))","v":""},{"$f":"IF(G26=\"\",\"\",INDEX('Measure Code Summary'!$D$20:$D$52,MATCH(G26,'Measure Code Summary'!$C$20:$C$52,0),1))","v":""},"",null,null,null,{"$f":"IF(L26=\"\",\"\",VLOOKUP(L26,'Wattage Table'!$D:$E,2,0))","v":""},null,{"$f":"IF(L26=\"\",\"\",VLOOKUP(L26,'Wattage Table'!D:F,3,0))","v":""},null,{"$f":"IF(P26=\"\",\"\",VLOOKUP(P26,'Wattage Table'!D:E,2,0))","v":""},null,{"$f":"IF(P26=\"\",\"\",VLOOKUP(P26,'Wattage Table'!D:F,3,0))","v":""},null,null,{"$f":"IF(U26=\"\",\"\",IF(U26=\"None\",\"None\",INDEX('Measure Code Summary'!$D$50:$D$53,MATCH(U26,'Measure Code Summary'!$C$50:$C$53,0),1)))","v":""},null,0,0,{"$f":"IF(OR(P26=\"\",L26=\"\",T26=0),0,(AE26+AI26))","v":0},{"$error":"#VALUE!"},{"$error":"#VALUE!"},"",{"$f":"IF(OR(P26=\"\",L26=\"\", D$16=\"\"),0,((S26*R26)-(O26*N26))*IF(G26=\"90C\",Validation!B$32,T26)*VLOOKUP(IF(E26=\"\",$D$16,E26),ClgHtgTypeData,3,FALSE)/1000)","v":0},0,"",{"$error":"#VALUE!"},0,{"$f":"IF(OR(U26=\"\",W26=\"\"),0,IF(U26=\"80F\",Validation!W13,(VLOOKUP(IF(D26=\"\",$D$15,D26),LtgBldgTypeData,3,FALSE)-VLOOKUP(U26,Control_Data,5)))*N26*O26*VLOOKUP(IF(E26=\"\",$D$16,E26),ClgHtgTypeData,2,FALSE)/1000)","v":0},{"$f":"IF(OR(U26=\"\",W26=\"\"),\"\",IF(VLOOKUP(L26,'Wattage Table'!D:F,3,0)*N26/W26>=VLOOKUP(U26,Control_Data,3,0),1,0))","v":""}]
[null,3,null,null,null,null,{"$f":"IF(F27=\"\",\"\",HLOOKUP(F27,Validation!$F$5:$Q$6,2,FALSE))","v":""},{"$f":"IF(G27=\"\",\"\",INDEX('Measure Code Summary'!$D$20:$D$52,MATCH(G27,'Measure Code Summary'!$C$20:$C$52,0),1))","v":""},"",null,null,null,{"$f":"IF(L27=\"\",\"\",VLOOKUP(L27,'Wattage Table'!$D:$E,2,0))","v":""},null,{"$f":"IF(L27=\"\",\"\",VLOOKUP(L27,'Wattage Table'!D:F,3,0))","v":""},null,{"$f":"IF(P27=\"\",\"\",VLOOKUP(P27,'Wattage Table'!D:E,2,0))","v":""},null,{"$f":"IF(P27=\"\",\"\",VLOOKUP(P27,'Wattage Table'!D:F,3,0))","v":""},null,null,{"$f":"IF(U27=\"\",\"\",IF(U27=\"None\",\"None\",INDEX('Measure Code Summary'!$D$50:$D$53,MATCH(U27,'Measure Code Summary'!$C$50:$C$53,0),1)))","v":""},null,0,0,0,{"$error":"#VALUE!"},{"$error":"#VALUE!"},"",{"$f":"IF(OR(P27=\"\",L27=\"\", D$16=\"\"),0,((S27*R27)-(O27*N27))*IF(G27=\"90C\",Validation!B$32,T27)*VLOOKUP(IF(E27=\"\",$D$16,E27),ClgHtgTypeData,3,FALSE)/1000)","v":0},0,"",{"$error":"#VALUE!"},0,{"$f":"IF(OR(U27=\"\",W27=\"\"),0,IF(U27=\"80F\",Validation!W14,(VLOOKUP(IF(D27=\"\",$D$15,D27),LtgBldgTypeData,3,FALSE)-VLOOKUP(U27,Control_Data,5)))*N27*O27*VLOOKUP(IF(E27=\"\",$D$16,E27),ClgHtgTypeData,2,FALSE)/1000)","v":0},{"$f":"IF(OR(U27=\"\",W27=\"\"),\"\",IF(VLOOKUP(L27,'Wattage Table'!D:F,3,0)*N27/W27>=VLOOKUP(U27,Control_Data,3,0),1,0))","v":""}]
[null,4,null,null,null,null,{"$f":"IF(F28=\"\",\"\",HLOOKUP(F28,Validation!$F$5:$Q$6,2,FALSE))","v":""},{"$f":"IF(G28=\"\",\"\",INDEX('Measure Code Summary'!$D$20:$D$52,MATCH(G28,'Measure Code Summary'!$C$20:$C$52,0),1))","v":""},"",null,null,null,{"$f":"IF(L28=\"\",\"\",VLOOKUP(L28,'Wattage Table'!$D:$E,2,0))","v":""},null,{"$f":"IF(L28=\"\",\"\",VLOOKUP(L28,'Wattage Table'!D:F,3,0))","v":""},null,{"$f":"IF(P28=\"\",\"\",VLOOKUP(P28,'Wattage Table'!D:E,2,0))","v":""},null,{"$f":"IF(P28=\"\",\"\",VLOOKUP(P28,'Wattage Table'!D:F,3,0))","v":""},null,null,{"$f":"IF(U28=\"\",\"\",IF(U28=\"None\",\"None\",INDEX('Measure Code Summary'!$D$50:$D$53,MATCH(U28,'Measure Code Summary'!$C$50:$C$53,0),1)))","v":""},null,0,0,0,{"$error":"#VALUE!"},{"$error":"#VALUE!"},"",{"$f":"IF(OR(P28=\"\",L28=\"\", D$16=\"\"),0,((S28*R28)-(O28*N28))*IF(G28=\"90C\",Validation!B$32,T28)*VLOOKUP(IF(E28=\"\",$D$16,E28),ClgHtgTypeData,3,FALSE)/1000)","v":0},0,"",{"$error":"#VALUE!"},0,{"$f":"IF(OR(U28=\"\",W28=\"\"),0,IF(U28=\"80F\",Validation!W15,(VLOOKUP(IF(D28=\"\",$D$15,D28),LtgBldgTypeData,3,FALSE)-VLOOKUP(U28,Control_Data,5)))*N28*O28*VLOOKUP(IF(E28=\"\",$D$16,E28),ClgHtgTypeData,2,FALSE)/1000)","v":0},{"$f":"IF(OR(U28=\"\",W28=\"\"),\"\",IF(VLOOKUP(L28,'Wattage Table'!D:F,3,0)*N28/W28>=VLOOKUP(U28,Control_Data,3,0),1,0))","v":""}]
[null,5,null,null,null,null,{"$f":"IF(F29=\"\",\"\",HLOOKUP(F29,Validation!$F$5:$Q$6,2,FALSE))","v":""},{"$f":"IF(G29=\"\",\"\",INDEX('Measure Code Summary'!$D$20:$D$52,MATCH(G29,'Measure Code Summary'!$C$20:$C$52,0),1))","v":""},"",null,null,null,{"$f":"IF(L29=\"\",\"\",VLOOKUP(L29,'Wattage Table'!$D:$E,2,0))","v":""},null,{"$f":"IF(L29=\"\",\"\",VLOOKUP(L29,'Wattage Table'!D:F,3,0))","v":""},null,{"$f":"IF(P29=\"\",\"\",VLOOKUP(P29,'Wattage Table'!D:E,2,0))","v":""},null,{"$f":"IF(P29=\"\",\"\",VLOOKUP(P29,'Wattage Table'!D:F,3,0))","v":""},null,null,{"$f":"IF(U29=\"\",\"\",IF(U29=\"None\",\"None\",INDEX('Measure Code Summary'!$D$50:$D$53,MATCH(U29,'Measure Code Summary'!$C$50:$C$53,0),1)))","v":""},null,0,0,0,{"$error":"#VALUE!"},{"$error":"#VALUE!"},"",{"$f":"IF(OR(P29=\"\",L29=\"\", D$16=\"\"),0,((S29*R29)-(O29*N29))*IF(G29=\"90C\",Validation!B$32,T29)*VLOOKUP(IF(E29=\"\",$D$16,E29),ClgHtgTypeData,3,FALSE)/1000)","v":0},0,"",{"$error":"#VALUE!"},0,{"$f":"IF(OR(U29=\"\",W29=\"\"),0,IF(U29=\"80F\",Validation!W16,(VLOOKUP(IF(D29=\"\",$D$15,D29),LtgBldgTypeData,3,FALSE)-VLOOKUP(U29,Control_Data,5)))*N29*O29*VLOOKUP(IF(E29=\"\",$D$16,E29),ClgHtgTypeData,2,FALSE)/1000)","v":0},{"$f":"IF(OR(U29=\"\",W29=\"\"),\"\",IF(VLOOKUP(L29,'Wattage Table'!D:F,3,0)*N29/W29>=VLOOKUP(U29,Control_Data,3,0),1,0))","v":""}]
[null,6,null,null,null,null,{"$f":"IF(F30=\"\",\"\",HLOOKUP(F30,Validation!$F$5:$Q$6,2,FALSE))","v":""},{"$f":"IF(G30=\"\",\"\",INDEX('Measure Code Summary'!$D$20:$D$52,MATCH(G30,'Measure Code Summary'!$C$20:$C$52,0),1))","v":""},"",null,null,null,{"$f":"IF(L30=\"\",\"\",VLOOKUP(L30,'Wattage Table'!$D:$E,2,0))","v":""},null,{"$f":"IF(L30=\"\",\"\",VLOOKUP(L30,'Wattage Table'!D:F,3,0))","v":""},null,{"$f":"IF(P30=\"\",\"\",VLOOKUP(P30,'Wattage Table'!D:E,2,0))","v":""},null,{"$f":"IF(P30=\"\",\"\",VLOOKUP(P30,'Wattage Table'!D:F,3,0))","v":""},null,null,{"$f":"IF(U30=\"\",\"\",IF(U30=\"None\",\"None\",INDEX('Measure Code Summary'!$D$50:$D$53,MATCH(U30,'Measure Code Summary'!$C$50:$C$53,0),1)))","v":""},null,0,0,0,{"$error":"#VALUE!"},{"$error":"#VALUE!"},"",{"$f":"IF(OR(P30=\"\",L30=\"\", D$16=\"\"),0,((S30*R30)-(O30*N30))*IF(G30=\"90C\",Validation!B$32,T30)*VLOOKUP(IF(E30=\"\",$D$16,E30),ClgHtgTypeData,3,FALSE)/1000)","v":0},0,"",{"$error":"#VALUE!"},0,{"$f":"IF(OR(U30=\"\",W30=\"\"),0,IF(U30=\"80F\",Validation!W17,(VLOOKUP(IF(D30=\"\",$D$15,D30),LtgBldgTypeData,3,FALSE)-VLOOKUP(U30,Control_Data,5)))*N30*O30*VLOOKUP(IF(E30=\"\",$D$16,E30),ClgHtgTypeData,2,FALSE)/1000)","v":0},{"$f":"IF(OR(U30=\"\",W30=\"\"),\"\",IF(VLOOKUP(L30,'Wattage Table'!D:F,3,0)*N30/W30>=VLOOKUP(U30,Control_Data,3,0),1,0))","v":""}]
[null,7,null,null,null,null,{"$f":"IF(F31=\"\",\"\",HLOOKUP(F31,Validation!$F$5:$Q$6,2,FALSE))","v":""},{"$f":"IF(G31=\"\",\"\",INDEX('Measure Code Summary'!$D$20:$D$52,MATCH(G31,'Measure Code Summary'!$C$20:$C$52,0),1))","v":""},"",null,null,null,{"$f":"IF(L31=\"\",\"\",VLOOKUP(L31,'Wattage Table'!$D:$E,2,0))","v":""},null,{"$f":"IF(L31=\"\",\"\",VLOOKUP(L31,'Wattage Table'!D:F,3,0))","v":""},null,{"$f":"IF(P31=\"\",\"\",VLOOKUP(P31,'Wattage Table'!D:E,2,0))","v":""},null,{"$f":"IF(P31=\"\",\"\",VLOOKUP(P31,'Wattage Table'!D:F,3,0))","v":""},null,null,{"$f":"IF(U31=\"\",\"\",IF(U31=\"None\",\"None\",INDEX('Measure Code Summary'!$D$50:$D$53,MATCH(U31,'Measure Code Summary'!$C$50:$C$53,0),1)))","v":""},null,0,0,0,{"$error":"#VALUE!"},{"$error":"#VALUE!"},"",{"$f":"IF(OR(P31=\"\",L31=\"\", D$16=\"\"),0,((S31*R31)-(O31*N31))*IF(G31=\"90C\",Validation!B$32,T31)*VLOOKUP(IF(E31=\"\",$D$16,E31),ClgHtgTypeData,3,FALSE)/1000)","v":0},0,"",{"$error":"#VALUE!"},0,{"$f":"IF(OR(U31=\"\",W31=\"\"),0,IF(U31=\"80F\",Validation!W18,(VLOOKUP(IF(D31=\"\",$D$15,D31),LtgBldgTypeData,3,FALSE)-VLOOKUP(U31,Control_Data,5)))*N31*O31*VLOOKUP(IF(E31=\"\",$D$16,E31),ClgHtgTypeData,2,FALSE)/1000)","v":0},{"$f":"IF(OR(U31=\"\",W31=\"\"),\"\",IF(VLOOKUP(L31,'Wattage Table'!D:F,3,0)*N31/W31>=VLOOKUP(U31,Control_Data,3,0),1,0))","v":""}]
[null,8,null,null,null,null,{"$f":"IF(F32=\"\",\"\",HLOOKUP(F32,Validation!$F$5:$Q$6,2,FALSE))","v":""},{"$f":"IF(G32=\"\",\"\",INDEX('Measure Code Summary'!$D$20:$D$52,MATCH(G32,'Measure Code Summary'!$C$20:$C$52,0),1))","v":""},"",null,null,null,{"$f":"IF(L32=\"\",\"\",VLOOKUP(L32,'Wattage Table'!$D:$E,2,0))","v":""},null,{"$f":"IF(L32=\"\",\"\",VLOOKUP(L32,'Wattage Table'!D:F,3,0))","v":""},null,{"$f":"IF(P32=\"\",\"\",VLOOKUP(P32,'Wattage Table'!D:E,2,0))","v":""},null,{"$f":"IF(P32=\"\",\"\",VLOOKUP(P32,'Wattage Table'!D:F,3,0))","v":""},null,null,{"$f":"IF(U32=\"\",\"\",IF(U32=\"None\",\"None\",INDEX('Measure Code Summary'!$D$50:$D$53,MATCH(U32,'Measure Code Summary'!$C$50:$C$53,0),1)))","v":""},null,0,0,0,{"$error":"#VALUE!"},{"$error":"#VALUE!"},"",{"$f":"IF(OR(P32=\"\",L32=\"\", D$16=\"\"),0,((S32*R32)-(O32*N32))*IF(G32=\"90C\",Validation!B$32,T32)*VLOOKUP(IF(E32=\"\",$D$16,E32),ClgHtgTypeData,3,FALSE)/1000)","v":0},0,"",{"$error":"#VALUE!"},0,{"$f":"IF(OR(U32=\"\",W32=\"\"),0,IF(U32=\"80F\",Validation!W19,(VLOOKUP(IF(D32=\"\",$D$15,D32),LtgBldgTypeData,3,FALSE)-VLOOKUP(U32,Control_Data,5)))*N32*O32*VLOOKUP(IF(E32=\"\",$D$16,E32),ClgHtgTypeData,2,FALSE)/1000)","v":0},{"$f":"IF(OR(U32=\"\",W32=\"\"),\"\",IF(VLOOKUP(L32,'Wattage Table'!D:F,3,0)*N32/W32>=VLOOKUP(U32,Control_Data,3,0),1,0))","v":""}]
[null,9,null,null,null,null,{"$f":"IF(F33=\"\",\"\",HLOOKUP(F33,Validation!$F$5:$Q$6,2,FALSE))","v":""},{"$f":"IF(G33=\"\",\"\",INDEX('Measure Code Summary'!$D$20:$D$52,MATCH(G33,'Measure Code Summary'!$C$20:$C$52,0),1))","v":""},"",null,null,null,{"$f":"IF(L33=\"\",\"\",VLOOKUP(L33,'Wattage Table'!$D:$E,2,0))","v":""},null,{"$f":"IF(L33=\"\",\"\",VLOOKUP(L33,'Wattage Table'!D:F,3,0))","v":""},null,{"$f":"IF(P33=\"\",\"\",VLOOKUP(P33,'Wattage Table'!D:E,2,0))","v":""},null,{"$f":"IF(P33=\"\",\"\",VLOOKUP(P33,'Wattage Table'!D:F,3,0))","v":""},null,null,{"$f":"IF(U33=\"\",\"\",IF(U33=\"None\",\"None\",INDEX('Measure Code Summary'!$D$50:$D$53,MATCH(U33,'Measure Code Summary'!$C$50:$C$53,0),1)))","v":""},null,0,0,0,{"$error":"#VALUE!"},{"$error":"#VALUE!"},"",{"$f":"IF(OR(P33=\"\",L33=\"\", D$16=\"\"),0,((S33*R33)-(O33*N33))*IF(G33=\"90C\",Validation!B$32,T33)*VLOOKUP(IF(E33=\"\",$D$16,E33),ClgHtgTypeData,3,FALSE)/1000)","v":0},0,"",{"$error":"#VALUE!"},0,{"$f":"IF(OR(U33=\"\",W33=\"\"),0,IF(U33=\"80F\",Validation!W20,(VLOOKUP(IF(D33=\"\",$D$15,D33),LtgBldgTypeData,3,FALSE)-VLOOKUP(U33,Control_Data,5)))*N33*O33*VLOOKUP(IF(E33=\"\",$D$16,E33),ClgHtgTypeData,2,FALSE)/1000)","v":0},{"$f":"IF(OR(U33=\"\",W33=\"\"),\"\",IF(VLOOKUP(L33,'Wattage Table'!D:F,3,0)*N33/W33>=VLOOKUP(U33,Control_Data,3,0),1,0))","v":""}]
[null,10,null,null,null,null,{"$f":"IF(F34=\"\",\"\",HLOOKUP(F34,Validation!$F$5:$Q$6,2,FALSE))","v":""},{"$f":"IF(G34=\"\",\"\",INDEX('Measure Code Summary'!$D$20:$D$52,MATCH(G34,'Measure Code Summary'!$C$20:$C$52,0),1))","v":""},"",null,null,null,{"$f":"IF(L34=\"\",\"\",VLOOKUP(L34,'Wattage Table'!$D:$E,2,0))","v":""},null,{"$f":"IF(L34=\"\",\"\",VLOOKUP(L34,'Wattage Table'!D:F,3,0))","v":""},null,{"$f":"IF(P34=\"\",\"\",VLOOKUP(P34,'Wattage Table'!D:E,2,0))","v":""},null,{"$f":"IF(P34=\"\",\"\",VLOOKUP(P34,'Wattage Table'!D:F,3,0))","v":""},null,null,{"$f":"IF(U34=\"\",\"\",IF(U34=\"None\",\"None\",INDEX('Measure Code Summary'!$D$50:$D$53,MATCH(U34,'Measure Code Summary'!$C$50:$C$53,0),1)))","v":""},null,0,0,0,{"$error":"#VALUE!"},{"$error":"#VALUE!"},"",{"$f":"IF(OR(P34=\"\",L34=\"\", D$16=\"\"),0,((S34*R34)-(O34*N34))*IF(G34=\"90C\",Validation!B$32,T34)*VLOOKUP(IF(E34=\"\",$D$16,E34),ClgHtgTypeData,3,FALSE)/1000)","v":0},0,"",{"$error":"#VALUE!"},0,{"$f":"IF(OR(U34=\"\",W34=\"\"),0,IF(U34=\"80F\",Validation!W21,(VLOOKUP(IF(D34=\"\",$D$15,D34),LtgBldgTypeData,3,FALSE)-VLOOKUP(U34,Control_Data,5)))*N34*O34*VLOOKUP(IF(E34=\"\",$D$16,E34),ClgHtgTypeData,2,FALSE)/1000)","v":0},{"$f":"IF(OR(U34=\"\",W34=\"\"),\"\",IF(VLOOKUP(L34,'Wattage Table'!D:F,3,0)*N34/W34>=VLOOKUP(U34,Control_Data,3,0),1,0))","v":""}]
[null,11,null,null,null,null,{"$f":"IF(F35=\"\",\"\",HLOOKUP(F35,Validation!$F$5:$Q$6,2,FALSE))","v":""},{"$f":"IF(G35=\"\",\"\",INDEX('Measure Code Summary'!$D$20:$D$52,MATCH(G35,'Measure Code Summary'!$C$20:$C$52,0),1))","v":""},"",null,null,null,{"$f":"IF(L35=\"\",\"\",VLOOKUP(L35,'Wattage Table'!$D:$E,2,0))","v":""},null,{"$f":"IF(L35=\"\",\"\",VLOOKUP(L35,'Wattage Table'!D:F,3,0))","v":""},null,{"$f":"IF(P35=\"\",\"\",VLOOKUP(P35,'Wattage Table'!D:E,2,0))","v":""},null,{"$f":"IF(P35=\"\",\"\",VLOOKUP(P35,'Wattage Table'!D:F,3,0))","v":""},null,null,{"$f":"IF(U35=\"\",\"\",IF(U35=\"None\",\"None\",INDEX('Measure Code Summary'!$D$50:$D$53,MATCH(U35,'Measure Code Summary'!$C$50:$C$53,0),1)))","v":""},null,0,0,0,{"$error":"#VALUE!"},{"$error":"#VALUE!"},"",{"$f":"IF(OR(P35=\"\",L35=\"\", D$16=\"\"),0,((S35*R35)-(O35*N35))*IF(G35=\"90C\",Validation!B$32,T35)*VLOOKUP(IF(E35=\"\",$D$16,E35),ClgHtgTypeData,3,FALSE)/1000)","v":0},0,"",{"$error":"#VALUE!"},0,{"$f":"IF(OR(U35=\"\",W35=\"\"),0,IF(U35=\"80F\",Validation!W22,(VLOOKUP(IF(D35=\"\",$D$15,D35),LtgBldgTypeData,3,FALSE)-VLOOKUP(U35,Control_Data,5)))*N35*O35*VLOOKUP(IF(E35=\"\",$D$16,E35),ClgHtgTypeData,2,FALSE)/1000)","v":0},{"$f":"IF(OR(U35=\"\",W35=\"\"),\"\",IF(VLOOKUP(L35,'Wattage Table'!D:F,3,0)*N35/W35>=VLOOKUP(U35,Control_Data,3,0),1,0))","v":""}]
[null,12,null,null,null,null,{"$f":"IF(F36=\"\",\"\",HLOOKUP(F36,Validation!$F$5:$Q$6,2,FALSE))","v":""},{"$f":"IF(G36=\"\",\"\",INDEX('Measure Code Summary'!$D$20:$D$52,MATCH(G36,'Measure Code Summary'!$C$20:$C$52,0),1))","v":""},"",null,null,null,{"$f":"IF(L36=\"\",\"\",VLOOKUP(L36,'Wattage Table'!$D:$E,2,0))","v":""},null,{"$f":"IF(L36=\"\",\"\",VLOOKUP(L36,'Wattage Table'!D:F,3,0))","v":""},null,{"$f":"IF(P36=\"\",\"\",VLOOKUP(P36,'Wattage Table'!D:E,2,0))","v":""},null,{"$f":"IF(P36=\"\",\"\",VLOOKUP(P36,'Wattage Table'!D:F,3,0))","v":""},null,null,{"$f":"IF(U36=\"\",\"\",IF(U36=\"None\",\"None\",INDEX('Measure Code Summary'!$D$50:$D$53,MATCH(U36,'Measure Code Summary'!$C$50:$C$53,0),1)))","v":""},null,0,0,0,{"$error":"#VALUE!"},{"$error":"#VALUE!"},"",{"$f":"IF(OR(P36=\"\",L36=\"\", D$16=\"\"),0,((S36*R36)-(O36*N36))*IF(G36=\"90C\",Validation!B$32,T36)*VLOOKUP(IF(E36=\"\",$D$16,E36),ClgHtgTypeData,3,FALSE)/1000)","v":0},0,"",{"$error":"#VALUE!"},0,{"$f":"IF(OR(U36=\"\",W36=\"\"),0,IF(U36=\"80F\",Validation!W23,(VLOOKUP(IF(D36=\"\",$D$15,D36),LtgBldgTypeData,3,FALSE)-VLOOKUP(U36,Control_Data,5)))*N36*O36*VLOOKUP(IF(E36=\"\",$D$16,E36),ClgHtgTypeData,2,FALSE)/1000)","v":0},{"$f":"IF(OR(U36=\"\",W36=\"\"),\"\",IF(VLOOKUP(L36,'Wattage Table'!D:F,3,0)*N36/W36>=VLOOKUP(U36,Control_Data,3,0),1,0))","v":""}]
[null,13,null,null,null,null,{"$f":"IF(F37=\"\",\"\",HLOOKUP(F37,Validation!$F$5:$Q$6,2,FALSE))","v":""},{"$f":"IF(G37=\"\",\"\",INDEX('Measure Code Summary'!$D$20:$D$52,MATCH(G37,'Measure Code Summary'!$C$20:$C$52,0),1))","v":""},"",null,null,null,{"$f":"IF(L37=\"\",\"\",VLOOKUP(L37,'Wattage Table'!$D:$E,2,0))","v":""},null,{"$f":"IF(L37=\"\",\"\",VLOOKUP(L37,'Wattage Table'!D:F,3,0))","v":""},null,{"$f":"IF(P37=\"\",\"\",VLOOKUP(P37,'Wattage Table'!D:E,2,0))","v":""},null,{"$f":"IF(P37=\"\",\"\",VLOOKUP(P37,'Wattage Table'!D:F,3,0))","v":""},null,null,{"$f":"IF(U37=\"\",\"\",IF(U37=\"None\",\"None\",INDEX('Measure Code Summary'!$D$50:$D$53,MATCH(U37,'Measure Code Summary'!$C$50:$C$53,0),1)))","v":""},null,0,0,0,{"$error":"#VALUE!"},{"$error":"#VALUE!"},"",{"$f":"IF(OR(P37=\"\",L37=\"\", D$16=\"\"),0,((S37*R37)-(O37*N37))*IF(G37=\"90C\",Validation!B$32,T37)*VLOOKUP(IF(E37=\"\",$D$16,E37),ClgHtgTypeData,3,FALSE)/1000)","v":0},0,"",{"$error":"#VALUE!"},0,{"$f":"IF(OR(U37=\"\",W37=\"\"),0,IF(U37=\"80F\",Validation!W24,(VLOOKUP(IF(D37=\"\",$D$15,D37),LtgBldgTypeData,3,FALSE)-VLOOKUP(U37,Control_Data,5)))*N37*O37*VLOOKUP(IF(E37=\"\",$D$16,E37),ClgHtgTypeData,2,FALSE)/1000)","v":0},{"$f":"IF(OR(U37=\"\",W37=\"\"),\"\",IF(VLOOKUP(L37,'Wattage Table'!D:F,3,0)*N37/W37>=VLOOKUP(U37,Control_Data,3,0),1,0))","v":""}]
[null,14,null,null,null,null,{"$f":"IF(F38=\"\",\"\",HLOOKUP(F38,Validation!$F$5:$Q$6,2,FALSE))","v":""},{"$f":"IF(G38=\"\",\"\",INDEX('Measure Code Summary'!$D$20:$D$52,MATCH(G38,'Measure Code Summary'!$C$20:$C$52,0),1))","v":""},"",null,null,null,{"$f":"IF(L38=\"\",\"\",VLOOKUP(L38,'Wattage Table'!$D:$E,2,0))","v":""},null,{"$f":"IF(L38=\"\",\"\",VLOOKUP(L38,'Wattage Table'!D:F,3,0))","v":""},null,{"$f":"IF(P38=\"\",\"\",VLOOKUP(P38,'Wattage Table'!D:E,2,0))","v":""},null,{"$f":"IF(P38=\"\",\"\",VLOOKUP(P38,'Wattage Table'!D:F,3,0))","v":""},null,null,{"$f":"IF(U38=\"\",\"\",IF(U38=\"None\",\"None\",INDEX('Measure Code Summary'!$D$50:$D$53,MATCH(U38,'Measure Code Summary'!$C$50:$C$53,0),1)))","v":""},null,0,0,0,{"$error":"#VALUE!"},{"$error":"#VALUE!"},"",{"$f":"IF(OR(P38=\"\",L38=\"\", D$16=\"\"),0,((S38*R38)-(O38*N38))*IF(G38=\"90C\",Validation!B$32,T38)*VLOOKUP(IF(E38=\"\",$D$16,E38),ClgHtgTypeData,3,FALSE)/1000)","v":0},0,"",{"$error":"#VALUE!"},0,{"$f":"IF(OR(U38=\"\",W38=\"\"),0,IF(U38=\"80F\",Validation!W25,(VLOOKUP(IF(D38=\"\",$D$15,D38),LtgBldgTypeData,3,FALSE)-VLOOKUP(U38,Control_Data,5)))*N38*O38*VLOOKUP(IF(E38=\"\",$D$16,E38),ClgHtgTypeData,2,FALSE)/1000)","v":0},{"$f":"IF(OR(U38=\"\",W38=\"\"),\"\",IF(VLOOKUP(L38,'Wattage Table'!D:F,3,0)*N38/W38>=VLOOKUP(U38,Control_Data,3,0),1,0))","v":""}]
[null,15,null,null,null,null,{"$f":"IF(F39=\"\",\"\",HLOOKUP(F39,Validation!$F$5:$Q$6,2,FALSE))","v":""},{"$f":"IF(G39=\"\",\"\",INDEX('Measure Code Summary'!$D$20:$D$52,MATCH(G39,'Measure Code Summary'!$C$20:$C$52,0),1))","v":""},"",null,null,null,{"$f":"IF(L39=\"\",\"\",VLOOKUP(L39,'Wattage Table'!$D:$E,2,0))","v":""},null,{"$f":"IF(L39=\"\",\"\",VLOOKUP(L39,'Wattage Table'!D:F,3,0))","v":""},null,{"$f":"IF(P39=\"\",\"\",VLOOKUP(P39,'Wattage Table'!D:E,2,0))","v":""},null,{"$f":"IF(P39=\"\",\"\",VLOOKUP(P39,'Wattage Table'!D:F,3,0))","v":""},null,null,{"$f":"IF(U39=\"\",\"\",IF(U39=\"None\",\"None\",INDEX('Measure Code Summary'!$D$50:$D$53,MATCH(U39,'Measure Code Summary'!$C$50:$C$53,0),1)))","v":""},null,0,0,0,{"$error":"#VALUE!"},{"$error":"#VALUE!"},"",{"$f":"IF(OR(P39=\"\",L39=\"\", D$16=\"\"),0,((S39*R39)-(O39*N39))*IF(G39=\"90C\",Validation!B$32,T39)*VLOOKUP(IF(E39=\"\",$D$16,E39),ClgHtgTypeData,3,FALSE)/1000)","v":0},0,"",{"$error":"#VALUE!"},0,{"$f":"IF(OR(U39=\"\",W39=\"\"),0,IF(U39=\"80F\",Validation!W26,(VLOOKUP(IF(D39=\"\",$D$15,D39),LtgBldgTypeData,3,FALSE)-VLOOKUP(U39,Control_Data,5)))*N39*O39*VLOOKUP(IF(E39=\"\",$D$16,E39),ClgHtgTypeData,2,FALSE)/1000)","v":0},{"$f":"IF(OR(U39=\"\",W39=\"\"),\"\",IF(VLOOKUP(L39,'Wattage Table'!D:F,3,0)*N39/W39>=VLOOKUP(U39,Control_Data,3,0),1,0))","v":""}]
[null,16,null,null,null,null,{"$f":"IF(F40=\"\",\"\",HLOOKUP(F40,Validation!$F$5:$Q$6,2,FALSE))","v":""},{"$f":"IF(G40=\"\",\"\",INDEX('Measure Code Summary'!$D$20:$D$52,MATCH(G40,'Measure Code Summary'!$C$20:$C$52,0),1))","v":""},"",null,null,null,{"$f":"IF(L40=\"\",\"\",VLOOKUP(L40,'Wattage Table'!$D:$E,2,0))","v":""},null,{"$f":"IF(L40=\"\",\"\",VLOOKUP(L40,'Wattage Table'!D:F,3,0))","v":""},null,{"$f":"IF(P40=\"\",\"\",VLOOKUP(P40,'Wattage Table'!D:E,2,0))","v":""},null,{"$f":"IF(P40=\"\",\"\",VLOOKUP(P40,'Wattage Table'!D:F,3,0))","v":""},null,null,{"$f":"IF(U40=\"\",\"\",IF(U40=\"None\",\"None\",INDEX('Measure Code Summary'!$D$50:$D$53,MATCH(U40,'Measure Code Summary'!$C$50:$C$53,0),1)))","v":""},null,0,0,0,{"$error":"#VALUE!"},{"$error":"#VALUE!"},"",{"$f":"IF(OR(P40=\"\",L40=\"\", D$16=\"\"),0,((S40*R40)-(O40*N40))*IF(G40=\"90C\",Validation!B$32,T40)*VLOOKUP(IF(E40=\"\",$D$16,E40),ClgHtgTypeData,3,FALSE)/1000)","v":0},0,"",{"$error":"#VALUE!"},0,{"$f":"IF(OR(U40=\"\",W40=\"\"),0,IF(U40=\"80F\",Validation!W27,(VLOOKUP(IF(D40=\"\",$D$15,D40),LtgBldgTypeData,3,FALSE)-VLOOKUP(U40,Control_Data,5)))*N40*O40*VLOOKUP(IF(E40=\"\",$D$16,E40),ClgHtgTypeData,2,FALSE)/1000)","v":0},{"$f":"IF(OR(U40=\"\",W40=\"\"),\"\",IF(VLOOKUP(L40,'Wattage Table'!D:F,3,0)*N40/W40>=VLOOKUP(U40,Control_Data,3,0),1,0))","v":""}]
[null,17,null,null,null,null,{"$f":"IF(F41=\"\",\"\",HLOOKUP(F41,Validation!$F$5:$Q$6,2,FALSE))","v":""},{"$f":"IF(G41=\"\",\"\",INDEX('Measure Code Summary'!$D$20:$D$52,MATCH(G41,'Measure Code Summary'!$C$20:$C$52,0),1))","v":""},"",null,null,null,{"$f":"IF(L41=\"\",\"\",VLOOKUP(L41,'Wattage Table'!$D:$E,2,0))","v":""},null,{"$f":"IF(L41=\"\",\"\",VLOOKUP(L41,'Wattage Table'!D:F,3,0))","v":""},null,{"$f":"IF(P41=\"\",\"\",VLOOKUP(P41,'Wattage Table'!D:E,2,0))","v":""},null,{"$f":"IF(P41=\"\",\"\",VLOOKUP(P41,'Wattage Table'!D:F,3,0))","v":""},null,null,{"$f":"IF(U41=\"\",\"\",IF(U41=\"None\",\"None\",INDEX('Measure Code Summary'!$D$50:$D$53,MATCH(U41,'Measure Code Summary'!$C$50:$C$53,0),1)))","v":""},null,0,0,0,{"$error":"#VALUE!"},{"$error":"#VALUE!"},"",{"$f":"IF(OR(P41=\"\",L41=\"\", D$16=\"\"),0,((S41*R41)-(O41*N41))*IF(G41=\"90C\",Validation!B$32,T41)*VLOOKUP(IF(E41=\"\",$D$16,E41),ClgHtgTypeData,3,FALSE)/1000)","v":0},0,"",{"$error":"#VALUE!"},0,{"$f":"IF(OR(U41=\"\",W41=\"\"),0,IF(U41=\"80F\",Validation!W28,(VLOOKUP(IF(D41=\"\",$D$15,D41),LtgBldgTypeData,3,FALSE)-VLOOKUP(U41,Control_Data,5)))*N41*O41*VLOOKUP(IF(E41=\"\",$D$16,E41),ClgHtgTypeData,2,FALSE)/1000)","v":0},{"$f":"IF(OR(U41=\"\",W41=\"\"),\"\",IF(VLOOKUP(L41,'Wattage Table'!D:F,3,0)*N41/W41>=VLOOKUP(U41,Control_Data,3,0),1,0))","v":""}]
[null,18,null,null,null,null,{"$f":"IF(F42=\"\",\"\",HLOOKUP(F42,Validation!$F$5:$Q$6,2,FALSE))","v":""},{"$f":"IF(G42=\"\",\"\",INDEX('Measure Code Summary'!$D$20:$D$52,MATCH(G42,'Measure Code Summary'!$C$20:$C$52,0),1))","v":""},"",null,null,null,{"$f":"IF(L42=\"\",\"\",VLOOKUP(L42,'Wattage Table'!$D:$E,2,0))","v":""},null,{"$f":"IF(L42=\"\",\"\",VLOOKUP(L42,'Wattage Table'!D:F,3,0))","v":""},null,{"$f":"IF(P42=\"\",\"\",VLOOKUP(P42,'Wattage Table'!D:E,2,0))","v":""},null,{"$f":"IF(P42=\"\",\"\",VLOOKUP(P42,'Wattage Table'!D:F,3,0))","v":""},null,null,{"$f":"IF(U42=\"\",\"\",IF(U42=\"None\",\"None\",INDEX('Measure Code Summary'!$D$50:$D$53,MATCH(U42,'Measure Code Summary'!$C$50:$C$53,0),1)))","v":""},null,0,0,0,{"$error":"#VALUE!"},{"$error":"#VALUE!"},"",{"$f":"IF(OR(P42=\"\",L42=\"\", D$16=\"\"),0,((S42*R42)-(O42*N42))*IF(G42=\"90C\",Validation!B$32,T42)*VLOOKUP(IF(E42=\"\",$D$16,E42),ClgHtgTypeData,3,FALSE)/1000)","v":0},0,"",{"$error":"#VALUE!"},0,{"$f":"IF(OR(U42=\"\",W42=\"\"),0,IF(U42=\"80F\",Validation!W29,(VLOOKUP(IF(D42=\"\",$D$15,D42),LtgBldgTypeData,3,FALSE)-VLOOKUP(U42,Control_Data,5)))*N42*O42*VLOOKUP(IF(E42=\"\",$D$16,E42),ClgHtgTypeData,2,FALSE)/1000)","v":0},{"$f":"IF(OR(U42=\"\",W42=\"\"),\"\",IF(VLOOKUP(L42,'Wattage Table'!D:F,3,0)*N42/W42>=VLOOKUP(U42,Control_Data,3,0),1,0))","v":""}]
[null,19,null,null,null,null,{"$f":"IF(F43=\"\",\"\",HLOOKUP(F43,Validation!$F$5:$Q$6,2,FALSE))","v":""},{"$f":"IF(G43=\"\",\"\",INDEX('Measure Code Summary'!$D$20:$D$52,MATCH(G43,'Measure Code Summary'!$C$20:$C$52,0),1))","v":""},"",null,null,null,{"$f":"IF(L43=\"\",\"\",VLOOKUP(L43,'Wattage Table'!$D:$E,2,0))","v":""},null,{"$f":"IF(L43=\"\",\"\",VLOOKUP(L43,'Wattage Table'!D:F,3,0))","v":""},null,{"$f":"IF(P43=\"\",\"\",VLOOKUP(P43,'Wattage Table'!D:E,2,0))","v":""},null,{"$f":"IF(P43=\"\",\"\",VLOOKUP(P43,'Wattage Table'!D:F,3,0))","v":""},null,null,{"$f":"IF(U43=\"\",\"\",IF(U43=\"None\",\"None\",INDEX('Measure Code Summary'!$D$50:$D$53,MATCH(U43,'Measure Code Summary'!$C$50:$C$53,0),1)))","v":""},null,0,0,0,{"$error":"#VALUE!"},{"$error":"#VALUE!"},"",{"$f":"IF(OR(P43=\"\",L43=\"\", D$16=\"\"),0,((S43*R43)-(O43*N43))*IF(G43=\"90C\",Validation!B$32,T43)*VLOOKUP(IF(E43=\"\",$D$16,E43),ClgHtgTypeData,3,FALSE)/1000)","v":0},0,"",{"$error":"#VALUE!"},0,{"$f":"IF(OR(U43=\"\",W43=\"\"),0,IF(U43=\"80F\",Validation!W30,(VLOOKUP(IF(D43=\"\",$D$15,D43),LtgBldgTypeData,3,FALSE)-VLOOKUP(U43,Control_Data,5)))*N43*O43*VLOOKUP(IF(E43=\"\",$D$16,E43),ClgHtgTypeData,2,FALSE)/1000)","v":0},{"$f":"IF(OR(U43=\"\",W43=\"\"),\"\",IF(VLOOKUP(L43,'Wattage Table'!D:F,3,0)*N43/W43>=VLOOKUP(U43,Control_Data,3,0),1,0))","v":""}]
[null,20,null,null,null,null,{"$f":"IF(F44=\"\",\"\",HLOOKUP(F44,Validation!$F$5:$Q$6,2,FALSE))","v":""},{"$f":"IF(G44=\"\",\"\",INDEX('Measure Code Summary'!$D$20:$D$52,MATCH(G44,'Measure Code Summary'!$C$20:$C$52,0),1))","v":""},"",null,null,null,{"$f":"IF(L44=\"\",\"\",VLOOKUP(L44,'Wattage Table'!$D:$E,2,0))","v":""},null,{"$f":"IF(L44=\"\",\"\",VLOOKUP(L44,'Wattage Table'!D:F,3,0))","v":""},null,{"$f":"IF(P44=\"\",\"\",VLOOKUP(P44,'Wattage Table'!D:E,2,0))","v":""},null,{"$f":"IF(P44=\"\",\"\",VLOOKUP(P44,'Wattage Table'!D:F,3,0))","v":""},null,null,{"$f":"IF(U44=\"\",\"\",IF(U44=\"None\",\"None\",INDEX('Measure Code Summary'!$D$50:$D$53,MATCH(U44,'Measure Code Summary'!$C$50:$C$53,0),1)))","v":""},null,0,0,0,{"$error":"#VALUE!"},{"$error":"#VALUE!"},"",{"$f":"IF(OR(P44=\"\",L44=\"\", D$16=\"\"),0,((S44*R44)-(O44*N44))*IF(G44=\"90C\",Validation!B$32,T44)*VLOOKUP(IF(E44=\"\",$D$16,E44),ClgHtgTypeData,3,FALSE)/1000)","v":0},0,"",{"$error":"#VALUE!"},0,{"$f":"IF(OR(U44=\"\",W44=\"\"),0,IF(U44=\"80F\",Validation!W31,(VLOOKUP(IF(D44=\"\",$D$15,D44),LtgBldgTypeData,3,FALSE)-VLOOKUP(U44,Control_Data,5)))*N44*O44*VLOOKUP(IF(E44=\"\",$D$16,E44),ClgHtgTypeData,2,FALSE)/1000)","v":0},{"$f":"IF(OR(U44=\"\",W44=\"\"),\"\",IF(VLOOKUP(L44,'Wattage Table'!D:F,3,0)*N44/W44>=VLOOKUP(U44,Control_Data,3,0),1,0))","v":""}]
[null,21,null,null,null,null,{"$f":"IF(F45=\"\",\"\",HLOOKUP(F45,Validation!$F$5:$Q$6,2,FALSE))","v":""},{"$f":"IF(G45=\"\",\"\",INDEX('Measure Code Summary'!$D$20:$D$52,MATCH(G45,'Measure Code Summary'!$C$20:$C$52,0),1))","v":""},"",null,null,null,{"$f":"IF(L45=\"\",\"\",VLOOKUP(L45,'Wattage Table'!$D:$E,2,0))","v":""},null,{"$f":"IF(L45=\"\",\"\",VLOOKUP(L45,'Wattage Table'!D:F,3,0))","v":""},null,{"$f":"IF(P45=\"\",\"\",VLOOKUP(P45,'Wattage Table'!D:E,2,0))","v":""},null,{"$f":"IF(P45=\"\",\"\",VLOOKUP(P45,'Wattage Table'!D:F,3,0))","v":""},null,null,{"$f":"IF(U45=\"\",\"\",IF(U45=\"None\",\"None\",INDEX('Measure Code Summary'!$D$50:$D$53,MATCH(U45,'Measure Code Summary'!$C$50:$C$53,0),1)))","v":""},null,0,0,0,{"$error":"#VALUE!"},{"$error":"#VALUE!"},"",{"$f":"IF(OR(P45=\"\",L45=\"\", D$16=\"\"),0,((S45*R45)-(O45*N45))*IF(G45=\"90C\",Validation!B$32,T45)*VLOOKUP(IF(E45=\"\",$D$16,E45),ClgHtgTypeData,3,FALSE)/1000)","v":0},0,"",{"$error":"#VALUE!"},0,{"$f":"IF(OR(U45=\"\",W45=\"\"),0,IF(U45=\"80F\",Validation!W32,(VLOOKUP(IF(D45=\"\",$D$15,D45),LtgBldgTypeData,3,FALSE)-VLOOKUP(U45,Control_Data,5)))*N45*O45*VLOOKUP(IF(E45=\"\",$D$16,E45),ClgHtgTypeData,2,FALSE)/1000)","v":0},{"$f":"IF(OR(U45=\"\",W45=\"\"),\"\",IF(VLOOKUP(L45,'Wattage Table'!D:F,3,0)*N45/W45>=VLOOKUP(U45,Control_Data,3,0),1,0))","v":""}]
[null,22,null,null,null,null,{"$f":"IF(F46=\"\",\"\",HLOOKUP(F46,Validation!$F$5:$Q$6,2,FALSE))","v":""},{"$f":"IF(G46=\"\",\"\",INDEX('Measure Code Summary'!$D$20:$D$52,MATCH(G46,'Measure Code Summary'!$C$20:$C$52,0),1))","v":""},"",null,null,null,{"$f":"IF(L46=\"\",\"\",VLOOKUP(L46,'Wattage Table'!$D:$E,2,0))","v":""},null,{"$f":"IF(L46=\"\",\"\",VLOOKUP(L46,'Wattage Table'!D:F,3,0))","v":""},null,{"$f":"IF(P46=\"\",\"\",VLOOKUP(P46,'Wattage Table'!D:E,2,0))","v":""},null,{"$f":"IF(P46=\"\",\"\",VLOOKUP(P46,'Wattage Table'!D:F,3,0))","v":""},null,null,{"$f":"IF(U46=\"\",\"\",IF(U46=\"None\",\"None\",INDEX('Measure Code Summary'!$D$50:$D$53,MATCH(U46,'Measure Code Summary'!$C$50:$C$53,0),1)))","v":""},null,0,0,0,{"$error":"#VALUE!"},{"$error":"#VALUE!"},"",{"$f":"IF(OR(P46=\"\",L46=\"\", D$16=\"\"),0,((S46*R46)-(O46*N46))*IF(G46=\"90C\",Validation!B$32,T46)*VLOOKUP(IF(E46=\"\",$D$16,E46),ClgHtgTypeData,3,FALSE)/1000)","v":0},0,"",{"$error":"#VALUE!"},0,{"$f":"IF(OR(U46=\"\",W46=\"\"),0,IF(U46=\"80F\",Validation!W33,(VLOOKUP(IF(D46=\"\",$D$15,D46),LtgBldgTypeData,3,FALSE)-VLOOKUP(U46,Control_Data,5)))*N46*O46*VLOOKUP(IF(E46=\"\",$D$16,E46),ClgHtgTypeData,2,FALSE)/1000)","v":0},{"$f":"IF(OR(U46=\"\",W46=\"\"),\"\",IF(VLOOKUP(L46,'Wattage Table'!D:F,3,0)*N46/W46>=VLOOKUP(U46,Control_Data,3,0),1,0))","v":""}]
[null,23,null,null,null,null,{"$f":"IF(F47=\"\",\"\",HLOOKUP(F47,Validation!$F$5:$Q$6,2,FALSE))","v":""},{"$f":"IF(G47=\"\",\"\",INDEX('Measure Code Summary'!$D$20:$D$52,MATCH(G47,'Measure Code Summary'!$C$20:$C$52,0),1))","v":""},"",null,null,null,{"$f":"IF(L47=\"\",\"\",VLOOKUP(L47,'Wattage Table'!$D:$E,2,0))","v":""},null,{"$f":"IF(L47=\"\",\"\",VLOOKUP(L47,'Wattage Table'!D:F,3,0))","v":""},null,{"$f":"IF(P47=\"\",\"\",VLOOKUP(P47,'Wattage Table'!D:E,2,0))","v":""},null,{"$f":"IF(P47=\"\",\"\",VLOOKUP(P47,'Wattage Table'!D:F,3,0))","v":""},null,null,{"$f":"IF(U47=\"\",\"\",IF(U47=\"None\",\"None\",INDEX('Measure Code Summary'!$D$50:$D$53,MATCH(U47,'Measure Code Summary'!$C$50:$C$53,0),1)))","v":""},null,0,0,0,{"$error":"#VALUE!"},{"$error":"#VALUE!"},"",{"$f":"IF(OR(P47=\"\",L47=\"\", D$16=\"\"),0,((S47*R47)-(O47*N47))*IF(G47=\"90C\",Validation!B$32,T47)*VLOOKUP(IF(E47=\"\",$D$16,E47),ClgHtgTypeData,3,FALSE)/1000)","v":0},0,"",{"$error":"#VALUE!"},0,{"$f":"IF(OR(U47=\"\",W47=\"\"),0,IF(U47=\"80F\",Validation!W34,(VLOOKUP(IF(D47=\"\",$D$15,D47),LtgBldgTypeData,3,FALSE)-VLOOKUP(U47,Control_Data,5)))*N47*O47*VLOOKUP(IF(E47=\"\",$D$16,E47),ClgHtgTypeData,2,FALSE)/1000)","v":0},{"$f":"IF(OR(U47=\"\",W47=\"\"),\"\",IF(VLOOKUP(L47,'Wattage Table'!D:F,3,0)*N47/W47>=VLOOKUP(U47,Control_Data,3,0),1,0))","v":""}]
[null,24,null,null,null,null,{"$f":"IF(F48=\"\",\"\",HLOOKUP(F48,Validation!$F$5:$Q$6,2,FALSE))","v":""},{"$f":"IF(G48=\"\",\"\",INDEX('Measure Code Summary'!$D$20:$D$52,MATCH(G48,'Measure Code Summary'!$C$20:$C$52,0),1))","v":""},"",null,null,null,{"$f":"IF(L48=\"\",\"\",VLOOKUP(L48,'Wattage Table'!$D:$E,2,0))","v":""},null,{"$f":"IF(L48=\"\",\"\",VLOOKUP(L48,'Wattage Table'!D:F,3,0))","v":""},null,{"$f":"IF(P48=\"\",\"\",VLOOKUP(P48,'Wattage Table'!D:E,2,0))","v":""},null,{"$f":"IF(P48=\"\",\"\",VLOOKUP(P48,'Wattage Table'!D:F,3,0))","v":""},null,null,{"$f":"IF(U48=\"\",\"\",IF(U48=\"None\",\"None\",INDEX('Measure Code Summary'!$D$50:$D$53,MATCH(U48,'Measure Code Summary'!$C$50:$C$53,0),1)))","v":""},null,0,0,0,{"$error":"#VALUE!"},{"$error":"#VALUE!"},"",{"$f":"IF(OR(P48=\"\",L48=\"\", D$16=\"\"),0,((S48*R48)-(O48*N48))*IF(G48=\"90C\",Validation!B$32,T48)*VLOOKUP(IF(E48=\"\",$D$16,E48),ClgHtgTypeData,3,FALSE)/1000)","v":0},0,"",{"$error":"#VALUE!"},0,{"$f":"IF(OR(U48=\"\",W48=\"\"),0,IF(U48=\"80F\",Validation!W35,(VLOOKUP(IF(D48=\"\",$D$15,D48),LtgBldgTypeData,3,FALSE)-VLOOKUP(U48,Control_Data,5)))*N48*O48*VLOOKUP(IF(E48=\"\",$D$16,E48),ClgHtgTypeData,2,FALSE)/1000)","v":0},{"$f":"IF(OR(U48=\"\",W48=\"\"),\"\",IF(VLOOKUP(L48,'Wattage Table'!D:F,3,0)*N48/W48>=VLOOKUP(U48,Control_Data,3,0),1,0))","v":""}]
[null,25,null,null,null,null,{"$f":"IF(F49=\"\",\"\",HLOOKUP(F49,Validation!$F$5:$Q$6,2,FALSE))","v":""},{"$f":"IF(G49=\"\",\"\",INDEX('Measure Code Summary'!$D$20:$D$52,MATCH(G49,'Measure Code Summary'!$C$20:$C$52,0),1))","v":""},"",null,null,null,{"$f":"IF(L49=\"\",\"\",VLOOKUP(L49,'Wattage Table'!$D:$E,2,0))","v":""},null,{"$f":"IF(L49=\"\",\"\",VLOOKUP(L49,'Wattage Table'!D:F,3,0))","v":""},null,{"$f":"IF(P49=\"\",\"\",VLOOKUP(P49,'Wattage Table'!D:E,2,0))","v":""},null,{"$f":"IF(P49=\"\",\"\",VLOOKUP(P49,'Wattage Table'!D:F,3,0))","v":""},null,null,{"$f":"IF(U49=\"\",\"\",IF(U49=\"None\",\"None\",INDEX('Measure Code Summary'!$D$50:$D$53,MATCH(U49,'Measure Code Summary'!$C$50:$C$53,0),1)))","v":""},null,0,0,0,{"$error":"#VALUE!"},{"$error":"#VALUE!"},"",{"$f":"IF(OR(P49=\"\",L49=\"\", D$16=\"\"),0,((S49*R49)-(O49*N49))*IF(G49=\"90C\",Validation!B$32,T49)*VLOOKUP(IF(E49=\"\",$D$16,E49),ClgHtgTypeData,3,FALSE)/1000)","v":0},0,"",{"$error":"#VALUE!"},0,{"$f":"IF(OR(U49=\"\",W49=\"\"),0,IF(U49=\"80F\",Validation!W36,(VLOOKUP(IF(D49=\"\",$D$15,D49),LtgBldgTypeData,3,FALSE)-VLOOKUP(U49,Control_Data,5)))*N49*O49*VLOOKUP(IF(E49=\"\",$D$16,E49),ClgHtgTypeData,2,FALSE)/1000)","v":0},{"$f":"IF(OR(U49=\"\",W49=\"\"),\"\",IF(VLOOKUP(L49,'Wattage Table'!D:F,3,0)*N49/W49>=VLOOKUP(U49,Control_Data,3,0),1,0))","v":""}]
[null,26,null,null,null,null,{"$f":"IF(F50=\"\",\"\",HLOOKUP(F50,Validation!$F$5:$Q$6,2,FALSE))","v":""},{"$f":"IF(G50=\"\",\"\",INDEX('Measure Code Summary'!$D$20:$D$52,MATCH(G50,'Measure Code Summary'!$C$20:$C$52,0),1))","v":""},"",null,null,null,{"$f":"IF(L50=\"\",\"\",VLOOKUP(L50,'Wattage Table'!$D:$E,2,0))","v":""},null,{"$f":"IF(L50=\"\",\"\",VLOOKUP(L50,'Wattage Table'!D:F,3,0))","v":""},null,{"$f":"IF(P50=\"\",\"\",VLOOKUP(P50,'Wattage Table'!D:E,2,0))","v":""},null,{"$f":"IF(P50=\"\",\"\",VLOOKUP(P50,'Wattage Table'!D:F,3,0))","v":""},null,null,{"$f":"IF(U50=\"\",\"\",IF(U50=\"None\",\"None\",INDEX('Measure Code Summary'!$D$50:$D$53,MATCH(U50,'Measure Code Summary'!$C$50:$C$53,0),1)))","v":""},null,0,0,0,{"$error":"#VALUE!"},{"$error":"#VALUE!"},"",{"$f":"IF(OR(P50=\"\",L50=\"\", D$16=\"\"),0,((S50*R50)-(O50*N50))*IF(G50=\"90C\",Validation!B$32,T50)*VLOOKUP(IF(E50=\"\",$D$16,E50),ClgHtgTypeData,3,FALSE)/1000)","v":0},0,"",{"$error":"#VALUE!"},0,{"$f":"IF(OR(U50=\"\",W50=\"\"),0,IF(U50=\"80F\",Validation!W37,(VLOOKUP(IF(D50=\"\",$D$15,D50),LtgBldgTypeData,3,FALSE)-VLOOKUP(U50,Control_Data,5)))*N50*O50*VLOOKUP(IF(E50=\"\",$D$16,E50),ClgHtgTypeData,2,FALSE)/1000)","v":0},{"$f":"IF(OR(U50=\"\",W50=\"\"),\"\",IF(VLOOKUP(L50,'Wattage Table'!D:F,3,0)*N50/W50>=VLOOKUP(U50,Control_Data,3,0),1,0))","v":""}]
[null,27,null,null,null,null,{"$f":"IF(F51=\"\",\"\",HLOOKUP(F51,Validation!$F$5:$Q$6,2,FALSE))","v":""},{"$f":"IF(G51=\"\",\"\",INDEX('Measure Code Summary'!$D$20:$D$52,MATCH(G51,'Measure Code Summary'!$C$20:$C$52,0),1))","v":""},"",null,null,null,{"$f":"IF(L51=\"\",\"\",VLOOKUP(L51,'Wattage Table'!$D:$E,2,0))","v":""},null,{"$f":"IF(L51=\"\",\"\",VLOOKUP(L51,'Wattage Table'!D:F,3,0))","v":""},null,{"$f":"IF(P51=\"\",\"\",VLOOKUP(P51,'Wattage Table'!D:E,2,0))","v":""},null,{"$f":"IF(P51=\"\",\"\",VLOOKUP(P51,'Wattage Table'!D:F,3,0))","v":""},null,null,{"$f":"IF(U51=\"\",\"\",IF(U51=\"None\",\"None\",INDEX('Measure Code Summary'!$D$50:$D$53,MATCH(U51,'Measure Code Summary'!$C$50:$C$53,0),1)))","v":""},null,0,0,0,{"$error":"#VALUE!"},{"$error":"#VALUE!"},"",{"$f":"IF(OR(P51=\"\",L51=\"\", D$16=\"\"),0,((S51*R51)-(O51*N51))*IF(G51=\"90C\",Validation!B$32,T51)*VLOOKUP(IF(E51=\"\",$D$16,E51),ClgHtgTypeData,3,FALSE)/1000)","v":0},0,"",{"$error":"#VALUE!"},0,{"$f":"IF(OR(U51=\"\",W51=\"\"),0,IF(U51=\"80F\",Validation!W38,(VLOOKUP(IF(D51=\"\",$D$15,D51),LtgBldgTypeData,3,FALSE)-VLOOKUP(U51,Control_Data,5)))*N51*O51*VLOOKUP(IF(E51=\"\",$D$16,E51),ClgHtgTypeData,2,FALSE)/1000)","v":0},{"$f":"IF(OR(U51=\"\",W51=\"\"),\"\",IF(VLOOKUP(L51,'Wattage Table'!D:F,3,0)*N51/W51>=VLOOKUP(U51,Control_Data,3,0),1,0))","v":""}]
[null,28,null,null,null,null,{"$f":"IF(F52=\"\",\"\",HLOOKUP(F52,Validation!$F$5:$Q$6,2,FALSE))","v":""},{"$f":"IF(G52=\"\",\"\",INDEX('Measure Code Summary'!$D$20:$D$52,MATCH(G52,'Measure Code Summary'!$C$20:$C$52,0),1))","v":""},"",null,null,null,{"$f":"IF(L52=\"\",\"\",VLOOKUP(L52,'Wattage Table'!$D:$E,2,0))","v":""},null,{"$f":"IF(L52=\"\",\"\",VLOOKUP(L52,'Wattage Table'!D:F,3,0))","v":""},null,{"$f":"IF(P52=\"\",\"\",VLOOKUP(P52,'Wattage Table'!D:E,2,0))","v":""},null,{"$f":"IF(P52=\"\",\"\",VLOOKUP(P52,'Wattage Table'!D:F,3,0))","v":""},null,null,{"$f":"IF(U52=\"\",\"\",IF(U52=\"None\",\"None\",INDEX('Measure Code Summary'!$D$50:$D$53,MATCH(U52,'Measure Code Summary'!$C$50:$C$53,0),1)))","v":""},null,0,0,0,{"$error":"#VALUE!"},{"$error":"#VALUE!"},"",{"$f":"IF(OR(P52=\"\",L52=\"\", D$16=\"\"),0,((S52*R52)-(O52*N52))*IF(G52=\"90C\",Validation!B$32,T52)*VLOOKUP(IF(E52=\"\",$D$16,E52),ClgHtgTypeData,3,FALSE)/1000)","v":0},0,"",{"$error":"#VALUE!"},0,{"$f":"IF(OR(U52=\"\",W52=\"\"),0,IF(U52=\"80F\",Validation!W39,(VLOOKUP(IF(D52=\"\",$D$15,D52),LtgBldgTypeData,3,FALSE)-VLOOKUP(U52,Control_Data,5)))*N52*O52*VLOOKUP(IF(E52=\"\",$D$16,E52),ClgHtgTypeData,2,FALSE)/1000)","v":0},{"$f":"IF(OR(U52=\"\",W52=\"\"),\"\",IF(VLOOKUP(L52,'Wattage Table'!D:F,3,0)*N52/W52>=VLOOKUP(U52,Control_Data,3,0),1,0))","v":""}]
[null,29,null,null,null,null,{"$f":"IF(F53=\"\",\"\",HLOOKUP(F53,Validation!$F$5:$Q$6,2,FALSE))","v":""},{"$f":"IF(G53=\"\",\"\",INDEX('Measure Code Summary'!$D$20:$D$52,MATCH(G53,'Measure Code Summary'!$C$20:$C$52,0),1))","v":""},"",null,null,null,{"$f":"IF(L53=\"\",\"\",VLOOKUP(L53,'Wattage Table'!$D:$E,2,0))","v":""},null,{"$f":"IF(L53=\"\",\"\",VLOOKUP(L53,'Wattage Table'!D:F,3,0))","v":""},null,{"$f":"IF(P53=\"\",\"\",VLOOKUP(P53,'Wattage Table'!D:E,2,0))","v":""},null,{"$f":"IF(P53=\"\",\"\",VLOOKUP(P53,'Wattage Table'!D:F,3,0))","v":""},null,null,{"$f":"IF(U53=\"\",\"\",IF(U53=\"None\",\"None\",INDEX('Measure Code Summary'!$D$50:$D$53,MATCH(U53,'Measure Code Summary'!$C$50:$C$53,0),1)))","v":""},null,0,0,0,{"$error":"#VALUE!"},{"$error":"#VALUE!"},"",{"$f":"IF(OR(P53=\"\",L53=\"\", D$16=\"\"),0,((S53*R53)-(O53*N53))*IF(G53=\"90C\",Validation!B$32,T53)*VLOOKUP(IF(E53=\"\",$D$16,E53),ClgHtgTypeData,3,FALSE)/1000)","v":0},0,"",{"$error":"#VALUE!"},0,{"$f":"IF(OR(U53=\"\",W53=\"\"),0,IF(U53=\"80F\",Validation!W40,(VLOOKUP(IF(D53=\"\",$D$15,D53),LtgBldgTypeData,3,FALSE)-VLOOKUP(U53,Control_Data,5)))*N53*O53*VLOOKUP(IF(E53=\"\",$D$16,E53),ClgHtgTypeData,2,FALSE)/1000)","v":0},{"$f":"IF(OR(U53=\"\",W53=\"\"),\"\",IF(VLOOKUP(L53,'Wattage Table'!D:F,3,0)*N53/W53>=VLOOKUP(U53,Control_Data,3,0),1,0))","v":""}]
[null,30,null,null,null,null,{"$f":"IF(F54=\"\",\"\",HLOOKUP(F54,Validation!$F$5:$Q$6,2,FALSE))","v":""},{"$f":"IF(G54=\"\",\"\",INDEX('Measure Code Summary'!$D$20:$D$52,MATCH(G54,'Measure Code Summary'!$C$20:$C$52,0),1))","v":""},"",null,null,null,{"$f":"IF(L54=\"\",\"\",VLOOKUP(L54,'Wattage Table'!$D:$E,2,0))","v":""},null,{"$f":"IF(L54=\"\",\"\",VLOOKUP(L54,'Wattage Table'!D:F,3,0))","v":""},null,{"$f":"IF(P54=\"\",\"\",VLOOKUP(P54,'Wattage Table'!D:E,2,0))","v":""},null,{"$f":"IF(P54=\"\",\"\",VLOOKUP(P54,'Wattage Table'!D:F,3,0))","v":""},null,null,{"$f":"IF(U54=\"\",\"\",IF(U54=\"None\",\"None\",INDEX('Measure Code Summary'!$D$50:$D$53,MATCH(U54,'Measure Code Summary'!$C$50:$C$53,0),1)))","v":""},null,0,0,0,{"$error":"#VALUE!"},{"$error":"#VALUE!"},"",{"$f":"IF(OR(P54=\"\",L54=\"\", D$16=\"\"),0,((S54*R54)-(O54*N54))*IF(G54=\"90C\",Validation!B$32,T54)*VLOOKUP(IF(E54=\"\",$D$16,E54),ClgHtgTypeData,3,FALSE)/1000)","v":0},0,"",{"$error":"#VALUE!"},0,{"$f":"IF(OR(U54=\"\",W54=\"\"),0,IF(U54=\"80F\",Validation!W41,(VLOOKUP(IF(D54=\"\",$D$15,D54),LtgBldgTypeData,3,FALSE)-VLOOKUP(U54,Control_Data,5)))*N54*O54*VLOOKUP(IF(E54=\"\",$D$16,E54),ClgHtgTypeData,2,FALSE)/1000)","v":0},{"$f":"IF(OR(U54=\"\",W54=\"\"),\"\",IF(VLOOKUP(L54,'Wattage Table'!D:F,3,0)*N54/W54>=VLOOKUP(U54,Control_Data,3,0),1,0))","v":""}]
[null,31,null,null,null,null,{"$f":"IF(F55=\"\",\"\",HLOOKUP(F55,Validation!$F$5:$Q$6,2,FALSE))","v":""},{"$f":"IF(G55=\"\",\"\",INDEX('Measure Code Summary'!$D$20:$D$52,MATCH(G55,'Measure Code Summary'!$C$20:$C$52,0),1))","v":""},"",null,null,null,{"$f":"IF(L55=\"\",\"\",VLOOKUP(L55,'Wattage Table'!$D:$E,2,0))","v":""},null,{"$f":"IF(L55=\"\",\"\",VLOOKUP(L55,'Wattage Table'!D:F,3,0))","v":""},null,{"$f":"IF(P55=\"\",\"\",VLOOKUP(P55,'Wattage Table'!D:E,2,0))","v":""},null,{"$f":"IF(P55=\"\",\"\",VLOOKUP(P55,'Wattage Table'!D:F,3,0))","v":""},null,null,{"$f":"IF(U55=\"\",\"\",IF(U55=\"None\",\"None\",INDEX('Measure Code Summary'!$D$50:$D$53,MATCH(U55,'Measure Code Summary'!$C$50:$C$53,0),1)))","v":""},null,0,0,0,{"$error":"#VALUE!"},{"$error":"#VALUE!"},"",{"$f":"IF(OR(P55=\"\",L55=\"\", D$16=\"\"),0,((S55*R55)-(O55*N55))*IF(G55=\"90C\",Validation!B$32,T55)*VLOOKUP(IF(E55=\"\",$D$16,E55),ClgHtgTypeData,3,FALSE)/1000)","v":0},0,"",{"$error":"#VALUE!"},0,{"$f":"IF(OR(U55=\"\",W55=\"\"),0,IF(U55=\"80F\",Validation!W42,(VLOOKUP(IF(D55=\"\",$D$15,D55),LtgBldgTypeData,3,FALSE)-VLOOKUP(U55,Control_Data,5)))*N55*O55*VLOOKUP(IF(E55=\"\",$D$16,E55),ClgHtgTypeData,2,FALSE)/1000)","v":0},{"$f":"IF(OR(U55=\"\",W55=\"\"),\"\",IF(VLOOKUP(L55,'Wattage Table'!D:F,3,0)*N55/W55>=VLOOKUP(U55,Control_Data,3,0),1,0))","v":""}]
[null,32,null,null,null,null,{"$f":"IF(F56=\"\",\"\",HLOOKUP(F56,Validation!$F$5:$Q$6,2,FALSE))","v":""},{"$f":"IF(G56=\"\",\"\",INDEX('Measure Code Summary'!$D$20:$D$52,MATCH(G56,'Measure Code Summary'!$C$20:$C$52,0),1))","v":""},"",null,null,null,{"$f":"IF(L56=\"\",\"\",VLOOKUP(L56,'Wattage Table'!$D:$E,2,0))","v":""},null,{"$f":"IF(L56=\"\",\"\",VLOOKUP(L56,'Wattage Table'!D:F,3,0))","v":""},null,{"$f":"IF(P56=\"\",\"\",VLOOKUP(P56,'Wattage Table'!D:E,2,0))","v":""},null,{"$f":"IF(P56=\"\",\"\",VLOOKUP(P56,'Wattage Table'!D:F,3,0))","v":""},null,null,{"$f":"IF(U56=\"\",\"\",IF(U56=\"None\",\"None\",INDEX('Measure Code Summary'!$D$50:$D$53,MATCH(U56,'Measure Code Summary'!$C$50:$C$53,0),1)))","v":""},null,0,0,0,{"$error":"#VALUE!"},{"$error":"#VALUE!"},"",{"$f":"IF(OR(P56=\"\",L56=\"\", D$16=\"\"),0,((S56*R56)-(O56*N56))*IF(G56=\"90C\",Validation!B$32,T56)*VLOOKUP(IF(E56=\"\",$D$16,E56),ClgHtgTypeData,3,FALSE)/1000)","v":0},0,"",{"$error":"#VALUE!"},0,{"$f":"IF(OR(U56=\"\",W56=\"\"),0,IF(U56=\"80F\",Validation!W43,(VLOOKUP(IF(D56=\"\",$D$15,D56),LtgBldgTypeData,3,FALSE)-VLOOKUP(U56,Control_Data,5)))*N56*O56*VLOOKUP(IF(E56=\"\",$D$16,E56),ClgHtgTypeData,2,FALSE)/1000)","v":0},{"$f":"IF(OR(U56=\"\",W56=\"\"),\"\",IF(VLOOKUP(L56,'Wattage Table'!D:F,3,0)*N56/W56>=VLOOKUP(U56,Control_Data,3,0),1,0))","v":""}]
[null,33,null,null,null,null,{"$f":"IF(F57=\"\",\"\",HLOOKUP(F57,Validation!$F$5:$Q$6,2,FALSE))","v":""},{"$f":"IF(G57=\"\",\"\",INDEX('Measure Code Summary'!$D$20:$D$52,MATCH(G57,'Measure Code Summary'!$C$20:$C$52,0),1))","v":""},"",null,null,null,{"$f":"IF(L57=\"\",\"\",VLOOKUP(L57,'Wattage Table'!$D:$E,2,0))","v":""},null,{"$f":"IF(L57=\"\",\"\",VLOOKUP(L57,'Wattage Table'!D:F,3,0))","v":""},null,{"$f":"IF(P57=\"\",\"\",VLOOKUP(P57,'Wattage Table'!D:E,2,0))","v":""},null,{"$f":"IF(P57=\"\",\"\",VLOOKUP(P57,'Wattage Table'!D:F,3,0))","v":""},null,null,{"$f":"IF(U57=\"\",\"\",IF(U57=\"None\",\"None\",INDEX('Measure Code Summary'!$D$50:$D$53,MATCH(U57,'Measure Code Summary'!$C$50:$C$53,0),1)))","v":""},null,0,0,0,{"$error":"#VALUE!"},{"$error":"#VALUE!"},"",{"$f":"IF(OR(P57=\"\",L57=\"\", D$16=\"\"),0,((S57*R57)-(O57*N57))*IF(G57=\"90C\",Validation!B$32,T57)*VLOOKUP(IF(E57=\"\",$D$16,E57),ClgHtgTypeData,3,FALSE)/1000)","v":0},0,"",{"$error":"#VALUE!"},{"$f":"IF(OR(U57=\"\",AJ57=\"No\"),0,0.25*O57*T57*N57)/1000","v":0},{"$f":"IF(OR(U57=\"\",W57=\"\"),0,IF(U57=\"80F\",Validation!W44,(VLOOKUP(IF(D57=\"\",$D$15,D57),LtgBldgTypeData,3,FALSE)-VLOOKUP(U57,Control_Data,5)))*N57*O57*VLOOKUP(IF(E57=\"\",$D$16,E57),ClgHtgTypeData,2,FALSE)/1000)","v":0},{"$f":"IF(OR(U57=\"\",W57=\"\"),\"\",IF(VLOOKUP(L57,'Wattage Table'!D:F,3,0)*N57/W57>=VLOOKUP(U57,Control_Data,3,0),1,0))","v":""}]
[null,34,null,null,null,null,{"$f":"IF(F58=\"\",\"\",HLOOKUP(F58,Validation!$F$5:$Q$6,2,FALSE))","v":""},{"$f":"IF(G58=\"\",\"\",INDEX('Measure Code Summary'!$D$20:$D$52,MATCH(G58,'Measure Code Summary'!$C$20:$C$52,0),1))","v":""},"",null,null,null,{"$f":"IF(L58=\"\",\"\",VLOOKUP(L58,'Wattage Table'!$D:$E,2,0))","v":""},null,{"$f":"IF(L58=\"\",\"\",VLOOKUP(L58,'Wattage Table'!D:F,3,0))","v":""},null,{"$f":"IF(P58=\"\",\"\",VLOOKUP(P58,'Wattage Table'!D:E,2,0))","v":""},null,{"$f":"IF(P58=\"\",\"\",VLOOKUP(P58,'Wattage Table'!D:F,3,0))","v":""},null,null,{"$f":"IF(U58=\"\",\"\",IF(U58=\"None\",\"None\",INDEX('Measure Code Summary'!$D$50:$D$53,MATCH(U58,'Measure Code Summary'!$C$50:$C$53,0),1)))","v":""},null,0,0,0,{"$error":"#VALUE!"},{"$error":"#VALUE!"},"",{"$f":"IF(OR(P58=\"\",L58=\"\", D$16=\"\"),0,((S58*R58)-(O58*N58))*IF(G58=\"90C\",Validation!B$32,T58)*VLOOKUP(IF(E58=\"\",$D$16,E58),ClgHtgTypeData,3,FALSE)/1000)","v":0},0,"",{"$error":"#VALUE!"},0,{"$f":"IF(OR(U58=\"\",W58=\"\"),0,IF(U58=\"80F\",Validation!W45,(VLOOKUP(IF(D58=\"\",$D$15,D58),LtgBldgTypeData,3,FALSE)-VLOOKUP(U58,Control_Data,5)))*N58*O58*VLOOKUP(IF(E58=\"\",$D$16,E58),ClgHtgTypeData,2,FALSE)/1000)","v":0},{"$f":"IF(OR(U58=\"\",W58=\"\"),\"\",IF(VLOOKUP(L58,'Wattage Table'!D:F,3,0)*N58/W58>=VLOOKUP(U58,Control_Data,3,0),1,0))","v":""}]
[null,35,null,null,null,null,{"$f":"IF(F59=\"\",\"\",HLOOKUP(F59,Validation!$F$5:$Q$6,2,FALSE))","v":""},{"$f":"IF(G59=\"\",\"\",INDEX('Measure Code Summary'!$D$20:$D$52,MATCH(G59,'Measure Code Summary'!$C$20:$C$52,0),1))","v":""},"",null,null,null,{"$f":"IF(L59=\"\",\"\",VLOOKUP(L59,'Wattage Table'!$D:$E,2,0))","v":""},null,{"$f":"IF(L59=\"\",\"\",VLOOKUP(L59,'Wattage Table'!D:F,3,0))","v":""},null,{"$f":"IF(P59=\"\",\"\",VLOOKUP(P59,'Wattage Table'!D:E,2,0))","v":""},null,{"$f":"IF(P59=\"\",\"\",VLOOKUP(P59,'Wattage Table'!D:F,3,0))","v":""},null,null,{"$f":"IF(U59=\"\",\"\",IF(U59=\"None\",\"None\",INDEX('Measure Code Summary'!$D$50:$D$53,MATCH(U59,'Measure Code Summary'!$C$50:$C$53,0),1)))","v":""},null,0,0,0,{"$error":"#VALUE!"},{"$error":"#VALUE!"},"",{"$f":"IF(OR(P59=\"\",L59=\"\", D$16=\"\"),0,((S59*R59)-(O59*N59))*IF(G59=\"90C\",Validation!B$32,T59)*VLOOKUP(IF(E59=\"\",$D$16,E59),ClgHtgTypeData,3,FALSE)/1000)","v":0},0,"",{"$error":"#VALUE!"},0,{"$f":"IF(OR(U59=\"\",W59=\"\"),0,IF(U59=\"80F\",Validation!W46,(VLOOKUP(IF(D59=\"\",$D$15,D59),LtgBldgTypeData,3,FALSE)-VLOOKUP(U59,Control_Data,5)))*N59*O59*VLOOKUP(IF(E59=\"\",$D$16,E59),ClgHtgTypeData,2,FALSE)/1000)","v":0},{"$f":"IF(OR(U59=\"\",W59=\"\"),\"\",IF(VLOOKUP(L59,'Wattage Table'!D:F,3,0)*N59/W59>=VLOOKUP(U59,Control_Data,3,0),1,0))","v":""}]
[null,36,null,null,null,null,{"$f":"IF(F60=\"\",\"\",HLOOKUP(F60,Validation!$F$5:$Q$6,2,FALSE))","v":""},{"$f":"IF(G60=\"\",\"\",INDEX('Measure Code Summary'!$D$20:$D$52,MATCH(G60,'Measure Code Summary'!$C$20:$C$52,0),1))","v":""},"",null,null,null,{"$f":"IF(L60=\"\",\"\",VLOOKUP(L60,'Wattage Table'!$D:$E,2,0))","v":""},null,{"$f":"IF(L60=\"\",\"\",VLOOKUP(L60,'Wattage Table'!D:F,3,0))","v":""},null,{"$f":"IF(P60=\"\",\"\",VLOOKUP(P60,'Wattage Table'!D:E,2,0))","v":""},null,{"$f":"IF(P60=\"\",\"\",VLOOKUP(P60,'Wattage Table'!D:F,3,0))","v":""},null,null,{"$f":"IF(U60=\"\",\"\",IF(U60=\"None\",\"None\",INDEX('Measure Code Summary'!$D$50:$D$53,MATCH(U60,'Measure Code Summary'!$C$50:$C$53,0),1)))","v":""},null,0,0,0,{"$error":"#VALUE!"},{"$error":"#VALUE!"},"",{"$f":"IF(OR(P60=\"\",L60=\"\", D$16=\"\"),0,((S60*R60)-(O60*N60))*IF(G60=\"90C\",Validation!B$32,T60)*VLOOKUP(IF(E60=\"\",$D$16,E60),ClgHtgTypeData,3,FALSE)/1000)","v":0},0,"",{"$error":"#VALUE!"},0,{"$f":"IF(OR(U60=\"\",W60=\"\"),0,IF(U60=\"80F\",Validation!W47,(VLOOKUP(IF(D60=\"\",$D$15,D60),LtgBldgTypeData,3,FALSE)-VLOOKUP(U60,Control_Data,5)))*N60*O60*VLOOKUP(IF(E60=\"\",$D$16,E60),ClgHtgTypeData,2,FALSE)/1000)","v":0},{"$f":"IF(OR(U60=\"\",W60=\"\"),\"\",IF(VLOOKUP(L60,'Wattage Table'!D:F,3,0)*N60/W60>=VLOOKUP(U60,Control_Data,3,0),1,0))","v":""}]
[null,37,null,null,null,null,{"$f":"IF(F61=\"\",\"\",HLOOKUP(F61,Validation!$F$5:$Q$6,2,FALSE))","v":""},{"$f":"IF(G61=\"\",\"\",INDEX('Measure Code Summary'!$D$20:$D$52,MATCH(G61,'Measure Code Summary'!$C$20:$C$52,0),1))","v":""},"",null,null,null,{"$f":"IF(L61=\"\",\"\",VLOOKUP(L61,'Wattage Table'!$D:$E,2,0))","v":""},null,{"$f":"IF(L61=\"\",\"\",VLOOKUP(L61,'Wattage Table'!D:F,3,0))","v":""},null,{"$f":"IF(P61=\"\",\"\",VLOOKUP(P61,'Wattage Table'!D:E,2,0))","v":""},null,{"$f":"IF(P61=\"\",\"\",VLOOKUP(P61,'Wattage Table'!D:F,3,0))","v":""},null,null,{"$f":"IF(U61=\"\",\"\",IF(U61=\"None\",\"None\",INDEX('Measure Code Summary'!$D$50:$D$53,MATCH(U61,'Measure Code Summary'!$C$50:$C$53,0),1)))","v":""},null,0,0,0,{"$error":"#VALUE!"},{"$error":"#VALUE!"},"",{"$f":"IF(OR(P61=\"\",L61=\"\", D$16=\"\"),0,((S61*R61)-(O61*N61))*IF(G61=\"90C\",Validation!B$32,T61)*VLOOKUP(IF(E61=\"\",$D$16,E61),ClgHtgTypeData,3,FALSE)/1000)","v":0},0,"",{"$error":"#VALUE!"},0,{"$f":"IF(OR(U61=\"\",W61=\"\"),0,IF(U61=\"80F\",Validation!W48,(VLOOKUP(IF(D61=\"\",$D$15,D61),LtgBldgTypeData,3,FALSE)-VLOOKUP(U61,Control_Data,5)))*N61*O61*VLOOKUP(IF(E61=\"\",$D$16,E61),ClgHtgTypeData,2,FALSE)/1000)","v":0},{"$f":"IF(OR(U61=\"\",W61=\"\"),\"\",IF(VLOOKUP(L61,'Wattage Table'!D:F,3,0)*N61/W61>=VLOOKUP(U61,Control_Data,3,0),1,0))","v":""}]
[null,38,null,null,null,null,{"$f":"IF(F62=\"\",\"\",HLOOKUP(F62,Validation!$F$5:$Q$6,2,FALSE))","v":""},{"$f":"IF(G62=\"\",\"\",INDEX('Measure Code Summary'!$D$20:$D$52,MATCH(G62,'Measure Code Summary'!$C$20:$C$52,0),1))","v":""},"",null,null,null,{"$f":"IF(L62=\"\",\"\",VLOOKUP(L62,'Wattage Table'!$D:$E,2,0))","v":""},null,{"$f":"IF(L62=\"\",\"\",VLOOKUP(L62,'Wattage Table'!D:F,3,0))","v":""},null,{"$f":"IF(P62=\"\",\"\",VLOOKUP(P62,'Wattage Table'!D:E,2,0))","v":""},null,{"$f":"IF(P62=\"\",\"\",VLOOKUP(P62,'Wattage Table'!D:F,3,0))","v":""},null,null,{"$f":"IF(U62=\"\",\"\",IF(U62=\"None\",\"None\",INDEX('Measure Code Summary'!$D$50:$D$53,MATCH(U62,'Measure Code Summary'!$C$50:$C$53,0),1)))","v":""},null,0,0,0,{"$error":"#VALUE!"},{"$error":"#VALUE!"},"",{"$f":"IF(OR(P62=\"\",L62=\"\", D$16=\"\"),0,((S62*R62)-(O62*N62))*IF(G62=\"90C\",Validation!B$32,T62)*VLOOKUP(IF(E62=\"\",$D$16,E62),ClgHtgTypeData,3,FALSE)/1000)","v":0},0,"",{"$error":"#VALUE!"},0,{"$f":"IF(OR(U62=\"\",W62=\"\"),0,IF(U62=\"80F\",Validation!W49,(VLOOKUP(IF(D62=\"\",$D$15,D62),LtgBldgTypeData,3,FALSE)-VLOOKUP(U62,Control_Data,5)))*N62*O62*VLOOKUP(IF(E62=\"\",$D$16,E62),ClgHtgTypeData,2,FALSE)/1000)","v":0},{"$f":"IF(OR(U62=\"\",W62=\"\"),\"\",IF(VLOOKUP(L62,'Wattage Table'!D:F,3,0)*N62/W62>=VLOOKUP(U62,Control_Data,3,0),1,0))","v":""}]
[null,39,null,null,null,null,{"$f":"IF(F63=\"\",\"\",HLOOKUP(F63,Validation!$F$5:$Q$6,2,FALSE))","v":""},{"$f":"IF(G63=\"\",\"\",INDEX('Measure Code Summary'!$D$20:$D$52,MATCH(G63,'Measure Code Summary'!$C$20:$C$52,0),1))","v":""},"",null,null,null,{"$f":"IF(L63=\"\",\"\",VLOOKUP(L63,'Wattage Table'!$D:$E,2,0))","v":""},null,{"$f":"IF(L63=\"\",\"\",VLOOKUP(L63,'Wattage Table'!D:F,3,0))","v":""},null,{"$f":"IF(P63=\"\",\"\",VLOOKUP(P63,'Wattage Table'!D:E,2,0))","v":""},null,{"$f":"IF(P63=\"\",\"\",VLOOKUP(P63,'Wattage Table'!D:F,3,0))","v":""},null,null,{"$f":"IF(U63=\"\",\"\",IF(U63=\"None\",\"None\",INDEX('Measure Code Summary'!$D$50:$D$53,MATCH(U63,'Measure Code Summary'!$C$50:$C$53,0),1)))","v":""},null,0,0,0,{"$error":"#VALUE!"},{"$error":"#VALUE!"},"",{"$f":"IF(OR(P63=\"\",L63=\"\", D$16=\"\"),0,((S63*R63)-(O63*N63))*IF(G63=\"90C\",Validation!B$32,T63)*VLOOKUP(IF(E63=\"\",$D$16,E63),ClgHtgTypeData,3,FALSE)/1000)","v":0},0,"",{"$error":"#VALUE!"},0,{"$f":"IF(OR(U63=\"\",W63=\"\"),0,IF(U63=\"80F\",Validation!W50,(VLOOKUP(IF(D63=\"\",$D$15,D63),LtgBldgTypeData,3,FALSE)-VLOOKUP(U63,Control_Data,5)))*N63*O63*VLOOKUP(IF(E63=\"\",$D$16,E63),ClgHtgTypeData,2,FALSE)/1000)","v":0},{"$f":"IF(OR(U63=\"\",W63=\"\"),\"\",IF(VLOOKUP(L63,'Wattage Table'!D:F,3,0)*N63/W63>=VLOOKUP(U63,Control_Data,3,0),1,0))","v":""}]
[null,40,null,null,null,null,{"$f":"IF(F64=\"\",\"\",HLOOKUP(F64,Validation!$F$5:$Q$6,2,FALSE))","v":""},{"$f":"IF(G64=\"\",\"\",INDEX('Measure Code Summary'!$D$20:$D$52,MATCH(G64,'Measure Code Summary'!$C$20:$C$52,0),1))","v":""},"",null,null,null,{"$f":"IF(L64=\"\",\"\",VLOOKUP(L64,'Wattage Table'!$D:$E,2,0))","v":""},null,{"$f":"IF(L64=\"\",\"\",VLOOKUP(L64,'Wattage Table'!D:F,3,0))","v":""},null,{"$f":"IF(P64=\"\",\"\",VLOOKUP(P64,'Wattage Table'!D:E,2,0))","v":""},null,{"$f":"IF(P64=\"\",\"\",VLOOKUP(P64,'Wattage Table'!D:F,3,0))","v":""},null,null,{"$f":"IF(U64=\"\",\"\",IF(U64=\"None\",\"None\",INDEX('Measure Code Summary'!$D$50:$D$53,MATCH(U64,'Measure Code Summary'!$C$50:$C$53,0),1)))","v":""},null,0,0,0,{"$error":"#VALUE!"},{"$error":"#VALUE!"},"",{"$f":"IF(OR(P64=\"\",L64=\"\", D$16=\"\"),0,((S64*R64)-(O64*N64))*IF(G64=\"90C\",Validation!B$32,T64)*VLOOKUP(IF(E64=\"\",$D$16,E64),ClgHtgTypeData,3,FALSE)/1000)","v":0},0,"",{"$error":"#VALUE!"},0,{"$f":"IF(OR(U64=\"\",W64=\"\"),0,IF(U64=\"80F\",Validation!W51,(VLOOKUP(IF(D64=\"\",$D$15,D64),LtgBldgTypeData,3,FALSE)-VLOOKUP(U64,Control_Data,5)))*N64*O64*VLOOKUP(IF(E64=\"\",$D$16,E64),ClgHtgTypeData,2,FALSE)/1000)","v":0},{"$f":"IF(OR(U64=\"\",W64=\"\"),\"\",IF(VLOOKUP(L64,'Wattage Table'!D:F,3,0)*N64/W64>=VLOOKUP(U64,Control_Data,3,0),1,0))","v":""}]
[null,41,null,null,null,null,{"$f":"IF(F65=\"\",\"\",HLOOKUP(F65,Validation!$F$5:$Q$6,2,FALSE))","v":""},{"$f":"IF(G65=\"\",\"\",INDEX('Measure Code Summary'!$D$20:$D$52,MATCH(G65,'Measure Code Summary'!$C$20:$C$52,0),1))","v":""},"",null,null,null,{"$f":"IF(L65=\"\",\"\",VLOOKUP(L65,'Wattage Table'!$D:$E,2,0))","v":""},null,{"$f":"IF(L65=\"\",\"\",VLOOKUP(L65,'Wattage Table'!D:F,3,0))","v":""},null,{"$f":"IF(P65=\"\",\"\",VLOOKUP(P65,'Wattage Table'!D:E,2,0))","v":""},null,{"$f":"IF(P65=\"\",\"\",VLOOKUP(P65,'Wattage Table'!D:F,3,0))","v":""},null,null,{"$f":"IF(U65=\"\",\"\",IF(U65=\"None\",\"None\",INDEX('Measure Code Summary'!$D$50:$D$53,MATCH(U65,'Measure Code Summary'!$C$50:$C$53,0),1)))","v":""},null,0,0,0,{"$error":"#VALUE!"},{"$error":"#VALUE!"},"",{"$f":"IF(OR(P65=\"\",L65=\"\", D$16=\"\"),0,((S65*R65)-(O65*N65))*IF(G65=\"90C\",Validation!B$32,T65)*VLOOKUP(IF(E65=\"\",$D$16,E65),ClgHtgTypeData,3,FALSE)/1000)","v":0},0,"",{"$error":"#VALUE!"},0,{"$f":"IF(OR(U65=\"\",W65=\"\"),0,IF(U65=\"80F\",Validation!W52,(VLOOKUP(IF(D65=\"\",$D$15,D65),LtgBldgTypeData,3,FALSE)-VLOOKUP(U65,Control_Data,5)))*N65*O65*VLOOKUP(IF(E65=\"\",$D$16,E65),ClgHtgTypeData,2,FALSE)/1000)","v":0},{"$f":"IF(OR(U65=\"\",W65=\"\"),\"\",IF(VLOOKUP(L65,'Wattage Table'!D:F,3,0)*N65/W65>=VLOOKUP(U65,Control_Data,3,0),1,0))","v":""}]
[null,42,null,null,null,null,{"$f":"IF(F66=\"\",\"\",HLOOKUP(F66,Validation!$F$5:$Q$6,2,FALSE))","v":""},{"$f":"IF(G66=\"\",\"\",INDEX('Measure Code Summary'!$D$20:$D$52,MATCH(G66,'Measure Code Summary'!$C$20:$C$52,0),1))","v":""},"",null,null,null,{"$f":"IF(L66=\"\",\"\",VLOOKUP(L66,'Wattage Table'!$D:$E,2,0))","v":""},null,{"$f":"IF(L66=\"\",\"\",VLOOKUP(L66,'Wattage Table'!D:F,3,0))","v":""},null,{"$f":"IF(P66=\"\",\"\",VLOOKUP(P66,'Wattage Table'!D:E,2,0))","v":""},null,{"$f":"IF(P66=\"\",\"\",VLOOKUP(P66,'Wattage Table'!D:F,3,0))","v":""},null,null,{"$f":"IF(U66=\"\",\"\",IF(U66=\"None\",\"None\",INDEX('Measure Code Summary'!$D$50:$D$53,MATCH(U66,'Measure Code Summary'!$C$50:$C$53,0),1)))","v":""},null,0,0,0,{"$error":"#VALUE!"},{"$error":"#VALUE!"},"",{"$f":"IF(OR(P66=\"\",L66=\"\", D$16=\"\"),0,((S66*R66)-(O66*N66))*IF(G66=\"90C\",Validation!B$32,T66)*VLOOKUP(IF(E66=\"\",$D$16,E66),ClgHtgTypeData,3,FALSE)/1000)","v":0},0,"",{"$error":"#VALUE!"},0,{"$f":"IF(OR(U66=\"\",W66=\"\"),0,IF(U66=\"80F\",Validation!W53,(VLOOKUP(IF(D66=\"\",$D$15,D66),LtgBldgTypeData,3,FALSE)-VLOOKUP(U66,Control_Data,5)))*N66*O66*VLOOKUP(IF(E66=\"\",$D$16,E66),ClgHtgTypeData,2,FALSE)/1000)","v":0},{"$f":"IF(OR(U66=\"\",W66=\"\"),\"\",IF(VLOOKUP(L66,'Wattage Table'!D:F,3,0)*N66/W66>=VLOOKUP(U66,Control_Data,3,0),1,0))","v":""}]
[null,43,null,null,null,null,{"$f":"IF(F67=\"\",\"\",HLOOKUP(F67,Validation!$F$5:$Q$6,2,FALSE))","v":""},{"$f":"IF(G67=\"\",\"\",INDEX('Measure Code Summary'!$D$20:$D$52,MATCH(G67,'Measure Code Summary'!$C$20:$C$52,0),1))","v":""},"",null,null,null,{"$f":"IF(L67=\"\",\"\",VLOOKUP(L67,'Wattage Table'!$D:$E,2,0))","v":""},null,{"$f":"IF(L67=\"\",\"\",VLOOKUP(L67,'Wattage Table'!D:F,3,0))","v":""},null,{"$f":"IF(P67=\"\",\"\",VLOOKUP(P67,'Wattage Table'!D:E,2,0))","v":""},null,{"$f":"IF(P67=\"\",\"\",VLOOKUP(P67,'Wattage Table'!D:F,3,0))","v":""},null,null,{"$f":"IF(U67=\"\",\"\",IF(U67=\"None\",\"None\",INDEX('Measure Code Summary'!$D$50:$D$53,MATCH(U67,'Measure Code Summary'!$C$50:$C$53,0),1)))","v":""},null,0,0,0,{"$error":"#VALUE!"},{"$error":"#VALUE!"},"",{"$f":"IF(OR(P67=\"\",L67=\"\", D$16=\"\"),0,((S67*R67)-(O67*N67))*IF(G67=\"90C\",Validation!B$32,T67)*VLOOKUP(IF(E67=\"\",$D$16,E67),ClgHtgTypeData,3,FALSE)/1000)","v":0},0,"",{"$error":"#VALUE!"},0,{"$f":"IF(OR(U67=\"\",W67=\"\"),0,IF(U67=\"80F\",Validation!W54,(VLOOKUP(IF(D67=\"\",$D$15,D67),LtgBldgTypeData,3,FALSE)-VLOOKUP(U67,Control_Data,5)))*N67*O67*VLOOKUP(IF(E67=\"\",$D$16,E67),ClgHtgTypeData,2,FALSE)/1000)","v":0},{"$f":"IF(OR(U67=\"\",W67=\"\"),\"\",IF(VLOOKUP(L67,'Wattage Table'!D:F,3,0)*N67/W67>=VLOOKUP(U67,Control_Data,3,0),1,0))","v":""}]
[null,44,null,null,null,null,{"$f":"IF(F68=\"\",\"\",HLOOKUP(F68,Validation!$F$5:$Q$6,2,FALSE))","v":""},{"$f":"IF(G68=\"\",\"\",INDEX('Measure Code Summary'!$D$20:$D$52,MATCH(G68,'Measure Code Summary'!$C$20:$C$52,0),1))","v":""},"",null,null,null,{"$f":"IF(L68=\"\",\"\",VLOOKUP(L68,'Wattage Table'!$D:$E,2,0))","v":""},null,{"$f":"IF(L68=\"\",\"\",VLOOKUP(L68,'Wattage Table'!D:F,3,0))","v":""},null,{"$f":"IF(P68=\"\",\"\",VLOOKUP(P68,'Wattage Table'!D:E,2,0))","v":""},null,{"$f":"IF(P68=\"\",\"\",VLOOKUP(P68,'Wattage Table'!D:F,3,0))","v":""},null,null,{"$f":"IF(U68=\"\",\"\",IF(U68=\"None\",\"None\",INDEX('Measure Code Summary'!$D$50:$D$53,MATCH(U68,'Measure Code Summary'!$C$50:$C$53,0),1)))","v":""},null,0,0,0,{"$error":"#VALUE!"},{"$error":"#VALUE!"},"",{"$f":"IF(OR(P68=\"\",L68=\"\", D$16=\"\"),0,((S68*R68)-(O68*N68))*IF(G68=\"90C\",Validation!B$32,T68)*VLOOKUP(IF(E68=\"\",$D$16,E68),ClgHtgTypeData,3,FALSE)/1000)","v":0},0,"",{"$error":"#VALUE!"},0,{"$f":"IF(OR(U68=\"\",W68=\"\"),0,IF(U68=\"80F\",Validation!W55,(VLOOKUP(IF(D68=\"\",$D$15,D68),LtgBldgTypeData,3,FALSE)-VLOOKUP(U68,Control_Data,5)))*N68*O68*VLOOKUP(IF(E68=\"\",$D$16,E68),ClgHtgTypeData,2,FALSE)/1000)","v":0},{"$f":"IF(OR(U68=\"\",W68=\"\"),\"\",IF(VLOOKUP(L68,'Wattage Table'!D:F,3,0)*N68/W68>=VLOOKUP(U68,Control_Data,3,0),1,0))","v":""}]
[null,45,null,null,null,null,{"$f":"IF(F69=\"\",\"\",HLOOKUP(F69,Validation!$F$5:$Q$6,2,FALSE))","v":""},{"$f":"IF(G69=\"\",\"\",INDEX('Measure Code Summary'!$D$20:$D$52,MATCH(G69,'Measure Code Summary'!$C$20:$C$52,0),1))","v":""},"",null,null,null,{"$f":"IF(L69=\"\",\"\",VLOOKUP(L69,'Wattage Table'!$D:$E,2,0))","v":""},null,{"$f":"IF(L69=\"\",\"\",VLOOKUP(L69,'Wattage Table'!D:F,3,0))","v":""},null,{"$f":"IF(P69=\"\",\"\",VLOOKUP(P69,'Wattage Table'!D:E,2,0))","v":""},null,{"$f":"IF(P69=\"\",\"\",VLOOKUP(P69,'Wattage Table'!D:F,3,0))","v":""},null,null,{"$f":"IF(U69=\"\",\"\",IF(U69=\"None\",\"None\",INDEX('Measure Code Summary'!$D$50:$D$53,MATCH(U69,'Measure Code Summary'!$C$50:$C$53,0),1)))","v":""},null,0,0,0,{"$error":"#VALUE!"},{"$error":"#VALUE!"},"",{"$f":"IF(OR(P69=\"\",L69=\"\", D$16=\"\"),0,((S69*R69)-(O69*N69))*IF(G69=\"90C\",Validation!B$32,T69)*VLOOKUP(IF(E69=\"\",$D$16,E69),ClgHtgTypeData,3,FALSE)/1000)","v":0},0,"",{"$error":"#VALUE!"},0,{"$f":"IF(OR(U69=\"\",W69=\"\"),0,IF(U69=\"80F\",Validation!W56,(VLOOKUP(IF(D69=\"\",$D$15,D69),LtgBldgTypeData,3,FALSE)-VLOOKUP(U69,Control_Data,5)))*N69*O69*VLOOKUP(IF(E69=\"\",$D$16,E69),ClgHtgTypeData,2,FALSE)/1000)","v":0},{"$f":"IF(OR(U69=\"\",W69=\"\"),\"\",IF(VLOOKUP(L69,'Wattage Table'!D:F,3,0)*N69/W69>=VLOOKUP(U69,Control_Data,3,0),1,0))","v":""}]
[null,46,null,null,null,null,{"$f":"IF(F70=\"\",\"\",HLOOKUP(F70,Validation!$F$5:$Q$6,2,FALSE))","v":""},{"$f":"IF(G70=\"\",\"\",INDEX('Measure Code Summary'!$D$20:$D$52,MATCH(G70,'Measure Code Summary'!$C$20:$C$52,0),1))","v":""},"",null,null,null,{"$f":"IF(L70=\"\",\"\",VLOOKUP(L70,'Wattage Table'!$D:$E,2,0))","v":""},null,{"$f":"IF(L70=\"\",\"\",VLOOKUP(L70,'Wattage Table'!D:F,3,0))","v":""},null,{"$f":"IF(P70=\"\",\"\",VLOOKUP(P70,'Wattage Table'!D:E,2,0))","v":""},null,{"$f":"IF(P70=\"\",\"\",VLOOKUP(P70,'Wattage Table'!D:F,3,0))","v":""},null,null,{"$f":"IF(U70=\"\",\"\",IF(U70=\"None\",\"None\",INDEX('Measure Code Summary'!$D$50:$D$53,MATCH(U70,'Measure Code Summary'!$C$50:$C$53,0),1)))","v":""},null,0,0,0,{"$error":"#VALUE!"},{"$error":"#VALUE!"},"",{"$f":"IF(OR(P70=\"\",L70=\"\", D$16=\"\"),0,((S70*R70)-(O70*N70))*IF(G70=\"90C\",Validation!B$32,T70)*VLOOKUP(IF(E70=\"\",$D$16,E70),ClgHtgTypeData,3,FALSE)/1000)","v":0},0,"",{"$error":"#VALUE!"},0,{"$f":"IF(OR(U70=\"\",W70=\"\"),0,IF(U70=\"80F\",Validation!W57,(VLOOKUP(IF(D70=\"\",$D$15,D70),LtgBldgTypeData,3,FALSE)-VLOOKUP(U70,Control_Data,5)))*N70*O70*VLOOKUP(IF(E70=\"\",$D$16,E70),ClgHtgTypeData,2,FALSE)/1000)","v":0},{"$f":"IF(OR(U70=\"\",W70=\"\"),\"\",IF(VLOOKUP(L70,'Wattage Table'!D:F,3,0)*N70/W70>=VLOOKUP(U70,Control_Data,3,0),1,0))","v":""}]
[null,47,null,null,null,null,{"$f":"IF(F71=\"\",\"\",HLOOKUP(F71,Validation!$F$5:$Q$6,2,FALSE))","v":""},{"$f":"IF(G71=\"\",\"\",INDEX('Measure Code Summary'!$D$20:$D$52,MATCH(G71,'Measure Code Summary'!$C$20:$C$52,0),1))","v":""},"",null,null,null,{"$f":"IF(L71=\"\",\"\",VLOOKUP(L71,'Wattage Table'!$D:$E,2,0))","v":""},null,{"$f":"IF(L71=\"\",\"\",VLOOKUP(L71,'Wattage Table'!D:F,3,0))","v":""},null,{"$f":"IF(P71=\"\",\"\",VLOOKUP(P71,'Wattage Table'!D:E,2,0))","v":""},null,{"$f":"IF(P71=\"\",\"\",VLOOKUP(P71,'Wattage Table'!D:F,3,0))","v":""},null,null,{"$f":"IF(U71=\"\",\"\",IF(U71=\"None\",\"None\",INDEX('Measure Code Summary'!$D$50:$D$53,MATCH(U71,'Measure Code Summary'!$C$50:$C$53,0),1)))","v":""},null,0,0,0,{"$error":"#VALUE!"},{"$error":"#VALUE!"},"",{"$f":"IF(OR(P71=\"\",L71=\"\", D$16=\"\"),0,((S71*R71)-(O71*N71))*IF(G71=\"90C\",Validation!B$32,T71)*VLOOKUP(IF(E71=\"\",$D$16,E71),ClgHtgTypeData,3,FALSE)/1000)","v":0},0,"",{"$error":"#VALUE!"},0,{"$f":"IF(OR(U71=\"\",W71=\"\"),0,IF(U71=\"80F\",Validation!W58,(VLOOKUP(IF(D71=\"\",$D$15,D71),LtgBldgTypeData,3,FALSE)-VLOOKUP(U71,Control_Data,5)))*N71*O71*VLOOKUP(IF(E71=\"\",$D$16,E71),ClgHtgTypeData,2,FALSE)/1000)","v":0},{"$f":"IF(OR(U71=\"\",W71=\"\"),\"\",IF(VLOOKUP(L71,'Wattage Table'!D:F,3,0)*N71/W71>=VLOOKUP(U71,Control_Data,3,0),1,0))","v":""}]
[null,48,null,null,null,null,{"$f":"IF(F72=\"\",\"\",HLOOKUP(F72,Validation!$F$5:$Q$6,2,FALSE))","v":""},{"$f":"IF(G72=\"\",\"\",INDEX('Measure Code Summary'!$D$20:$D$52,MATCH(G72,'Measure Code Summary'!$C$20:$C$52,0),1))","v":""},"",null,null,null,{"$f":"IF(L72=\"\",\"\",VLOOKUP(L72,'Wattage Table'!$D:$E,2,0))","v":""},null,{"$f":"IF(L72=\"\",\"\",VLOOKUP(L72,'Wattage Table'!D:F,3,0))","v":""},null,{"$f":"IF(P72=\"\",\"\",VLOOKUP(P72,'Wattage Table'!D:E,2,0))","v":""},null,{"$f":"IF(P72=\"\",\"\",VLOOKUP(P72,'Wattage Table'!D:F,3,0))","v":""},null,null,{"$f":"IF(U72=\"\",\"\",IF(U72=\"None\",\"None\",INDEX('Measure Code Summary'!$D$50:$D$53,MATCH(U72,'Measure Code Summary'!$C$50:$C$53,0),1)))","v":""},null,0,0,0,{"$error":"#VALUE!"},{"$error":"#VALUE!"},"",{"$f":"IF(OR(P72=\"\",L72=\"\", D$16=\"\"),0,((S72*R72)-(O72*N72))*IF(G72=\"90C\",Validation!B$32,T72)*VLOOKUP(IF(E72=\"\",$D$16,E72),ClgHtgTypeData,3,FALSE)/1000)","v":0},0,"",{"$error":"#VALUE!"},0,{"$f":"IF(OR(U72=\"\",W72=\"\"),0,IF(U72=\"80F\",Validation!W59,(VLOOKUP(IF(D72=\"\",$D$15,D72),LtgBldgTypeData,3,FALSE)-VLOOKUP(U72,Control_Data,5)))*N72*O72*VLOOKUP(IF(E72=\"\",$D$16,E72),ClgHtgTypeData,2,FALSE)/1000)","v":0},{"$f":"IF(OR(U72=\"\",W72=\"\"),\"\",IF(VLOOKUP(L72,'Wattage Table'!D:F,3,0)*N72/W72>=VLOOKUP(U72,Control_Data,3,0),1,0))","v":""}]
[null,49,null,null,null,null,{"$f":"IF(F73=\"\",\"\",HLOOKUP(F73,Validation!$F$5:$Q$6,2,FALSE))","v":""},{"$f":"IF(G73=\"\",\"\",INDEX('Measure Code Summary'!$D$20:$D$52,MATCH(G73,'Measure Code Summary'!$C$20:$C$52,0),1))","v":""},"",null,null,null,{"$f":"IF(L73=\"\",\"\",VLOOKUP(L73,'Wattage Table'!$D:$E,2,0))","v":""},null,{"$f":"IF(L73=\"\",\"\",VLOOKUP(L73,'Wattage Table'!D:F,3,0))","v":""},null,{"$f":"IF(P73=\"\",\"\",VLOOKUP(P73,'Wattage Table'!D:E,2,0))","v":""},null,{"$f":"IF(P73=\"\",\"\",VLOOKUP(P73,'Wattage Table'!D:F,3,0))","v":""},null,null,{"$f":"IF(U73=\"\",\"\",IF(U73=\"None\",\"None\",INDEX('Measure Code Summary'!$D$50:$D$53,MATCH(U73,'Measure Code Summary'!$C$50:$C$53,0),1)))","v":""},null,0,0,0,{"$error":"#VALUE!"},{"$error":"#VALUE!"},"",{"$f":"IF(OR(P73=\"\",L73=\"\", D$16=\"\"),0,((S73*R73)-(O73*N73))*IF(G73=\"90C\",Validation!B$32,T73)*VLOOKUP(IF(E73=\"\",$D$16,E73),ClgHtgTypeData,3,FALSE)/1000)","v":0},0,"",{"$error":"#VALUE!"},0,{"$f":"IF(OR(U73=\"\",W73=\"\"),0,IF(U73=\"80F\",Validation!W60,(VLOOKUP(IF(D73=\"\",$D$15,D73),LtgBldgTypeData,3,FALSE)-VLOOKUP(U73,Control_Data,5)))*N73*O73*VLOOKUP(IF(E73=\"\",$D$16,E73),ClgHtgTypeData,2,FALSE)/1000)","v":0},{"$f":"IF(OR(U73=\"\",W73=\"\"),\"\",IF(VLOOKUP(L73,'Wattage Table'!D:F,3,0)*N73/W73>=VLOOKUP(U73,Control_Data,3,0),1,0))","v":""}]
[null,50,null,null,null,null,{"$f":"IF(F74=\"\",\"\",HLOOKUP(F74,Validation!$F$5:$Q$6,2,FALSE))","v":""},{"$f":"IF(G74=\"\",\"\",INDEX('Measure Code Summary'!$D$20:$D$52,MATCH(G74,'Measure Code Summary'!$C$20:$C$52,0),1))","v":""},"",null,null,null,{"$f":"IF(L74=\"\",\"\",VLOOKUP(L74,'Wattage Table'!$D:$E,2,0))","v":""},null,{"$f":"IF(L74=\"\",\"\",VLOOKUP(L74,'Wattage Table'!D:F,3,0))","v":""},null,{"$f":"IF(P74=\"\",\"\",VLOOKUP(P74,'Wattage Table'!D:E,2,0))","v":""},null,{"$f":"IF(P74=\"\",\"\",VLOOKUP(P74,'Wattage Table'!D:F,3,0))","v":""},null,null,{"$f":"IF(U74=\"\",\"\",IF(U74=\"None\",\"None\",INDEX('Measure Code Summary'!$D$50:$D$53,MATCH(U74,'Measure Code Summary'!$C$50:$C$53,0),1)))","v":""},null,0,0,0,{"$error":"#VALUE!"},{"$error":"#VALUE!"},"",{"$f":"IF(OR(P74=\"\",L74=\"\", D$16=\"\"),0,((S74*R74)-(O74*N74))*IF(G74=\"90C\",Validation!B$32,T74)*VLOOKUP(IF(E74=\"\",$D$16,E74),ClgHtgTypeData,3,FALSE)/1000)","v":0},0,"",{"$error":"#VALUE!"},0,{"$f":"IF(OR(U74=\"\",W74=\"\"),0,IF(U74=\"80F\",Validation!W61,(VLOOKUP(IF(D74=\"\",$D$15,D74),LtgBldgTypeData,3,FALSE)-VLOOKUP(U74,Control_Data,5)))*N74*O74*VLOOKUP(IF(E74=\"\",$D$16,E74),ClgHtgTypeData,2,FALSE)/1000)","v":0},{"$f":"IF(OR(U74=\"\",W74=\"\"),\"\",IF(VLOOKUP(L74,'Wattage Table'!D:F,3,0)*N74/W74>=VLOOKUP(U74,Control_Data,3,0),1,0))","v":""}]
[null,51,null,null,null,null,{"$f":"IF(F75=\"\",\"\",HLOOKUP(F75,Validation!$F$5:$Q$6,2,FALSE))","v":""},{"$f":"IF(G75=\"\",\"\",INDEX('Measure Code Summary'!$D$20:$D$52,MATCH(G75,'Measure Code Summary'!$C$20:$C$52,0),1))","v":""},"",null,null,null,{"$f":"IF(L75=\"\",\"\",VLOOKUP(L75,'Wattage Table'!$D:$E,2,0))","v":""},null,{"$f":"IF(L75=\"\",\"\",VLOOKUP(L75,'Wattage Table'!D:F,3,0))","v":""},null,{"$f":"IF(P75=\"\",\"\",VLOOKUP(P75,'Wattage Table'!D:E,2,0))","v":""},null,{"$f":"IF(P75=\"\",\"\",VLOOKUP(P75,'Wattage Table'!D:F,3,0))","v":""},null,null,{"$f":"IF(U75=\"\",\"\",IF(U75=\"None\",\"None\",INDEX('Measure Code Summary'!$D$50:$D$53,MATCH(U75,'Measure Code Summary'!$C$50:$C$53,0),1)))","v":""},null,0,0,0,{"$error":"#VALUE!"},{"$error":"#VALUE!"},"",{"$f":"IF(OR(P75=\"\",L75=\"\", D$16=\"\"),0,((S75*R75)-(O75*N75))*IF(G75=\"90C\",Validation!B$32,T75)*VLOOKUP(IF(E75=\"\",$D$16,E75),ClgHtgTypeData,3,FALSE)/1000)","v":0},0,"",{"$error":"#VALUE!"},0,{"$f":"IF(OR(U75=\"\",W75=\"\"),0,IF(U75=\"80F\",Validation!W62,(VLOOKUP(IF(D75=\"\",$D$15,D75),LtgBldgTypeData,3,FALSE)-VLOOKUP(U75,Control_Data,5)))*N75*O75*VLOOKUP(IF(E75=\"\",$D$16,E75),ClgHtgTypeData,2,FALSE)/1000)","v":0},{"$f":"IF(OR(U75=\"\",W75=\"\"),\"\",IF(VLOOKUP(L75,'Wattage Table'!D:F,3,0)*N75/W75>=VLOOKUP(U75,Control_Data,3,0),1,0))","v":""}]
[null,52,null,null,null,null,{"$f":"IF(F76=\"\",\"\",HLOOKUP(F76,Validation!$F$5:$Q$6,2,FALSE))","v":""},{"$f":"IF(G76=\"\",\"\",INDEX('Measure Code Summary'!$D$20:$D$52,MATCH(G76,'Measure Code Summary'!$C$20:$C$52,0),1))","v":""},"",null,null,null,{"$f":"IF(L76=\"\",\"\",VLOOKUP(L76,'Wattage Table'!$D:$E,2,0))","v":""},null,{"$f":"IF(L76=\"\",\"\",VLOOKUP(L76,'Wattage Table'!D:F,3,0))","v":""},null,{"$f":"IF(P76=\"\",\"\",VLOOKUP(P76,'Wattage Table'!D:E,2,0))","v":""},null,{"$f":"IF(P76=\"\",\"\",VLOOKUP(P76,'Wattage Table'!D:F,3,0))","v":""},null,null,{"$f":"IF(U76=\"\",\"\",IF(U76=\"None\",\"None\",INDEX('Measure Code Summary'!$D$50:$D$53,MATCH(U76,'Measure Code Summary'!$C$50:$C$53,0),1)))","v":""},null,0,0,0,{"$error":"#VALUE!"},{"$error":"#VALUE!"},"",{"$f":"IF(OR(P76=\"\",L76=\"\", D$16=\"\"),0,((S76*R76)-(O76*N76))*IF(G76=\"90C\",Validation!B$32,T76)*VLOOKUP(IF(E76=\"\",$D$16,E76),ClgHtgTypeData,3,FALSE)/1000)","v":0},0,"",{"$error":"#VALUE!"},0,{"$f":"IF(OR(U76=\"\",W76=\"\"),0,IF(U76=\"80F\",Validation!W63,(VLOOKUP(IF(D76=\"\",$D$15,D76),LtgBldgTypeData,3,FALSE)-VLOOKUP(U76,Control_Data,5)))*N76*O76*VLOOKUP(IF(E76=\"\",$D$16,E76),ClgHtgTypeData,2,FALSE)/1000)","v":0},{"$f":"IF(OR(U76=\"\",W76=\"\"),\"\",IF(VLOOKUP(L76,'Wattage Table'!D:F,3,0)*N76/W76>=VLOOKUP(U76,Control_Data,3,0),1,0))","v":""}]
[null,53,null,null,null,null,{"$f":"IF(F77=\"\",\"\",HLOOKUP(F77,Validation!$F$5:$Q$6,2,FALSE))","v":""},{"$f":"IF(G77=\"\",\"\",INDEX('Measure Code Summary'!$D$20:$D$52,MATCH(G77,'Measure Code Summary'!$C$20:$C$52,0),1))","v":""},"",null,null,null,{"$f":"IF(L77=\"\",\"\",VLOOKUP(L77,'Wattage Table'!$D:$E,2,0))","v":""},null,{"$f":"IF(L77=\"\",\"\",VLOOKUP(L77,'Wattage Table'!D:F,3,0))","v":""},null,{"$f":"IF(P77=\"\",\"\",VLOOKUP(P77,'Wattage Table'!D:E,2,0))","v":""},null,{"$f":"IF(P77=\"\",\"\",VLOOKUP(P77,'Wattage Table'!D:F,3,0))","v":""},null,null,{"$f":"IF(U77=\"\",\"\",IF(U77=\"None\",\"None\",INDEX('Measure Code Summary'!$D$50:$D$53,MATCH(U77,'Measure Code Summary'!$C$50:$C$53,0),1)))","v":""},null,0,0,0,{"$error":"#VALUE!"},{"$error":"#VALUE!"},"",{"$f":"IF(OR(P77=\"\",L77=\"\", D$16=\"\"),0,((S77*R77)-(O77*N77))*IF(G77=\"90C\",Validation!B$32,T77)*VLOOKUP(IF(E77=\"\",$D$16,E77),ClgHtgTypeData,3,FALSE)/1000)","v":0},0,"",{"$error":"#VALUE!"},0,{"$f":"IF(OR(U77=\"\",W77=\"\"),0,IF(U77=\"80F\",Validation!W64,(VLOOKUP(IF(D77=\"\",$D$15,D77),LtgBldgTypeData,3,FALSE)-VLOOKUP(U77,Control_Data,5)))*N77*O77*VLOOKUP(IF(E77=\"\",$D$16,E77),ClgHtgTypeData,2,FALSE)/1000)","v":0},{"$f":"IF(OR(U77=\"\",W77=\"\"),\"\",IF(VLOOKUP(L77,'Wattage Table'!D:F,3,0)*N77/W77>=VLOOKUP(U77,Control_Data,3,0),1,0))","v":""}]
[null,54,null,null,null,null,{"$f":"IF(F78=\"\",\"\",HLOOKUP(F78,Validation!$F$5:$Q$6,2,FALSE))","v":""},{"$f":"IF(G78=\"\",\"\",INDEX('Measure Code Summary'!$D$20:$D$52,MATCH(G78,'Measure Code Summary'!$C$20:$C$52,0),1))","v":""},"",null,null,null,{"$f":"IF(L78=\"\",\"\",VLOOKUP(L78,'Wattage Table'!$D:$E,2,0))","v":""},null,{"$f":"IF(L78=\"\",\"\",VLOOKUP(L78,'Wattage Table'!D:F,3,0))","v":""},null,{"$f":"IF(P78=\"\",\"\",VLOOKUP(P78,'Wattage Table'!D:E,2,0))","v":""},null,{"$f":"IF(P78=\"\",\"\",VLOOKUP(P78,'Wattage Table'!D:F,3,0))","v":""},null,null,{"$f":"IF(U78=\"\",\"\",IF(U78=\"None\",\"None\",INDEX('Measure Code Summary'!$D$50:$D$53,MATCH(U78,'Measure Code Summary'!$C$50:$C$53,0),1)))","v":""},null,0,0,0,{"$error":"#VALUE!"},{"$error":"#VALUE!"},"",{"$f":"IF(OR(P78=\"\",L78=\"\", D$16=\"\"),0,((S78*R78)-(O78*N78))*IF(G78=\"90C\",Validation!B$32,T78)*VLOOKUP(IF(E78=\"\",$D$16,E78),ClgHtgTypeData,3,FALSE)/1000)","v":0},0,"",{"$error":"#VALUE!"},0,{"$f":"IF(OR(U78=\"\",W78=\"\"),0,IF(U78=\"80F\",Validation!W65,(VLOOKUP(IF(D78=\"\",$D$15,D78),LtgBldgTypeData,3,FALSE)-VLOOKUP(U78,Control_Data,5)))*N78*O78*VLOOKUP(IF(E78=\"\",$D$16,E78),ClgHtgTypeData,2,FALSE)/1000)","v":0},{"$f":"IF(OR(U78=\"\",W78=\"\"),\"\",IF(VLOOKUP(L78,'Wattage Table'!D:F,3,0)*N78/W78>=VLOOKUP(U78,Control_Data,3,0),1,0))","v":""}]
[null,55,null,null,null,null,{"$f":"IF(F79=\"\",\"\",HLOOKUP(F79,Validation!$F$5:$Q$6,2,FALSE))","v":""},{"$f":"IF(G79=\"\",\"\",INDEX('Measure Code Summary'!$D$20:$D$52,MATCH(G79,'Measure Code Summary'!$C$20:$C$52,0),1))","v":""},"",null,null,null,{"$f":"IF(L79=\"\",\"\",VLOOKUP(L79,'Wattage Table'!$D:$E,2,0))","v":""},null,{"$f":"IF(L79=\"\",\"\",VLOOKUP(L79,'Wattage Table'!D:F,3,0))","v":""},null,{"$f":"IF(P79=\"\",\"\",VLOOKUP(P79,'Wattage Table'!D:E,2,0))","v":""},null,{"$f":"IF(P79=\"\",\"\",VLOOKUP(P79,'Wattage Table'!D:F,3,0))","v":""},null,null,{"$f":"IF(U79=\"\",\"\",IF(U79=\"None\",\"None\",INDEX('Measure Code Summary'!$D$50:$D$53,MATCH(U79,'Measure Code Summary'!$C$50:$C$53,0),1)))","v":""},null,0,0,0,{"$error":"#VALUE!"},{"$error":"#VALUE!"},"",{"$f":"IF(OR(P79=\"\",L79=\"\", D$16=\"\"),0,((S79*R79)-(O79*N79))*IF(G79=\"90C\",Validation!B$32,T79)*VLOOKUP(IF(E79=\"\",$D$16,E79),ClgHtgTypeData,3,FALSE)/1000)","v":0},0,"",{"$error":"#VALUE!"},0,{"$f":"IF(OR(U79=\"\",W79=\"\"),0,IF(U79=\"80F\",Validation!W66,(VLOOKUP(IF(D79=\"\",$D$15,D79),LtgBldgTypeData,3,FALSE)-VLOOKUP(U79,Control_Data,5)))*N79*O79*VLOOKUP(IF(E79=\"\",$D$16,E79),ClgHtgTypeData,2,FALSE)/1000)","v":0},{"$f":"IF(OR(U79=\"\",W79=\"\"),\"\",IF(VLOOKUP(L79,'Wattage Table'!D:F,3,0)*N79/W79>=VLOOKUP(U79,Control_Data,3,0),1,0))","v":""}]
[null,56,null,null,null,null,{"$f":"IF(F80=\"\",\"\",HLOOKUP(F80,Validation!$F$5:$Q$6,2,FALSE))","v":""},{"$f":"IF(G80=\"\",\"\",INDEX('Measure Code Summary'!$D$20:$D$52,MATCH(G80,'Measure Code Summary'!$C$20:$C$52,0),1))","v":""},"",null,null,null,{"$f":"IF(L80=\"\",\"\",VLOOKUP(L80,'Wattage Table'!$D:$E,2,0))","v":""},null,{"$f":"IF(L80=\"\",\"\",VLOOKUP(L80,'Wattage Table'!D:F,3,0))","v":""},null,{"$f":"IF(P80=\"\",\"\",VLOOKUP(P80,'Wattage Table'!D:E,2,0))","v":""},null,{"$f":"IF(P80=\"\",\"\",VLOOKUP(P80,'Wattage Table'!D:F,3,0))","v":""},null,null,{"$f":"IF(U80=\"\",\"\",IF(U80=\"None\",\"None\",INDEX('Measure Code Summary'!$D$50:$D$53,MATCH(U80,'Measure Code Summary'!$C$50:$C$53,0),1)))","v":""},null,0,0,0,{"$error":"#VALUE!"},{"$error":"#VALUE!"},"",{"$f":"IF(OR(P80=\"\",L80=\"\", D$16=\"\"),0,((S80*R80)-(O80*N80))*IF(G80=\"90C\",Validation!B$32,T80)*VLOOKUP(IF(E80=\"\",$D$16,E80),ClgHtgTypeData,3,FALSE)/1000)","v":0},0,"",{"$error":"#VALUE!"},0,{"$f":"IF(OR(U80=\"\",W80=\"\"),0,IF(U80=\"80F\",Validation!W67,(VLOOKUP(IF(D80=\"\",$D$15,D80),LtgBldgTypeData,3,FALSE)-VLOOKUP(U80,Control_Data,5)))*N80*O80*VLOOKUP(IF(E80=\"\",$D$16,E80),ClgHtgTypeData,2,FALSE)/1000)","v":0},{"$f":"IF(OR(U80=\"\",W80=\"\"),\"\",IF(VLOOKUP(L80,'Wattage Table'!D:F,3,0)*N80/W80>=VLOOKUP(U80,Control_Data,3,0),1,0))","v":""}]
[null,57,null,null,null,null,{"$f":"IF(F81=\"\",\"\",HLOOKUP(F81,Validation!$F$5:$Q$6,2,FALSE))","v":""},{"$f":"IF(G81=\"\",\"\",INDEX('Measure Code Summary'!$D$20:$D$52,MATCH(G81,'Measure Code Summary'!$C$20:$C$52,0),1))","v":""},"",null,null,null,{"$f":"IF(L81=\"\",\"\",VLOOKUP(L81,'Wattage Table'!$D:$E,2,0))","v":""},null,{"$f":"IF(L81=\"\",\"\",VLOOKUP(L81,'Wattage Table'!D:F,3,0))","v":""},null,{"$f":"IF(P81=\"\",\"\",VLOOKUP(P81,'Wattage Table'!D:E,2,0))","v":""},null,{"$f":"IF(P81=\"\",\"\",VLOOKUP(P81,'Wattage Table'!D:F,3,0))","v":""},null,null,{"$f":"IF(U81=\"\",\"\",IF(U81=\"None\",\"None\",INDEX('Measure Code Summary'!$D$50:$D$53,MATCH(U81,'Measure Code Summary'!$C$50:$C$53,0),1)))","v":""},null,0,0,0,{"$error":"#VALUE!"},{"$error":"#VALUE!"},"",{"$f":"IF(OR(P81=\"\",L81=\"\", D$16=\"\"),0,((S81*R81)-(O81*N81))*IF(G81=\"90C\",Validation!B$32,T81)*VLOOKUP(IF(E81=\"\",$D$16,E81),ClgHtgTypeData,3,FALSE)/1000)","v":0},0,"",{"$error":"#VALUE!"},0,{"$f":"IF(OR(U81=\"\",W81=\"\"),0,IF(U81=\"80F\",Validation!W68,(VLOOKUP(IF(D81=\"\",$D$15,D81),LtgBldgTypeData,3,FALSE)-VLOOKUP(U81,Control_Data,5)))*N81*O81*VLOOKUP(IF(E81=\"\",$D$16,E81),ClgHtgTypeData,2,FALSE)/1000)","v":0},{"$f":"IF(OR(U81=\"\",W81=\"\"),\"\",IF(VLOOKUP(L81,'Wattage Table'!D:F,3,0)*N81/W81>=VLOOKUP(U81,Control_Data,3,0),1,0))","v":""}]
[null,58,null,null,null,null,{"$f":"IF(F82=\"\",\"\",HLOOKUP(F82,Validation!$F$5:$Q$6,2,FALSE))","v":""},{"$f":"IF(G82=\"\",\"\",INDEX('Measure Code Summary'!$D$20:$D$52,MATCH(G82,'Measure Code Summary'!$C$20:$C$52,0),1))","v":""},"",null,null,null,{"$f":"IF(L82=\"\",\"\",VLOOKUP(L82,'Wattage Table'!$D:$E,2,0))","v":""},null,{"$f":"IF(L82=\"\",\"\",VLOOKUP(L82,'Wattage Table'!D:F,3,0))","v":""},null,{"$f":"IF(P82=\"\",\"\",VLOOKUP(P82,'Wattage Table'!D:E,2,0))","v":""},null,{"$f":"IF(P82=\"\",\"\",VLOOKUP(P82,'Wattage Table'!D:F,3,0))","v":""},null,null,{"$f":"IF(U82=\"\",\"\",IF(U82=\"None\",\"None\",INDEX('Measure Code Summary'!$D$50:$D$53,MATCH(U82,'Measure Code Summary'!$C$50:$C$53,0),1)))","v":""},null,0,0,0,{"$error":"#VALUE!"},{"$error":"#VALUE!"},"",{"$f":"IF(OR(P82=\"\",L82=\"\", D$16=\"\"),0,((S82*R82)-(O82*N82))*IF(G82=\"90C\",Validation!B$32,T82)*VLOOKUP(IF(E82=\"\",$D$16,E82),ClgHtgTypeData,3,FALSE)/1000)","v":0},0,"",{"$error":"#VALUE!"},0,{"$f":"IF(OR(U82=\"\",W82=\"\"),0,IF(U82=\"80F\",Validation!W69,(VLOOKUP(IF(D82=\"\",$D$15,D82),LtgBldgTypeData,3,FALSE)-VLOOKUP(U82,Control_Data,5)))*N82*O82*VLOOKUP(IF(E82=\"\",$D$16,E82),ClgHtgTypeData,2,FALSE)/1000)","v":0},{"$f":"IF(OR(U82=\"\",W82=\"\"),\"\",IF(VLOOKUP(L82,'Wattage Table'!D:F,3,0)*N82/W82>=VLOOKUP(U82,Control_Data,3,0),1,0))","v":""}]
[null,59,null,null,null,null,{"$f":"IF(F83=\"\",\"\",HLOOKUP(F83,Validation!$F$5:$Q$6,2,FALSE))","v":""},{"$f":"IF(G83=\"\",\"\",INDEX('Measure Code Summary'!$D$20:$D$52,MATCH(G83,'Measure Code Summary'!$C$20:$C$52,0),1))","v":""},"",null,null,null,{"$f":"IF(L83=\"\",\"\",VLOOKUP(L83,'Wattage Table'!$D:$E,2,0))","v":""},null,{"$f":"IF(L83=\"\",\"\",VLOOKUP(L83,'Wattage Table'!D:F,3,0))","v":""},null,{"$f":"IF(P83=\"\",\"\",VLOOKUP(P83,'Wattage Table'!D:E,2,0))","v":""},null,{"$f":"IF(P83=\"\",\"\",VLOOKUP(P83,'Wattage Table'!D:F,3,0))","v":""},null,null,{"$f":"IF(U83=\"\",\"\",IF(U83=\"None\",\"None\",INDEX('Measure Code Summary'!$D$50:$D$53,MATCH(U83,'Measure Code Summary'!$C$50:$C$53,0),1)))","v":""},null,0,0,0,{"$error":"#VALUE!"},{"$error":"#VALUE!"},"",{"$f":"IF(OR(P83=\"\",L83=\"\", D$16=\"\"),0,((S83*R83)-(O83*N83))*IF(G83=\"90C\",Validation!B$32,T83)*VLOOKUP(IF(E83=\"\",$D$16,E83),ClgHtgTypeData,3,FALSE)/1000)","v":0},0,"",{"$error":"#VALUE!"},0,{"$f":"IF(OR(U83=\"\",W83=\"\"),0,IF(U83=\"80F\",Validation!W70,(VLOOKUP(IF(D83=\"\",$D$15,D83),LtgBldgTypeData,3,FALSE)-VLOOKUP(U83,Control_Data,5)))*N83*O83*VLOOKUP(IF(E83=\"\",$D$16,E83),ClgHtgTypeData,2,FALSE)/1000)","v":0},{"$f":"IF(OR(U83=\"\",W83=\"\"),\"\",IF(VLOOKUP(L83,'Wattage Table'!D:F,3,0)*N83/W83>=VLOOKUP(U83,Control_Data,3,0),1,0))","v":""}]
[null,60,null,null,null,null,{"$f":"IF(F84=\"\",\"\",HLOOKUP(F84,Validation!$F$5:$Q$6,2,FALSE))","v":""},{"$f":"IF(G84=\"\",\"\",INDEX('Measure Code Summary'!$D$20:$D$52,MATCH(G84,'Measure Code Summary'!$C$20:$C$52,0),1))","v":""},"",null,null,null,{"$f":"IF(L84=\"\",\"\",VLOOKUP(L84,'Wattage Table'!$D:$E,2,0))","v":""},null,{"$f":"IF(L84=\"\",\"\",VLOOKUP(L84,'Wattage Table'!D:F,3,0))","v":""},null,{"$f":"IF(P84=\"\",\"\",VLOOKUP(P84,'Wattage Table'!D:E,2,0))","v":""},null,{"$f":"IF(P84=\"\",\"\",VLOOKUP(P84,'Wattage Table'!D:F,3,0))","v":""},null,null,{"$f":"IF(U84=\"\",\"\",IF(U84=\"None\",\"None\",INDEX('Measure Code Summary'!$D$50:$D$53,MATCH(U84,'Measure Code Summary'!$C$50:$C$53,0),1)))","v":""},null,0,0,0,{"$error":"#VALUE!"},{"$error":"#VALUE!"},"",{"$f":"IF(OR(P84=\"\",L84=\"\", D$16=\"\"),0,((S84*R84)-(O84*N84))*IF(G84=\"90C\",Validation!B$32,T84)*VLOOKUP(IF(E84=\"\",$D$16,E84),ClgHtgTypeData,3,FALSE)/1000)","v":0},0,"",{"$error":"#VALUE!"},0,{"$f":"IF(OR(U84=\"\",W84=\"\"),0,IF(U84=\"80F\",Validation!W71,(VLOOKUP(IF(D84=\"\",$D$15,D84),LtgBldgTypeData,3,FALSE)-VLOOKUP(U84,Control_Data,5)))*N84*O84*VLOOKUP(IF(E84=\"\",$D$16,E84),ClgHtgTypeData,2,FALSE)/1000)","v":0},{"$f":"IF(OR(U84=\"\",W84=\"\"),\"\",IF(VLOOKUP(L84,'Wattage Table'!D:F,3,0)*N84/W84>=VLOOKUP(U84,Control_Data,3,0),1,0))","v":""}]
[null,61,null,null,null,null,{"$f":"IF(F85=\"\",\"\",HLOOKUP(F85,Validation!$F$5:$Q$6,2,FALSE))","v":""},{"$f":"IF(G85=\"\",\"\",INDEX('Measure Code Summary'!$D$20:$D$52,MATCH(G85,'Measure Code Summary'!$C$20:$C$52,0),1))","v":""},"",null,null,null,{"$f":"IF(L85=\"\",\"\",VLOOKUP(L85,'Wattage Table'!$D:$E,2,0))","v":""},null,{"$f":"IF(L85=\"\",\"\",VLOOKUP(L85,'Wattage Table'!D:F,3,0))","v":""},null,{"$f":"IF(P85=\"\",\"\",VLOOKUP(P85,'Wattage Table'!D:E,2,0))","v":""},null,{"$f":"IF(P85=\"\",\"\",VLOOKUP(P85,'Wattage Table'!D:F,3,0))","v":""},null,null,{"$f":"IF(U85=\"\",\"\",IF(U85=\"None\",\"None\",INDEX('Measure Code Summary'!$D$50:$D$53,MATCH(U85,'Measure Code Summary'!$C$50:$C$53,0),1)))","v":""},null,0,0,0,{"$error":"#VALUE!"},{"$error":"#VALUE!"},"",{"$f":"IF(OR(P85=\"\",L85=\"\", D$16=\"\"),0,((S85*R85)-(O85*N85))*IF(G85=\"90C\",Validation!B$32,T85)*VLOOKUP(IF(E85=\"\",$D$16,E85),ClgHtgTypeData,3,FALSE)/1000)","v":0},0,"",{"$error":"#VALUE!"},0,{"$f":"IF(OR(U85=\"\",W85=\"\"),0,IF(U85=\"80F\",Validation!W72,(VLOOKUP(IF(D85=\"\",$D$15,D85),LtgBldgTypeData,3,FALSE)-VLOOKUP(U85,Control_Data,5)))*N85*O85*VLOOKUP(IF(E85=\"\",$D$16,E85),ClgHtgTypeData,2,FALSE)/1000)","v":0},{"$f":"IF(OR(U85=\"\",W85=\"\"),\"\",IF(VLOOKUP(L85,'Wattage Table'!D:F,3,0)*N85/W85>=VLOOKUP(U85,Control_Data,3,0),1,0))","v":""}]
[null,62,null,null,null,null,{"$f":"IF(F86=\"\",\"\",HLOOKUP(F86,Validation!$F$5:$Q$6,2,FALSE))","v":""},{"$f":"IF(G86=\"\",\"\",INDEX('Measure Code Summary'!$D$20:$D$52,MATCH(G86,'Measure Code Summary'!$C$20:$C$52,0),1))","v":""},"",null,null,null,{"$f":"IF(L86=\"\",\"\",VLOOKUP(L86,'Wattage Table'!$D:$E,2,0))","v":""},null,{"$f":"IF(L86=\"\",\"\",VLOOKUP(L86,'Wattage Table'!D:F,3,0))","v":""},null,{"$f":"IF(P86=\"\",\"\",VLOOKUP(P86,'Wattage Table'!D:E,2,0))","v":""},null,{"$f":"IF(P86=\"\",\"\",VLOOKUP(P86,'Wattage Table'!D:F,3,0))","v":""},null,null,{"$f":"IF(U86=\"\",\"\",IF(U86=\"None\",\"None\",INDEX('Measure Code Summary'!$D$50:$D$53,MATCH(U86,'Measure Code Summary'!$C$50:$C$53,0),1)))","v":""},null,0,0,0,{"$error":"#VALUE!"},{"$error":"#VALUE!"},"",{"$f":"IF(OR(P86=\"\",L86=\"\", D$16=\"\"),0,((S86*R86)-(O86*N86))*IF(G86=\"90C\",Validation!B$32,T86)*VLOOKUP(IF(E86=\"\",$D$16,E86),ClgHtgTypeData,3,FALSE)/1000)","v":0},0,"",{"$error":"#VALUE!"},0,{"$f":"IF(OR(U86=\"\",W86=\"\"),0,IF(U86=\"80F\",Validation!W73,(VLOOKUP(IF(D86=\"\",$D$15,D86),LtgBldgTypeData,3,FALSE)-VLOOKUP(U86,Control_Data,5)))*N86*O86*VLOOKUP(IF(E86=\"\",$D$16,E86),ClgHtgTypeData,2,FALSE)/1000)","v":0},{"$f":"IF(OR(U86=\"\",W86=\"\"),\"\",IF(VLOOKUP(L86,'Wattage Table'!D:F,3,0)*N86/W86>=VLOOKUP(U86,Control_Data,3,0),1,0))","v":""}]
[null,63,null,null,null,null,{"$f":"IF(F87=\"\",\"\",HLOOKUP(F87,Validation!$F$5:$Q$6,2,FALSE))","v":""},{"$f":"IF(G87=\"\",\"\",INDEX('Measure Code Summary'!$D$20:$D$52,MATCH(G87,'Measure Code Summary'!$C$20:$C$52,0),1))","v":""},"",null,null,null,{"$f":"IF(L87=\"\",\"\",VLOOKUP(L87,'Wattage Table'!$D:$E,2,0))","v":""},null,{"$f":"IF(L87=\"\",\"\",VLOOKUP(L87,'Wattage Table'!D:F,3,0))","v":""},null,{"$f":"IF(P87=\"\",\"\",VLOOKUP(P87,'Wattage Table'!D:E,2,0))","v":""},null,{"$f":"IF(P87=\"\",\"\",VLOOKUP(P87,'Wattage Table'!D:F,3,0))","v":""},null,null,{"$f":"IF(U87=\"\",\"\",IF(U87=\"None\",\"None\",INDEX('Measure Code Summary'!$D$50:$D$53,MATCH(U87,'Measure Code Summary'!$C$50:$C$53,0),1)))","v":""},null,0,0,0,{"$error":"#VALUE!"},{"$error":"#VALUE!"},"",{"$f":"IF(OR(P87=\"\",L87=\"\", D$16=\"\"),0,((S87*R87)-(O87*N87))*IF(G87=\"90C\",Validation!B$32,T87)*VLOOKUP(IF(E87=\"\",$D$16,E87),ClgHtgTypeData,3,FALSE)/1000)","v":0},0,"",{"$error":"#VALUE!"},0,{"$f":"IF(OR(U87=\"\",W87=\"\"),0,IF(U87=\"80F\",Validation!W74,(VLOOKUP(IF(D87=\"\",$D$15,D87),LtgBldgTypeData,3,FALSE)-VLOOKUP(U87,Control_Data,5)))*N87*O87*VLOOKUP(IF(E87=\"\",$D$16,E87),ClgHtgTypeData,2,FALSE)/1000)","v":0},{"$f":"IF(OR(U87=\"\",W87=\"\"),\"\",IF(VLOOKUP(L87,'Wattage Table'!D:F,3,0)*N87/W87>=VLOOKUP(U87,Control_Data,3,0),1,0))","v":""}]
[null,64,null,null,null,null,{"$f":"IF(F88=\"\",\"\",HLOOKUP(F88,Validation!$F$5:$Q$6,2,FALSE))","v":""},{"$f":"IF(G88=\"\",\"\",INDEX('Measure Code Summary'!$D$20:$D$52,MATCH(G88,'Measure Code Summary'!$C$20:$C$52,0),1))","v":""},{"$f":"IF(G88=\"\",\"\",IF(G88=\"90C\",Min_Watts,0))","v":""},null,null,null,{"$f":"IF(L88=\"\",\"\",VLOOKUP(L88,'Wattage Table'!$D:$E,2,0))","v":""},null,{"$f":"IF(L88=\"\",\"\",VLOOKUP(L88,'Wattage Table'!D:F,3,0))","v":""},null,{"$f":"IF(P88=\"\",\"\",VLOOKUP(P88,'Wattage Table'!D:E,2,0))","v":""},null,{"$f":"IF(P88=\"\",\"\",VLOOKUP(P88,'Wattage Table'!D:F,3,0))","v":""},null,null,{"$f":"IF(U88=\"\",\"\",IF(U88=\"None\",\"None\",INDEX('Measure Code Summary'!$D$50:$D$53,MATCH(U88,'Measure Code Summary'!$C$50:$C$53,0),1)))","v":""},null,0,{"$f":"IF(OR(P88=\"\",L88=\"\"),0,AD88+AH88)","v":0},0,{"$f":"IF(AND(G88=\"90C\",S88-O88<I88),0,N88)","v":{"$error":"#VALUE!"}},{"$f":"W88*AJ88","v":{"$error":"#VALUE!"}},{"$f":"IF(N88=\"\",\"\",N88*O88)","v":""},{"$f":"IF(OR(P88=\"\",L88=\"\", D$16=\"\"),0,((S88*R88)-(O88*N88))*IF(G88=\"90C\",Validation!B$32,T88)*VLOOKUP(IF(E88=\"\",$D$16,E88),ClgHtgTypeData,3,FALSE)/1000)","v":0},{"$f":"IF(OR(P88=\"\",L88=\"\",T88=0,D$16=\"\"),0,(((S88*R88)-(O88*N88))/1000)*IF(G88=\"90C\",1,VLOOKUP(IF(D88=\"\",$D$15,D88),LtgBldgTypeData,3,FALSE))*VLOOKUP(IF(E88=\"\",$D$16,E88),ClgHtgTypeData,2,FALSE))","v":0},"",{"$error":"#VALUE!"},0,{"$f":"IF(OR(U88=\"\",W88=\"\"),0,IF(U88=\"80F\",Validation!W75,(VLOOKUP(IF(D88=\"\",$D$15,D88),LtgBldgTypeData,3,FALSE)-VLOOKUP(U88,Control_Data,5)))*N88*O88*VLOOKUP(IF(E88=\"\",$D$16,E88),ClgHtgTypeData,2,FALSE)/1000)","v":0},{"$f":"IF(OR(U88=\"\",W88=\"\"),\"\",IF(VLOOKUP(L88,'Wattage Table'!D:F,3,0)*N88/W88>=VLOOKUP(U88,Control_Data,3,0),1,0))","v":""}]
[null,65,null,null,null,null,{"$f":"IF(F89=\"\",\"\",HLOOKUP(F89,Validation!$F$5:$Q$6,2,FALSE))","v":""},{"$f":"IF(G89=\"\",\"\",INDEX('Measure Code Summary'!$D$20:$D$52,MATCH(G89,'Measure Code Summary'!$C$20:$C$52,0),1))","v":""},"",null,null,null,{"$f":"IF(L89=\"\",\"\",VLOOKUP(L89,'Wattage Table'!$D:$E,2,0))","v":""},null,{"$f":"IF(L89=\"\",\"\",VLOOKUP(L89,'Wattage Table'!D:F,3,0))","v":""},null,{"$f":"IF(P89=\"\",\"\",VLOOKUP(P89,'Wattage Table'!D:E,2,0))","v":""},null,{"$f":"IF(P89=\"\",\"\",VLOOKUP(P89,'Wattage Table'!D:F,3,0))","v":""},null,null,{"$f":"IF(U89=\"\",\"\",IF(U89=\"None\",\"None\",INDEX('Measure Code Summary'!$D$50:$D$53,MATCH(U89,'Measure Code Summary'!$C$50:$C$53,0),1)))","v":""},null,{"$f":"IF(U89=\"\",0,IF(U89=\"None\",0,-0.25*T89))","v":0},0,0,{"$error":"#VALUE!"},{"$error":"#VALUE!"},"",{"$f":"IF(OR(P89=\"\",L89=\"\", D$16=\"\"),0,((S89*R89)-(O89*N89))*IF(G89=\"90C\",Validation!B$32,T89)*VLOOKUP(IF(E89=\"\",$D$16,E89),ClgHtgTypeData,3,FALSE)/1000)","v":0},0,{"$f":"IF(R89=\"\",\"\",R89*S89)","v":""},{"$f":"AF89-AC89","v":{"$error":"#VALUE!"}},{"$f":"IF(OR(U89=\"\",AJ89=\"No\"),0,0.25*O89*T89*N89)/1000","v":0},{"$f":"IF(OR(U89=\"\",W89=\"\"),0,IF(U89=\"80F\",Validation!W76,(VLOOKUP(IF(D89=\"\",$D$15,D89),LtgBldgTypeData,3,FALSE)-VLOOKUP(U89,Control_Data,5)))*N89*O89*VLOOKUP(IF(E89=\"\",$D$16,E89),ClgHtgTypeData,2,FALSE)/1000)","v":0},{"$f":"IF(OR(U89=\"\",W89=\"\"),\"\",IF(VLOOKUP(L89,'Wattage Table'!D:F,3,0)*N89/W89>=VLOOKUP(U89,Control_Data,3,0),1,0))","v":""}]
[null,66,null,null,null,null,{"$f":"IF(F90=\"\",\"\",HLOOKUP(F90,Validation!$F$5:$Q$6,2,FALSE))","v":""},{"$f":"IF(G90=\"\",\"\",INDEX('Measure Code Summary'!$D$20:$D$52,MATCH(G90,'Measure Code Summary'!$C$20:$C$52,0),1))","v":""},"",null,null,null,{"$f":"IF(L90=\"\",\"\",VLOOKUP(L90,'Wattage Table'!$D:$E,2,0))","v":""},null,{"$f":"IF(L90=\"\",\"\",VLOOKUP(L90,'Wattage Table'!D:F,3,0))","v":""},null,{"$f":"IF(P90=\"\",\"\",VLOOKUP(P90,'Wattage Table'!D:E,2,0))","v":""},null,{"$f":"IF(P90=\"\",\"\",VLOOKUP(P90,'Wattage Table'!D:F,3,0))","v":""},null,null,{"$f":"IF(U90=\"\",\"\",IF(U90=\"None\",\"None\",INDEX('Measure Code Summary'!$D$50:$D$53,MATCH(U90,'Measure Code Summary'!$C$50:$C$53,0),1)))","v":""},null,0,0,{"$f":"IF(OR(P90=\"\",L90=\"\",T90=0),0,(AE90+AI90))","v":0},{"$error":"#VALUE!"},{"$error":"#VALUE!"},"",{"$f":"IF(OR(P90=\"\",L90=\"\", D$16=\"\"),0,((S90*R90)-(O90*N90))*IF(G90=\"90C\",Validation!B$32,T90)*VLOOKUP(IF(E90=\"\",$D$16,E90),ClgHtgTypeData,3,FALSE)/1000)","v":0},0,"",{"$error":"#VALUE!"},0,{"$f":"IF(OR(U90=\"\",W90=\"\"),0,IF(U90=\"80F\",Validation!W77,(VLOOKUP(IF(D90=\"\",$D$15,D90),LtgBldgTypeData,3,FALSE)-VLOOKUP(U90,Control_Data,5)))*N90*O90*VLOOKUP(IF(E90=\"\",$D$16,E90),ClgHtgTypeData,2,FALSE)/1000)","v":0},{"$f":"IF(OR(U90=\"\",W90=\"\"),\"\",IF(VLOOKUP(L90,'Wattage Table'!D:F,3,0)*N90/W90>=VLOOKUP(U90,Control_Data,3,0),1,0))","v":""}]
[null,67,null,null,null,null,{"$f":"IF(F91=\"\",\"\",HLOOKUP(F91,Validation!$F$5:$Q$6,2,FALSE))","v":""},{"$f":"IF(G91=\"\",\"\",INDEX('Measure Code Summary'!$D$20:$D$52,MATCH(G91,'Measure Code Summary'!$C$20:$C$52,0),1))","v":""},"",null,null,null,{"$f":"IF(L91=\"\",\"\",VLOOKUP(L91,'Wattage Table'!$D:$E,2,0))","v":""},null,{"$f":"IF(L91=\"\",\"\",VLOOKUP(L91,'Wattage Table'!D:F,3,0))","v":""},null,{"$f":"IF(P91=\"\",\"\",VLOOKUP(P91,'Wattage Table'!D:E,2,0))","v":""},null,{"$f":"IF(P91=\"\",\"\",VLOOKUP(P91,'Wattage Table'!D:F,3,0))","v":""},null,null,{"$f":"IF(U91=\"\",\"\",IF(U91=\"None\",\"None\",INDEX('Measure Code Summary'!$D$50:$D$53,MATCH(U91,'Measure Code Summary'!$C$50:$C$53,0),1)))","v":""},null,0,0,0,{"$error":"#VALUE!"},{"$error":"#VALUE!"},"",{"$f":"IF(OR(P91=\"\",L91=\"\", D$16=\"\"),0,((S91*R91)-(O91*N91))*IF(G91=\"90C\",Validation!B$32,T91)*VLOOKUP(IF(E91=\"\",$D$16,E91),ClgHtgTypeData,3,FALSE)/1000)","v":0},0,"",{"$error":"#VALUE!"},0,{"$f":"IF(OR(U91=\"\",W91=\"\"),0,IF(U91=\"80F\",Validation!W78,(VLOOKUP(IF(D91=\"\",$D$15,D91),LtgBldgTypeData,3,FALSE)-VLOOKUP(U91,Control_Data,5)))*N91*O91*VLOOKUP(IF(E91=\"\",$D$16,E91),ClgHtgTypeData,2,FALSE)/1000)","v":0},{"$f":"IF(OR(U91=\"\",W91=\"\"),\"\",IF(VLOOKUP(L91,'Wattage Table'!D:F,3,0)*N91/W91>=VLOOKUP(U91,Control_Data,3,0),1,0))","v":""}]
[null,68,null,null,null,null,{"$f":"IF(F92=\"\",\"\",HLOOKUP(F92,Validation!$F$5:$Q$6,2,FALSE))","v":""},{"$f":"IF(G92=\"\",\"\",INDEX('Measure Code Summary'!$D$20:$D$52,MATCH(G92,'Measure Code Summary'!$C$20:$C$52,0),1))","v":""},"",null,null,null,{"$f":"IF(L92=\"\",\"\",VLOOKUP(L92,'Wattage Table'!$D:$E,2,0))","v":""},null,{"$f":"IF(L92=\"\",\"\",VLOOKUP(L92,'Wattage Table'!D:F,3,0))","v":""},null,{"$f":"IF(P92=\"\",\"\",VLOOKUP(P92,'Wattage Table'!D:E,2,0))","v":""},null,{"$f":"IF(P92=\"\",\"\",VLOOKUP(P92,'Wattage Table'!D:F,3,0))","v":""},null,null,{"$f":"IF(U92=\"\",\"\",IF(U92=\"None\",\"None\",INDEX('Measure Code Summary'!$D$50:$D$53,MATCH(U92,'Measure Code Summary'!$C$50:$C$53,0),1)))","v":""},null,0,0,0,{"$error":"#VALUE!"},{"$error":"#VALUE!"},"",{"$f":"IF(OR(P92=\"\",L92=\"\", D$16=\"\"),0,((S92*R92)-(O92*N92))*IF(G92=\"90C\",Validation!B$32,T92)*VLOOKUP(IF(E92=\"\",$D$16,E92),ClgHtgTypeData,3,FALSE)/1000)","v":0},0,"",{"$error":"#VALUE!"},0,{"$f":"IF(OR(U92=\"\",W92=\"\"),0,IF(U92=\"80F\",Validation!W79,(VLOOKUP(IF(D92=\"\",$D$15,D92),LtgBldgTypeData,3,FALSE)-VLOOKUP(U92,Control_Data,5)))*N92*O92*VLOOKUP(IF(E92=\"\",$D$16,E92),ClgHtgTypeData,2,FALSE)/1000)","v":0},{"$f":"IF(OR(U92=\"\",W92=\"\"),\"\",IF(VLOOKUP(L92,'Wattage Table'!D:F,3,0)*N92/W92>=VLOOKUP(U92,Control_Data,3,0),1,0))","v":""}]
[null,69,null,null,null,null,{"$f":"IF(F93=\"\",\"\",HLOOKUP(F93,Validation!$F$5:$Q$6,2,FALSE))","v":""},{"$f":"IF(G93=\"\",\"\",INDEX('Measure Code Summary'!$D$20:$D$52,MATCH(G93,'Measure Code Summary'!$C$20:$C$52,0),1))","v":""},"",null,null,null,{"$f":"IF(L93=\"\",\"\",VLOOKUP(L93,'Wattage Table'!$D:$E,2,0))","v":""},null,{"$f":"IF(L93=\"\",\"\",VLOOKUP(L93,'Wattage Table'!D:F,3,0))","v":""},null,{"$f":"IF(P93=\"\",\"\",VLOOKUP(P93,'Wattage Table'!D:E,2,0))","v":""},null,{"$f":"IF(P93=\"\",\"\",VLOOKUP(P93,'Wattage Table'!D:F,3,0))","v":""},null,null,{"$f":"IF(U93=\"\",\"\",IF(U93=\"None\",\"None\",INDEX('Measure Code Summary'!$D$50:$D$53,MATCH(U93,'Measure Code Summary'!$C$50:$C$53,0),1)))","v":""},null,0,0,0,{"$error":"#VALUE!"},{"$error":"#VALUE!"},"",{"$f":"IF(OR(P93=\"\",L93=\"\", D$16=\"\"),0,((S93*R93)-(O93*N93))*IF(G93=\"90C\",Validation!B$32,T93)*VLOOKUP(IF(E93=\"\",$D$16,E93),ClgHtgTypeData,3,FALSE)/1000)","v":0},0,"",{"$error":"#VALUE!"},0,{"$f":"IF(OR(U93=\"\",W93=\"\"),0,IF(U93=\"80F\",Validation!W80,(VLOOKUP(IF(D93=\"\",$D$15,D93),LtgBldgTypeData,3,FALSE)-VLOOKUP(U93,Control_Data,5)))*N93*O93*VLOOKUP(IF(E93=\"\",$D$16,E93),ClgHtgTypeData,2,FALSE)/1000)","v":0},{"$f":"IF(OR(U93=\"\",W93=\"\"),\"\",IF(VLOOKUP(L93,'Wattage Table'!D:F,3,0)*N93/W93>=VLOOKUP(U93,Control_Data,3,0),1,0))","v":""}]
[null,70,null,null,null,null,{"$f":"IF(F94=\"\",\"\",HLOOKUP(F94,Validation!$F$5:$Q$6,2,FALSE))","v":""},{"$f":"IF(G94=\"\",\"\",INDEX('Measure Code Summary'!$D$20:$D$52,MATCH(G94,'Measure Code Summary'!$C$20:$C$52,0),1))","v":""},"",null,null,null,{"$f":"IF(L94=\"\",\"\",VLOOKUP(L94,'Wattage Table'!$D:$E,2,0))","v":""},null,{"$f":"IF(L94=\"\",\"\",VLOOKUP(L94,'Wattage Table'!D:F,3,0))","v":""},null,{"$f":"IF(P94=\"\",\"\",VLOOKUP(P94,'Wattage Table'!D:E,2,0))","v":""},null,{"$f":"IF(P94=\"\",\"\",VLOOKUP(P94,'Wattage Table'!D:F,3,0))","v":""},null,null,{"$f":"IF(U94=\"\",\"\",IF(U94=\"None\",\"None\",INDEX('Measure Code Summary'!$D$50:$D$53,MATCH(U94,'Measure Code Summary'!$C$50:$C$53,0),1)))","v":""},null,0,0,0,{"$error":"#VALUE!"},{"$error":"#VALUE!"},"",{"$f":"IF(OR(P94=\"\",L94=\"\", D$16=\"\"),0,((S94*R94)-(O94*N94))*IF(G94=\"90C\",Validation!B$32,T94)*VLOOKUP(IF(E94=\"\",$D$16,E94),ClgHtgTypeData,3,FALSE)/1000)","v":0},0,"",{"$error":"#VALUE!"},0,{"$f":"IF(OR(U94=\"\",W94=\"\"),0,IF(U94=\"80F\",Validation!W81,(VLOOKUP(IF(D94=\"\",$D$15,D94),LtgBldgTypeData,3,FALSE)-VLOOKUP(U94,Control_Data,5)))*N94*O94*VLOOKUP(IF(E94=\"\",$D$16,E94),ClgHtgTypeData,2,FALSE)/1000)","v":0},{"$f":"IF(OR(U94=\"\",W94=\"\"),\"\",IF(VLOOKUP(L94,'Wattage Table'!D:F,3,0)*N94/W94>=VLOOKUP(U94,Control_Data,3,0),1,0))","v":""}]
[null,71,null,null,null,null,{"$f":"IF(F95=\"\",\"\",HLOOKUP(F95,Validation!$F$5:$Q$6,2,FALSE))","v":""},{"$f":"IF(G95=\"\",\"\",INDEX('Measure Code Summary'!$D$20:$D$52,MATCH(G95,'Measure Code Summary'!$C$20:$C$52,0),1))","v":""},"",null,null,null,{"$f":"IF(L95=\"\",\"\",VLOOKUP(L95,'Wattage Table'!$D:$E,2,0))","v":""},null,{"$f":"IF(L95=\"\",\"\",VLOOKUP(L95,'Wattage Table'!D:F,3,0))","v":""},null,{"$f":"IF(P95=\"\",\"\",VLOOKUP(P95,'Wattage Table'!D:E,2,0))","v":""},null,{"$f":"IF(P95=\"\",\"\",VLOOKUP(P95,'Wattage Table'!D:F,3,0))","v":""},null,null,{"$f":"IF(U95=\"\",\"\",IF(U95=\"None\",\"None\",INDEX('Measure Code Summary'!$D$50:$D$53,MATCH(U95,'Measure Code Summary'!$C$50:$C$53,0),1)))","v":""},null,0,0,0,{"$error":"#VALUE!"},{"$error":"#VALUE!"},"",{"$f":"IF(OR(P95=\"\",L95=\"\", D$16=\"\"),0,((S95*R95)-(O95*N95))*IF(G95=\"90C\",Validation!B$32,T95)*VLOOKUP(IF(E95=\"\",$D$16,E95),ClgHtgTypeData,3,FALSE)/1000)","v":0},0,"",{"$error":"#VALUE!"},0,{"$f":"IF(OR(U95=\"\",W95=\"\"),0,IF(U95=\"80F\",Validation!W82,(VLOOKUP(IF(D95=\"\",$D$15,D95),LtgBldgTypeData,3,FALSE)-VLOOKUP(U95,Control_Data,5)))*N95*O95*VLOOKUP(IF(E95=\"\",$D$16,E95),ClgHtgTypeData,2,FALSE)/1000)","v":0},{"$f":"IF(OR(U95=\"\",W95=\"\"),\"\",IF(VLOOKUP(L95,'Wattage Table'!D:F,3,0)*N95/W95>=VLOOKUP(U95,Control_Data,3,0),1,0))","v":""}]
[null,72,null,null,null,null,{"$f":"IF(F96=\"\",\"\",HLOOKUP(F96,Validation!$F$5:$Q$6,2,FALSE))","v":""},{"$f":"IF(G96=\"\",\"\",INDEX('Measure Code Summary'!$D$20:$D$52,MATCH(G96,'Measure Code Summary'!$C$20:$C$52,0),1))","v":""},"",null,null,null,{"$f":"IF(L96=\"\",\"\",VLOOKUP(L96,'Wattage Table'!$D:$E,2,0))","v":""},null,{"$f":"IF(L96=\"\",\"\",VLOOKUP(L96,'Wattage Table'!D:F,3,0))","v":""},null,{"$f":"IF(P96=\"\",\"\",VLOOKUP(P96,'Wattage Table'!D:E,2,0))","v":""},null,{"$f":"IF(P96=\"\",\"\",VLOOKUP(P96,'Wattage Table'!D:F,3,0))","v":""},null,null,{"$f":"IF(U96=\"\",\"\",IF(U96=\"None\",\"None\",INDEX('Measure Code Summary'!$D$50:$D$53,MATCH(U96,'Measure Code Summary'!$C$50:$C$53,0),1)))","v":""},null,0,0,0,{"$error":"#VALUE!"},{"$error":"#VALUE!"},"",{"$f":"IF(OR(P96=\"\",L96=\"\", D$16=\"\"),0,((S96*R96)-(O96*N96))*IF(G96=\"90C\",Validation!B$32,T96)*VLOOKUP(IF(E96=\"\",$D$16,E96),ClgHtgTypeData,3,FALSE)/1000)","v":0},0,"",{"$error":"#VALUE!"},0,{"$f":"IF(OR(U96=\"\",W96=\"\"),0,IF(U96=\"80F\",Validation!W83,(VLOOKUP(IF(D96=\"\",$D$15,D96),LtgBldgTypeData,3,FALSE)-VLOOKUP(U96,Control_Data,5)))*N96*O96*VLOOKUP(IF(E96=\"\",$D$16,E96),ClgHtgTypeData,2,FALSE)/1000)","v":0},{"$f":"IF(OR(U96=\"\",W96=\"\"),\"\",IF(VLOOKUP(L96,'Wattage Table'!D:F,3,0)*N96/W96>=VLOOKUP(U96,Control_Data,3,0),1,0))","v":""}]
[null,73,null,null,null,null,{"$f":"IF(F97=\"\",\"\",HLOOKUP(F97,Validation!$F$5:$Q$6,2,FALSE))","v":""},{"$f":"IF(G97=\"\",\"\",INDEX('Measure Code Summary'!$D$20:$D$52,MATCH(G97,'Measure Code Summary'!$C$20:$C$52,0),1))","v":""},"",null,null,null,{"$f":"IF(L97=\"\",\"\",VLOOKUP(L97,'Wattage Table'!$D:$E,2,0))","v":""},null,{"$f":"IF(L97=\"\",\"\",VLOOKUP(L97,'Wattage Table'!D:F,3,0))","v":""},null,{"$f":"IF(P97=\"\",\"\",VLOOKUP(P97,'Wattage Table'!D:E,2,0))","v":""},null,{"$f":"IF(P97=\"\",\"\",VLOOKUP(P97,'Wattage Table'!D:F,3,0))","v":""},null,null,{"$f":"IF(U97=\"\",\"\",IF(U97=\"None\",\"None\",INDEX('Measure Code Summary'!$D$50:$D$53,MATCH(U97,'Measure Code Summary'!$C$50:$C$53,0),1)))","v":""},null,0,0,0,{"$error":"#VALUE!"},{"$error":"#VALUE!"},"",{"$f":"IF(OR(P97=\"\",L97=\"\", D$16=\"\"),0,((S97*R97)-(O97*N97))*IF(G97=\"90C\",Validation!B$32,T97)*VLOOKUP(IF(E97=\"\",$D$16,E97),ClgHtgTypeData,3,FALSE)/1000)","v":0},0,"",{"$error":"#VALUE!"},0,{"$f":"IF(OR(U97=\"\",W97=\"\"),0,IF(U97=\"80F\",Validation!W84,(VLOOKUP(IF(D97=\"\",$D$15,D97),LtgBldgTypeData,3,FALSE)-VLOOKUP(U97,Control_Data,5)))*N97*O97*VLOOKUP(IF(E97=\"\",$D$16,E97),ClgHtgTypeData,2,FALSE)/1000)","v":0},{"$f":"IF(OR(U97=\"\",W97=\"\"),\"\",IF(VLOOKUP(L97,'Wattage Table'!D:F,3,0)*N97/W97>=VLOOKUP(U97,Control_Data,3,0),1,0))","v":""}]
[null,74,null,null,null,null,{"$f":"IF(F98=\"\",\"\",HLOOKUP(F98,Validation!$F$5:$Q$6,2,FALSE))","v":""},{"$f":"IF(G98=\"\",\"\",INDEX('Measure Code Summary'!$D$20:$D$52,MATCH(G98,'Measure Code Summary'!$C$20:$C$52,0),1))","v":""},"",null,null,null,{"$f":"IF(L98=\"\",\"\",VLOOKUP(L98,'Wattage Table'!$D:$E,2,0))","v":""},null,{"$f":"IF(L98=\"\",\"\",VLOOKUP(L98,'Wattage Table'!D:F,3,0))","v":""},null,{"$f":"IF(P98=\"\",\"\",VLOOKUP(P98,'Wattage Table'!D:E,2,0))","v":""},null,{"$f":"IF(P98=\"\",\"\",VLOOKUP(P98,'Wattage Table'!D:F,3,0))","v":""},null,null,{"$f":"IF(U98=\"\",\"\",IF(U98=\"None\",\"None\",INDEX('Measure Code Summary'!$D$50:$D$53,MATCH(U98,'Measure Code Summary'!$C$50:$C$53,0),1)))","v":""},null,0,0,0,{"$error":"#VALUE!"},{"$error":"#VALUE!"},"",{"$f":"IF(OR(P98=\"\",L98=\"\", D$16=\"\"),0,((S98*R98)-(O98*N98))*IF(G98=\"90C\",Validation!B$32,T98)*VLOOKUP(IF(E98=\"\",$D$16,E98),ClgHtgTypeData,3,FALSE)/1000)","v":0},0,"",{"$error":"#VALUE!"},0,{"$f":"IF(OR(U98=\"\",W98=\"\"),0,IF(U98=\"80F\",Validation!W85,(VLOOKUP(IF(D98=\"\",$D$15,D98),LtgBldgTypeData,3,FALSE)-VLOOKUP(U98,Control_Data,5)))*N98*O98*VLOOKUP(IF(E98=\"\",$D$16,E98),ClgHtgTypeData,2,FALSE)/1000)","v":0},{"$f":"IF(OR(U98=\"\",W98=\"\"),\"\",IF(VLOOKUP(L98,'Wattage Table'!D:F,3,0)*N98/W98>=VLOOKUP(U98,Control_Data,3,0),1,0))","v":""}]
[null,75,null,null,null,null,{"$f":"IF(F99=\"\",\"\",HLOOKUP(F99,Validation!$F$5:$Q$6,2,FALSE))","v":""},{"$f":"IF(G99=\"\",\"\",INDEX('Measure Code Summary'!$D$20:$D$52,MATCH(G99,'Measure Code Summary'!$C$20:$C$52,0),1))","v":""},"",null,null,null,{"$f":"IF(L99=\"\",\"\",VLOOKUP(L99,'Wattage Table'!$D:$E,2,0))","v":""},null,{"$f":"IF(L99=\"\",\"\",VLOOKUP(L99,'Wattage Table'!D:F,3,0))","v":""},null,{"$f":"IF(P99=\"\",\"\",VLOOKUP(P99,'Wattage Table'!D:E,2,0))","v":""},null,{"$f":"IF(P99=\"\",\"\",VLOOKUP(P99,'Wattage Table'!D:F,3,0))","v":""},null,null,{"$f":"IF(U99=\"\",\"\",IF(U99=\"None\",\"None\",INDEX('Measure Code Summary'!$D$50:$D$53,MATCH(U99,'Measure Code Summary'!$C$50:$C$53,0),1)))","v":""},null,0,0,0,{"$error":"#VALUE!"},{"$error":"#VALUE!"},"",{"$f":"IF(OR(P99=\"\",L99=\"\", D$16=\"\"),0,((S99*R99)-(O99*N99))*IF(G99=\"90C\",Validation!B$32,T99)*VLOOKUP(IF(E99=\"\",$D$16,E99),ClgHtgTypeData,3,FALSE)/1000)","v":0},0,"",{"$error":"#VALUE!"},0,{"$f":"IF(OR(U99=\"\",W99=\"\"),0,IF(U99=\"80F\",Validation!W86,(VLOOKUP(IF(D99=\"\",$D$15,D99),LtgBldgTypeData,3,FALSE)-VLOOKUP(U99,Control_Data,5)))*N99*O99*VLOOKUP(IF(E99=\"\",$D$16,E99),ClgHtgTypeData,2,FALSE)/1000)","v":0},{"$f":"IF(OR(U99=\"\",W99=\"\"),\"\",IF(VLOOKUP(L99,'Wattage Table'!D:F,3,0)*N99/W99>=VLOOKUP(U99,Control_Data,3,0),1,0))","v":""}]
[null,76,null,null,null,null,{"$f":"IF(F100=\"\",\"\",HLOOKUP(F100,Validation!$F$5:$Q$6,2,FALSE))","v":""},{"$f":"IF(G100=\"\",\"\",INDEX('Measure Code Summary'!$D$20:$D$52,MATCH(G100,'Measure Code Summary'!$C$20:$C$52,0),1))","v":""},"",null,null,null,{"$f":"IF(L100=\"\",\"\",VLOOKUP(L100,'Wattage Table'!$D:$E,2,0))","v":""},null,{"$f":"IF(L100=\"\",\"\",VLOOKUP(L100,'Wattage Table'!D:F,3,0))","v":""},null,{"$f":"IF(P100=\"\",\"\",VLOOKUP(P100,'Wattage Table'!D:E,2,0))","v":""},null,{"$f":"IF(P100=\"\",\"\",VLOOKUP(P100,'Wattage Table'!D:F,3,0))","v":""},null,null,{"$f":"IF(U100=\"\",\"\",IF(U100=\"None\",\"None\",INDEX('Measure Code Summary'!$D$50:$D$53,MATCH(U100,'Measure Code Summary'!$C$50:$C$53,0),1)))","v":""},null,0,0,0,{"$error":"#VALUE!"},{"$error":"#VALUE!"},"",{"$f":"IF(OR(P100=\"\",L100=\"\", D$16=\"\"),0,((S100*R100)-(O100*N100))*IF(G100=\"90C\",Validation!B$32,T100)*VLOOKUP(IF(E100=\"\",$D$16,E100),ClgHtgTypeData,3,FALSE)/1000)","v":0},0,"",{"$error":"#VALUE!"},0,{"$f":"IF(OR(U100=\"\",W100=\"\"),0,IF(U100=\"80F\",Validation!W87,(VLOOKUP(IF(D100=\"\",$D$15,D100),LtgBldgTypeData,3,FALSE)-VLOOKUP(U100,Control_Data,5)))*N100*O100*VLOOKUP(IF(E100=\"\",$D$16,E100),ClgHtgTypeData,2,FALSE)/1000)","v":0},{"$f":"IF(OR(U100=\"\",W100=\"\"),\"\",IF(VLOOKUP(L100,'Wattage Table'!D:F,3,0)*N100/W100>=VLOOKUP(U100,Control_Data,3,0),1,0))","v":""}]
[null,77,null,null,null,null,{"$f":"IF(F101=\"\",\"\",HLOOKUP(F101,Validation!$F$5:$Q$6,2,FALSE))","v":""},{"$f":"IF(G101=\"\",\"\",INDEX('Measure Code Summary'!$D$20:$D$52,MATCH(G101,'Measure Code Summary'!$C$20:$C$52,0),1))","v":""},"",null,null,null,{"$f":"IF(L101=\"\",\"\",VLOOKUP(L101,'Wattage Table'!$D:$E,2,0))","v":""},null,{"$f":"IF(L101=\"\",\"\",VLOOKUP(L101,'Wattage Table'!D:F,3,0))","v":""},null,{"$f":"IF(P101=\"\",\"\",VLOOKUP(P101,'Wattage Table'!D:E,2,0))","v":""},null,{"$f":"IF(P101=\"\",\"\",VLOOKUP(P101,'Wattage Table'!D:F,3,0))","v":""},null,null,{"$f":"IF(U101=\"\",\"\",IF(U101=\"None\",\"None\",INDEX('Measure Code Summary'!$D$50:$D$53,MATCH(U101,'Measure Code Summary'!$C$50:$C$53,0),1)))","v":""},null,0,0,0,{"$error":"#VALUE!"},{"$error":"#VALUE!"},"",{"$f":"IF(OR(P101=\"\",L101=\"\", D$16=\"\"),0,((S101*R101)-(O101*N101))*IF(G101=\"90C\",Validation!B$32,T101)*VLOOKUP(IF(E101=\"\",$D$16,E101),ClgHtgTypeData,3,FALSE)/1000)","v":0},0,"",{"$error":"#VALUE!"},0,{"$f":"IF(OR(U101=\"\",W101=\"\"),0,IF(U101=\"80F\",Validation!W88,(VLOOKUP(IF(D101=\"\",$D$15,D101),LtgBldgTypeData,3,FALSE)-VLOOKUP(U101,Control_Data,5)))*N101*O101*VLOOKUP(IF(E101=\"\",$D$16,E101),ClgHtgTypeData,2,FALSE)/1000)","v":0},{"$f":"IF(OR(U101=\"\",W101=\"\"),\"\",IF(VLOOKUP(L101,'Wattage Table'!D:F,3,0)*N101/W101>=VLOOKUP(U101,Control_Data,3,0),1,0))","v":""}]
[null,78,null,null,null,null,{"$f":"IF(F102=\"\",\"\",HLOOKUP(F102,Validation!$F$5:$Q$6,2,FALSE))","v":""},{"$f":"IF(G102=\"\",\"\",INDEX('Measure Code Summary'!$D$20:$D$52,MATCH(G102,'Measure Code Summary'!$C$20:$C$52,0),1))","v":""},"",null,null,null,{"$f":"IF(L102=\"\",\"\",VLOOKUP(L102,'Wattage Table'!$D:$E,2,0))","v":""},null,{"$f":"IF(L102=\"\",\"\",VLOOKUP(L102,'Wattage Table'!D:F,3,0))","v":""},null,{"$f":"IF(P102=\"\",\"\",VLOOKUP(P102,'Wattage Table'!D:E,2,0))","v":""},null,{"$f":"IF(P102=\"\",\"\",VLOOKUP(P102,'Wattage Table'!D:F,3,0))","v":""},null,null,{"$f":"IF(U102=\"\",\"\",IF(U102=\"None\",\"None\",INDEX('Measure Code Summary'!$D$50:$D$53,MATCH(U102,'Measure Code Summary'!$C$50:$C$53,0),1)))","v":""},null,0,0,0,{"$error":"#VALUE!"},{"$error":"#VALUE!"},"",{"$f":"IF(OR(P102=\"\",L102=\"\", D$16=\"\"),0,((S102*R102)-(O102*N102))*IF(G102=\"90C\",Validation!B$32,T102)*VLOOKUP(IF(E102=\"\",$D$16,E102),ClgHtgTypeData,3,FALSE)/1000)","v":0},0,"",{"$error":"#VALUE!"},0,{"$f":"IF(OR(U102=\"\",W102=\"\"),0,IF(U102=\"80F\",Validation!W89,(VLOOKUP(IF(D102=\"\",$D$15,D102),LtgBldgTypeData,3,FALSE)-VLOOKUP(U102,Control_Data,5)))*N102*O102*VLOOKUP(IF(E102=\"\",$D$16,E102),ClgHtgTypeData,2,FALSE)/1000)","v":0},{"$f":"IF(OR(U102=\"\",W102=\"\"),\"\",IF(VLOOKUP(L102,'Wattage Table'!D:F,3,0)*N102/W102>=VLOOKUP(U102,Control_Data,3,0),1,0))","v":""}]
[null,79,null,null,null,null,{"$f":"IF(F103=\"\",\"\",HLOOKUP(F103,Validation!$F$5:$Q$6,2,FALSE))","v":""},{"$f":"IF(G103=\"\",\"\",INDEX('Measure Code Summary'!$D$20:$D$52,MATCH(G103,'Measure Code Summary'!$C$20:$C$52,0),1))","v":""},"",null,null,null,{"$f":"IF(L103=\"\",\"\",VLOOKUP(L103,'Wattage Table'!$D:$E,2,0))","v":""},null,{"$f":"IF(L103=\"\",\"\",VLOOKUP(L103,'Wattage Table'!D:F,3,0))","v":""},null,{"$f":"IF(P103=\"\",\"\",VLOOKUP(P103,'Wattage Table'!D:E,2,0))","v":""},null,{"$f":"IF(P103=\"\",\"\",VLOOKUP(P103,'Wattage Table'!D:F,3,0))","v":""},null,null,{"$f":"IF(U103=\"\",\"\",IF(U103=\"None\",\"None\",INDEX('Measure Code Summary'!$D$50:$D$53,MATCH(U103,'Measure Code Summary'!$C$50:$C$53,0),1)))","v":""},null,0,0,0,{"$error":"#VALUE!"},{"$error":"#VALUE!"},"",{"$f":"IF(OR(P103=\"\",L103=\"\", D$16=\"\"),0,((S103*R103)-(O103*N103))*IF(G103=\"90C\",Validation!B$32,T103)*VLOOKUP(IF(E103=\"\",$D$16,E103),ClgHtgTypeData,3,FALSE)/1000)","v":0},0,"",{"$error":"#VALUE!"},0,{"$f":"IF(OR(U103=\"\",W103=\"\"),0,IF(U103=\"80F\",Validation!W90,(VLOOKUP(IF(D103=\"\",$D$15,D103),LtgBldgTypeData,3,FALSE)-VLOOKUP(U103,Control_Data,5)))*N103*O103*VLOOKUP(IF(E103=\"\",$D$16,E103),ClgHtgTypeData,2,FALSE)/1000)","v":0},{"$f":"IF(OR(U103=\"\",W103=\"\"),\"\",IF(VLOOKUP(L103,'Wattage Table'!D:F,3,0)*N103/W103>=VLOOKUP(U103,Control_Data,3,0),1,0))","v":""}]
[null,80,null,null,null,null,{"$f":"IF(F104=\"\",\"\",HLOOKUP(F104,Validation!$F$5:$Q$6,2,FALSE))","v":""},{"$f":"IF(G104=\"\",\"\",INDEX('Measure Code Summary'!$D$20:$D$52,MATCH(G104,'Measure Code Summary'!$C$20:$C$52,0),1))","v":""},"",null,null,null,{"$f":"IF(L104=\"\",\"\",VLOOKUP(L104,'Wattage Table'!$D:$E,2,0))","v":""},null,{"$f":"IF(L104=\"\",\"\",VLOOKUP(L104,'Wattage Table'!D:F,3,0))","v":""},null,{"$f":"IF(P104=\"\",\"\",VLOOKUP(P104,'Wattage Table'!D:E,2,0))","v":""},null,{"$f":"IF(P104=\"\",\"\",VLOOKUP(P104,'Wattage Table'!D:F,3,0))","v":""},null,null,{"$f":"IF(U104=\"\",\"\",IF(U104=\"None\",\"None\",INDEX('Measure Code Summary'!$D$50:$D$53,MATCH(U104,'Measure Code Summary'!$C$50:$C$53,0),1)))","v":""},null,0,0,0,{"$error":"#VALUE!"},{"$error":"#VALUE!"},"",{"$f":"IF(OR(P104=\"\",L104=\"\", D$16=\"\"),0,((S104*R104)-(O104*N104))*IF(G104=\"90C\",Validation!B$32,T104)*VLOOKUP(IF(E104=\"\",$D$16,E104),ClgHtgTypeData,3,FALSE)/1000)","v":0},0,"",{"$error":"#VALUE!"},0,{"$f":"IF(OR(U104=\"\",W104=\"\"),0,IF(U104=\"80F\",Validation!W91,(VLOOKUP(IF(D104=\"\",$D$15,D104),LtgBldgTypeData,3,FALSE)-VLOOKUP(U104,Control_Data,5)))*N104*O104*VLOOKUP(IF(E104=\"\",$D$16,E104),ClgHtgTypeData,2,FALSE)/1000)","v":0},{"$f":"IF(OR(U104=\"\",W104=\"\"),\"\",IF(VLOOKUP(L104,'Wattage Table'!D:F,3,0)*N104/W104>=VLOOKUP(U104,Control_Data,3,0),1,0))","v":""}]
[null,81,null,null,null,null,{"$f":"IF(F105=\"\",\"\",HLOOKUP(F105,Validation!$F$5:$Q$6,2,FALSE))","v":""},{"$f":"IF(G105=\"\",\"\",INDEX('Measure Code Summary'!$D$20:$D$52,MATCH(G105,'Measure Code Summary'!$C$20:$C$52,0),1))","v":""},"",null,null,null,{"$f":"IF(L105=\"\",\"\",VLOOKUP(L105,'Wattage Table'!$D:$E,2,0))","v":""},null,{"$f":"IF(L105=\"\",\"\",VLOOKUP(L105,'Wattage Table'!D:F,3,0))","v":""},null,{"$f":"IF(P105=\"\",\"\",VLOOKUP(P105,'Wattage Table'!D:E,2,0))","v":""},null,{"$f":"IF(P105=\"\",\"\",VLOOKUP(P105,'Wattage Table'!D:F,3,0))","v":""},null,null,{"$f":"IF(U105=\"\",\"\",IF(U105=\"None\",\"None\",INDEX('Measure Code Summary'!$D$50:$D$53,MATCH(U105,'Measure Code Summary'!$C$50:$C$53,0),1)))","v":""},null,0,0,0,{"$error":"#VALUE!"},{"$error":"#VALUE!"},"",{"$f":"IF(OR(P105=\"\",L105=\"\", D$16=\"\"),0,((S105*R105)-(O105*N105))*IF(G105=\"90C\",Validation!B$32,T105)*VLOOKUP(IF(E105=\"\",$D$16,E105),ClgHtgTypeData,3,FALSE)/1000)","v":0},0,"",{"$error":"#VALUE!"},0,{"$f":"IF(OR(U105=\"\",W105=\"\"),0,IF(U105=\"80F\",Validation!W92,(VLOOKUP(IF(D105=\"\",$D$15,D105),LtgBldgTypeData,3,FALSE)-VLOOKUP(U105,Control_Data,5)))*N105*O105*VLOOKUP(IF(E105=\"\",$D$16,E105),ClgHtgTypeData,2,FALSE)/1000)","v":0},{"$f":"IF(OR(U105=\"\",W105=\"\"),\"\",IF(VLOOKUP(L105,'Wattage Table'!D:F,3,0)*N105/W105>=VLOOKUP(U105,Control_Data,3,0),1,0))","v":""}]
[null,82,null,null,null,null,{"$f":"IF(F106=\"\",\"\",HLOOKUP(F106,Validation!$F$5:$Q$6,2,FALSE))","v":""},{"$f":"IF(G106=\"\",\"\",INDEX('Measure Code Summary'!$D$20:$D$52,MATCH(G106,'Measure Code Summary'!$C$20:$C$52,0),1))","v":""},"",null,null,null,{"$f":"IF(L106=\"\",\"\",VLOOKUP(L106,'Wattage Table'!$D:$E,2,0))","v":""},null,{"$f":"IF(L106=\"\",\"\",VLOOKUP(L106,'Wattage Table'!D:F,3,0))","v":""},null,{"$f":"IF(P106=\"\",\"\",VLOOKUP(P106,'Wattage Table'!D:E,2,0))","v":""},null,{"$f":"IF(P106=\"\",\"\",VLOOKUP(P106,'Wattage Table'!D:F,3,0))","v":""},null,null,{"$f":"IF(U106=\"\",\"\",IF(U106=\"None\",\"None\",INDEX('Measure Code Summary'!$D$50:$D$53,MATCH(U106,'Measure Code Summary'!$C$50:$C$53,0),1)))","v":""},null,0,0,0,{"$error":"#VALUE!"},{"$error":"#VALUE!"},"",{"$f":"IF(OR(P106=\"\",L106=\"\", D$16=\"\"),0,((S106*R106)-(O106*N106))*IF(G106=\"90C\",Validation!B$32,T106)*VLOOKUP(IF(E106=\"\",$D$16,E106),ClgHtgTypeData,3,FALSE)/1000)","v":0},0,"",{"$error":"#VALUE!"},0,{"$f":"IF(OR(U106=\"\",W106=\"\"),0,IF(U106=\"80F\",Validation!W93,(VLOOKUP(IF(D106=\"\",$D$15,D106),LtgBldgTypeData,3,FALSE)-VLOOKUP(U106,Control_Data,5)))*N106*O106*VLOOKUP(IF(E106=\"\",$D$16,E106),ClgHtgTypeData,2,FALSE)/1000)","v":0},{"$f":"IF(OR(U106=\"\",W106=\"\"),\"\",IF(VLOOKUP(L106,'Wattage Table'!D:F,3,0)*N106/W106>=VLOOKUP(U106,Control_Data,3,0),1,0))","v":""}]
[null,83,null,null,null,null,{"$f":"IF(F107=\"\",\"\",HLOOKUP(F107,Validation!$F$5:$Q$6,2,FALSE))","v":""},{"$f":"IF(G107=\"\",\"\",INDEX('Measure Code Summary'!$D$20:$D$52,MATCH(G107,'Measure Code Summary'!$C$20:$C$52,0),1))","v":""},"",null,null,null,{"$f":"IF(L107=\"\",\"\",VLOOKUP(L107,'Wattage Table'!$D:$E,2,0))","v":""},null,{"$f":"IF(L107=\"\",\"\",VLOOKUP(L107,'Wattage Table'!D:F,3,0))","v":""},null,{"$f":"IF(P107=\"\",\"\",VLOOKUP(P107,'Wattage Table'!D:E,2,0))","v":""},null,{"$f":"IF(P107=\"\",\"\",VLOOKUP(P107,'Wattage Table'!D:F,3,0))","v":""},null,null,{"$f":"IF(U107=\"\",\"\",IF(U107=\"None\",\"None\",INDEX('Measure Code Summary'!$D$50:$D$53,MATCH(U107,'Measure Code Summary'!$C$50:$C$53,0),1)))","v":""},null,0,0,0,{"$error":"#VALUE!"},{"$error":"#VALUE!"},"",{"$f":"IF(OR(P107=\"\",L107=\"\", D$16=\"\"),0,((S107*R107)-(O107*N107))*IF(G107=\"90C\",Validation!B$32,T107)*VLOOKUP(IF(E107=\"\",$D$16,E107),ClgHtgTypeData,3,FALSE)/1000)","v":0},0,"",{"$error":"#VALUE!"},0,{"$f":"IF(OR(U107=\"\",W107=\"\"),0,IF(U107=\"80F\",Validation!W94,(VLOOKUP(IF(D107=\"\",$D$15,D107),LtgBldgTypeData,3,FALSE)-VLOOKUP(U107,Control_Data,5)))*N107*O107*VLOOKUP(IF(E107=\"\",$D$16,E107),ClgHtgTypeData,2,FALSE)/1000)","v":0},{"$f":"IF(OR(U107=\"\",W107=\"\"),\"\",IF(VLOOKUP(L107,'Wattage Table'!D:F,3,0)*N107/W107>=VLOOKUP(U107,Control_Data,3,0),1,0))","v":""}]
[null,84,null,null,null,null,{"$f":"IF(F108=\"\",\"\",HLOOKUP(F108,Validation!$F$5:$Q$6,2,FALSE))","v":""},{"$f":"IF(G108=\"\",\"\",INDEX('Measure Code Summary'!$D$20:$D$52,MATCH(G108,'Measure Code Summary'!$C$20:$C$52,0),1))","v":""},"",null,null,null,{"$f":"IF(L108=\"\",\"\",VLOOKUP(L108,'Wattage Table'!$D:$E,2,0))","v":""},null,{"$f":"IF(L108=\"\",\"\",VLOOKUP(L108,'Wattage Table'!D:F,3,0))","v":""},null,{"$f":"IF(P108=\"\",\"\",VLOOKUP(P108,'Wattage Table'!D:E,2,0))","v":""},null,{"$f":"IF(P108=\"\",\"\",VLOOKUP(P108,'Wattage Table'!D:F,3,0))","v":""},null,null,{"$f":"IF(U108=\"\",\"\",IF(U108=\"None\",\"None\",INDEX('Measure Code Summary'!$D$50:$D$53,MATCH(U108,'Measure Code Summary'!$C$50:$C$53,0),1)))","v":""},null,0,0,0,{"$error":"#VALUE!"},{"$error":"#VALUE!"},"",{"$f":"IF(OR(P108=\"\",L108=\"\", D$16=\"\"),0,((S108*R108)-(O108*N108))*IF(G108=\"90C\",Validation!B$32,T108)*VLOOKUP(IF(E108=\"\",$D$16,E108),ClgHtgTypeData,3,FALSE)/1000)","v":0},0,"",{"$error":"#VALUE!"},0,{"$f":"IF(OR(U108=\"\",W108=\"\"),0,IF(U108=\"80F\",Validation!W95,(VLOOKUP(IF(D108=\"\",$D$15,D108),LtgBldgTypeData,3,FALSE)-VLOOKUP(U108,Control_Data,5)))*N108*O108*VLOOKUP(IF(E108=\"\",$D$16,E108),ClgHtgTypeData,2,FALSE)/1000)","v":0},{"$f":"IF(OR(U108=\"\",W108=\"\"),\"\",IF(VLOOKUP(L108,'Wattage Table'!D:F,3,0)*N108/W108>=VLOOKUP(U108,Control_Data,3,0),1,0))","v":""}]
[null,85,null,null,null,null,{"$f":"IF(F109=\"\",\"\",HLOOKUP(F109,Validation!$F$5:$Q$6,2,FALSE))","v":""},{"$f":"IF(G109=\"\",\"\",INDEX('Measure Code Summary'!$D$20:$D$52,MATCH(G109,'Measure Code Summary'!$C$20:$C$52,0),1))","v":""},"",null,null,null,{"$f":"IF(L109=\"\",\"\",VLOOKUP(L109,'Wattage Table'!$D:$E,2,0))","v":""},null,{"$f":"IF(L109=\"\",\"\",VLOOKUP(L109,'Wattage Table'!D:F,3,0))","v":""},null,{"$f":"IF(P109=\"\",\"\",VLOOKUP(P109,'Wattage Table'!D:E,2,0))","v":""},null,{"$f":"IF(P109=\"\",\"\",VLOOKUP(P109,'Wattage Table'!D:F,3,0))","v":""},null,null,{"$f":"IF(U109=\"\",\"\",IF(U109=\"None\",\"None\",INDEX('Measure Code Summary'!$D$50:$D$53,MATCH(U109,'Measure Code Summary'!$C$50:$C$53,0),1)))","v":""},null,0,0,0,{"$error":"#VALUE!"},{"$error":"#VALUE!"},"",{"$f":"IF(OR(P109=\"\",L109=\"\", D$16=\"\"),0,((S109*R109)-(O109*N109))*IF(G109=\"90C\",Validation!B$32,T109)*VLOOKUP(IF(E109=\"\",$D$16,E109),ClgHtgTypeData,3,FALSE)/1000)","v":0},0,"",{"$error":"#VALUE!"},0,{"$f":"IF(OR(U109=\"\",W109=\"\"),0,IF(U109=\"80F\",Validation!W96,(VLOOKUP(IF(D109=\"\",$D$15,D109),LtgBldgTypeData,3,FALSE)-VLOOKUP(U109,Control_Data,5)))*N109*O109*VLOOKUP(IF(E109=\"\",$D$16,E109),ClgHtgTypeData,2,FALSE)/1000)","v":0},{"$f":"IF(OR(U109=\"\",W109=\"\"),\"\",IF(VLOOKUP(L109,'Wattage Table'!D:F,3,0)*N109/W109>=VLOOKUP(U109,Control_Data,3,0),1,0))","v":""}]
[null,86,null,null,null,null,{"$f":"IF(F110=\"\",\"\",HLOOKUP(F110,Validation!$F$5:$Q$6,2,FALSE))","v":""},{"$f":"IF(G110=\"\",\"\",INDEX('Measure Code Summary'!$D$20:$D$52,MATCH(G110,'Measure Code Summary'!$C$20:$C$52,0),1))","v":""},"",null,null,null,{"$f":"IF(L110=\"\",\"\",VLOOKUP(L110,'Wattage Table'!$D:$E,2,0))","v":""},null,{"$f":"IF(L110=\"\",\"\",VLOOKUP(L110,'Wattage Table'!D:F,3,0))","v":""},null,{"$f":"IF(P110=\"\",\"\",VLOOKUP(P110,'Wattage Table'!D:E,2,0))","v":""},null,{"$f":"IF(P110=\"\",\"\",VLOOKUP(P110,'Wattage Table'!D:F,3,0))","v":""},null,null,{"$f":"IF(U110=\"\",\"\",IF(U110=\"None\",\"None\",INDEX('Measure Code Summary'!$D$50:$D$53,MATCH(U110,'Measure Code Summary'!$C$50:$C$53,0),1)))","v":""},null,0,0,0,{"$error":"#VALUE!"},{"$error":"#VALUE!"},"",{"$f":"IF(OR(P110=\"\",L110=\"\", D$16=\"\"),0,((S110*R110)-(O110*N110))*IF(G110=\"90C\",Validation!B$32,T110)*VLOOKUP(IF(E110=\"\",$D$16,E110),ClgHtgTypeData,3,FALSE)/1000)","v":0},0,"",{"$error":"#VALUE!"},0,{"$f":"IF(OR(U110=\"\",W110=\"\"),0,IF(U110=\"80F\",Validation!W97,(VLOOKUP(IF(D110=\"\",$D$15,D110),LtgBldgTypeData,3,FALSE)-VLOOKUP(U110,Control_Data,5)))*N110*O110*VLOOKUP(IF(E110=\"\",$D$16,E110),ClgHtgTypeData,2,FALSE)/1000)","v":0},{"$f":"IF(OR(U110=\"\",W110=\"\"),\"\",IF(VLOOKUP(L110,'Wattage Table'!D:F,3,0)*N110/W110>=VLOOKUP(U110,Control_Data,3,0),1,0))","v":""}]
[null,87,null,null,null,null,{"$f":"IF(F111=\"\",\"\",HLOOKUP(F111,Validation!$F$5:$Q$6,2,FALSE))","v":""},{"$f":"IF(G111=\"\",\"\",INDEX('Measure Code Summary'!$D$20:$D$52,MATCH(G111,'Measure Code Summary'!$C$20:$C$52,0),1))","v":""},"",null,null,null,{"$f":"IF(L111=\"\",\"\",VLOOKUP(L111,'Wattage Table'!$D:$E,2,0))","v":""},null,{"$f":"IF(L111=\"\",\"\",VLOOKUP(L111,'Wattage Table'!D:F,3,0))","v":""},null,{"$f":"IF(P111=\"\",\"\",VLOOKUP(P111,'Wattage Table'!D:E,2,0))","v":""},null,{"$f":"IF(P111=\"\",\"\",VLOOKUP(P111,'Wattage Table'!D:F,3,0))","v":""},null,null,{"$f":"IF(U111=\"\",\"\",IF(U111=\"None\",\"None\",INDEX('Measure Code Summary'!$D$50:$D$53,MATCH(U111,'Measure Code Summary'!$C$50:$C$53,0),1)))","v":""},null,0,0,0,{"$error":"#VALUE!"},{"$error":"#VALUE!"},"",{"$f":"IF(OR(P111=\"\",L111=\"\", D$16=\"\"),0,((S111*R111)-(O111*N111))*IF(G111=\"90C\",Validation!B$32,T111)*VLOOKUP(IF(E111=\"\",$D$16,E111),ClgHtgTypeData,3,FALSE)/1000)","v":0},0,"",{"$error":"#VALUE!"},0,{"$f":"IF(OR(U111=\"\",W111=\"\"),0,IF(U111=\"80F\",Validation!W98,(VLOOKUP(IF(D111=\"\",$D$15,D111),LtgBldgTypeData,3,FALSE)-VLOOKUP(U111,Control_Data,5)))*N111*O111*VLOOKUP(IF(E111=\"\",$D$16,E111),ClgHtgTypeData,2,FALSE)/1000)","v":0},{"$f":"IF(OR(U111=\"\",W111=\"\"),\"\",IF(VLOOKUP(L111,'Wattage Table'!D:F,3,0)*N111/W111>=VLOOKUP(U111,Control_Data,3,0),1,0))","v":""}]
[null,88,null,null,null,null,{"$f":"IF(F112=\"\",\"\",HLOOKUP(F112,Validation!$F$5:$Q$6,2,FALSE))","v":""},{"$f":"IF(G112=\"\",\"\",INDEX('Measure Code Summary'!$D$20:$D$52,MATCH(G112,'Measure Code Summary'!$C$20:$C$52,0),1))","v":""},"",null,null,null,{"$f":"IF(L112=\"\",\"\",VLOOKUP(L112,'Wattage Table'!$D:$E,2,0))","v":""},null,{"$f":"IF(L112=\"\",\"\",VLOOKUP(L112,'Wattage Table'!D:F,3,0))","v":""},null,{"$f":"IF(P112=\"\",\"\",VLOOKUP(P112,'Wattage Table'!D:E,2,0))","v":""},null,{"$f":"IF(P112=\"\",\"\",VLOOKUP(P112,'Wattage Table'!D:F,3,0))","v":""},null,null,{"$f":"IF(U112=\"\",\"\",IF(U112=\"None\",\"None\",INDEX('Measure Code Summary'!$D$50:$D$53,MATCH(U112,'Measure Code Summary'!$C$50:$C$53,0),1)))","v":""},null,0,0,0,{"$error":"#VALUE!"},{"$error":"#VALUE!"},"",{"$f":"IF(OR(P112=\"\",L112=\"\", D$16=\"\"),0,((S112*R112)-(O112*N112))*IF(G112=\"90C\",Validation!B$32,T112)*VLOOKUP(IF(E112=\"\",$D$16,E112),ClgHtgTypeData,3,FALSE)/1000)","v":0},0,"",{"$error":"#VALUE!"},0,{"$f":"IF(OR(U112=\"\",W112=\"\"),0,IF(U112=\"80F\",Validation!W99,(VLOOKUP(IF(D112=\"\",$D$15,D112),LtgBldgTypeData,3,FALSE)-VLOOKUP(U112,Control_Data,5)))*N112*O112*VLOOKUP(IF(E112=\"\",$D$16,E112),ClgHtgTypeData,2,FALSE)/1000)","v":0},{"$f":"IF(OR(U112=\"\",W112=\"\"),\"\",IF(VLOOKUP(L112,'Wattage Table'!D:F,3,0)*N112/W112>=VLOOKUP(U112,Control_Data,3,0),1,0))","v":""}]
[null,89,null,null,null,null,{"$f":"IF(F113=\"\",\"\",HLOOKUP(F113,Validation!$F$5:$Q$6,2,FALSE))","v":""},{"$f":"IF(G113=\"\",\"\",INDEX('Measure Code Summary'!$D$20:$D$52,MATCH(G113,'Measure Code Summary'!$C$20:$C$52,0),1))","v":""},"",null,null,null,{"$f":"IF(L113=\"\",\"\",VLOOKUP(L113,'Wattage Table'!$D:$E,2,0))","v":""},null,{"$f":"IF(L113=\"\",\"\",VLOOKUP(L113,'Wattage Table'!D:F,3,0))","v":""},null,{"$f":"IF(P113=\"\",\"\",VLOOKUP(P113,'Wattage Table'!D:E,2,0))","v":""},null,{"$f":"IF(P113=\"\",\"\",VLOOKUP(P113,'Wattage Table'!D:F,3,0))","v":""},null,null,{"$f":"IF(U113=\"\",\"\",IF(U113=\"None\",\"None\",INDEX('Measure Code Summary'!$D$50:$D$53,MATCH(U113,'Measure Code Summary'!$C$50:$C$53,0),1)))","v":""},null,0,0,0,{"$error":"#VALUE!"},{"$error":"#VALUE!"},"",{"$f":"IF(OR(P113=\"\",L113=\"\", D$16=\"\"),0,((S113*R113)-(O113*N113))*IF(G113=\"90C\",Validation!B$32,T113)*VLOOKUP(IF(E113=\"\",$D$16,E113),ClgHtgTypeData,3,FALSE)/1000)","v":0},0,"",{"$error":"#VALUE!"},0,{"$f":"IF(OR(U113=\"\",W113=\"\"),0,IF(U113=\"80F\",Validation!W100,(VLOOKUP(IF(D113=\"\",$D$15,D113),LtgBldgTypeData,3,FALSE)-VLOOKUP(U113,Control_Data,5)))*N113*O113*VLOOKUP(IF(E113=\"\",$D$16,E113),ClgHtgTypeData,2,FALSE)/1000)","v":0},{"$f":"IF(OR(U113=\"\",W113=\"\"),\"\",IF(VLOOKUP(L113,'Wattage Table'!D:F,3,0)*N113/W113>=VLOOKUP(U113,Control_Data,3,0),1,0))","v":""}]
[null,90,null,null,null,null,{"$f":"IF(F114=\"\",\"\",HLOOKUP(F114,Validation!$F$5:$Q$6,2,FALSE))","v":""},{"$f":"IF(G114=\"\",\"\",INDEX('Measure Code Summary'!$D$20:$D$52,MATCH(G114,'Measure Code Summary'!$C$20:$C$52,0),1))","v":""},"",null,null,null,{"$f":"IF(L114=\"\",\"\",VLOOKUP(L114,'Wattage Table'!$D:$E,2,0))","v":""},null,{"$f":"IF(L114=\"\",\"\",VLOOKUP(L114,'Wattage Table'!D:F,3,0))","v":""},null,{"$f":"IF(P114=\"\",\"\",VLOOKUP(P114,'Wattage Table'!D:E,2,0))","v":""},null,{"$f":"IF(P114=\"\",\"\",VLOOKUP(P114,'Wattage Table'!D:F,3,0))","v":""},null,null,{"$f":"IF(U114=\"\",\"\",IF(U114=\"None\",\"None\",INDEX('Measure Code Summary'!$D$50:$D$53,MATCH(U114,'Measure Code Summary'!$C$50:$C$53,0),1)))","v":""},null,0,0,0,{"$error":"#VALUE!"},{"$error":"#VALUE!"},"",{"$f":"IF(OR(P114=\"\",L114=\"\", D$16=\"\"),0,((S114*R114)-(O114*N114))*IF(G114=\"90C\",Validation!B$32,T114)*VLOOKUP(IF(E114=\"\",$D$16,E114),ClgHtgTypeData,3,FALSE)/1000)","v":0},0,"",{"$error":"#VALUE!"},0,{"$f":"IF(OR(U114=\"\",W114=\"\"),0,IF(U114=\"80F\",Validation!W101,(VLOOKUP(IF(D114=\"\",$D$15,D114),LtgBldgTypeData,3,FALSE)-VLOOKUP(U114,Control_Data,5)))*N114*O114*VLOOKUP(IF(E114=\"\",$D$16,E114),ClgHtgTypeData,2,FALSE)/1000)","v":0},{"$f":"IF(OR(U114=\"\",W114=\"\"),\"\",IF(VLOOKUP(L114,'Wattage Table'!D:F,3,0)*N114/W114>=VLOOKUP(U114,Control_Data,3,0),1,0))","v":""}]
[null,91,null,null,null,null,{"$f":"IF(F115=\"\",\"\",HLOOKUP(F115,Validation!$F$5:$Q$6,2,FALSE))","v":""},{"$f":"IF(G115=\"\",\"\",INDEX('Measure Code Summary'!$D$20:$D$52,MATCH(G115,'Measure Code Summary'!$C$20:$C$52,0),1))","v":""},"",null,null,null,{"$f":"IF(L115=\"\",\"\",VLOOKUP(L115,'Wattage Table'!$D:$E,2,0))","v":""},null,{"$f":"IF(L115=\"\",\"\",VLOOKUP(L115,'Wattage Table'!D:F,3,0))","v":""},null,{"$f":"IF(P115=\"\",\"\",VLOOKUP(P115,'Wattage Table'!D:E,2,0))","v":""},null,{"$f":"IF(P115=\"\",\"\",VLOOKUP(P115,'Wattage Table'!D:F,3,0))","v":""},null,null,{"$f":"IF(U115=\"\",\"\",IF(U115=\"None\",\"None\",INDEX('Measure Code Summary'!$D$50:$D$53,MATCH(U115,'Measure Code Summary'!$C$50:$C$53,0),1)))","v":""},null,0,0,0,{"$error":"#VALUE!"},{"$error":"#VALUE!"},"",{"$f":"IF(OR(P115=\"\",L115=\"\", D$16=\"\"),0,((S115*R115)-(O115*N115))*IF(G115=\"90C\",Validation!B$32,T115)*VLOOKUP(IF(E115=\"\",$D$16,E115),ClgHtgTypeData,3,FALSE)/1000)","v":0},0,"",{"$error":"#VALUE!"},0,{"$f":"IF(OR(U115=\"\",W115=\"\"),0,IF(U115=\"80F\",Validation!W102,(VLOOKUP(IF(D115=\"\",$D$15,D115),LtgBldgTypeData,3,FALSE)-VLOOKUP(U115,Control_Data,5)))*N115*O115*VLOOKUP(IF(E115=\"\",$D$16,E115),ClgHtgTypeData,2,FALSE)/1000)","v":0},{"$f":"IF(OR(U115=\"\",W115=\"\"),\"\",IF(VLOOKUP(L115,'Wattage Table'!D:F,3,0)*N115/W115>=VLOOKUP(U115,Control_Data,3,0),1,0))","v":""}]
[null,92,null,null,null,null,{"$f":"IF(F116=\"\",\"\",HLOOKUP(F116,Validation!$F$5:$Q$6,2,FALSE))","v":""},{"$f":"IF(G116=\"\",\"\",INDEX('Measure Code Summary'!$D$20:$D$52,MATCH(G116,'Measure Code Summary'!$C$20:$C$52,0),1))","v":""},"",null,null,null,{"$f":"IF(L116=\"\",\"\",VLOOKUP(L116,'Wattage Table'!$D:$E,2,0))","v":""},null,{"$f":"IF(L116=\"\",\"\",VLOOKUP(L116,'Wattage Table'!D:F,3,0))","v":""},null,{"$f":"IF(P116=\"\",\"\",VLOOKUP(P116,'Wattage Table'!D:E,2,0))","v":""},null,{"$f":"IF(P116=\"\",\"\",VLOOKUP(P116,'Wattage Table'!D:F,3,0))","v":""},null,null,{"$f":"IF(U116=\"\",\"\",IF(U116=\"None\",\"None\",INDEX('Measure Code Summary'!$D$50:$D$53,MATCH(U116,'Measure Code Summary'!$C$50:$C$53,0),1)))","v":""},null,0,0,0,{"$error":"#VALUE!"},{"$error":"#VALUE!"},"",{"$f":"IF(OR(P116=\"\",L116=\"\", D$16=\"\"),0,((S116*R116)-(O116*N116))*IF(G116=\"90C\",Validation!B$32,T116)*VLOOKUP(IF(E116=\"\",$D$16,E116),ClgHtgTypeData,3,FALSE)/1000)","v":0},0,"",{"$error":"#VALUE!"},0,{"$f":"IF(OR(U116=\"\",W116=\"\"),0,IF(U116=\"80F\",Validation!W103,(VLOOKUP(IF(D116=\"\",$D$15,D116),LtgBldgTypeData,3,FALSE)-VLOOKUP(U116,Control_Data,5)))*N116*O116*VLOOKUP(IF(E116=\"\",$D$16,E116),ClgHtgTypeData,2,FALSE)/1000)","v":0},{"$f":"IF(OR(U116=\"\",W116=\"\"),\"\",IF(VLOOKUP(L116,'Wattage Table'!D:F,3,0)*N116/W116>=VLOOKUP(U116,Control_Data,3,0),1,0))","v":""}]
[null,93,null,null,null,null,{"$f":"IF(F117=\"\",\"\",HLOOKUP(F117,Validation!$F$5:$Q$6,2,FALSE))","v":""},{"$f":"IF(G117=\"\",\"\",INDEX('Measure Code Summary'!$D$20:$D$52,MATCH(G117,'Measure Code Summary'!$C$20:$C$52,0),1))","v":""},"",null,null,null,{"$f":"IF(L117=\"\",\"\",VLOOKUP(L117,'Wattage Table'!$D:$E,2,0))","v":""},null,{"$f":"IF(L117=\"\",\"\",VLOOKUP(L117,'Wattage Table'!D:F,3,0))","v":""},null,{"$f":"IF(P117=\"\",\"\",VLOOKUP(P117,'Wattage Table'!D:E,2,0))","v":""},null,{"$f":"IF(P117=\"\",\"\",VLOOKUP(P117,'Wattage Table'!D:F,3,0))","v":""},null,null,{"$f":"IF(U117=\"\",\"\",IF(U117=\"None\",\"None\",INDEX('Measure Code Summary'!$D$50:$D$53,MATCH(U117,'Measure Code Summary'!$C$50:$C$53,0),1)))","v":""},null,0,0,0,{"$error":"#VALUE!"},{"$error":"#VALUE!"},"",{"$f":"IF(OR(P117=\"\",L117=\"\", D$16=\"\"),0,((S117*R117)-(O117*N117))*IF(G117=\"90C\",Validation!B$32,T117)*VLOOKUP(IF(E117=\"\",$D$16,E117),ClgHtgTypeData,3,FALSE)/1000)","v":0},0,"",{"$error":"#VALUE!"},0,{"$f":"IF(OR(U117=\"\",W117=\"\"),0,IF(U117=\"80F\",Validation!W104,(VLOOKUP(IF(D117=\"\",$D$15,D117),LtgBldgTypeData,3,FALSE)-VLOOKUP(U117,Control_Data,5)))*N117*O117*VLOOKUP(IF(E117=\"\",$D$16,E117),ClgHtgTypeData,2,FALSE)/1000)","v":0},{"$f":"IF(OR(U117=\"\",W117=\"\"),\"\",IF(VLOOKUP(L117,'Wattage Table'!D:F,3,0)*N117/W117>=VLOOKUP(U117,Control_Data,3,0),1,0))","v":""}]
[null,94,null,null,null,null,{"$f":"IF(F118=\"\",\"\",HLOOKUP(F118,Validation!$F$5:$Q$6,2,FALSE))","v":""},{"$f":"IF(G118=\"\",\"\",INDEX('Measure Code Summary'!$D$20:$D$52,MATCH(G118,'Measure Code Summary'!$C$20:$C$52,0),1))","v":""},"",null,null,null,{"$f":"IF(L118=\"\",\"\",VLOOKUP(L118,'Wattage Table'!$D:$E,2,0))","v":""},null,{"$f":"IF(L118=\"\",\"\",VLOOKUP(L118,'Wattage Table'!D:F,3,0))","v":""},null,{"$f":"IF(P118=\"\",\"\",VLOOKUP(P118,'Wattage Table'!D:E,2,0))","v":""},null,{"$f":"IF(P118=\"\",\"\",VLOOKUP(P118,'Wattage Table'!D:F,3,0))","v":""},null,null,{"$f":"IF(U118=\"\",\"\",IF(U118=\"None\",\"None\",INDEX('Measure Code Summary'!$D$50:$D$53,MATCH(U118,'Measure Code Summary'!$C$50:$C$53,0),1)))","v":""},null,0,0,0,{"$error":"#VALUE!"},{"$error":"#VALUE!"},"",{"$f":"IF(OR(P118=\"\",L118=\"\", D$16=\"\"),0,((S118*R118)-(O118*N118))*IF(G118=\"90C\",Validation!B$32,T118)*VLOOKUP(IF(E118=\"\",$D$16,E118),ClgHtgTypeData,3,FALSE)/1000)","v":0},0,"",{"$error":"#VALUE!"},0,{"$f":"IF(OR(U118=\"\",W118=\"\"),0,IF(U118=\"80F\",Validation!W105,(VLOOKUP(IF(D118=\"\",$D$15,D118),LtgBldgTypeData,3,FALSE)-VLOOKUP(U118,Control_Data,5)))*N118*O118*VLOOKUP(IF(E118=\"\",$D$16,E118),ClgHtgTypeData,2,FALSE)/1000)","v":0},{"$f":"IF(OR(U118=\"\",W118=\"\"),\"\",IF(VLOOKUP(L118,'Wattage Table'!D:F,3,0)*N118/W118>=VLOOKUP(U118,Control_Data,3,0),1,0))","v":""}]
[null,95,null,null,null,null,{"$f":"IF(F119=\"\",\"\",HLOOKUP(F119,Validation!$F$5:$Q$6,2,FALSE))","v":""},{"$f":"IF(G119=\"\",\"\",INDEX('Measure Code Summary'!$D$20:$D$52,MATCH(G119,'Measure Code Summary'!$C$20:$C$52,0),1))","v":""},"",null,null,null,{"$f":"IF(L119=\"\",\"\",VLOOKUP(L119,'Wattage Table'!$D:$E,2,0))","v":""},null,{"$f":"IF(L119=\"\",\"\",VLOOKUP(L119,'Wattage Table'!D:F,3,0))","v":""},null,{"$f":"IF(P119=\"\",\"\",VLOOKUP(P119,'Wattage Table'!D:E,2,0))","v":""},null,{"$f":"IF(P119=\"\",\"\",VLOOKUP(P119,'Wattage Table'!D:F,3,0))","v":""},null,null,{"$f":"IF(U119=\"\",\"\",IF(U119=\"None\",\"None\",INDEX('Measure Code Summary'!$D$50:$D$53,MATCH(U119,'Measure Code Summary'!$C$50:$C$53,0),1)))","v":""},null,0,0,0,{"$error":"#VALUE!"},{"$error":"#VALUE!"},"",{"$f":"IF(OR(P119=\"\",L119=\"\", D$16=\"\"),0,((S119*R119)-(O119*N119))*IF(G119=\"90C\",Validation!B$32,T119)*VLOOKUP(IF(E119=\"\",$D$16,E119),ClgHtgTypeData,3,FALSE)/1000)","v":0},0,"",{"$error":"#VALUE!"},0,{"$f":"IF(OR(U119=\"\",W119=\"\"),0,IF(U119=\"80F\",Validation!W106,(VLOOKUP(IF(D119=\"\",$D$15,D119),LtgBldgTypeData,3,FALSE)-VLOOKUP(U119,Control_Data,5)))*N119*O119*VLOOKUP(IF(E119=\"\",$D$16,E119),ClgHtgTypeData,2,FALSE)/1000)","v":0},{"$f":"IF(OR(U119=\"\",W119=\"\"),\"\",IF(VLOOKUP(L119,'Wattage Table'!D:F,3,0)*N119/W119>=VLOOKUP(U119,Control_Data,3,0),1,0))","v":""}]
[null,96,null,null,null,null,{"$f":"IF(F120=\"\",\"\",HLOOKUP(F120,Validation!$F$5:$Q$6,2,FALSE))","v":""},{"$f":"IF(G120=\"\",\"\",INDEX('Measure Code Summary'!$D$20:$D$52,MATCH(G120,'Measure Code Summary'!$C$20:$C$52,0),1))","v":""},"",null,null,null,{"$f":"IF(L120=\"\",\"\",VLOOKUP(L120,'Wattage Table'!$D:$E,2,0))","v":""},null,{"$f":"IF(L120=\"\",\"\",VLOOKUP(L120,'Wattage Table'!D:F,3,0))","v":""},null,{"$f":"IF(P120=\"\",\"\",VLOOKUP(P120,'Wattage Table'!D:E,2,0))","v":""},null,{"$f":"IF(P120=\"\",\"\",VLOOKUP(P120,'Wattage Table'!D:F,3,0))","v":""},null,null,{"$f":"IF(U120=\"\",\"\",IF(U120=\"None\",\"None\",INDEX('Measure Code Summary'!$D$50:$D$53,MATCH(U120,'Measure Code Summary'!$C$50:$C$53,0),1)))","v":""},null,0,0,0,{"$error":"#VALUE!"},{"$error":"#VALUE!"},"",{"$f":"IF(OR(P120=\"\",L120=\"\", D$16=\"\"),0,((S120*R120)-(O120*N120))*IF(G120=\"90C\",Validation!B$32,T120)*VLOOKUP(IF(E120=\"\",$D$16,E120),ClgHtgTypeData,3,FALSE)/1000)","v":0},0,"",{"$error":"#VALUE!"},0,{"$f":"IF(OR(U120=\"\",W120=\"\"),0,IF(U120=\"80F\",Validation!W107,(VLOOKUP(IF(D120=\"\",$D$15,D120),LtgBldgTypeData,3,FALSE)-VLOOKUP(U120,Control_Data,5)))*N120*O120*VLOOKUP(IF(E120=\"\",$D$16,E120),ClgHtgTypeData,2,FALSE)/1000)","v":0},{"$f":"IF(OR(U120=\"\",W120=\"\"),\"\",IF(VLOOKUP(L120,'Wattage Table'!D:F,3,0)*N120/W120>=VLOOKUP(U120,Control_Data,3,0),1,0))","v":""}]
[null,97,null,null,null,null,{"$f":"IF(F121=\"\",\"\",HLOOKUP(F121,Validation!$F$5:$Q$6,2,FALSE))","v":""},{"$f":"IF(G121=\"\",\"\",INDEX('Measure Code Summary'!$D$20:$D$52,MATCH(G121,'Measure Code Summary'!$C$20:$C$52,0),1))","v":""},"",null,null,null,{"$f":"IF(L121=\"\",\"\",VLOOKUP(L121,'Wattage Table'!$D:$E,2,0))","v":""},null,{"$f":"IF(L121=\"\",\"\",VLOOKUP(L121,'Wattage Table'!D:F,3,0))","v":""},null,{"$f":"IF(P121=\"\",\"\",VLOOKUP(P121,'Wattage Table'!D:E,2,0))","v":""},null,{"$f":"IF(P121=\"\",\"\",VLOOKUP(P121,'Wattage Table'!D:F,3,0))","v":""},null,null,{"$f":"IF(U121=\"\",\"\",IF(U121=\"None\",\"None\",INDEX('Measure Code Summary'!$D$50:$D$53,MATCH(U121,'Measure Code Summary'!$C$50:$C$53,0),1)))","v":""},null,0,0,0,{"$error":"#VALUE!"},{"$error":"#VALUE!"},"",{"$f":"IF(OR(P121=\"\",L121=\"\", D$16=\"\"),0,((S121*R121)-(O121*N121))*IF(G121=\"90C\",Validation!B$32,T121)*VLOOKUP(IF(E121=\"\",$D$16,E121),ClgHtgTypeData,3,FALSE)/1000)","v":0},0,"",{"$error":"#VALUE!"},{"$f":"IF(OR(U121=\"\",AJ121=\"No\"),0,0.25*O121*T121*N121)/1000","v":0},{"$f":"IF(OR(U121=\"\",W121=\"\"),0,IF(U121=\"80F\",Validation!W108,(VLOOKUP(IF(D121=\"\",$D$15,D121),LtgBldgTypeData,3,FALSE)-VLOOKUP(U121,Control_Data,5)))*N121*O121*VLOOKUP(IF(E121=\"\",$D$16,E121),ClgHtgTypeData,2,FALSE)/1000)","v":0},{"$f":"IF(OR(U121=\"\",W121=\"\"),\"\",IF(VLOOKUP(L121,'Wattage Table'!D:F,3,0)*N121/W121>=VLOOKUP(U121,Control_Data,3,0),1,0))","v":""}]
[null,98,null,null,null,null,{"$f":"IF(F122=\"\",\"\",HLOOKUP(F122,Validation!$F$5:$Q$6,2,FALSE))","v":""},{"$f":"IF(G122=\"\",\"\",INDEX('Measure Code Summary'!$D$20:$D$52,MATCH(G122,'Measure Code Summary'!$C$20:$C$52,0),1))","v":""},"",null,null,null,{"$f":"IF(L122=\"\",\"\",VLOOKUP(L122,'Wattage Table'!$D:$E,2,0))","v":""},null,{"$f":"IF(L122=\"\",\"\",VLOOKUP(L122,'Wattage Table'!D:F,3,0))","v":""},null,{"$f":"IF(P122=\"\",\"\",VLOOKUP(P122,'Wattage Table'!D:E,2,0))","v":""},null,{"$f":"IF(P122=\"\",\"\",VLOOKUP(P122,'Wattage Table'!D:F,3,0))","v":""},null,null,{"$f":"IF(U122=\"\",\"\",IF(U122=\"None\",\"None\",INDEX('Measure Code Summary'!$D$50:$D$53,MATCH(U122,'Measure Code Summary'!$C$50:$C$53,0),1)))","v":""},null,0,0,0,{"$error":"#VALUE!"},{"$error":"#VALUE!"},"",{"$f":"IF(OR(P122=\"\",L122=\"\", D$16=\"\"),0,((S122*R122)-(O122*N122))*IF(G122=\"90C\",Validation!B$32,T122)*VLOOKUP(IF(E122=\"\",$D$16,E122),ClgHtgTypeData,3,FALSE)/1000)","v":0},0,"",{"$error":"#VALUE!"},0,{"$f":"IF(OR(U122=\"\",W122=\"\"),0,IF(U122=\"80F\",Validation!W109,(VLOOKUP(IF(D122=\"\",$D$15,D122),LtgBldgTypeData,3,FALSE)-VLOOKUP(U122,Control_Data,5)))*N122*O122*VLOOKUP(IF(E122=\"\",$D$16,E122),ClgHtgTypeData,2,FALSE)/1000)","v":0},{"$f":"IF(OR(U122=\"\",W122=\"\"),\"\",IF(VLOOKUP(L122,'Wattage Table'!D:F,3,0)*N122/W122>=VLOOKUP(U122,Control_Data,3,0),1,0))","v":""}]
[null,99,null,null,null,null,{"$f":"IF(F123=\"\",\"\",HLOOKUP(F123,Validation!$F$5:$Q$6,2,FALSE))","v":""},{"$f":"IF(G123=\"\",\"\",INDEX('Measure Code Summary'!$D$20:$D$52,MATCH(G123,'Measure Code Summary'!$C$20:$C$52,0),1))","v":""},"",null,null,null,{"$f":"IF(L123=\"\",\"\",VLOOKUP(L123,'Wattage Table'!$D:$E,2,0))","v":""},null,{"$f":"IF(L123=\"\",\"\",VLOOKUP(L123,'Wattage Table'!D:F,3,0))","v":""},null,{"$f":"IF(P123=\"\",\"\",VLOOKUP(P123,'Wattage Table'!D:E,2,0))","v":""},null,{"$f":"IF(P123=\"\",\"\",VLOOKUP(P123,'Wattage Table'!D:F,3,0))","v":""},null,null,{"$f":"IF(U123=\"\",\"\",IF(U123=\"None\",\"None\",INDEX('Measure Code Summary'!$D$50:$D$53,MATCH(U123,'Measure Code Summary'!$C$50:$C$53,0),1)))","v":""},null,0,0,0,{"$error":"#VALUE!"},{"$error":"#VALUE!"},"",{"$f":"IF(OR(P123=\"\",L123=\"\", D$16=\"\"),0,((S123*R123)-(O123*N123))*IF(G123=\"90C\",Validation!B$32,T123)*VLOOKUP(IF(E123=\"\",$D$16,E123),ClgHtgTypeData,3,FALSE)/1000)","v":0},0,"",{"$error":"#VALUE!"},0,{"$f":"IF(OR(U123=\"\",W123=\"\"),0,IF(U123=\"80F\",Validation!W110,(VLOOKUP(IF(D123=\"\",$D$15,D123),LtgBldgTypeData,3,FALSE)-VLOOKUP(U123,Control_Data,5)))*N123*O123*VLOOKUP(IF(E123=\"\",$D$16,E123),ClgHtgTypeData,2,FALSE)/1000)","v":0},{"$f":"IF(OR(U123=\"\",W123=\"\"),\"\",IF(VLOOKUP(L123,'Wattage Table'!D:F,3,0)*N123/W123>=VLOOKUP(U123,Control_Data,3,0),1,0))","v":""}]
[null,100,null,null,null,null,{"$f":"IF(F124=\"\",\"\",HLOOKUP(F124,Validation!$F$5:$Q$6,2,FALSE))","v":""},{"$f":"IF(G124=\"\",\"\",INDEX('Measure Code Summary'!$D$20:$D$52,MATCH(G124,'Measure Code Summary'!$C$20:$C$52,0),1))","v":""},"",null,null,null,{"$f":"IF(L124=\"\",\"\",VLOOKUP(L124,'Wattage Table'!$D:$E,2,0))","v":""},null,{"$f":"IF(L124=\"\",\"\",VLOOKUP(L124,'Wattage Table'!D:F,3,0))","v":""},null,{"$f":"IF(P124=\"\",\"\",VLOOKUP(P124,'Wattage Table'!D:E,2,0))","v":""},null,{"$f":"IF(P124=\"\",\"\",VLOOKUP(P124,'Wattage Table'!D:F,3,0))","v":""},null,null,{"$f":"IF(U124=\"\",\"\",IF(U124=\"None\",\"None\",INDEX('Measure Code Summary'!$D$50:$D$53,MATCH(U124,'Measure Code Summary'!$C$50:$C$53,0),1)))","v":""},null,0,0,0,{"$error":"#VALUE!"},{"$error":"#VALUE!"},"",{"$f":"IF(OR(P124=\"\",L124=\"\", D$16=\"\"),0,((S124*R124)-(O124*N124))*IF(G124=\"90C\",Validation!B$32,T124)*VLOOKUP(IF(E124=\"\",$D$16,E124),ClgHtgTypeData,3,FALSE)/1000)","v":0},0,"",{"$error":"#VALUE!"},0,{"$f":"IF(OR(U124=\"\",W124=\"\"),0,IF(U124=\"80F\",Validation!W111,(VLOOKUP(IF(D124=\"\",$D$15,D124),LtgBldgTypeData,3,FALSE)-VLOOKUP(U124,Control_Data,5)))*N124*O124*VLOOKUP(IF(E124=\"\",$D$16,E124),ClgHtgTypeData,2,FALSE)/1000)","v":0},{"$f":"IF(OR(U124=\"\",W124=\"\"),\"\",IF(VLOOKUP(L124,'Wattage Table'!D:F,3,0)*N124/W124>=VLOOKUP(U124,Control_Data,3,0),1,0))","v":""}]
[null,101,null,null,null,null,{"$f":"IF(F125=\"\",\"\",HLOOKUP(F125,Validation!$F$5:$Q$6,2,FALSE))","v":""},{"$f":"IF(G125=\"\",\"\",INDEX('Measure Code Summary'!$D$20:$D$52,MATCH(G125,'Measure Code Summary'!$C$20:$C$52,0),1))","v":""},"",null,null,null,{"$f":"IF(L125=\"\",\"\",VLOOKUP(L125,'Wattage Table'!$D:$E,2,0))","v":""},null,{"$f":"IF(L125=\"\",\"\",VLOOKUP(L125,'Wattage Table'!D:F,3,0))","v":""},null,{"$f":"IF(P125=\"\",\"\",VLOOKUP(P125,'Wattage Table'!D:E,2,0))","v":""},null,{"$f":"IF(P125=\"\",\"\",VLOOKUP(P125,'Wattage Table'!D:F,3,0))","v":""},null,null,{"$f":"IF(U125=\"\",\"\",IF(U125=\"None\",\"None\",INDEX('Measure Code Summary'!$D$50:$D$53,MATCH(U125,'Measure Code Summary'!$C$50:$C$53,0),1)))","v":""},null,0,0,0,{"$error":"#VALUE!"},{"$error":"#VALUE!"},"",{"$f":"IF(OR(P125=\"\",L125=\"\", D$16=\"\"),0,((S125*R125)-(O125*N125))*IF(G125=\"90C\",Validation!B$32,T125)*VLOOKUP(IF(E125=\"\",$D$16,E125),ClgHtgTypeData,3,FALSE)/1000)","v":0},0,"",{"$error":"#VALUE!"},0,{"$f":"IF(OR(U125=\"\",W125=\"\"),0,IF(U125=\"80F\",Validation!W112,(VLOOKUP(IF(D125=\"\",$D$15,D125),LtgBldgTypeData,3,FALSE)-VLOOKUP(U125,Control_Data,5)))*N125*O125*VLOOKUP(IF(E125=\"\",$D$16,E125),ClgHtgTypeData,2,FALSE)/1000)","v":0},{"$f":"IF(OR(U125=\"\",W125=\"\"),\"\",IF(VLOOKUP(L125,'Wattage Table'!D:F,3,0)*N125/W125>=VLOOKUP(U125,Control_Data,3,0),1,0))","v":""}]
[null,102,null,null,null,null,{"$f":"IF(F126=\"\",\"\",HLOOKUP(F126,Validation!$F$5:$Q$6,2,FALSE))","v":""},{"$f":"IF(G126=\"\",\"\",INDEX('Measure Code Summary'!$D$20:$D$52,MATCH(G126,'Measure Code Summary'!$C$20:$C$52,0),1))","v":""},"",null,null,null,{"$f":"IF(L126=\"\",\"\",VLOOKUP(L126,'Wattage Table'!$D:$E,2,0))","v":""},null,{"$f":"IF(L126=\"\",\"\",VLOOKUP(L126,'Wattage Table'!D:F,3,0))","v":""},null,{"$f":"IF(P126=\"\",\"\",VLOOKUP(P126,'Wattage Table'!D:E,2,0))","v":""},null,{"$f":"IF(P126=\"\",\"\",VLOOKUP(P126,'Wattage Table'!D:F,3,0))","v":""},null,null,{"$f":"IF(U126=\"\",\"\",IF(U126=\"None\",\"None\",INDEX('Measure Code Summary'!$D$50:$D$53,MATCH(U126,'Measure Code Summary'!$C$50:$C$53,0),1)))","v":""},null,0,0,0,{"$error":"#VALUE!"},{"$error":"#VALUE!"},"",{"$f":"IF(OR(P126=\"\",L126=\"\", D$16=\"\"),0,((S126*R126)-(O126*N126))*IF(G126=\"90C\",Validation!B$32,T126)*VLOOKUP(IF(E126=\"\",$D$16,E126),ClgHtgTypeData,3,FALSE)/1000)","v":0},0,"",{"$error":"#VALUE!"},0,{"$f":"IF(OR(U126=\"\",W126=\"\"),0,IF(U126=\"80F\",Validation!W113,(VLOOKUP(IF(D126=\"\",$D$15,D126),LtgBldgTypeData,3,FALSE)-VLOOKUP(U126,Control_Data,5)))*N126*O126*VLOOKUP(IF(E126=\"\",$D$16,E126),ClgHtgTypeData,2,FALSE)/1000)","v":0},{"$f":"IF(OR(U126=\"\",W126=\"\"),\"\",IF(VLOOKUP(L126,'Wattage Table'!D:F,3,0)*N126/W126>=VLOOKUP(U126,Control_Data,3,0),1,0))","v":""}]
[null,103,null,null,null,null,{"$f":"IF(F127=\"\",\"\",HLOOKUP(F127,Validation!$F$5:$Q$6,2,FALSE))","v":""},{"$f":"IF(G127=\"\",\"\",INDEX('Measure Code Summary'!$D$20:$D$52,MATCH(G127,'Measure Code Summary'!$C$20:$C$52,0),1))","v":""},"",null,null,null,{"$f":"IF(L127=\"\",\"\",VLOOKUP(L127,'Wattage Table'!$D:$E,2,0))","v":""},null,{"$f":"IF(L127=\"\",\"\",VLOOKUP(L127,'Wattage Table'!D:F,3,0))","v":""},null,{"$f":"IF(P127=\"\",\"\",VLOOKUP(P127,'Wattage Table'!D:E,2,0))","v":""},null,{"$f":"IF(P127=\"\",\"\",VLOOKUP(P127,'Wattage Table'!D:F,3,0))","v":""},null,null,{"$f":"IF(U127=\"\",\"\",IF(U127=\"None\",\"None\",INDEX('Measure Code Summary'!$D$50:$D$53,MATCH(U127,'Measure Code Summary'!$C$50:$C$53,0),1)))","v":""},null,0,0,0,{"$error":"#VALUE!"},{"$error":"#VALUE!"},"",{"$f":"IF(OR(P127=\"\",L127=\"\", D$16=\"\"),0,((S127*R127)-(O127*N127))*IF(G127=\"90C\",Validation!B$32,T127)*VLOOKUP(IF(E127=\"\",$D$16,E127),ClgHtgTypeData,3,FALSE)/1000)","v":0},0,"",{"$error":"#VALUE!"},0,{"$f":"IF(OR(U127=\"\",W127=\"\"),0,IF(U127=\"80F\",Validation!W114,(VLOOKUP(IF(D127=\"\",$D$15,D127),LtgBldgTypeData,3,FALSE)-VLOOKUP(U127,Control_Data,5)))*N127*O127*VLOOKUP(IF(E127=\"\",$D$16,E127),ClgHtgTypeData,2,FALSE)/1000)","v":0},{"$f":"IF(OR(U127=\"\",W127=\"\"),\"\",IF(VLOOKUP(L127,'Wattage Table'!D:F,3,0)*N127/W127>=VLOOKUP(U127,Control_Data,3,0),1,0))","v":""}]
[null,104,null,null,null,null,{"$f":"IF(F128=\"\",\"\",HLOOKUP(F128,Validation!$F$5:$Q$6,2,FALSE))","v":""},{"$f":"IF(G128=\"\",\"\",INDEX('Measure Code Summary'!$D$20:$D$52,MATCH(G128,'Measure Code Summary'!$C$20:$C$52,0),1))","v":""},"",null,null,null,{"$f":"IF(L128=\"\",\"\",VLOOKUP(L128,'Wattage Table'!$D:$E,2,0))","v":""},null,{"$f":"IF(L128=\"\",\"\",VLOOKUP(L128,'Wattage Table'!D:F,3,0))","v":""},null,{"$f":"IF(P128=\"\",\"\",VLOOKUP(P128,'Wattage Table'!D:E,2,0))","v":""},null,{"$f":"IF(P128=\"\",\"\",VLOOKUP(P128,'Wattage Table'!D:F,3,0))","v":""},null,null,{"$f":"IF(U128=\"\",\"\",IF(U128=\"None\",\"None\",INDEX('Measure Code Summary'!$D$50:$D$53,MATCH(U128,'Measure Code Summary'!$C$50:$C$53,0),1)))","v":""},null,0,0,0,{"$error":"#VALUE!"},{"$error":"#VALUE!"},"",{"$f":"IF(OR(P128=\"\",L128=\"\", D$16=\"\"),0,((S128*R128)-(O128*N128))*IF(G128=\"90C\",Validation!B$32,T128)*VLOOKUP(IF(E128=\"\",$D$16,E128),ClgHtgTypeData,3,FALSE)/1000)","v":0},0,"",{"$error":"#VALUE!"},0,{"$f":"IF(OR(U128=\"\",W128=\"\"),0,IF(U128=\"80F\",Validation!W115,(VLOOKUP(IF(D128=\"\",$D$15,D128),LtgBldgTypeData,3,FALSE)-VLOOKUP(U128,Control_Data,5)))*N128*O128*VLOOKUP(IF(E128=\"\",$D$16,E128),ClgHtgTypeData,2,FALSE)/1000)","v":0},{"$f":"IF(OR(U128=\"\",W128=\"\"),\"\",IF(VLOOKUP(L128,'Wattage Table'!D:F,3,0)*N128/W128>=VLOOKUP(U128,Control_Data,3,0),1,0))","v":""}]
[null,105,null,null,null,null,{"$f":"IF(F129=\"\",\"\",HLOOKUP(F129,Validation!$F$5:$Q$6,2,FALSE))","v":""},{"$f":"IF(G129=\"\",\"\",INDEX('Measure Code Summary'!$D$20:$D$52,MATCH(G129,'Measure Code Summary'!$C$20:$C$52,0),1))","v":""},"",null,null,null,{"$f":"IF(L129=\"\",\"\",VLOOKUP(L129,'Wattage Table'!$D:$E,2,0))","v":""},null,{"$f":"IF(L129=\"\",\"\",VLOOKUP(L129,'Wattage Table'!D:F,3,0))","v":""},null,{"$f":"IF(P129=\"\",\"\",VLOOKUP(P129,'Wattage Table'!D:E,2,0))","v":""},null,{"$f":"IF(P129=\"\",\"\",VLOOKUP(P129,'Wattage Table'!D:F,3,0))","v":""},null,null,{"$f":"IF(U129=\"\",\"\",IF(U129=\"None\",\"None\",INDEX('Measure Code Summary'!$D$50:$D$53,MATCH(U129,'Measure Code Summary'!$C$50:$C$53,0),1)))","v":""},null,0,0,0,{"$error":"#VALUE!"},{"$error":"#VALUE!"},"",{"$f":"IF(OR(P129=\"\",L129=\"\", D$16=\"\"),0,((S129*R129)-(O129*N129))*IF(G129=\"90C\",Validation!B$32,T129)*VLOOKUP(IF(E129=\"\",$D$16,E129),ClgHtgTypeData,3,FALSE)/1000)","v":0},0,"",{"$error":"#VALUE!"},0,{"$f":"IF(OR(U129=\"\",W129=\"\"),0,IF(U129=\"80F\",Validation!W116,(VLOOKUP(IF(D129=\"\",$D$15,D129),LtgBldgTypeData,3,FALSE)-VLOOKUP(U129,Control_Data,5)))*N129*O129*VLOOKUP(IF(E129=\"\",$D$16,E129),ClgHtgTypeData,2,FALSE)/1000)","v":0},{"$f":"IF(OR(U129=\"\",W129=\"\"),\"\",IF(VLOOKUP(L129,'Wattage Table'!D:F,3,0)*N129/W129>=VLOOKUP(U129,Control_Data,3,0),1,0))","v":""}]
[null,106,null,null,null,null,{"$f":"IF(F130=\"\",\"\",HLOOKUP(F130,Validation!$F$5:$Q$6,2,FALSE))","v":""},{"$f":"IF(G130=\"\",\"\",INDEX('Measure Code Summary'!$D$20:$D$52,MATCH(G130,'Measure Code Summary'!$C$20:$C$52,0),1))","v":""},"",null,null,null,{"$f":"IF(L130=\"\",\"\",VLOOKUP(L130,'Wattage Table'!$D:$E,2,0))","v":""},null,{"$f":"IF(L130=\"\",\"\",VLOOKUP(L130,'Wattage Table'!D:F,3,0))","v":""},null,{"$f":"IF(P130=\"\",\"\",VLOOKUP(P130,'Wattage Table'!D:E,2,0))","v":""},null,{"$f":"IF(P130=\"\",\"\",VLOOKUP(P130,'Wattage Table'!D:F,3,0))","v":""},null,null,{"$f":"IF(U130=\"\",\"\",IF(U130=\"None\",\"None\",INDEX('Measure Code Summary'!$D$50:$D$53,MATCH(U130,'Measure Code Summary'!$C$50:$C$53,0),1)))","v":""},null,0,0,0,{"$error":"#VALUE!"},{"$error":"#VALUE!"},"",{"$f":"IF(OR(P130=\"\",L130=\"\", D$16=\"\"),0,((S130*R130)-(O130*N130))*IF(G130=\"90C\",Validation!B$32,T130)*VLOOKUP(IF(E130=\"\",$D$16,E130),ClgHtgTypeData,3,FALSE)/1000)","v":0},0,"",{"$error":"#VALUE!"},0,{"$f":"IF(OR(U130=\"\",W130=\"\"),0,IF(U130=\"80F\",Validation!W117,(VLOOKUP(IF(D130=\"\",$D$15,D130),LtgBldgTypeData,3,FALSE)-VLOOKUP(U130,Control_Data,5)))*N130*O130*VLOOKUP(IF(E130=\"\",$D$16,E130),ClgHtgTypeData,2,FALSE)/1000)","v":0},{"$f":"IF(OR(U130=\"\",W130=\"\"),\"\",IF(VLOOKUP(L130,'Wattage Table'!D:F,3,0)*N130/W130>=VLOOKUP(U130,Control_Data,3,0),1,0))","v":""}]
[null,107,null,null,null,null,{"$f":"IF(F131=\"\",\"\",HLOOKUP(F131,Validation!$F$5:$Q$6,2,FALSE))","v":""},{"$f":"IF(G131=\"\",\"\",INDEX('Measure Code Summary'!$D$20:$D$52,MATCH(G131,'Measure Code Summary'!$C$20:$C$52,0),1))","v":""},"",null,null,null,{"$f":"IF(L131=\"\",\"\",VLOOKUP(L131,'Wattage Table'!$D:$E,2,0))","v":""},null,{"$f":"IF(L131=\"\",\"\",VLOOKUP(L131,'Wattage Table'!D:F,3,0))","v":""},null,{"$f":"IF(P131=\"\",\"\",VLOOKUP(P131,'Wattage Table'!D:E,2,0))","v":""},null,{"$f":"IF(P131=\"\",\"\",VLOOKUP(P131,'Wattage Table'!D:F,3,0))","v":""},null,null,{"$f":"IF(U131=\"\",\"\",IF(U131=\"None\",\"None\",INDEX('Measure Code Summary'!$D$50:$D$53,MATCH(U131,'Measure Code Summary'!$C$50:$C$53,0),1)))","v":""},null,0,0,0,{"$error":"#VALUE!"},{"$error":"#VALUE!"},"",{"$f":"IF(OR(P131=\"\",L131=\"\", D$16=\"\"),0,((S131*R131)-(O131*N131))*IF(G131=\"90C\",Validation!B$32,T131)*VLOOKUP(IF(E131=\"\",$D$16,E131),ClgHtgTypeData,3,FALSE)/1000)","v":0},0,"",{"$error":"#VALUE!"},0,{"$f":"IF(OR(U131=\"\",W131=\"\"),0,IF(U131=\"80F\",Validation!W118,(VLOOKUP(IF(D131=\"\",$D$15,D131),LtgBldgTypeData,3,FALSE)-VLOOKUP(U131,Control_Data,5)))*N131*O131*VLOOKUP(IF(E131=\"\",$D$16,E131),ClgHtgTypeData,2,FALSE)/1000)","v":0},{"$f":"IF(OR(U131=\"\",W131=\"\"),\"\",IF(VLOOKUP(L131,'Wattage Table'!D:F,3,0)*N131/W131>=VLOOKUP(U131,Control_Data,3,0),1,0))","v":""}]
[null,108,null,null,null,null,{"$f":"IF(F132=\"\",\"\",HLOOKUP(F132,Validation!$F$5:$Q$6,2,FALSE))","v":""},{"$f":"IF(G132=\"\",\"\",INDEX('Measure Code Summary'!$D$20:$D$52,MATCH(G132,'Measure Code Summary'!$C$20:$C$52,0),1))","v":""},"",null,null,null,{"$f":"IF(L132=\"\",\"\",VLOOKUP(L132,'Wattage Table'!$D:$E,2,0))","v":""},null,{"$f":"IF(L132=\"\",\"\",VLOOKUP(L132,'Wattage Table'!D:F,3,0))","v":""},null,{"$f":"IF(P132=\"\",\"\",VLOOKUP(P132,'Wattage Table'!D:E,2,0))","v":""},null,{"$f":"IF(P132=\"\",\"\",VLOOKUP(P132,'Wattage Table'!D:F,3,0))","v":""},null,null,{"$f":"IF(U132=\"\",\"\",IF(U132=\"None\",\"None\",INDEX('Measure Code Summary'!$D$50:$D$53,MATCH(U132,'Measure Code Summary'!$C$50:$C$53,0),1)))","v":""},null,0,0,0,{"$error":"#VALUE!"},{"$error":"#VALUE!"},"",{"$f":"IF(OR(P132=\"\",L132=\"\", D$16=\"\"),0,((S132*R132)-(O132*N132))*IF(G132=\"90C\",Validation!B$32,T132)*VLOOKUP(IF(E132=\"\",$D$16,E132),ClgHtgTypeData,3,FALSE)/1000)","v":0},0,"",{"$error":"#VALUE!"},0,{"$f":"IF(OR(U132=\"\",W132=\"\"),0,IF(U132=\"80F\",Validation!W119,(VLOOKUP(IF(D132=\"\",$D$15,D132),LtgBldgTypeData,3,FALSE)-VLOOKUP(U132,Control_Data,5)))*N132*O132*VLOOKUP(IF(E132=\"\",$D$16,E132),ClgHtgTypeData,2,FALSE)/1000)","v":0},{"$f":"IF(OR(U132=\"\",W132=\"\"),\"\",IF(VLOOKUP(L132,'Wattage Table'!D:F,3,0)*N132/W132>=VLOOKUP(U132,Control_Data,3,0),1,0))","v":""}]
[null,109,null,null,null,null,{"$f":"IF(F133=\"\",\"\",HLOOKUP(F133,Validation!$F$5:$Q$6,2,FALSE))","v":""},{"$f":"IF(G133=\"\",\"\",INDEX('Measure Code Summary'!$D$20:$D$52,MATCH(G133,'Measure Code Summary'!$C$20:$C$52,0),1))","v":""},"",null,null,null,{"$f":"IF(L133=\"\",\"\",VLOOKUP(L133,'Wattage Table'!$D:$E,2,0))","v":""},null,{"$f":"IF(L133=\"\",\"\",VLOOKUP(L133,'Wattage Table'!D:F,3,0))","v":""},null,{"$f":"IF(P133=\"\",\"\",VLOOKUP(P133,'Wattage Table'!D:E,2,0))","v":""},null,{"$f":"IF(P133=\"\",\"\",VLOOKUP(P133,'Wattage Table'!D:F,3,0))","v":""},null,null,{"$f":"IF(U133=\"\",\"\",IF(U133=\"None\",\"None\",INDEX('Measure Code Summary'!$D$50:$D$53,MATCH(U133,'Measure Code Summary'!$C$50:$C$53,0),1)))","v":""},null,0,0,0,{"$error":"#VALUE!"},{"$error":"#VALUE!"},"",{"$f":"IF(OR(P133=\"\",L133=\"\", D$16=\"\"),0,((S133*R133)-(O133*N133))*IF(G133=\"90C\",Validation!B$32,T133)*VLOOKUP(IF(E133=\"\",$D$16,E133),ClgHtgTypeData,3,FALSE)/1000)","v":0},0,"",{"$error":"#VALUE!"},0,{"$f":"IF(OR(U133=\"\",W133=\"\"),0,IF(U133=\"80F\",Validation!W120,(VLOOKUP(IF(D133=\"\",$D$15,D133),LtgBldgTypeData,3,FALSE)-VLOOKUP(U133,Control_Data,5)))*N133*O133*VLOOKUP(IF(E133=\"\",$D$16,E133),ClgHtgTypeData,2,FALSE)/1000)","v":0},{"$f":"IF(OR(U133=\"\",W133=\"\"),\"\",IF(VLOOKUP(L133,'Wattage Table'!D:F,3,0)*N133/W133>=VLOOKUP(U133,Control_Data,3,0),1,0))","v":""}]
[null,110,null,null,null,null,{"$f":"IF(F134=\"\",\"\",HLOOKUP(F134,Validation!$F$5:$Q$6,2,FALSE))","v":""},{"$f":"IF(G134=\"\",\"\",INDEX('Measure Code Summary'!$D$20:$D$52,MATCH(G134,'Measure Code Summary'!$C$20:$C$52,0),1))","v":""},"",null,null,null,{"$f":"IF(L134=\"\",\"\",VLOOKUP(L134,'Wattage Table'!$D:$E,2,0))","v":""},null,{"$f":"IF(L134=\"\",\"\",VLOOKUP(L134,'Wattage Table'!D:F,3,0))","v":""},null,{"$f":"IF(P134=\"\",\"\",VLOOKUP(P134,'Wattage Table'!D:E,2,0))","v":""},null,{"$f":"IF(P134=\"\",\"\",VLOOKUP(P134,'Wattage Table'!D:F,3,0))","v":""},null,null,{"$f":"IF(U134=\"\",\"\",IF(U134=\"None\",\"None\",INDEX('Measure Code Summary'!$D$50:$D$53,MATCH(U134,'Measure Code Summary'!$C$50:$C$53,0),1)))","v":""},null,0,0,0,{"$error":"#VALUE!"},{"$error":"#VALUE!"},"",{"$f":"IF(OR(P134=\"\",L134=\"\", D$16=\"\"),0,((S134*R134)-(O134*N134))*IF(G134=\"90C\",Validation!B$32,T134)*VLOOKUP(IF(E134=\"\",$D$16,E134),ClgHtgTypeData,3,FALSE)/1000)","v":0},0,"",{"$error":"#VALUE!"},0,{"$f":"IF(OR(U134=\"\",W134=\"\"),0,IF(U134=\"80F\",Validation!W121,(VLOOKUP(IF(D134=\"\",$D$15,D134),LtgBldgTypeData,3,FALSE)-VLOOKUP(U134,Control_Data,5)))*N134*O134*VLOOKUP(IF(E134=\"\",$D$16,E134),ClgHtgTypeData,2,FALSE)/1000)","v":0},{"$f":"IF(OR(U134=\"\",W134=\"\"),\"\",IF(VLOOKUP(L134,'Wattage Table'!D:F,3,0)*N134/W134>=VLOOKUP(U134,Control_Data,3,0),1,0))","v":""}]
[null,111,null,null,null,null,{"$f":"IF(F135=\"\",\"\",HLOOKUP(F135,Validation!$F$5:$Q$6,2,FALSE))","v":""},{"$f":"IF(G135=\"\",\"\",INDEX('Measure Code Summary'!$D$20:$D$52,MATCH(G135,'Measure Code Summary'!$C$20:$C$52,0),1))","v":""},"",null,null,null,{"$f":"IF(L135=\"\",\"\",VLOOKUP(L135,'Wattage Table'!$D:$E,2,0))","v":""},null,{"$f":"IF(L135=\"\",\"\",VLOOKUP(L135,'Wattage Table'!D:F,3,0))","v":""},null,{"$f":"IF(P135=\"\",\"\",VLOOKUP(P135,'Wattage Table'!D:E,2,0))","v":""},null,{"$f":"IF(P135=\"\",\"\",VLOOKUP(P135,'Wattage Table'!D:F,3,0))","v":""},null,null,{"$f":"IF(U135=\"\",\"\",IF(U135=\"None\",\"None\",INDEX('Measure Code Summary'!$D$50:$D$53,MATCH(U135,'Measure Code Summary'!$C$50:$C$53,0),1)))","v":""},null,0,0,0,{"$error":"#VALUE!"},{"$error":"#VALUE!"},"",{"$f":"IF(OR(P135=\"\",L135=\"\", D$16=\"\"),0,((S135*R135)-(O135*N135))*IF(G135=\"90C\",Validation!B$32,T135)*VLOOKUP(IF(E135=\"\",$D$16,E135),ClgHtgTypeData,3,FALSE)/1000)","v":0},0,"",{"$error":"#VALUE!"},0,{"$f":"IF(OR(U135=\"\",W135=\"\"),0,IF(U135=\"80F\",Validation!W122,(VLOOKUP(IF(D135=\"\",$D$15,D135),LtgBldgTypeData,3,FALSE)-VLOOKUP(U135,Control_Data,5)))*N135*O135*VLOOKUP(IF(E135=\"\",$D$16,E135),ClgHtgTypeData,2,FALSE)/1000)","v":0},{"$f":"IF(OR(U135=\"\",W135=\"\"),\"\",IF(VLOOKUP(L135,'Wattage Table'!D:F,3,0)*N135/W135>=VLOOKUP(U135,Control_Data,3,0),1,0))","v":""}]
[null,112,null,null,null,null,{"$f":"IF(F136=\"\",\"\",HLOOKUP(F136,Validation!$F$5:$Q$6,2,FALSE))","v":""},{"$f":"IF(G136=\"\",\"\",INDEX('Measure Code Summary'!$D$20:$D$52,MATCH(G136,'Measure Code Summary'!$C$20:$C$52,0),1))","v":""},"",null,null,null,{"$f":"IF(L136=\"\",\"\",VLOOKUP(L136,'Wattage Table'!$D:$E,2,0))","v":""},null,{"$f":"IF(L136=\"\",\"\",VLOOKUP(L136,'Wattage Table'!D:F,3,0))","v":""},null,{"$f":"IF(P136=\"\",\"\",VLOOKUP(P136,'Wattage Table'!D:E,2,0))","v":""},null,{"$f":"IF(P136=\"\",\"\",VLOOKUP(P136,'Wattage Table'!D:F,3,0))","v":""},null,null,{"$f":"IF(U136=\"\",\"\",IF(U136=\"None\",\"None\",INDEX('Measure Code Summary'!$D$50:$D$53,MATCH(U136,'Measure Code Summary'!$C$50:$C$53,0),1)))","v":""},null,0,0,0,{"$error":"#VALUE!"},{"$error":"#VALUE!"},"",{"$f":"IF(OR(P136=\"\",L136=\"\", D$16=\"\"),0,((S136*R136)-(O136*N136))*IF(G136=\"90C\",Validation!B$32,T136)*VLOOKUP(IF(E136=\"\",$D$16,E136),ClgHtgTypeData,3,FALSE)/1000)","v":0},0,"",{"$error":"#VALUE!"},0,{"$f":"IF(OR(U136=\"\",W136=\"\"),0,IF(U136=\"80F\",Validation!W123,(VLOOKUP(IF(D136=\"\",$D$15,D136),LtgBldgTypeData,3,FALSE)-VLOOKUP(U136,Control_Data,5)))*N136*O136*VLOOKUP(IF(E136=\"\",$D$16,E136),ClgHtgTypeData,2,FALSE)/1000)","v":0},{"$f":"IF(OR(U136=\"\",W136=\"\"),\"\",IF(VLOOKUP(L136,'Wattage Table'!D:F,3,0)*N136/W136>=VLOOKUP(U136,Control_Data,3,0),1,0))","v":""}]
[null,113,null,null,null,null,{"$f":"IF(F137=\"\",\"\",HLOOKUP(F137,Validation!$F$5:$Q$6,2,FALSE))","v":""},{"$f":"IF(G137=\"\",\"\",INDEX('Measure Code Summary'!$D$20:$D$52,MATCH(G137,'Measure Code Summary'!$C$20:$C$52,0),1))","v":""},"",null,null,null,{"$f":"IF(L137=\"\",\"\",VLOOKUP(L137,'Wattage Table'!$D:$E,2,0))","v":""},null,{"$f":"IF(L137=\"\",\"\",VLOOKUP(L137,'Wattage Table'!D:F,3,0))","v":""},null,{"$f":"IF(P137=\"\",\"\",VLOOKUP(P137,'Wattage Table'!D:E,2,0))","v":""},null,{"$f":"IF(P137=\"\",\"\",VLOOKUP(P137,'Wattage Table'!D:F,3,0))","v":""},null,null,{"$f":"IF(U137=\"\",\"\",IF(U137=\"None\",\"None\",INDEX('Measure Code Summary'!$D$50:$D$53,MATCH(U137,'Measure Code Summary'!$C$50:$C$53,0),1)))","v":""},null,0,0,0,{"$error":"#VALUE!"},{"$error":"#VALUE!"},"",{"$f":"IF(OR(P137=\"\",L137=\"\", D$16=\"\"),0,((S137*R137)-(O137*N137))*IF(G137=\"90C\",Validation!B$32,T137)*VLOOKUP(IF(E137=\"\",$D$16,E137),ClgHtgTypeData,3,FALSE)/1000)","v":0},0,"",{"$error":"#VALUE!"},0,{"$f":"IF(OR(U137=\"\",W137=\"\"),0,IF(U137=\"80F\",Validation!W124,(VLOOKUP(IF(D137=\"\",$D$15,D137),LtgBldgTypeData,3,FALSE)-VLOOKUP(U137,Control_Data,5)))*N137*O137*VLOOKUP(IF(E137=\"\",$D$16,E137),ClgHtgTypeData,2,FALSE)/1000)","v":0},{"$f":"IF(OR(U137=\"\",W137=\"\"),\"\",IF(VLOOKUP(L137,'Wattage Table'!D:F,3,0)*N137/W137>=VLOOKUP(U137,Control_Data,3,0),1,0))","v":""}]
[null,114,null,null,null,null,{"$f":"IF(F138=\"\",\"\",HLOOKUP(F138,Validation!$F$5:$Q$6,2,FALSE))","v":""},{"$f":"IF(G138=\"\",\"\",INDEX('Measure Code Summary'!$D$20:$D$52,MATCH(G138,'Measure Code Summary'!$C$20:$C$52,0),1))","v":""},"",null,null,null,{"$f":"IF(L138=\"\",\"\",VLOOKUP(L138,'Wattage Table'!$D:$E,2,0))","v":""},null,{"$f":"IF(L138=\"\",\"\",VLOOKUP(L138,'Wattage Table'!D:F,3,0))","v":""},null,{"$f":"IF(P138=\"\",\"\",VLOOKUP(P138,'Wattage Table'!D:E,2,0))","v":""},null,{"$f":"IF(P138=\"\",\"\",VLOOKUP(P138,'Wattage Table'!D:F,3,0))","v":""},null,null,{"$f":"IF(U138=\"\",\"\",IF(U138=\"None\",\"None\",INDEX('Measure Code Summary'!$D$50:$D$53,MATCH(U138,'Measure Code Summary'!$C$50:$C$53,0),1)))","v":""},null,0,0,0,{"$error":"#VALUE!"},{"$error":"#VALUE!"},"",{"$f":"IF(OR(P138=\"\",L138=\"\", D$16=\"\"),0,((S138*R138)-(O138*N138))*IF(G138=\"90C\",Validation!B$32,T138)*VLOOKUP(IF(E138=\"\",$D$16,E138),ClgHtgTypeData,3,FALSE)/1000)","v":0},0,"",{"$error":"#VALUE!"},0,{"$f":"IF(OR(U138=\"\",W138=\"\"),0,IF(U138=\"80F\",Validation!W125,(VLOOKUP(IF(D138=\"\",$D$15,D138),LtgBldgTypeData,3,FALSE)-VLOOKUP(U138,Control_Data,5)))*N138*O138*VLOOKUP(IF(E138=\"\",$D$16,E138),ClgHtgTypeData,2,FALSE)/1000)","v":0},{"$f":"IF(OR(U138=\"\",W138=\"\"),\"\",IF(VLOOKUP(L138,'Wattage Table'!D:F,3,0)*N138/W138>=VLOOKUP(U138,Control_Data,3,0),1,0))","v":""}]
[null,115,null,null,null,null,{"$f":"IF(F139=\"\",\"\",HLOOKUP(F139,Validation!$F$5:$Q$6,2,FALSE))","v":""},{"$f":"IF(G139=\"\",\"\",INDEX('Measure Code Summary'!$D$20:$D$52,MATCH(G139,'Measure Code Summary'!$C$20:$C$52,0),1))","v":""},"",null,null,null,{"$f":"IF(L139=\"\",\"\",VLOOKUP(L139,'Wattage Table'!$D:$E,2,0))","v":""},null,{"$f":"IF(L139=\"\",\"\",VLOOKUP(L139,'Wattage Table'!D:F,3,0))","v":""},null,{"$f":"IF(P139=\"\",\"\",VLOOKUP(P139,'Wattage Table'!D:E,2,0))","v":""},null,{"$f":"IF(P139=\"\",\"\",VLOOKUP(P139,'Wattage Table'!D:F,3,0))","v":""},null,null,{"$f":"IF(U139=\"\",\"\",IF(U139=\"None\",\"None\",INDEX('Measure Code Summary'!$D$50:$D$53,MATCH(U139,'Measure Code Summary'!$C$50:$C$53,0),1)))","v":""},null,0,0,0,{"$error":"#VALUE!"},{"$error":"#VALUE!"},"",{"$f":"IF(OR(P139=\"\",L139=\"\", D$16=\"\"),0,((S139*R139)-(O139*N139))*IF(G139=\"90C\",Validation!B$32,T139)*VLOOKUP(IF(E139=\"\",$D$16,E139),ClgHtgTypeData,3,FALSE)/1000)","v":0},0,"",{"$error":"#VALUE!"},0,{"$f":"IF(OR(U139=\"\",W139=\"\"),0,IF(U139=\"80F\",Validation!W126,(VLOOKUP(IF(D139=\"\",$D$15,D139),LtgBldgTypeData,3,FALSE)-VLOOKUP(U139,Control_Data,5)))*N139*O139*VLOOKUP(IF(E139=\"\",$D$16,E139),ClgHtgTypeData,2,FALSE)/1000)","v":0},{"$f":"IF(OR(U139=\"\",W139=\"\"),\"\",IF(VLOOKUP(L139,'Wattage Table'!D:F,3,0)*N139/W139>=VLOOKUP(U139,Control_Data,3,0),1,0))","v":""}]
[null,116,null,null,null,null,{"$f":"IF(F140=\"\",\"\",HLOOKUP(F140,Validation!$F$5:$Q$6,2,FALSE))","v":""},{"$f":"IF(G140=\"\",\"\",INDEX('Measure Code Summary'!$D$20:$D$52,MATCH(G140,'Measure Code Summary'!$C$20:$C$52,0),1))","v":""},"",null,null,null,{"$f":"IF(L140=\"\",\"\",VLOOKUP(L140,'Wattage Table'!$D:$E,2,0))","v":""},null,{"$f":"IF(L140=\"\",\"\",VLOOKUP(L140,'Wattage Table'!D:F,3,0))","v":""},null,{"$f":"IF(P140=\"\",\"\",VLOOKUP(P140,'Wattage Table'!D:E,2,0))","v":""},null,{"$f":"IF(P140=\"\",\"\",VLOOKUP(P140,'Wattage Table'!D:F,3,0))","v":""},null,null,{"$f":"IF(U140=\"\",\"\",IF(U140=\"None\",\"None\",INDEX('Measure Code Summary'!$D$50:$D$53,MATCH(U140,'Measure Code Summary'!$C$50:$C$53,0),1)))","v":""},null,0,0,0,{"$error":"#VALUE!"},{"$error":"#VALUE!"},"",{"$f":"IF(OR(P140=\"\",L140=\"\", D$16=\"\"),0,((S140*R140)-(O140*N140))*IF(G140=\"90C\",Validation!B$32,T140)*VLOOKUP(IF(E140=\"\",$D$16,E140),ClgHtgTypeData,3,FALSE)/1000)","v":0},0,"",{"$error":"#VALUE!"},0,{"$f":"IF(OR(U140=\"\",W140=\"\"),0,IF(U140=\"80F\",Validation!W127,(VLOOKUP(IF(D140=\"\",$D$15,D140),LtgBldgTypeData,3,FALSE)-VLOOKUP(U140,Control_Data,5)))*N140*O140*VLOOKUP(IF(E140=\"\",$D$16,E140),ClgHtgTypeData,2,FALSE)/1000)","v":0},{"$f":"IF(OR(U140=\"\",W140=\"\"),\"\",IF(VLOOKUP(L140,'Wattage Table'!D:F,3,0)*N140/W140>=VLOOKUP(U140,Control_Data,3,0),1,0))","v":""}]
[null,117,null,null,null,null,{"$f":"IF(F141=\"\",\"\",HLOOKUP(F141,Validation!$F$5:$Q$6,2,FALSE))","v":""},{"$f":"IF(G141=\"\",\"\",INDEX('Measure Code Summary'!$D$20:$D$52,MATCH(G141,'Measure Code Summary'!$C$20:$C$52,0),1))","v":""},"",null,null,null,{"$f":"IF(L141=\"\",\"\",VLOOKUP(L141,'Wattage Table'!$D:$E,2,0))","v":""},null,{"$f":"IF(L141=\"\",\"\",VLOOKUP(L141,'Wattage Table'!D:F,3,0))","v":""},null,{"$f":"IF(P141=\"\",\"\",VLOOKUP(P141,'Wattage Table'!D:E,2,0))","v":""},null,{"$f":"IF(P141=\"\",\"\",VLOOKUP(P141,'Wattage Table'!D:F,3,0))","v":""},null,null,{"$f":"IF(U141=\"\",\"\",IF(U141=\"None\",\"None\",INDEX('Measure Code Summary'!$D$50:$D$53,MATCH(U141,'Measure Code Summary'!$C$50:$C$53,0),1)))","v":""},null,0,0,0,{"$error":"#VALUE!"},{"$error":"#VALUE!"},"",{"$f":"IF(OR(P141=\"\",L141=\"\", D$16=\"\"),0,((S141*R141)-(O141*N141))*IF(G141=\"90C\",Validation!B$32,T141)*VLOOKUP(IF(E141=\"\",$D$16,E141),ClgHtgTypeData,3,FALSE)/1000)","v":0},0,"",{"$error":"#VALUE!"},0,{"$f":"IF(OR(U141=\"\",W141=\"\"),0,IF(U141=\"80F\",Validation!W128,(VLOOKUP(IF(D141=\"\",$D$15,D141),LtgBldgTypeData,3,FALSE)-VLOOKUP(U141,Control_Data,5)))*N141*O141*VLOOKUP(IF(E141=\"\",$D$16,E141),ClgHtgTypeData,2,FALSE)/1000)","v":0},{"$f":"IF(OR(U141=\"\",W141=\"\"),\"\",IF(VLOOKUP(L141,'Wattage Table'!D:F,3,0)*N141/W141>=VLOOKUP(U141,Control_Data,3,0),1,0))","v":""}]
[null,118,null,null,null,null,{"$f":"IF(F142=\"\",\"\",HLOOKUP(F142,Validation!$F$5:$Q$6,2,FALSE))","v":""},{"$f":"IF(G142=\"\",\"\",INDEX('Measure Code Summary'!$D$20:$D$52,MATCH(G142,'Measure Code Summary'!$C$20:$C$52,0),1))","v":""},"",null,null,null,{"$f":"IF(L142=\"\",\"\",VLOOKUP(L142,'Wattage Table'!$D:$E,2,0))","v":""},null,{"$f":"IF(L142=\"\",\"\",VLOOKUP(L142,'Wattage Table'!D:F,3,0))","v":""},null,{"$f":"IF(P142=\"\",\"\",VLOOKUP(P142,'Wattage Table'!D:E,2,0))","v":""},null,{"$f":"IF(P142=\"\",\"\",VLOOKUP(P142,'Wattage Table'!D:F,3,0))","v":""},null,null,{"$f":"IF(U142=\"\",\"\",IF(U142=\"None\",\"None\",INDEX('Measure Code Summary'!$D$50:$D$53,MATCH(U142,'Measure Code Summary'!$C$50:$C$53,0),1)))","v":""},null,0,0,0,{"$error":"#VALUE!"},{"$error":"#VALUE!"},"",{"$f":"IF(OR(P142=\"\",L142=\"\", D$16=\"\"),0,((S142*R142)-(O142*N142))*IF(G142=\"90C\",Validation!B$32,T142)*VLOOKUP(IF(E142=\"\",$D$16,E142),ClgHtgTypeData,3,FALSE)/1000)","v":0},0,"",{"$error":"#VALUE!"},0,{"$f":"IF(OR(U142=\"\",W142=\"\"),0,IF(U142=\"80F\",Validation!W129,(VLOOKUP(IF(D142=\"\",$D$15,D142),LtgBldgTypeData,3,FALSE)-VLOOKUP(U142,Control_Data,5)))*N142*O142*VLOOKUP(IF(E142=\"\",$D$16,E142),ClgHtgTypeData,2,FALSE)/1000)","v":0},{"$f":"IF(OR(U142=\"\",W142=\"\"),\"\",IF(VLOOKUP(L142,'Wattage Table'!D:F,3,0)*N142/W142>=VLOOKUP(U142,Control_Data,3,0),1,0))","v":""}]
[null,119,null,null,null,null,{"$f":"IF(F143=\"\",\"\",HLOOKUP(F143,Validation!$F$5:$Q$6,2,FALSE))","v":""},{"$f":"IF(G143=\"\",\"\",INDEX('Measure Code Summary'!$D$20:$D$52,MATCH(G143,'Measure Code Summary'!$C$20:$C$52,0),1))","v":""},"",null,null,null,{"$f":"IF(L143=\"\",\"\",VLOOKUP(L143,'Wattage Table'!$D:$E,2,0))","v":""},null,{"$f":"IF(L143=\"\",\"\",VLOOKUP(L143,'Wattage Table'!D:F,3,0))","v":""},null,{"$f":"IF(P143=\"\",\"\",VLOOKUP(P143,'Wattage Table'!D:E,2,0))","v":""},null,{"$f":"IF(P143=\"\",\"\",VLOOKUP(P143,'Wattage Table'!D:F,3,0))","v":""},null,null,{"$f":"IF(U143=\"\",\"\",IF(U143=\"None\",\"None\",INDEX('Measure Code Summary'!$D$50:$D$53,MATCH(U143,'Measure Code Summary'!$C$50:$C$53,0),1)))","v":""},null,0,0,0,{"$error":"#VALUE!"},{"$error":"#VALUE!"},"",{"$f":"IF(OR(P143=\"\",L143=\"\", D$16=\"\"),0,((S143*R143)-(O143*N143))*IF(G143=\"90C\",Validation!B$32,T143)*VLOOKUP(IF(E143=\"\",$D$16,E143),ClgHtgTypeData,3,FALSE)/1000)","v":0},0,"",{"$error":"#VALUE!"},0,{"$f":"IF(OR(U143=\"\",W143=\"\"),0,IF(U143=\"80F\",Validation!W130,(VLOOKUP(IF(D143=\"\",$D$15,D143),LtgBldgTypeData,3,FALSE)-VLOOKUP(U143,Control_Data,5)))*N143*O143*VLOOKUP(IF(E143=\"\",$D$16,E143),ClgHtgTypeData,2,FALSE)/1000)","v":0},{"$f":"IF(OR(U143=\"\",W143=\"\"),\"\",IF(VLOOKUP(L143,'Wattage Table'!D:F,3,0)*N143/W143>=VLOOKUP(U143,Control_Data,3,0),1,0))","v":""}]
[null,120,null,null,null,null,{"$f":"IF(F144=\"\",\"\",HLOOKUP(F144,Validation!$F$5:$Q$6,2,FALSE))","v":""},{"$f":"IF(G144=\"\",\"\",INDEX('Measure Code Summary'!$D$20:$D$52,MATCH(G144,'Measure Code Summary'!$C$20:$C$52,0),1))","v":""},"",null,null,null,{"$f":"IF(L144=\"\",\"\",VLOOKUP(L144,'Wattage Table'!$D:$E,2,0))","v":""},null,{"$f":"IF(L144=\"\",\"\",VLOOKUP(L144,'Wattage Table'!D:F,3,0))","v":""},null,{"$f":"IF(P144=\"\",\"\",VLOOKUP(P144,'Wattage Table'!D:E,2,0))","v":""},null,{"$f":"IF(P144=\"\",\"\",VLOOKUP(P144,'Wattage Table'!D:F,3,0))","v":""},null,null,{"$f":"IF(U144=\"\",\"\",IF(U144=\"None\",\"None\",INDEX('Measure Code Summary'!$D$50:$D$53,MATCH(U144,'Measure Code Summary'!$C$50:$C$53,0),1)))","v":""},null,0,0,0,{"$error":"#VALUE!"},{"$error":"#VALUE!"},"",{"$f":"IF(OR(P144=\"\",L144=\"\", D$16=\"\"),0,((S144*R144)-(O144*N144))*IF(G144=\"90C\",Validation!B$32,T144)*VLOOKUP(IF(E144=\"\",$D$16,E144),ClgHtgTypeData,3,FALSE)/1000)","v":0},0,"",{"$error":"#VALUE!"},0,{"$f":"IF(OR(U144=\"\",W144=\"\"),0,IF(U144=\"80F\",Validation!W131,(VLOOKUP(IF(D144=\"\",$D$15,D144),LtgBldgTypeData,3,FALSE)-VLOOKUP(U144,Control_Data,5)))*N144*O144*VLOOKUP(IF(E144=\"\",$D$16,E144),ClgHtgTypeData,2,FALSE)/1000)","v":0},{"$f":"IF(OR(U144=\"\",W144=\"\"),\"\",IF(VLOOKUP(L144,'Wattage Table'!D:F,3,0)*N144/W144>=VLOOKUP(U144,Control_Data,3,0),1,0))","v":""}]
[null,121,null,null,null,null,{"$f":"IF(F145=\"\",\"\",HLOOKUP(F145,Validation!$F$5:$Q$6,2,FALSE))","v":""},{"$f":"IF(G145=\"\",\"\",INDEX('Measure Code Summary'!$D$20:$D$52,MATCH(G145,'Measure Code Summary'!$C$20:$C$52,0),1))","v":""},"",null,null,null,{"$f":"IF(L145=\"\",\"\",VLOOKUP(L145,'Wattage Table'!$D:$E,2,0))","v":""},null,{"$f":"IF(L145=\"\",\"\",VLOOKUP(L145,'Wattage Table'!D:F,3,0))","v":""},null,{"$f":"IF(P145=\"\",\"\",VLOOKUP(P145,'Wattage Table'!D:E,2,0))","v":""},null,{"$f":"IF(P145=\"\",\"\",VLOOKUP(P145,'Wattage Table'!D:F,3,0))","v":""},null,null,{"$f":"IF(U145=\"\",\"\",IF(U145=\"None\",\"None\",INDEX('Measure Code Summary'!$D$50:$D$53,MATCH(U145,'Measure Code Summary'!$C$50:$C$53,0),1)))","v":""},null,0,0,0,{"$error":"#VALUE!"},{"$error":"#VALUE!"},"",{"$f":"IF(OR(P145=\"\",L145=\"\", D$16=\"\"),0,((S145*R145)-(O145*N145))*IF(G145=\"90C\",Validation!B$32,T145)*VLOOKUP(IF(E145=\"\",$D$16,E145),ClgHtgTypeData,3,FALSE)/1000)","v":0},0,"",{"$error":"#VALUE!"},0,{"$f":"IF(OR(U145=\"\",W145=\"\"),0,IF(U145=\"80F\",Validation!W132,(VLOOKUP(IF(D145=\"\",$D$15,D145),LtgBldgTypeData,3,FALSE)-VLOOKUP(U145,Control_Data,5)))*N145*O145*VLOOKUP(IF(E145=\"\",$D$16,E145),ClgHtgTypeData,2,FALSE)/1000)","v":0},{"$f":"IF(OR(U145=\"\",W145=\"\"),\"\",IF(VLOOKUP(L145,'Wattage Table'!D:F,3,0)*N145/W145>=VLOOKUP(U145,Control_Data,3,0),1,0))","v":""}]
[null,122,null,null,null,null,{"$f":"IF(F146=\"\",\"\",HLOOKUP(F146,Validation!$F$5:$Q$6,2,FALSE))","v":""},{"$f":"IF(G146=\"\",\"\",INDEX('Measure Code Summary'!$D$20:$D$52,MATCH(G146,'Measure Code Summary'!$C$20:$C$52,0),1))","v":""},"",null,null,null,{"$f":"IF(L146=\"\",\"\",VLOOKUP(L146,'Wattage Table'!$D:$E,2,0))","v":""},null,{"$f":"IF(L146=\"\",\"\",VLOOKUP(L146,'Wattage Table'!D:F,3,0))","v":""},null,{"$f":"IF(P146=\"\",\"\",VLOOKUP(P146,'Wattage Table'!D:E,2,0))","v":""},null,{"$f":"IF(P146=\"\",\"\",VLOOKUP(P146,'Wattage Table'!D:F,3,0))","v":""},null,null,{"$f":"IF(U146=\"\",\"\",IF(U146=\"None\",\"None\",INDEX('Measure Code Summary'!$D$50:$D$53,MATCH(U146,'Measure Code Summary'!$C$50:$C$53,0),1)))","v":""},null,0,0,0,{"$error":"#VALUE!"},{"$error":"#VALUE!"},"",{"$f":"IF(OR(P146=\"\",L146=\"\", D$16=\"\"),0,((S146*R146)-(O146*N146))*IF(G146=\"90C\",Validation!B$32,T146)*VLOOKUP(IF(E146=\"\",$D$16,E146),ClgHtgTypeData,3,FALSE)/1000)","v":0},0,"",{"$error":"#VALUE!"},0,{"$f":"IF(OR(U146=\"\",W146=\"\"),0,IF(U146=\"80F\",Validation!W133,(VLOOKUP(IF(D146=\"\",$D$15,D146),LtgBldgTypeData,3,FALSE)-VLOOKUP(U146,Control_Data,5)))*N146*O146*VLOOKUP(IF(E146=\"\",$D$16,E146),ClgHtgTypeData,2,FALSE)/1000)","v":0},{"$f":"IF(OR(U146=\"\",W146=\"\"),\"\",IF(VLOOKUP(L146,'Wattage Table'!D:F,3,0)*N146/W146>=VLOOKUP(U146,Control_Data,3,0),1,0))","v":""}]
[null,123,null,null,null,null,{"$f":"IF(F147=\"\",\"\",HLOOKUP(F147,Validation!$F$5:$Q$6,2,FALSE))","v":""},{"$f":"IF(G147=\"\",\"\",INDEX('Measure Code Summary'!$D$20:$D$52,MATCH(G147,'Measure Code Summary'!$C$20:$C$52,0),1))","v":""},"",null,null,null,{"$f":"IF(L147=\"\",\"\",VLOOKUP(L147,'Wattage Table'!$D:$E,2,0))","v":""},null,{"$f":"IF(L147=\"\",\"\",VLOOKUP(L147,'Wattage Table'!D:F,3,0))","v":""},null,{"$f":"IF(P147=\"\",\"\",VLOOKUP(P147,'Wattage Table'!D:E,2,0))","v":""},null,{"$f":"IF(P147=\"\",\"\",VLOOKUP(P147,'Wattage Table'!D:F,3,0))","v":""},null,null,{"$f":"IF(U147=\"\",\"\",IF(U147=\"None\",\"None\",INDEX('Measure Code Summary'!$D$50:$D$53,MATCH(U147,'Measure Code Summary'!$C$50:$C$53,0),1)))","v":""},null,0,0,0,{"$error":"#VALUE!"},{"$error":"#VALUE!"},"",{"$f":"IF(OR(P147=\"\",L147=\"\", D$16=\"\"),0,((S147*R147)-(O147*N147))*IF(G147=\"90C\",Validation!B$32,T147)*VLOOKUP(IF(E147=\"\",$D$16,E147),ClgHtgTypeData,3,FALSE)/1000)","v":0},0,"",{"$error":"#VALUE!"},0,{"$f":"IF(OR(U147=\"\",W147=\"\"),0,IF(U147=\"80F\",Validation!W134,(VLOOKUP(IF(D147=\"\",$D$15,D147),LtgBldgTypeData,3,FALSE)-VLOOKUP(U147,Control_Data,5)))*N147*O147*VLOOKUP(IF(E147=\"\",$D$16,E147),ClgHtgTypeData,2,FALSE)/1000)","v":0},{"$f":"IF(OR(U147=\"\",W147=\"\"),\"\",IF(VLOOKUP(L147,'Wattage Table'!D:F,3,0)*N147/W147>=VLOOKUP(U147,Control_Data,3,0),1,0))","v":""}]
[null,124,null,null,null,null,{"$f":"IF(F148=\"\",\"\",HLOOKUP(F148,Validation!$F$5:$Q$6,2,FALSE))","v":""},{"$f":"IF(G148=\"\",\"\",INDEX('Measure Code Summary'!$D$20:$D$52,MATCH(G148,'Measure Code Summary'!$C$20:$C$52,0),1))","v":""},"",null,null,null,{"$f":"IF(L148=\"\",\"\",VLOOKUP(L148,'Wattage Table'!$D:$E,2,0))","v":""},null,{"$f":"IF(L148=\"\",\"\",VLOOKUP(L148,'Wattage Table'!D:F,3,0))","v":""},null,{"$f":"IF(P148=\"\",\"\",VLOOKUP(P148,'Wattage Table'!D:E,2,0))","v":""},null,{"$f":"IF(P148=\"\",\"\",VLOOKUP(P148,'Wattage Table'!D:F,3,0))","v":""},null,null,{"$f":"IF(U148=\"\",\"\",IF(U148=\"None\",\"None\",INDEX('Measure Code Summary'!$D$50:$D$53,MATCH(U148,'Measure Code Summary'!$C$50:$C$53,0),1)))","v":""},null,0,0,0,{"$error":"#VALUE!"},{"$error":"#VALUE!"},"",{"$f":"IF(OR(P148=\"\",L148=\"\", D$16=\"\"),0,((S148*R148)-(O148*N148))*IF(G148=\"90C\",Validation!B$32,T148)*VLOOKUP(IF(E148=\"\",$D$16,E148),ClgHtgTypeData,3,FALSE)/1000)","v":0},0,"",{"$error":"#VALUE!"},0,{"$f":"IF(OR(U148=\"\",W148=\"\"),0,IF(U148=\"80F\",Validation!W135,(VLOOKUP(IF(D148=\"\",$D$15,D148),LtgBldgTypeData,3,FALSE)-VLOOKUP(U148,Control_Data,5)))*N148*O148*VLOOKUP(IF(E148=\"\",$D$16,E148),ClgHtgTypeData,2,FALSE)/1000)","v":0},{"$f":"IF(OR(U148=\"\",W148=\"\"),\"\",IF(VLOOKUP(L148,'Wattage Table'!D:F,3,0)*N148/W148>=VLOOKUP(U148,Control_Data,3,0),1,0))","v":""}]
[null,125,null,null,null,null,{"$f":"IF(F149=\"\",\"\",HLOOKUP(F149,Validation!$F$5:$Q$6,2,FALSE))","v":""},{"$f":"IF(G149=\"\",\"\",INDEX('Measure Code Summary'!$D$20:$D$52,MATCH(G149,'Measure Code Summary'!$C$20:$C$52,0),1))","v":""},"",null,null,null,{"$f":"IF(L149=\"\",\"\",VLOOKUP(L149,'Wattage Table'!$D:$E,2,0))","v":""},null,{"$f":"IF(L149=\"\",\"\",VLOOKUP(L149,'Wattage Table'!D:F,3,0))","v":""},null,{"$f":"IF(P149=\"\",\"\",VLOOKUP(P149,'Wattage Table'!D:E,2,0))","v":""},null,{"$f":"IF(P149=\"\",\"\",VLOOKUP(P149,'Wattage Table'!D:F,3,0))","v":""},null,null,{"$f":"IF(U149=\"\",\"\",IF(U149=\"None\",\"None\",INDEX('Measure Code Summary'!$D$50:$D$53,MATCH(U149,'Measure Code Summary'!$C$50:$C$53,0),1)))","v":""},null,0,0,0,{"$error":"#VALUE!"},{"$error":"#VALUE!"},"",{"$f":"IF(OR(P149=\"\",L149=\"\", D$16=\"\"),0,((S149*R149)-(O149*N149))*IF(G149=\"90C\",Validation!B$32,T149)*VLOOKUP(IF(E149=\"\",$D$16,E149),ClgHtgTypeData,3,FALSE)/1000)","v":0},0,"",{"$error":"#VALUE!"},0,{"$f":"IF(OR(U149=\"\",W149=\"\"),0,IF(U149=\"80F\",Validation!W136,(VLOOKUP(IF(D149=\"\",$D$15,D149),LtgBldgTypeData,3,FALSE)-VLOOKUP(U149,Control_Data,5)))*N149*O149*VLOOKUP(IF(E149=\"\",$D$16,E149),ClgHtgTypeData,2,FALSE)/1000)","v":0},{"$f":"IF(OR(U149=\"\",W149=\"\"),\"\",IF(VLOOKUP(L149,'Wattage Table'!D:F,3,0)*N149/W149>=VLOOKUP(U149,Control_Data,3,0),1,0))","v":""}]
[null,126,null,null,null,null,{"$f":"IF(F150=\"\",\"\",HLOOKUP(F150,Validation!$F$5:$Q$6,2,FALSE))","v":""},{"$f":"IF(G150=\"\",\"\",INDEX('Measure Code Summary'!$D$20:$D$52,MATCH(G150,'Measure Code Summary'!$C$20:$C$52,0),1))","v":""},"",null,null,null,{"$f":"IF(L150=\"\",\"\",VLOOKUP(L150,'Wattage Table'!$D:$E,2,0))","v":""},null,{"$f":"IF(L150=\"\",\"\",VLOOKUP(L150,'Wattage Table'!D:F,3,0))","v":""},null,{"$f":"IF(P150=\"\",\"\",VLOOKUP(P150,'Wattage Table'!D:E,2,0))","v":""},null,{"$f":"IF(P150=\"\",\"\",VLOOKUP(P150,'Wattage Table'!D:F,3,0))","v":""},null,null,{"$f":"IF(U150=\"\",\"\",IF(U150=\"None\",\"None\",INDEX('Measure Code Summary'!$D$50:$D$53,MATCH(U150,'Measure Code Summary'!$C$50:$C$53,0),1)))","v":""},null,0,0,0,{"$error":"#VALUE!"},{"$error":"#VALUE!"},"",{"$f":"IF(OR(P150=\"\",L150=\"\", D$16=\"\"),0,((S150*R150)-(O150*N150))*IF(G150=\"90C\",Validation!B$32,T150)*VLOOKUP(IF(E150=\"\",$D$16,E150),ClgHtgTypeData,3,FALSE)/1000)","v":0},0,"",{"$error":"#VALUE!"},0,{"$f":"IF(OR(U150=\"\",W150=\"\"),0,IF(U150=\"80F\",Validation!W137,(VLOOKUP(IF(D150=\"\",$D$15,D150),LtgBldgTypeData,3,FALSE)-VLOOKUP(U150,Control_Data,5)))*N150*O150*VLOOKUP(IF(E150=\"\",$D$16,E150),ClgHtgTypeData,2,FALSE)/1000)","v":0},{"$f":"IF(OR(U150=\"\",W150=\"\"),\"\",IF(VLOOKUP(L150,'Wattage Table'!D:F,3,0)*N150/W150>=VLOOKUP(U150,Control_Data,3,0),1,0))","v":""}]
[null,127,null,null,null,null,{"$f":"IF(F151=\"\",\"\",HLOOKUP(F151,Validation!$F$5:$Q$6,2,FALSE))","v":""},{"$f":"IF(G151=\"\",\"\",INDEX('Measure Code Summary'!$D$20:$D$52,MATCH(G151,'Measure Code Summary'!$C$20:$C$52,0),1))","v":""},"",null,null,null,{"$f":"IF(L151=\"\",\"\",VLOOKUP(L151,'Wattage Table'!$D:$E,2,0))","v":""},null,{"$f":"IF(L151=\"\",\"\",VLOOKUP(L151,'Wattage Table'!D:F,3,0))","v":""},null,{"$f":"IF(P151=\"\",\"\",VLOOKUP(P151,'Wattage Table'!D:E,2,0))","v":""},null,{"$f":"IF(P151=\"\",\"\",VLOOKUP(P151,'Wattage Table'!D:F,3,0))","v":""},null,null,{"$f":"IF(U151=\"\",\"\",IF(U151=\"None\",\"None\",INDEX('Measure Code Summary'!$D$50:$D$53,MATCH(U151,'Measure Code Summary'!$C$50:$C$53,0),1)))","v":""},null,0,0,0,{"$error":"#VALUE!"},{"$error":"#VALUE!"},"",{"$f":"IF(OR(P151=\"\",L151=\"\", D$16=\"\"),0,((S151*R151)-(O151*N151))*IF(G151=\"90C\",Validation!B$32,T151)*VLOOKUP(IF(E151=\"\",$D$16,E151),ClgHtgTypeData,3,FALSE)/1000)","v":0},0,"",{"$error":"#VALUE!"},0,{"$f":"IF(OR(U151=\"\",W151=\"\"),0,IF(U151=\"80F\",Validation!W138,(VLOOKUP(IF(D151=\"\",$D$15,D151),LtgBldgTypeData,3,FALSE)-VLOOKUP(U151,Control_Data,5)))*N151*O151*VLOOKUP(IF(E151=\"\",$D$16,E151),ClgHtgTypeData,2,FALSE)/1000)","v":0},{"$f":"IF(OR(U151=\"\",W151=\"\"),\"\",IF(VLOOKUP(L151,'Wattage Table'!D:F,3,0)*N151/W151>=VLOOKUP(U151,Control_Data,3,0),1,0))","v":""}]
[null,128,null,null,null,null,{"$f":"IF(F152=\"\",\"\",HLOOKUP(F152,Validation!$F$5:$Q$6,2,FALSE))","v":""},{"$f":"IF(G152=\"\",\"\",INDEX('Measure Code Summary'!$D$20:$D$52,MATCH(G152,'Measure Code Summary'!$C$20:$C$52,0),1))","v":""},{"$f":"IF(G152=\"\",\"\",IF(G152=\"90C\",Min_Watts,0))","v":""},null,null,null,{"$f":"IF(L152=\"\",\"\",VLOOKUP(L152,'Wattage Table'!$D:$E,2,0))","v":""},null,{"$f":"IF(L152=\"\",\"\",VLOOKUP(L152,'Wattage Table'!D:F,3,0))","v":""},null,{"$f":"IF(P152=\"\",\"\",VLOOKUP(P152,'Wattage Table'!D:E,2,0))","v":""},null,{"$f":"IF(P152=\"\",\"\",VLOOKUP(P152,'Wattage Table'!D:F,3,0))","v":""},null,null,{"$f":"IF(U152=\"\",\"\",IF(U152=\"None\",\"None\",INDEX('Measure Code Summary'!$D$50:$D$53,MATCH(U152,'Measure Code Summary'!$C$50:$C$53,0),1)))","v":""},null,0,{"$f":"IF(OR(P152=\"\",L152=\"\"),0,AD152+AH152)","v":0},0,{"$f":"IF(AND(G152=\"90C\",S152-O152<I152),0,N152)","v":{"$error":"#VALUE!"}},{"$f":"W152*AJ152","v":{"$error":"#VALUE!"}},{"$f":"IF(N152=\"\",\"\",N152*O152)","v":""},{"$f":"IF(OR(P152=\"\",L152=\"\", D$16=\"\"),0,((S152*R152)-(O152*N152))*IF(G152=\"90C\",Validation!B$32,T152)*VLOOKUP(IF(E152=\"\",$D$16,E152),ClgHtgTypeData,3,FALSE)/1000)","v":0},{"$f":"IF(OR(P152=\"\",L152=\"\",T152=0,D$16=\"\"),0,(((S152*R152)-(O152*N152))/1000)*IF(G152=\"90C\",1,VLOOKUP(IF(D152=\"\",$D$15,D152),LtgBldgTypeData,3,FALSE))*VLOOKUP(IF(E152=\"\",$D$16,E152),ClgHtgTypeData,2,FALSE))","v":0},"",{"$error":"#VALUE!"},0,{"$f":"IF(OR(U152=\"\",W152=\"\"),0,IF(U152=\"80F\",Validation!W139,(VLOOKUP(IF(D152=\"\",$D$15,D152),LtgBldgTypeData,3,FALSE)-VLOOKUP(U152,Control_Data,5)))*N152*O152*VLOOKUP(IF(E152=\"\",$D$16,E152),ClgHtgTypeData,2,FALSE)/1000)","v":0},{"$f":"IF(OR(U152=\"\",W152=\"\"),\"\",IF(VLOOKUP(L152,'Wattage Table'!D:F,3,0)*N152/W152>=VLOOKUP(U152,Control_Data,3,0),1,0))","v":""}]
[null,129,null,null,null,null,{"$f":"IF(F153=\"\",\"\",HLOOKUP(F153,Validation!$F$5:$Q$6,2,FALSE))","v":""},{"$f":"IF(G153=\"\",\"\",INDEX('Measure Code Summary'!$D$20:$D$52,MATCH(G153,'Measure Code Summary'!$C$20:$C$52,0),1))","v":""},"",null,null,null,{"$f":"IF(L153=\"\",\"\",VLOOKUP(L153,'Wattage Table'!$D:$E,2,0))","v":""},null,{"$f":"IF(L153=\"\",\"\",VLOOKUP(L153,'Wattage Table'!D:F,3,0))","v":""},null,{"$f":"IF(P153=\"\",\"\",VLOOKUP(P153,'Wattage Table'!D:E,2,0))","v":""},null,{"$f":"IF(P153=\"\",\"\",VLOOKUP(P153,'Wattage Table'!D:F,3,0))","v":""},null,null,{"$f":"IF(U153=\"\",\"\",IF(U153=\"None\",\"None\",INDEX('Measure Code Summary'!$D$50:$D$53,MATCH(U153,'Measure Code Summary'!$C$50:$C$53,0),1)))","v":""},null,{"$f":"IF(U153=\"\",0,IF(U153=\"None\",0,-0.25*T153))","v":0},0,0,{"$error":"#VALUE!"},{"$error":"#VALUE!"},"",{"$f":"IF(OR(P153=\"\",L153=\"\", D$16=\"\"),0,((S153*R153)-(O153*N153))*IF(G153=\"90C\",Validation!B$32,T153)*VLOOKUP(IF(E153=\"\",$D$16,E153),ClgHtgTypeData,3,FALSE)/1000)","v":0},0,{"$f":"IF(R153=\"\",\"\",R153*S153)","v":""},{"$f":"AF153-AC153","v":{"$error":"#VALUE!"}},{"$f":"IF(OR(U153=\"\",AJ153=\"No\"),0,0.25*O153*T153*N153)/1000","v":0},{"$f":"IF(OR(U153=\"\",W153=\"\"),0,IF(U153=\"80F\",Validation!W140,(VLOOKUP(IF(D153=\"\",$D$15,D153),LtgBldgTypeData,3,FALSE)-VLOOKUP(U153,Control_Data,5)))*N153*O153*VLOOKUP(IF(E153=\"\",$D$16,E153),ClgHtgTypeData,2,FALSE)/1000)","v":0},{"$f":"IF(OR(U153=\"\",W153=\"\"),\"\",IF(VLOOKUP(L153,'Wattage Table'!D:F,3,0)*N153/W153>=VLOOKUP(U153,Control_Data,3,0),1,0))","v":""}]
[null,130,null,null,null,null,{"$f":"IF(F154=\"\",\"\",HLOOKUP(F154,Validation!$F$5:$Q$6,2,FALSE))","v":""},{"$f":"IF(G154=\"\",\"\",INDEX('Measure Code Summary'!$D$20:$D$52,MATCH(G154,'Measure Code Summary'!$C$20:$C$52,0),1))","v":""},"",null,null,null,{"$f":"IF(L154=\"\",\"\",VLOOKUP(L154,'Wattage Table'!$D:$E,2,0))","v":""},null,{"$f":"IF(L154=\"\",\"\",VLOOKUP(L154,'Wattage Table'!D:F,3,0))","v":""},null,{"$f":"IF(P154=\"\",\"\",VLOOKUP(P154,'Wattage Table'!D:E,2,0))","v":""},null,{"$f":"IF(P154=\"\",\"\",VLOOKUP(P154,'Wattage Table'!D:F,3,0))","v":""},null,null,{"$f":"IF(U154=\"\",\"\",IF(U154=\"None\",\"None\",INDEX('Measure Code Summary'!$D$50:$D$53,MATCH(U154,'Measure Code Summary'!$C$50:$C$53,0),1)))","v":""},null,0,0,{"$f":"IF(OR(P154=\"\",L154=\"\",T154=0),0,(AE154+AI154))","v":0},{"$error":"#VALUE!"},{"$error":"#VALUE!"},"",{"$f":"IF(OR(P154=\"\",L154=\"\", D$16=\"\"),0,((S154*R154)-(O154*N154))*IF(G154=\"90C\",Validation!B$32,T154)*VLOOKUP(IF(E154=\"\",$D$16,E154),ClgHtgTypeData,3,FALSE)/1000)","v":0},0,"",{"$error":"#VALUE!"},0,{"$f":"IF(OR(U154=\"\",W154=\"\"),0,IF(U154=\"80F\",Validation!W141,(VLOOKUP(IF(D154=\"\",$D$15,D154),LtgBldgTypeData,3,FALSE)-VLOOKUP(U154,Control_Data,5)))*N154*O154*VLOOKUP(IF(E154=\"\",$D$16,E154),ClgHtgTypeData,2,FALSE)/1000)","v":0},{"$f":"IF(OR(U154=\"\",W154=\"\"),\"\",IF(VLOOKUP(L154,'Wattage Table'!D:F,3,0)*N154/W154>=VLOOKUP(U154,Control_Data,3,0),1,0))","v":""}]
[null,131,null,null,null,null,{"$f":"IF(F155=\"\",\"\",HLOOKUP(F155,Validation!$F$5:$Q$6,2,FALSE))","v":""},{"$f":"IF(G155=\"\",\"\",INDEX('Measure Code Summary'!$D$20:$D$52,MATCH(G155,'Measure Code Summary'!$C$20:$C$52,0),1))","v":""},"",null,null,null,{"$f":"IF(L155=\"\",\"\",VLOOKUP(L155,'Wattage Table'!$D:$E,2,0))","v":""},null,{"$f":"IF(L155=\"\",\"\",VLOOKUP(L155,'Wattage Table'!D:F,3,0))","v":""},null,{"$f":"IF(P155=\"\",\"\",VLOOKUP(P155,'Wattage Table'!D:E,2,0))","v":""},null,{"$f":"IF(P155=\"\",\"\",VLOOKUP(P155,'Wattage Table'!D:F,3,0))","v":""},null,null,{"$f":"IF(U155=\"\",\"\",IF(U155=\"None\",\"None\",INDEX('Measure Code Summary'!$D$50:$D$53,MATCH(U155,'Measure Code Summary'!$C$50:$C$53,0),1)))","v":""},null,0,0,0,{"$error":"#VALUE!"},{"$error":"#VALUE!"},"",{"$f":"IF(OR(P155=\"\",L155=\"\", D$16=\"\"),0,((S155*R155)-(O155*N155))*IF(G155=\"90C\",Validation!B$32,T155)*VLOOKUP(IF(E155=\"\",$D$16,E155),ClgHtgTypeData,3,FALSE)/1000)","v":0},0,"",{"$error":"#VALUE!"},0,{"$f":"IF(OR(U155=\"\",W155=\"\"),0,IF(U155=\"80F\",Validation!W142,(VLOOKUP(IF(D155=\"\",$D$15,D155),LtgBldgTypeData,3,FALSE)-VLOOKUP(U155,Control_Data,5)))*N155*O155*VLOOKUP(IF(E155=\"\",$D$16,E155),ClgHtgTypeData,2,FALSE)/1000)","v":0},{"$f":"IF(OR(U155=\"\",W155=\"\"),\"\",IF(VLOOKUP(L155,'Wattage Table'!D:F,3,0)*N155/W155>=VLOOKUP(U155,Control_Data,3,0),1,0))","v":""}]
[null,132,null,null,null,null,{"$f":"IF(F156=\"\",\"\",HLOOKUP(F156,Validation!$F$5:$Q$6,2,FALSE))","v":""},{"$f":"IF(G156=\"\",\"\",INDEX('Measure Code Summary'!$D$20:$D$52,MATCH(G156,'Measure Code Summary'!$C$20:$C$52,0),1))","v":""},"",null,null,null,{"$f":"IF(L156=\"\",\"\",VLOOKUP(L156,'Wattage Table'!$D:$E,2,0))","v":""},null,{"$f":"IF(L156=\"\",\"\",VLOOKUP(L156,'Wattage Table'!D:F,3,0))","v":""},null,{"$f":"IF(P156=\"\",\"\",VLOOKUP(P156,'Wattage Table'!D:E,2,0))","v":""},null,{"$f":"IF(P156=\"\",\"\",VLOOKUP(P156,'Wattage Table'!D:F,3,0))","v":""},null,null,{"$f":"IF(U156=\"\",\"\",IF(U156=\"None\",\"None\",INDEX('Measure Code Summary'!$D$50:$D$53,MATCH(U156,'Measure Code Summary'!$C$50:$C$53,0),1)))","v":""},null,0,0,0,{"$error":"#VALUE!"},{"$error":"#VALUE!"},"",{"$f":"IF(OR(P156=\"\",L156=\"\", D$16=\"\"),0,((S156*R156)-(O156*N156))*IF(G156=\"90C\",Validation!B$32,T156)*VLOOKUP(IF(E156=\"\",$D$16,E156),ClgHtgTypeData,3,FALSE)/1000)","v":0},0,"",{"$error":"#VALUE!"},0,{"$f":"IF(OR(U156=\"\",W156=\"\"),0,IF(U156=\"80F\",Validation!W143,(VLOOKUP(IF(D156=\"\",$D$15,D156),LtgBldgTypeData,3,FALSE)-VLOOKUP(U156,Control_Data,5)))*N156*O156*VLOOKUP(IF(E156=\"\",$D$16,E156),ClgHtgTypeData,2,FALSE)/1000)","v":0},{"$f":"IF(OR(U156=\"\",W156=\"\"),\"\",IF(VLOOKUP(L156,'Wattage Table'!D:F,3,0)*N156/W156>=VLOOKUP(U156,Control_Data,3,0),1,0))","v":""}]
[null,133,null,null,null,null,{"$f":"IF(F157=\"\",\"\",HLOOKUP(F157,Validation!$F$5:$Q$6,2,FALSE))","v":""},{"$f":"IF(G157=\"\",\"\",INDEX('Measure Code Summary'!$D$20:$D$52,MATCH(G157,'Measure Code Summary'!$C$20:$C$52,0),1))","v":""},"",null,null,null,{"$f":"IF(L157=\"\",\"\",VLOOKUP(L157,'Wattage Table'!$D:$E,2,0))","v":""},null,{"$f":"IF(L157=\"\",\"\",VLOOKUP(L157,'Wattage Table'!D:F,3,0))","v":""},null,{"$f":"IF(P157=\"\",\"\",VLOOKUP(P157,'Wattage Table'!D:E,2,0))","v":""},null,{"$f":"IF(P157=\"\",\"\",VLOOKUP(P157,'Wattage Table'!D:F,3,0))","v":""},null,null,{"$f":"IF(U157=\"\",\"\",IF(U157=\"None\",\"None\",INDEX('Measure Code Summary'!$D$50:$D$53,MATCH(U157,'Measure Code Summary'!$C$50:$C$53,0),1)))","v":""},null,0,0,0,{"$error":"#VALUE!"},{"$error":"#VALUE!"},"",{"$f":"IF(OR(P157=\"\",L157=\"\", D$16=\"\"),0,((S157*R157)-(O157*N157))*IF(G157=\"90C\",Validation!B$32,T157)*VLOOKUP(IF(E157=\"\",$D$16,E157),ClgHtgTypeData,3,FALSE)/1000)","v":0},0,"",{"$error":"#VALUE!"},0,{"$f":"IF(OR(U157=\"\",W157=\"\"),0,IF(U157=\"80F\",Validation!W144,(VLOOKUP(IF(D157=\"\",$D$15,D157),LtgBldgTypeData,3,FALSE)-VLOOKUP(U157,Control_Data,5)))*N157*O157*VLOOKUP(IF(E157=\"\",$D$16,E157),ClgHtgTypeData,2,FALSE)/1000)","v":0},{"$f":"IF(OR(U157=\"\",W157=\"\"),\"\",IF(VLOOKUP(L157,'Wattage Table'!D:F,3,0)*N157/W157>=VLOOKUP(U157,Control_Data,3,0),1,0))","v":""}]
[null,134,null,null,null,null,{"$f":"IF(F158=\"\",\"\",HLOOKUP(F158,Validation!$F$5:$Q$6,2,FALSE))","v":""},{"$f":"IF(G158=\"\",\"\",INDEX('Measure Code Summary'!$D$20:$D$52,MATCH(G158,'Measure Code Summary'!$C$20:$C$52,0),1))","v":""},"",null,null,null,{"$f":"IF(L158=\"\",\"\",VLOOKUP(L158,'Wattage Table'!$D:$E,2,0))","v":""},null,{"$f":"IF(L158=\"\",\"\",VLOOKUP(L158,'Wattage Table'!D:F,3,0))","v":""},null,{"$f":"IF(P158=\"\",\"\",VLOOKUP(P158,'Wattage Table'!D:E,2,0))","v":""},null,{"$f":"IF(P158=\"\",\"\",VLOOKUP(P158,'Wattage Table'!D:F,3,0))","v":""},null,null,{"$f":"IF(U158=\"\",\"\",IF(U158=\"None\",\"None\",INDEX('Measure Code Summary'!$D$50:$D$53,MATCH(U158,'Measure Code Summary'!$C$50:$C$53,0),1)))","v":""},null,0,0,0,{"$error":"#VALUE!"},{"$error":"#VALUE!"},"",{"$f":"IF(OR(P158=\"\",L158=\"\", D$16=\"\"),0,((S158*R158)-(O158*N158))*IF(G158=\"90C\",Validation!B$32,T158)*VLOOKUP(IF(E158=\"\",$D$16,E158),ClgHtgTypeData,3,FALSE)/1000)","v":0},0,"",{"$error":"#VALUE!"},0,{"$f":"IF(OR(U158=\"\",W158=\"\"),0,IF(U158=\"80F\",Validation!W145,(VLOOKUP(IF(D158=\"\",$D$15,D158),LtgBldgTypeData,3,FALSE)-VLOOKUP(U158,Control_Data,5)))*N158*O158*VLOOKUP(IF(E158=\"\",$D$16,E158),ClgHtgTypeData,2,FALSE)/1000)","v":0},{"$f":"IF(OR(U158=\"\",W158=\"\"),\"\",IF(VLOOKUP(L158,'Wattage Table'!D:F,3,0)*N158/W158>=VLOOKUP(U158,Control_Data,3,0),1,0))","v":""}]
[null,135,null,null,null,null,{"$f":"IF(F159=\"\",\"\",HLOOKUP(F159,Validation!$F$5:$Q$6,2,FALSE))","v":""},{"$f":"IF(G159=\"\",\"\",INDEX('Measure Code Summary'!$D$20:$D$52,MATCH(G159,'Measure Code Summary'!$C$20:$C$52,0),1))","v":""},"",null,null,null,{"$f":"IF(L159=\"\",\"\",VLOOKUP(L159,'Wattage Table'!$D:$E,2,0))","v":""},null,{"$f":"IF(L159=\"\",\"\",VLOOKUP(L159,'Wattage Table'!D:F,3,0))","v":""},null,{"$f":"IF(P159=\"\",\"\",VLOOKUP(P159,'Wattage Table'!D:E,2,0))","v":""},null,{"$f":"IF(P159=\"\",\"\",VLOOKUP(P159,'Wattage Table'!D:F,3,0))","v":""},null,null,{"$f":"IF(U159=\"\",\"\",IF(U159=\"None\",\"None\",INDEX('Measure Code Summary'!$D$50:$D$53,MATCH(U159,'Measure Code Summary'!$C$50:$C$53,0),1)))","v":""},null,0,0,0,{"$error":"#VALUE!"},{"$error":"#VALUE!"},"",{"$f":"IF(OR(P159=\"\",L159=\"\", D$16=\"\"),0,((S159*R159)-(O159*N159))*IF(G159=\"90C\",Validation!B$32,T159)*VLOOKUP(IF(E159=\"\",$D$16,E159),ClgHtgTypeData,3,FALSE)/1000)","v":0},0,"",{"$error":"#VALUE!"},0,{"$f":"IF(OR(U159=\"\",W159=\"\"),0,IF(U159=\"80F\",Validation!W146,(VLOOKUP(IF(D159=\"\",$D$15,D159),LtgBldgTypeData,3,FALSE)-VLOOKUP(U159,Control_Data,5)))*N159*O159*VLOOKUP(IF(E159=\"\",$D$16,E159),ClgHtgTypeData,2,FALSE)/1000)","v":0},{"$f":"IF(OR(U159=\"\",W159=\"\"),\"\",IF(VLOOKUP(L159,'Wattage Table'!D:F,3,0)*N159/W159>=VLOOKUP(U159,Control_Data,3,0),1,0))","v":""}]
[null,136,null,null,null,null,{"$f":"IF(F160=\"\",\"\",HLOOKUP(F160,Validation!$F$5:$Q$6,2,FALSE))","v":""},{"$f":"IF(G160=\"\",\"\",INDEX('Measure Code Summary'!$D$20:$D$52,MATCH(G160,'Measure Code Summary'!$C$20:$C$52,0),1))","v":""},"",null,null,null,{"$f":"IF(L160=\"\",\"\",VLOOKUP(L160,'Wattage Table'!$D:$E,2,0))","v":""},null,{"$f":"IF(L160=\"\",\"\",VLOOKUP(L160,'Wattage Table'!D:F,3,0))","v":""},null,{"$f":"IF(P160=\"\",\"\",VLOOKUP(P160,'Wattage Table'!D:E,2,0))","v":""},null,{"$f":"IF(P160=\"\",\"\",VLOOKUP(P160,'Wattage Table'!D:F,3,0))","v":""},null,null,{"$f":"IF(U160=\"\",\"\",IF(U160=\"None\",\"None\",INDEX('Measure Code Summary'!$D$50:$D$53,MATCH(U160,'Measure Code Summary'!$C$50:$C$53,0),1)))","v":""},null,0,0,0,{"$error":"#VALUE!"},{"$error":"#VALUE!"},"",{"$f":"IF(OR(P160=\"\",L160=\"\", D$16=\"\"),0,((S160*R160)-(O160*N160))*IF(G160=\"90C\",Validation!B$32,T160)*VLOOKUP(IF(E160=\"\",$D$16,E160),ClgHtgTypeData,3,FALSE)/1000)","v":0},0,"",{"$error":"#VALUE!"},0,{"$f":"IF(OR(U160=\"\",W160=\"\"),0,IF(U160=\"80F\",Validation!W147,(VLOOKUP(IF(D160=\"\",$D$15,D160),LtgBldgTypeData,3,FALSE)-VLOOKUP(U160,Control_Data,5)))*N160*O160*VLOOKUP(IF(E160=\"\",$D$16,E160),ClgHtgTypeData,2,FALSE)/1000)","v":0},{"$f":"IF(OR(U160=\"\",W160=\"\"),\"\",IF(VLOOKUP(L160,'Wattage Table'!D:F,3,0)*N160/W160>=VLOOKUP(U160,Control_Data,3,0),1,0))","v":""}]
[null,137,null,null,null,null,{"$f":"IF(F161=\"\",\"\",HLOOKUP(F161,Validation!$F$5:$Q$6,2,FALSE))","v":""},{"$f":"IF(G161=\"\",\"\",INDEX('Measure Code Summary'!$D$20:$D$52,MATCH(G161,'Measure Code Summary'!$C$20:$C$52,0),1))","v":""},"",null,null,null,{"$f":"IF(L161=\"\",\"\",VLOOKUP(L161,'Wattage Table'!$D:$E,2,0))","v":""},null,{"$f":"IF(L161=\"\",\"\",VLOOKUP(L161,'Wattage Table'!D:F,3,0))","v":""},null,{"$f":"IF(P161=\"\",\"\",VLOOKUP(P161,'Wattage Table'!D:E,2,0))","v":""},null,{"$f":"IF(P161=\"\",\"\",VLOOKUP(P161,'Wattage Table'!D:F,3,0))","v":""},null,null,{"$f":"IF(U161=\"\",\"\",IF(U161=\"None\",\"None\",INDEX('Measure Code Summary'!$D$50:$D$53,MATCH(U161,'Measure Code Summary'!$C$50:$C$53,0),1)))","v":""},null,0,0,0,{"$error":"#VALUE!"},{"$error":"#VALUE!"},"",{"$f":"IF(OR(P161=\"\",L161=\"\", D$16=\"\"),0,((S161*R161)-(O161*N161))*IF(G161=\"90C\",Validation!B$32,T161)*VLOOKUP(IF(E161=\"\",$D$16,E161),ClgHtgTypeData,3,FALSE)/1000)","v":0},0,"",{"$error":"#VALUE!"},0,{"$f":"IF(OR(U161=\"\",W161=\"\"),0,IF(U161=\"80F\",Validation!W148,(VLOOKUP(IF(D161=\"\",$D$15,D161),LtgBldgTypeData,3,FALSE)-VLOOKUP(U161,Control_Data,5)))*N161*O161*VLOOKUP(IF(E161=\"\",$D$16,E161),ClgHtgTypeData,2,FALSE)/1000)","v":0},{"$f":"IF(OR(U161=\"\",W161=\"\"),\"\",IF(VLOOKUP(L161,'Wattage Table'!D:F,3,0)*N161/W161>=VLOOKUP(U161,Control_Data,3,0),1,0))","v":""}]
[null,138,null,null,null,null,{"$f":"IF(F162=\"\",\"\",HLOOKUP(F162,Validation!$F$5:$Q$6,2,FALSE))","v":""},{"$f":"IF(G162=\"\",\"\",INDEX('Measure Code Summary'!$D$20:$D$52,MATCH(G162,'Measure Code Summary'!$C$20:$C$52,0),1))","v":""},"",null,null,null,{"$f":"IF(L162=\"\",\"\",VLOOKUP(L162,'Wattage Table'!$D:$E,2,0))","v":""},null,{"$f":"IF(L162=\"\",\"\",VLOOKUP(L162,'Wattage Table'!D:F,3,0))","v":""},null,{"$f":"IF(P162=\"\",\"\",VLOOKUP(P162,'Wattage Table'!D:E,2,0))","v":""},null,{"$f":"IF(P162=\"\",\"\",VLOOKUP(P162,'Wattage Table'!D:F,3,0))","v":""},null,null,{"$f":"IF(U162=\"\",\"\",IF(U162=\"None\",\"None\",INDEX('Measure Code Summary'!$D$50:$D$53,MATCH(U162,'Measure Code Summary'!$C$50:$C$53,0),1)))","v":""},null,0,0,0,{"$error":"#VALUE!"},{"$error":"#VALUE!"},"",{"$f":"IF(OR(P162=\"\",L162=\"\", D$16=\"\"),0,((S162*R162)-(O162*N162))*IF(G162=\"90C\",Validation!B$32,T162)*VLOOKUP(IF(E162=\"\",$D$16,E162),ClgHtgTypeData,3,FALSE)/1000)","v":0},0,"",{"$error":"#VALUE!"},0,{"$f":"IF(OR(U162=\"\",W162=\"\"),0,IF(U162=\"80F\",Validation!W149,(VLOOKUP(IF(D162=\"\",$D$15,D162),LtgBldgTypeData,3,FALSE)-VLOOKUP(U162,Control_Data,5)))*N162*O162*VLOOKUP(IF(E162=\"\",$D$16,E162),ClgHtgTypeData,2,FALSE)/1000)","v":0},{"$f":"IF(OR(U162=\"\",W162=\"\"),\"\",IF(VLOOKUP(L162,'Wattage Table'!D:F,3,0)*N162/W162>=VLOOKUP(U162,Control_Data,3,0),1,0))","v":""}]
[null,139,null,null,null,null,{"$f":"IF(F163=\"\",\"\",HLOOKUP(F163,Validation!$F$5:$Q$6,2,FALSE))","v":""},{"$f":"IF(G163=\"\",\"\",INDEX('Measure Code Summary'!$D$20:$D$52,MATCH(G163,'Measure Code Summary'!$C$20:$C$52,0),1))","v":""},"",null,null,null,{"$f":"IF(L163=\"\",\"\",VLOOKUP(L163,'Wattage Table'!$D:$E,2,0))","v":""},null,{"$f":"IF(L163=\"\",\"\",VLOOKUP(L163,'Wattage Table'!D:F,3,0))","v":""},null,{"$f":"IF(P163=\"\",\"\",VLOOKUP(P163,'Wattage Table'!D:E,2,0))","v":""},null,{"$f":"IF(P163=\"\",\"\",VLOOKUP(P163,'Wattage Table'!D:F,3,0))","v":""},null,null,{"$f":"IF(U163=\"\",\"\",IF(U163=\"None\",\"None\",INDEX('Measure Code Summary'!$D$50:$D$53,MATCH(U163,'Measure Code Summary'!$C$50:$C$53,0),1)))","v":""},null,0,0,0,{"$error":"#VALUE!"},{"$error":"#VALUE!"},"",{"$f":"IF(OR(P163=\"\",L163=\"\", D$16=\"\"),0,((S163*R163)-(O163*N163))*IF(G163=\"90C\",Validation!B$32,T163)*VLOOKUP(IF(E163=\"\",$D$16,E163),ClgHtgTypeData,3,FALSE)/1000)","v":0},0,"",{"$error":"#VALUE!"},0,{"$f":"IF(OR(U163=\"\",W163=\"\"),0,IF(U163=\"80F\",Validation!W150,(VLOOKUP(IF(D163=\"\",$D$15,D163),LtgBldgTypeData,3,FALSE)-VLOOKUP(U163,Control_Data,5)))*N163*O163*VLOOKUP(IF(E163=\"\",$D$16,E163),ClgHtgTypeData,2,FALSE)/1000)","v":0},{"$f":"IF(OR(U163=\"\",W163=\"\"),\"\",IF(VLOOKUP(L163,'Wattage Table'!D:F,3,0)*N163/W163>=VLOOKUP(U163,Control_Data,3,0),1,0))","v":""}]
[null,140,null,null,null,null,{"$f":"IF(F164=\"\",\"\",HLOOKUP(F164,Validation!$F$5:$Q$6,2,FALSE))","v":""},{"$f":"IF(G164=\"\",\"\",INDEX('Measure Code Summary'!$D$20:$D$52,MATCH(G164,'Measure Code Summary'!$C$20:$C$52,0),1))","v":""},"",null,null,null,{"$f":"IF(L164=\"\",\"\",VLOOKUP(L164,'Wattage Table'!$D:$E,2,0))","v":""},null,{"$f":"IF(L164=\"\",\"\",VLOOKUP(L164,'Wattage Table'!D:F,3,0))","v":""},null,{"$f":"IF(P164=\"\",\"\",VLOOKUP(P164,'Wattage Table'!D:E,2,0))","v":""},null,{"$f":"IF(P164=\"\",\"\",VLOOKUP(P164,'Wattage Table'!D:F,3,0))","v":""},null,null,{"$f":"IF(U164=\"\",\"\",IF(U164=\"None\",\"None\",INDEX('Measure Code Summary'!$D$50:$D$53,MATCH(U164,'Measure Code Summary'!$C$50:$C$53,0),1)))","v":""},null,0,0,0,{"$error":"#VALUE!"},{"$error":"#VALUE!"},"",{"$f":"IF(OR(P164=\"\",L164=\"\", D$16=\"\"),0,((S164*R164)-(O164*N164))*IF(G164=\"90C\",Validation!B$32,T164)*VLOOKUP(IF(E164=\"\",$D$16,E164),ClgHtgTypeData,3,FALSE)/1000)","v":0},0,"",{"$error":"#VALUE!"},0,{"$f":"IF(OR(U164=\"\",W164=\"\"),0,IF(U164=\"80F\",Validation!W151,(VLOOKUP(IF(D164=\"\",$D$15,D164),LtgBldgTypeData,3,FALSE)-VLOOKUP(U164,Control_Data,5)))*N164*O164*VLOOKUP(IF(E164=\"\",$D$16,E164),ClgHtgTypeData,2,FALSE)/1000)","v":0},{"$f":"IF(OR(U164=\"\",W164=\"\"),\"\",IF(VLOOKUP(L164,'Wattage Table'!D:F,3,0)*N164/W164>=VLOOKUP(U164,Control_Data,3,0),1,0))","v":""}]
[null,141,null,null,null,null,{"$f":"IF(F165=\"\",\"\",HLOOKUP(F165,Validation!$F$5:$Q$6,2,FALSE))","v":""},{"$f":"IF(G165=\"\",\"\",INDEX('Measure Code Summary'!$D$20:$D$52,MATCH(G165,'Measure Code Summary'!$C$20:$C$52,0),1))","v":""},"",null,null,null,{"$f":"IF(L165=\"\",\"\",VLOOKUP(L165,'Wattage Table'!$D:$E,2,0))","v":""},null,{"$f":"IF(L165=\"\",\"\",VLOOKUP(L165,'Wattage Table'!D:F,3,0))","v":""},null,{"$f":"IF(P165=\"\",\"\",VLOOKUP(P165,'Wattage Table'!D:E,2,0))","v":""},null,{"$f":"IF(P165=\"\",\"\",VLOOKUP(P165,'Wattage Table'!D:F,3,0))","v":""},null,null,{"$f":"IF(U165=\"\",\"\",IF(U165=\"None\",\"None\",INDEX('Measure Code Summary'!$D$50:$D$53,MATCH(U165,'Measure Code Summary'!$C$50:$C$53,0),1)))","v":""},null,0,0,0,{"$error":"#VALUE!"},{"$error":"#VALUE!"},"",{"$f":"IF(OR(P165=\"\",L165=\"\", D$16=\"\"),0,((S165*R165)-(O165*N165))*IF(G165=\"90C\",Validation!B$32,T165)*VLOOKUP(IF(E165=\"\",$D$16,E165),ClgHtgTypeData,3,FALSE)/1000)","v":0},0,"",{"$error":"#VALUE!"},0,{"$f":"IF(OR(U165=\"\",W165=\"\"),0,IF(U165=\"80F\",Validation!W152,(VLOOKUP(IF(D165=\"\",$D$15,D165),LtgBldgTypeData,3,FALSE)-VLOOKUP(U165,Control_Data,5)))*N165*O165*VLOOKUP(IF(E165=\"\",$D$16,E165),ClgHtgTypeData,2,FALSE)/1000)","v":0},{"$f":"IF(OR(U165=\"\",W165=\"\"),\"\",IF(VLOOKUP(L165,'Wattage Table'!D:F,3,0)*N165/W165>=VLOOKUP(U165,Control_Data,3,0),1,0))","v":""}]
[null,142,null,null,null,null,{"$f":"IF(F166=\"\",\"\",HLOOKUP(F166,Validation!$F$5:$Q$6,2,FALSE))","v":""},{"$f":"IF(G166=\"\",\"\",INDEX('Measure Code Summary'!$D$20:$D$52,MATCH(G166,'Measure Code Summary'!$C$20:$C$52,0),1))","v":""},"",null,null,null,{"$f":"IF(L166=\"\",\"\",VLOOKUP(L166,'Wattage Table'!$D:$E,2,0))","v":""},null,{"$f":"IF(L166=\"\",\"\",VLOOKUP(L166,'Wattage Table'!D:F,3,0))","v":""},null,{"$f":"IF(P166=\"\",\"\",VLOOKUP(P166,'Wattage Table'!D:E,2,0))","v":""},null,{"$f":"IF(P166=\"\",\"\",VLOOKUP(P166,'Wattage Table'!D:F,3,0))","v":""},null,null,{"$f":"IF(U166=\"\",\"\",IF(U166=\"None\",\"None\",INDEX('Measure Code Summary'!$D$50:$D$53,MATCH(U166,'Measure Code Summary'!$C$50:$C$53,0),1)))","v":""},null,0,0,0,{"$error":"#VALUE!"},{"$error":"#VALUE!"},"",{"$f":"IF(OR(P166=\"\",L166=\"\", D$16=\"\"),0,((S166*R166)-(O166*N166))*IF(G166=\"90C\",Validation!B$32,T166)*VLOOKUP(IF(E166=\"\",$D$16,E166),ClgHtgTypeData,3,FALSE)/1000)","v":0},0,"",{"$error":"#VALUE!"},0,{"$f":"IF(OR(U166=\"\",W166=\"\"),0,IF(U166=\"80F\",Validation!W153,(VLOOKUP(IF(D166=\"\",$D$15,D166),LtgBldgTypeData,3,FALSE)-VLOOKUP(U166,Control_Data,5)))*N166*O166*VLOOKUP(IF(E166=\"\",$D$16,E166),ClgHtgTypeData,2,FALSE)/1000)","v":0},{"$f":"IF(OR(U166=\"\",W166=\"\"),\"\",IF(VLOOKUP(L166,'Wattage Table'!D:F,3,0)*N166/W166>=VLOOKUP(U166,Control_Data,3,0),1,0))","v":""}]
[null,143,null,null,null,null,{"$f":"IF(F167=\"\",\"\",HLOOKUP(F167,Validation!$F$5:$Q$6,2,FALSE))","v":""},{"$f":"IF(G167=\"\",\"\",INDEX('Measure Code Summary'!$D$20:$D$52,MATCH(G167,'Measure Code Summary'!$C$20:$C$52,0),1))","v":""},"",null,null,null,{"$f":"IF(L167=\"\",\"\",VLOOKUP(L167,'Wattage Table'!$D:$E,2,0))","v":""},null,{"$f":"IF(L167=\"\",\"\",VLOOKUP(L167,'Wattage Table'!D:F,3,0))","v":""},null,{"$f":"IF(P167=\"\",\"\",VLOOKUP(P167,'Wattage Table'!D:E,2,0))","v":""},null,{"$f":"IF(P167=\"\",\"\",VLOOKUP(P167,'Wattage Table'!D:F,3,0))","v":""},null,null,{"$f":"IF(U167=\"\",\"\",IF(U167=\"None\",\"None\",INDEX('Measure Code Summary'!$D$50:$D$53,MATCH(U167,'Measure Code Summary'!$C$50:$C$53,0),1)))","v":""},null,0,0,0,{"$error":"#VALUE!"},{"$error":"#VALUE!"},"",{"$f":"IF(OR(P167=\"\",L167=\"\", D$16=\"\"),0,((S167*R167)-(O167*N167))*IF(G167=\"90C\",Validation!B$32,T167)*VLOOKUP(IF(E167=\"\",$D$16,E167),ClgHtgTypeData,3,FALSE)/1000)","v":0},0,"",{"$error":"#VALUE!"},0,{"$f":"IF(OR(U167=\"\",W167=\"\"),0,IF(U167=\"80F\",Validation!W154,(VLOOKUP(IF(D167=\"\",$D$15,D167),LtgBldgTypeData,3,FALSE)-VLOOKUP(U167,Control_Data,5)))*N167*O167*VLOOKUP(IF(E167=\"\",$D$16,E167),ClgHtgTypeData,2,FALSE)/1000)","v":0},{"$f":"IF(OR(U167=\"\",W167=\"\"),\"\",IF(VLOOKUP(L167,'Wattage Table'!D:F,3,0)*N167/W167>=VLOOKUP(U167,Control_Data,3,0),1,0))","v":""}]
[null,144,null,null,null,null,{"$f":"IF(F168=\"\",\"\",HLOOKUP(F168,Validation!$F$5:$Q$6,2,FALSE))","v":""},{"$f":"IF(G168=\"\",\"\",INDEX('Measure Code Summary'!$D$20:$D$52,MATCH(G168,'Measure Code Summary'!$C$20:$C$52,0),1))","v":""},"",null,null,null,{"$f":"IF(L168=\"\",\"\",VLOOKUP(L168,'Wattage Table'!$D:$E,2,0))","v":""},null,{"$f":"IF(L168=\"\",\"\",VLOOKUP(L168,'Wattage Table'!D:F,3,0))","v":""},null,{"$f":"IF(P168=\"\",\"\",VLOOKUP(P168,'Wattage Table'!D:E,2,0))","v":""},null,{"$f":"IF(P168=\"\",\"\",VLOOKUP(P168,'Wattage Table'!D:F,3,0))","v":""},null,null,{"$f":"IF(U168=\"\",\"\",IF(U168=\"None\",\"None\",INDEX('Measure Code Summary'!$D$50:$D$53,MATCH(U168,'Measure Code Summary'!$C$50:$C$53,0),1)))","v":""},null,0,0,0,{"$error":"#VALUE!"},{"$error":"#VALUE!"},"",{"$f":"IF(OR(P168=\"\",L168=\"\", D$16=\"\"),0,((S168*R168)-(O168*N168))*IF(G168=\"90C\",Validation!B$32,T168)*VLOOKUP(IF(E168=\"\",$D$16,E168),ClgHtgTypeData,3,FALSE)/1000)","v":0},0,"",{"$error":"#VALUE!"},0,{"$f":"IF(OR(U168=\"\",W168=\"\"),0,IF(U168=\"80F\",Validation!W155,(VLOOKUP(IF(D168=\"\",$D$15,D168),LtgBldgTypeData,3,FALSE)-VLOOKUP(U168,Control_Data,5)))*N168*O168*VLOOKUP(IF(E168=\"\",$D$16,E168),ClgHtgTypeData,2,FALSE)/1000)","v":0},{"$f":"IF(OR(U168=\"\",W168=\"\"),\"\",IF(VLOOKUP(L168,'Wattage Table'!D:F,3,0)*N168/W168>=VLOOKUP(U168,Control_Data,3,0),1,0))","v":""}]
[null,145,null,null,null,null,{"$f":"IF(F169=\"\",\"\",HLOOKUP(F169,Validation!$F$5:$Q$6,2,FALSE))","v":""},{"$f":"IF(G169=\"\",\"\",INDEX('Measure Code Summary'!$D$20:$D$52,MATCH(G169,'Measure Code Summary'!$C$20:$C$52,0),1))","v":""},"",null,null,null,{"$f":"IF(L169=\"\",\"\",VLOOKUP(L169,'Wattage Table'!$D:$E,2,0))","v":""},null,{"$f":"IF(L169=\"\",\"\",VLOOKUP(L169,'Wattage Table'!D:F,3,0))","v":""},null,{"$f":"IF(P169=\"\",\"\",VLOOKUP(P169,'Wattage Table'!D:E,2,0))","v":""},null,{"$f":"IF(P169=\"\",\"\",VLOOKUP(P169,'Wattage Table'!D:F,3,0))","v":""},null,null,{"$f":"IF(U169=\"\",\"\",IF(U169=\"None\",\"None\",INDEX('Measure Code Summary'!$D$50:$D$53,MATCH(U169,'Measure Code Summary'!$C$50:$C$53,0),1)))","v":""},null,0,0,0,{"$error":"#VALUE!"},{"$error":"#VALUE!"},"",{"$f":"IF(OR(P169=\"\",L169=\"\", D$16=\"\"),0,((S169*R169)-(O169*N169))*IF(G169=\"90C\",Validation!B$32,T169)*VLOOKUP(IF(E169=\"\",$D$16,E169),ClgHtgTypeData,3,FALSE)/1000)","v":0},0,"",{"$error":"#VALUE!"},0,{"$f":"IF(OR(U169=\"\",W169=\"\"),0,IF(U169=\"80F\",Validation!W156,(VLOOKUP(IF(D169=\"\",$D$15,D169),LtgBldgTypeData,3,FALSE)-VLOOKUP(U169,Control_Data,5)))*N169*O169*VLOOKUP(IF(E169=\"\",$D$16,E169),ClgHtgTypeData,2,FALSE)/1000)","v":0},{"$f":"IF(OR(U169=\"\",W169=\"\"),\"\",IF(VLOOKUP(L169,'Wattage Table'!D:F,3,0)*N169/W169>=VLOOKUP(U169,Control_Data,3,0),1,0))","v":""}]
[null,146,null,null,null,null,{"$f":"IF(F170=\"\",\"\",HLOOKUP(F170,Validation!$F$5:$Q$6,2,FALSE))","v":""},{"$f":"IF(G170=\"\",\"\",INDEX('Measure Code Summary'!$D$20:$D$52,MATCH(G170,'Measure Code Summary'!$C$20:$C$52,0),1))","v":""},"",null,null,null,{"$f":"IF(L170=\"\",\"\",VLOOKUP(L170,'Wattage Table'!$D:$E,2,0))","v":""},null,{"$f":"IF(L170=\"\",\"\",VLOOKUP(L170,'Wattage Table'!D:F,3,0))","v":""},null,{"$f":"IF(P170=\"\",\"\",VLOOKUP(P170,'Wattage Table'!D:E,2,0))","v":""},null,{"$f":"IF(P170=\"\",\"\",VLOOKUP(P170,'Wattage Table'!D:F,3,0))","v":""},null,null,{"$f":"IF(U170=\"\",\"\",IF(U170=\"None\",\"None\",INDEX('Measure Code Summary'!$D$50:$D$53,MATCH(U170,'Measure Code Summary'!$C$50:$C$53,0),1)))","v":""},null,0,0,0,{"$error":"#VALUE!"},{"$error":"#VALUE!"},"",{"$f":"IF(OR(P170=\"\",L170=\"\", D$16=\"\"),0,((S170*R170)-(O170*N170))*IF(G170=\"90C\",Validation!B$32,T170)*VLOOKUP(IF(E170=\"\",$D$16,E170),ClgHtgTypeData,3,FALSE)/1000)","v":0},0,"",{"$error":"#VALUE!"},0,{"$f":"IF(OR(U170=\"\",W170=\"\"),0,IF(U170=\"80F\",Validation!W157,(VLOOKUP(IF(D170=\"\",$D$15,D170),LtgBldgTypeData,3,FALSE)-VLOOKUP(U170,Control_Data,5)))*N170*O170*VLOOKUP(IF(E170=\"\",$D$16,E170),ClgHtgTypeData,2,FALSE)/1000)","v":0},{"$f":"IF(OR(U170=\"\",W170=\"\"),\"\",IF(VLOOKUP(L170,'Wattage Table'!D:F,3,0)*N170/W170>=VLOOKUP(U170,Control_Data,3,0),1,0))","v":""}]
[null,147,null,null,null,null,{"$f":"IF(F171=\"\",\"\",HLOOKUP(F171,Validation!$F$5:$Q$6,2,FALSE))","v":""},{"$f":"IF(G171=\"\",\"\",INDEX('Measure Code Summary'!$D$20:$D$52,MATCH(G171,'Measure Code Summary'!$C$20:$C$52,0),1))","v":""},"",null,null,null,{"$f":"IF(L171=\"\",\"\",VLOOKUP(L171,'Wattage Table'!$D:$E,2,0))","v":""},null,{"$f":"IF(L171=\"\",\"\",VLOOKUP(L171,'Wattage Table'!D:F,3,0))","v":""},null,{"$f":"IF(P171=\"\",\"\",VLOOKUP(P171,'Wattage Table'!D:E,2,0))","v":""},null,{"$f":"IF(P171=\"\",\"\",VLOOKUP(P171,'Wattage Table'!D:F,3,0))","v":""},null,null,{"$f":"IF(U171=\"\",\"\",IF(U171=\"None\",\"None\",INDEX('Measure Code Summary'!$D$50:$D$53,MATCH(U171,'Measure Code Summary'!$C$50:$C$53,0),1)))","v":""},null,0,0,0,{"$error":"#VALUE!"},{"$error":"#VALUE!"},"",{"$f":"IF(OR(P171=\"\",L171=\"\", D$16=\"\"),0,((S171*R171)-(O171*N171))*IF(G171=\"90C\",Validation!B$32,T171)*VLOOKUP(IF(E171=\"\",$D$16,E171),ClgHtgTypeData,3,FALSE)/1000)","v":0},0,"",{"$error":"#VALUE!"},0,{"$f":"IF(OR(U171=\"\",W171=\"\"),0,IF(U171=\"80F\",Validation!W158,(VLOOKUP(IF(D171=\"\",$D$15,D171),LtgBldgTypeData,3,FALSE)-VLOOKUP(U171,Control_Data,5)))*N171*O171*VLOOKUP(IF(E171=\"\",$D$16,E171),ClgHtgTypeData,2,FALSE)/1000)","v":0},{"$f":"IF(OR(U171=\"\",W171=\"\"),\"\",IF(VLOOKUP(L171,'Wattage Table'!D:F,3,0)*N171/W171>=VLOOKUP(U171,Control_Data,3,0),1,0))","v":""}]
[null,148,null,null,null,null,{"$f":"IF(F172=\"\",\"\",HLOOKUP(F172,Validation!$F$5:$Q$6,2,FALSE))","v":""},{"$f":"IF(G172=\"\",\"\",INDEX('Measure Code Summary'!$D$20:$D$52,MATCH(G172,'Measure Code Summary'!$C$20:$C$52,0),1))","v":""},"",null,null,null,{"$f":"IF(L172=\"\",\"\",VLOOKUP(L172,'Wattage Table'!$D:$E,2,0))","v":""},null,{"$f":"IF(L172=\"\",\"\",VLOOKUP(L172,'Wattage Table'!D:F,3,0))","v":""},null,{"$f":"IF(P172=\"\",\"\",VLOOKUP(P172,'Wattage Table'!D:E,2,0))","v":""},null,{"$f":"IF(P172=\"\",\"\",VLOOKUP(P172,'Wattage Table'!D:F,3,0))","v":""},null,null,{"$f":"IF(U172=\"\",\"\",IF(U172=\"None\",\"None\",INDEX('Measure Code Summary'!$D$50:$D$53,MATCH(U172,'Measure Code Summary'!$C$50:$C$53,0),1)))","v":""},null,0,0,0,{"$error":"#VALUE!"},{"$error":"#VALUE!"},"",{"$f":"IF(OR(P172=\"\",L172=\"\", D$16=\"\"),0,((S172*R172)-(O172*N172))*IF(G172=\"90C\",Validation!B$32,T172)*VLOOKUP(IF(E172=\"\",$D$16,E172),ClgHtgTypeData,3,FALSE)/1000)","v":0},0,"",{"$error":"#VALUE!"},0,{"$f":"IF(OR(U172=\"\",W172=\"\"),0,IF(U172=\"80F\",Validation!W159,(VLOOKUP(IF(D172=\"\",$D$15,D172),LtgBldgTypeData,3,FALSE)-VLOOKUP(U172,Control_Data,5)))*N172*O172*VLOOKUP(IF(E172=\"\",$D$16,E172),ClgHtgTypeData,2,FALSE)/1000)","v":0},{"$f":"IF(OR(U172=\"\",W172=\"\"),\"\",IF(VLOOKUP(L172,'Wattage Table'!D:F,3,0)*N172/W172>=VLOOKUP(U172,Control_Data,3,0),1,0))","v":""}]
[null,149,null,null,null,null,{"$f":"IF(F173=\"\",\"\",HLOOKUP(F173,Validation!$F$5:$Q$6,2,FALSE))","v":""},{"$f":"IF(G173=\"\",\"\",INDEX('Measure Code Summary'!$D$20:$D$52,MATCH(G173,'Measure Code Summary'!$C$20:$C$52,0),1))","v":""},"",null,null,null,{"$f":"IF(L173=\"\",\"\",VLOOKUP(L173,'Wattage Table'!$D:$E,2,0))","v":""},null,{"$f":"IF(L173=\"\",\"\",VLOOKUP(L173,'Wattage Table'!D:F,3,0))","v":""},null,{"$f":"IF(P173=\"\",\"\",VLOOKUP(P173,'Wattage Table'!D:E,2,0))","v":""},null,{"$f":"IF(P173=\"\",\"\",VLOOKUP(P173,'Wattage Table'!D:F,3,0))","v":""},null,null,{"$f":"IF(U173=\"\",\"\",IF(U173=\"None\",\"None\",INDEX('Measure Code Summary'!$D$50:$D$53,MATCH(U173,'Measure Code Summary'!$C$50:$C$53,0),1)))","v":""},null,0,0,0,{"$error":"#VALUE!"},{"$error":"#VALUE!"},"",{"$f":"IF(OR(P173=\"\",L173=\"\", D$16=\"\"),0,((S173*R173)-(O173*N173))*IF(G173=\"90C\",Validation!B$32,T173)*VLOOKUP(IF(E173=\"\",$D$16,E173),ClgHtgTypeData,3,FALSE)/1000)","v":0},0,"",{"$error":"#VALUE!"},0,{"$f":"IF(OR(U173=\"\",W173=\"\"),0,IF(U173=\"80F\",Validation!W160,(VLOOKUP(IF(D173=\"\",$D$15,D173),LtgBldgTypeData,3,FALSE)-VLOOKUP(U173,Control_Data,5)))*N173*O173*VLOOKUP(IF(E173=\"\",$D$16,E173),ClgHtgTypeData,2,FALSE)/1000)","v":0},{"$f":"IF(OR(U173=\"\",W173=\"\"),\"\",IF(VLOOKUP(L173,'Wattage Table'!D:F,3,0)*N173/W173>=VLOOKUP(U173,Control_Data,3,0),1,0))","v":""}]
[null,150,null,null,null,null,{"$f":"IF(F174=\"\",\"\",HLOOKUP(F174,Validation!$F$5:$Q$6,2,FALSE))","v":""},{"$f":"IF(G174=\"\",\"\",INDEX('Measure Code Summary'!$D$20:$D$52,MATCH(G174,'Measure Code Summary'!$C$20:$C$52,0),1))","v":""},"",null,null,null,{"$f":"IF(L174=\"\",\"\",VLOOKUP(L174,'Wattage Table'!$D:$E,2,0))","v":""},null,{"$f":"IF(L174=\"\",\"\",VLOOKUP(L174,'Wattage Table'!D:F,3,0))","v":""},null,{"$f":"IF(P174=\"\",\"\",VLOOKUP(P174,'Wattage Table'!D:E,2,0))","v":""},null,{"$f":"IF(P174=\"\",\"\",VLOOKUP(P174,'Wattage Table'!D:F,3,0))","v":""},null,null,{"$f":"IF(U174=\"\",\"\",IF(U174=\"None\",\"None\",INDEX('Measure Code Summary'!$D$50:$D$53,MATCH(U174,'Measure Code Summary'!$C$50:$C$53,0),1)))","v":""},null,0,0,0,{"$error":"#VALUE!"},{"$error":"#VALUE!"},"",{"$f":"IF(OR(P174=\"\",L174=\"\", D$16=\"\"),0,((S174*R174)-(O174*N174))*IF(G174=\"90C\",Validation!B$32,T174)*VLOOKUP(IF(E174=\"\",$D$16,E174),ClgHtgTypeData,3,FALSE)/1000)","v":0},0,"",{"$error":"#VALUE!"},0,{"$f":"IF(OR(U174=\"\",W174=\"\"),0,IF(U174=\"80F\",Validation!W161,(VLOOKUP(IF(D174=\"\",$D$15,D174),LtgBldgTypeData,3,FALSE)-VLOOKUP(U174,Control_Data,5)))*N174*O174*VLOOKUP(IF(E174=\"\",$D$16,E174),ClgHtgTypeData,2,FALSE)/1000)","v":0},{"$f":"IF(OR(U174=\"\",W174=\"\"),\"\",IF(VLOOKUP(L174,'Wattage Table'!D:F,3,0)*N174/W174>=VLOOKUP(U174,Control_Data,3,0),1,0))","v":""}]
[null,151,null,null,null,null,{"$f":"IF(F175=\"\",\"\",HLOOKUP(F175,Validation!$F$5:$Q$6,2,FALSE))","v":""},{"$f":"IF(G175=\"\",\"\",INDEX('Measure Code Summary'!$D$20:$D$52,MATCH(G175,'Measure Code Summary'!$C$20:$C$52,0),1))","v":""},"",null,null,null,{"$f":"IF(L175=\"\",\"\",VLOOKUP(L175,'Wattage Table'!$D:$E,2,0))","v":""},null,{"$f":"IF(L175=\"\",\"\",VLOOKUP(L175,'Wattage Table'!D:F,3,0))","v":""},null,{"$f":"IF(P175=\"\",\"\",VLOOKUP(P175,'Wattage Table'!D:E,2,0))","v":""},null,{"$f":"IF(P175=\"\",\"\",VLOOKUP(P175,'Wattage Table'!D:F,3,0))","v":""},null,null,{"$f":"IF(U175=\"\",\"\",IF(U175=\"None\",\"None\",INDEX('Measure Code Summary'!$D$50:$D$53,MATCH(U175,'Measure Code Summary'!$C$50:$C$53,0),1)))","v":""},null,0,0,0,{"$error":"#VALUE!"},{"$error":"#VALUE!"},"",{"$f":"IF(OR(P175=\"\",L175=\"\", D$16=\"\"),0,((S175*R175)-(O175*N175))*IF(G175=\"90C\",Validation!B$32,T175)*VLOOKUP(IF(E175=\"\",$D$16,E175),ClgHtgTypeData,3,FALSE)/1000)","v":0},0,"",{"$error":"#VALUE!"},0,{"$f":"IF(OR(U175=\"\",W175=\"\"),0,IF(U175=\"80F\",Validation!W162,(VLOOKUP(IF(D175=\"\",$D$15,D175),LtgBldgTypeData,3,FALSE)-VLOOKUP(U175,Control_Data,5)))*N175*O175*VLOOKUP(IF(E175=\"\",$D$16,E175),ClgHtgTypeData,2,FALSE)/1000)","v":0},{"$f":"IF(OR(U175=\"\",W175=\"\"),\"\",IF(VLOOKUP(L175,'Wattage Table'!D:F,3,0)*N175/W175>=VLOOKUP(U175,Control_Data,3,0),1,0))","v":""}]
[null,152,null,null,null,null,{"$f":"IF(F176=\"\",\"\",HLOOKUP(F176,Validation!$F$5:$Q$6,2,FALSE))","v":""},{"$f":"IF(G176=\"\",\"\",INDEX('Measure Code Summary'!$D$20:$D$52,MATCH(G176,'Measure Code Summary'!$C$20:$C$52,0),1))","v":""},"",null,null,null,{"$f":"IF(L176=\"\",\"\",VLOOKUP(L176,'Wattage Table'!$D:$E,2,0))","v":""},null,{"$f":"IF(L176=\"\",\"\",VLOOKUP(L176,'Wattage Table'!D:F,3,0))","v":""},null,{"$f":"IF(P176=\"\",\"\",VLOOKUP(P176,'Wattage Table'!D:E,2,0))","v":""},null,{"$f":"IF(P176=\"\",\"\",VLOOKUP(P176,'Wattage Table'!D:F,3,0))","v":""},null,null,{"$f":"IF(U176=\"\",\"\",IF(U176=\"None\",\"None\",INDEX('Measure Code Summary'!$D$50:$D$53,MATCH(U176,'Measure Code Summary'!$C$50:$C$53,0),1)))","v":""},null,0,0,0,{"$error":"#VALUE!"},{"$error":"#VALUE!"},"",{"$f":"IF(OR(P176=\"\",L176=\"\", D$16=\"\"),0,((S176*R176)-(O176*N176))*IF(G176=\"90C\",Validation!B$32,T176)*VLOOKUP(IF(E176=\"\",$D$16,E176),ClgHtgTypeData,3,FALSE)/1000)","v":0},0,"",{"$error":"#VALUE!"},0,{"$f":"IF(OR(U176=\"\",W176=\"\"),0,IF(U176=\"80F\",Validation!W163,(VLOOKUP(IF(D176=\"\",$D$15,D176),LtgBldgTypeData,3,FALSE)-VLOOKUP(U176,Control_Data,5)))*N176*O176*VLOOKUP(IF(E176=\"\",$D$16,E176),ClgHtgTypeData,2,FALSE)/1000)","v":0},{"$f":"IF(OR(U176=\"\",W176=\"\"),\"\",IF(VLOOKUP(L176,'Wattage Table'!D:F,3,0)*N176/W176>=VLOOKUP(U176,Control_Data,3,0),1,0))","v":""}]
[null,153,null,null,null,null,{"$f":"IF(F177=\"\",\"\",HLOOKUP(F177,Validation!$F$5:$Q$6,2,FALSE))","v":""},{"$f":"IF(G177=\"\",\"\",INDEX('Measure Code Summary'!$D$20:$D$52,MATCH(G177,'Measure Code Summary'!$C$20:$C$52,0),1))","v":""},"",null,null,null,{"$f":"IF(L177=\"\",\"\",VLOOKUP(L177,'Wattage Table'!$D:$E,2,0))","v":""},null,{"$f":"IF(L177=\"\",\"\",VLOOKUP(L177,'Wattage Table'!D:F,3,0))","v":""},null,{"$f":"IF(P177=\"\",\"\",VLOOKUP(P177,'Wattage Table'!D:E,2,0))","v":""},null,{"$f":"IF(P177=\"\",\"\",VLOOKUP(P177,'Wattage Table'!D:F,3,0))","v":""},null,null,{"$f":"IF(U177=\"\",\"\",IF(U177=\"None\",\"None\",INDEX('Measure Code Summary'!$D$50:$D$53,MATCH(U177,'Measure Code Summary'!$C$50:$C$53,0),1)))","v":""},null,0,0,0,{"$error":"#VALUE!"},{"$error":"#VALUE!"},"",{"$f":"IF(OR(P177=\"\",L177=\"\", D$16=\"\"),0,((S177*R177)-(O177*N177))*IF(G177=\"90C\",Validation!B$32,T177)*VLOOKUP(IF(E177=\"\",$D$16,E177),ClgHtgTypeData,3,FALSE)/1000)","v":0},0,"",{"$error":"#VALUE!"},0,{"$f":"IF(OR(U177=\"\",W177=\"\"),0,IF(U177=\"80F\",Validation!W164,(VLOOKUP(IF(D177=\"\",$D$15,D177),LtgBldgTypeData,3,FALSE)-VLOOKUP(U177,Control_Data,5)))*N177*O177*VLOOKUP(IF(E177=\"\",$D$16,E177),ClgHtgTypeData,2,FALSE)/1000)","v":0},{"$f":"IF(OR(U177=\"\",W177=\"\"),\"\",IF(VLOOKUP(L177,'Wattage Table'!D:F,3,0)*N177/W177>=VLOOKUP(U177,Control_Data,3,0),1,0))","v":""}]
[null,154,null,null,null,null,{"$f":"IF(F178=\"\",\"\",HLOOKUP(F178,Validation!$F$5:$Q$6,2,FALSE))","v":""},{"$f":"IF(G178=\"\",\"\",INDEX('Measure Code Summary'!$D$20:$D$52,MATCH(G178,'Measure Code Summary'!$C$20:$C$52,0),1))","v":""},"",null,null,null,{"$f":"IF(L178=\"\",\"\",VLOOKUP(L178,'Wattage Table'!$D:$E,2,0))","v":""},null,{"$f":"IF(L178=\"\",\"\",VLOOKUP(L178,'Wattage Table'!D:F,3,0))","v":""},null,{"$f":"IF(P178=\"\",\"\",VLOOKUP(P178,'Wattage Table'!D:E,2,0))","v":""},null,{"$f":"IF(P178=\"\",\"\",VLOOKUP(P178,'Wattage Table'!D:F,3,0))","v":""},null,null,{"$f":"IF(U178=\"\",\"\",IF(U178=\"None\",\"None\",INDEX('Measure Code Summary'!$D$50:$D$53,MATCH(U178,'Measure Code Summary'!$C$50:$C$53,0),1)))","v":""},null,0,0,0,{"$error":"#VALUE!"},{"$error":"#VALUE!"},"",{"$f":"IF(OR(P178=\"\",L178=\"\", D$16=\"\"),0,((S178*R178)-(O178*N178))*IF(G178=\"90C\",Validation!B$32,T178)*VLOOKUP(IF(E178=\"\",$D$16,E178),ClgHtgTypeData,3,FALSE)/1000)","v":0},0,"",{"$error":"#VALUE!"},0,{"$f":"IF(OR(U178=\"\",W178=\"\"),0,IF(U178=\"80F\",Validation!W165,(VLOOKUP(IF(D178=\"\",$D$15,D178),LtgBldgTypeData,3,FALSE)-VLOOKUP(U178,Control_Data,5)))*N178*O178*VLOOKUP(IF(E178=\"\",$D$16,E178),ClgHtgTypeData,2,FALSE)/1000)","v":0},{"$f":"IF(OR(U178=\"\",W178=\"\"),\"\",IF(VLOOKUP(L178,'Wattage Table'!D:F,3,0)*N178/W178>=VLOOKUP(U178,Control_Data,3,0),1,0))","v":""}]
[null,155,null,null,null,null,{"$f":"IF(F179=\"\",\"\",HLOOKUP(F179,Validation!$F$5:$Q$6,2,FALSE))","v":""},{"$f":"IF(G179=\"\",\"\",INDEX('Measure Code Summary'!$D$20:$D$52,MATCH(G179,'Measure Code Summary'!$C$20:$C$52,0),1))","v":""},"",null,null,null,{"$f":"IF(L179=\"\",\"\",VLOOKUP(L179,'Wattage Table'!$D:$E,2,0))","v":""},null,{"$f":"IF(L179=\"\",\"\",VLOOKUP(L179,'Wattage Table'!D:F,3,0))","v":""},null,{"$f":"IF(P179=\"\",\"\",VLOOKUP(P179,'Wattage Table'!D:E,2,0))","v":""},null,{"$f":"IF(P179=\"\",\"\",VLOOKUP(P179,'Wattage Table'!D:F,3,0))","v":""},null,null,{"$f":"IF(U179=\"\",\"\",IF(U179=\"None\",\"None\",INDEX('Measure Code Summary'!$D$50:$D$53,MATCH(U179,'Measure Code Summary'!$C$50:$C$53,0),1)))","v":""},null,0,0,0,{"$error":"#VALUE!"},{"$error":"#VALUE!"},"",{"$f":"IF(OR(P179=\"\",L179=\"\", D$16=\"\"),0,((S179*R179)-(O179*N179))*IF(G179=\"90C\",Validation!B$32,T179)*VLOOKUP(IF(E179=\"\",$D$16,E179),ClgHtgTypeData,3,FALSE)/1000)","v":0},0,"",{"$error":"#VALUE!"},0,{"$f":"IF(OR(U179=\"\",W179=\"\"),0,IF(U179=\"80F\",Validation!W166,(VLOOKUP(IF(D179=\"\",$D$15,D179),LtgBldgTypeData,3,FALSE)-VLOOKUP(U179,Control_Data,5)))*N179*O179*VLOOKUP(IF(E179=\"\",$D$16,E179),ClgHtgTypeData,2,FALSE)/1000)","v":0},{"$f":"IF(OR(U179=\"\",W179=\"\"),\"\",IF(VLOOKUP(L179,'Wattage Table'!D:F,3,0)*N179/W179>=VLOOKUP(U179,Control_Data,3,0),1,0))","v":""}]
[null,156,null,null,null,null,{"$f":"IF(F180=\"\",\"\",HLOOKUP(F180,Validation!$F$5:$Q$6,2,FALSE))","v":""},{"$f":"IF(G180=\"\",\"\",INDEX('Measure Code Summary'!$D$20:$D$52,MATCH(G180,'Measure Code Summary'!$C$20:$C$52,0),1))","v":""},"",null,null,null,{"$f":"IF(L180=\"\",\"\",VLOOKUP(L180,'Wattage Table'!$D:$E,2,0))","v":""},null,{"$f":"IF(L180=\"\",\"\",VLOOKUP(L180,'Wattage Table'!D:F,3,0))","v":""},null,{"$f":"IF(P180=\"\",\"\",VLOOKUP(P180,'Wattage Table'!D:E,2,0))","v":""},null,{"$f":"IF(P180=\"\",\"\",VLOOKUP(P180,'Wattage Table'!D:F,3,0))","v":""},null,null,{"$f":"IF(U180=\"\",\"\",IF(U180=\"None\",\"None\",INDEX('Measure Code Summary'!$D$50:$D$53,MATCH(U180,'Measure Code Summary'!$C$50:$C$53,0),1)))","v":""},null,0,0,0,{"$error":"#VALUE!"},{"$error":"#VALUE!"},"",{"$f":"IF(OR(P180=\"\",L180=\"\", D$16=\"\"),0,((S180*R180)-(O180*N180))*IF(G180=\"90C\",Validation!B$32,T180)*VLOOKUP(IF(E180=\"\",$D$16,E180),ClgHtgTypeData,3,FALSE)/1000)","v":0},0,"",{"$error":"#VALUE!"},0,{"$f":"IF(OR(U180=\"\",W180=\"\"),0,IF(U180=\"80F\",Validation!W167,(VLOOKUP(IF(D180=\"\",$D$15,D180),LtgBldgTypeData,3,FALSE)-VLOOKUP(U180,Control_Data,5)))*N180*O180*VLOOKUP(IF(E180=\"\",$D$16,E180),ClgHtgTypeData,2,FALSE)/1000)","v":0},{"$f":"IF(OR(U180=\"\",W180=\"\"),\"\",IF(VLOOKUP(L180,'Wattage Table'!D:F,3,0)*N180/W180>=VLOOKUP(U180,Control_Data,3,0),1,0))","v":""}]
[null,157,null,null,null,null,{"$f":"IF(F181=\"\",\"\",HLOOKUP(F181,Validation!$F$5:$Q$6,2,FALSE))","v":""},{"$f":"IF(G181=\"\",\"\",INDEX('Measure Code Summary'!$D$20:$D$52,MATCH(G181,'Measure Code Summary'!$C$20:$C$52,0),1))","v":""},"",null,null,null,{"$f":"IF(L181=\"\",\"\",VLOOKUP(L181,'Wattage Table'!$D:$E,2,0))","v":""},null,{"$f":"IF(L181=\"\",\"\",VLOOKUP(L181,'Wattage Table'!D:F,3,0))","v":""},null,{"$f":"IF(P181=\"\",\"\",VLOOKUP(P181,'Wattage Table'!D:E,2,0))","v":""},null,{"$f":"IF(P181=\"\",\"\",VLOOKUP(P181,'Wattage Table'!D:F,3,0))","v":""},null,null,{"$f":"IF(U181=\"\",\"\",IF(U181=\"None\",\"None\",INDEX('Measure Code Summary'!$D$50:$D$53,MATCH(U181,'Measure Code Summary'!$C$50:$C$53,0),1)))","v":""},null,0,0,0,{"$error":"#VALUE!"},{"$error":"#VALUE!"},"",{"$f":"IF(OR(P181=\"\",L181=\"\", D$16=\"\"),0,((S181*R181)-(O181*N181))*IF(G181=\"90C\",Validation!B$32,T181)*VLOOKUP(IF(E181=\"\",$D$16,E181),ClgHtgTypeData,3,FALSE)/1000)","v":0},0,"",{"$error":"#VALUE!"},0,{"$f":"IF(OR(U181=\"\",W181=\"\"),0,IF(U181=\"80F\",Validation!W168,(VLOOKUP(IF(D181=\"\",$D$15,D181),LtgBldgTypeData,3,FALSE)-VLOOKUP(U181,Control_Data,5)))*N181*O181*VLOOKUP(IF(E181=\"\",$D$16,E181),ClgHtgTypeData,2,FALSE)/1000)","v":0},{"$f":"IF(OR(U181=\"\",W181=\"\"),\"\",IF(VLOOKUP(L181,'Wattage Table'!D:F,3,0)*N181/W181>=VLOOKUP(U181,Control_Data,3,0),1,0))","v":""}]
[null,158,null,null,null,null,{"$f":"IF(F182=\"\",\"\",HLOOKUP(F182,Validation!$F$5:$Q$6,2,FALSE))","v":""},{"$f":"IF(G182=\"\",\"\",INDEX('Measure Code Summary'!$D$20:$D$52,MATCH(G182,'Measure Code Summary'!$C$20:$C$52,0),1))","v":""},"",null,null,null,{"$f":"IF(L182=\"\",\"\",VLOOKUP(L182,'Wattage Table'!$D:$E,2,0))","v":""},null,{"$f":"IF(L182=\"\",\"\",VLOOKUP(L182,'Wattage Table'!D:F,3,0))","v":""},null,{"$f":"IF(P182=\"\",\"\",VLOOKUP(P182,'Wattage Table'!D:E,2,0))","v":""},null,{"$f":"IF(P182=\"\",\"\",VLOOKUP(P182,'Wattage Table'!D:F,3,0))","v":""},null,null,{"$f":"IF(U182=\"\",\"\",IF(U182=\"None\",\"None\",INDEX('Measure Code Summary'!$D$50:$D$53,MATCH(U182,'Measure Code Summary'!$C$50:$C$53,0),1)))","v":""},null,0,0,0,{"$error":"#VALUE!"},{"$error":"#VALUE!"},"",{"$f":"IF(OR(P182=\"\",L182=\"\", D$16=\"\"),0,((S182*R182)-(O182*N182))*IF(G182=\"90C\",Validation!B$32,T182)*VLOOKUP(IF(E182=\"\",$D$16,E182),ClgHtgTypeData,3,FALSE)/1000)","v":0},0,"",{"$error":"#VALUE!"},0,{"$f":"IF(OR(U182=\"\",W182=\"\"),0,IF(U182=\"80F\",Validation!W169,(VLOOKUP(IF(D182=\"\",$D$15,D182),LtgBldgTypeData,3,FALSE)-VLOOKUP(U182,Control_Data,5)))*N182*O182*VLOOKUP(IF(E182=\"\",$D$16,E182),ClgHtgTypeData,2,FALSE)/1000)","v":0},{"$f":"IF(OR(U182=\"\",W182=\"\"),\"\",IF(VLOOKUP(L182,'Wattage Table'!D:F,3,0)*N182/W182>=VLOOKUP(U182,Control_Data,3,0),1,0))","v":""}]
[null,159,null,null,null,null,{"$f":"IF(F183=\"\",\"\",HLOOKUP(F183,Validation!$F$5:$Q$6,2,FALSE))","v":""},{"$f":"IF(G183=\"\",\"\",INDEX('Measure Code Summary'!$D$20:$D$52,MATCH(G183,'Measure Code Summary'!$C$20:$C$52,0),1))","v":""},"",null,null,null,{"$f":"IF(L183=\"\",\"\",VLOOKUP(L183,'Wattage Table'!$D:$E,2,0))","v":""},null,{"$f":"IF(L183=\"\",\"\",VLOOKUP(L183,'Wattage Table'!D:F,3,0))","v":""},null,{"$f":"IF(P183=\"\",\"\",VLOOKUP(P183,'Wattage Table'!D:E,2,0))","v":""},null,{"$f":"IF(P183=\"\",\"\",VLOOKUP(P183,'Wattage Table'!D:F,3,0))","v":""},null,null,{"$f":"IF(U183=\"\",\"\",IF(U183=\"None\",\"None\",INDEX('Measure Code Summary'!$D$50:$D$53,MATCH(U183,'Measure Code Summary'!$C$50:$C$53,0),1)))","v":""},null,0,0,0,{"$error":"#VALUE!"},{"$error":"#VALUE!"},"",{"$f":"IF(OR(P183=\"\",L183=\"\", D$16=\"\"),0,((S183*R183)-(O183*N183))*IF(G183=\"90C\",Validation!B$32,T183)*VLOOKUP(IF(E183=\"\",$D$16,E183),ClgHtgTypeData,3,FALSE)/1000)","v":0},0,"",{"$error":"#VALUE!"},0,{"$f":"IF(OR(U183=\"\",W183=\"\"),0,IF(U183=\"80F\",Validation!W170,(VLOOKUP(IF(D183=\"\",$D$15,D183),LtgBldgTypeData,3,FALSE)-VLOOKUP(U183,Control_Data,5)))*N183*O183*VLOOKUP(IF(E183=\"\",$D$16,E183),ClgHtgTypeData,2,FALSE)/1000)","v":0},{"$f":"IF(OR(U183=\"\",W183=\"\"),\"\",IF(VLOOKUP(L183,'Wattage Table'!D:F,3,0)*N183/W183>=VLOOKUP(U183,Control_Data,3,0),1,0))","v":""}]
[null,160,null,null,null,null,{"$f":"IF(F184=\"\",\"\",HLOOKUP(F184,Validation!$F$5:$Q$6,2,FALSE))","v":""},{"$f":"IF(G184=\"\",\"\",INDEX('Measure Code Summary'!$D$20:$D$52,MATCH(G184,'Measure Code Summary'!$C$20:$C$52,0),1))","v":""},"",null,null,null,{"$f":"IF(L184=\"\",\"\",VLOOKUP(L184,'Wattage Table'!$D:$E,2,0))","v":""},null,{"$f":"IF(L184=\"\",\"\",VLOOKUP(L184,'Wattage Table'!D:F,3,0))","v":""},null,{"$f":"IF(P184=\"\",\"\",VLOOKUP(P184,'Wattage Table'!D:E,2,0))","v":""},null,{"$f":"IF(P184=\"\",\"\",VLOOKUP(P184,'Wattage Table'!D:F,3,0))","v":""},null,null,{"$f":"IF(U184=\"\",\"\",IF(U184=\"None\",\"None\",INDEX('Measure Code Summary'!$D$50:$D$53,MATCH(U184,'Measure Code Summary'!$C$50:$C$53,0),1)))","v":""},null,0,0,0,{"$error":"#VALUE!"},{"$error":"#VALUE!"},"",{"$f":"IF(OR(P184=\"\",L184=\"\", D$16=\"\"),0,((S184*R184)-(O184*N184))*IF(G184=\"90C\",Validation!B$32,T184)*VLOOKUP(IF(E184=\"\",$D$16,E184),ClgHtgTypeData,3,FALSE)/1000)","v":0},0,"",{"$error":"#VALUE!"},0,{"$f":"IF(OR(U184=\"\",W184=\"\"),0,IF(U184=\"80F\",Validation!W171,(VLOOKUP(IF(D184=\"\",$D$15,D184),LtgBldgTypeData,3,FALSE)-VLOOKUP(U184,Control_Data,5)))*N184*O184*VLOOKUP(IF(E184=\"\",$D$16,E184),ClgHtgTypeData,2,FALSE)/1000)","v":0},{"$f":"IF(OR(U184=\"\",W184=\"\"),\"\",IF(VLOOKUP(L184,'Wattage Table'!D:F,3,0)*N184/W184>=VLOOKUP(U184,Control_Data,3,0),1,0))","v":""}]
[null,161,null,null,null,null,{"$f":"IF(F185=\"\",\"\",HLOOKUP(F185,Validation!$F$5:$Q$6,2,FALSE))","v":""},{"$f":"IF(G185=\"\",\"\",INDEX('Measure Code Summary'!$D$20:$D$52,MATCH(G185,'Measure Code Summary'!$C$20:$C$52,0),1))","v":""},"",null,null,null,{"$f":"IF(L185=\"\",\"\",VLOOKUP(L185,'Wattage Table'!$D:$E,2,0))","v":""},null,{"$f":"IF(L185=\"\",\"\",VLOOKUP(L185,'Wattage Table'!D:F,3,0))","v":""},null,{"$f":"IF(P185=\"\",\"\",VLOOKUP(P185,'Wattage Table'!D:E,2,0))","v":""},null,{"$f":"IF(P185=\"\",\"\",VLOOKUP(P185,'Wattage Table'!D:F,3,0))","v":""},null,null,{"$f":"IF(U185=\"\",\"\",IF(U185=\"None\",\"None\",INDEX('Measure Code Summary'!$D$50:$D$53,MATCH(U185,'Measure Code Summary'!$C$50:$C$53,0),1)))","v":""},null,0,0,0,{"$error":"#VALUE!"},{"$error":"#VALUE!"},"",{"$f":"IF(OR(P185=\"\",L185=\"\", D$16=\"\"),0,((S185*R185)-(O185*N185))*IF(G185=\"90C\",Validation!B$32,T185)*VLOOKUP(IF(E185=\"\",$D$16,E185),ClgHtgTypeData,3,FALSE)/1000)","v":0},0,"",{"$error":"#VALUE!"},{"$f":"IF(OR(U185=\"\",AJ185=\"No\"),0,0.25*O185*T185*N185)/1000","v":0},{"$f":"IF(OR(U185=\"\",W185=\"\"),0,IF(U185=\"80F\",Validation!W172,(VLOOKUP(IF(D185=\"\",$D$15,D185),LtgBldgTypeData,3,FALSE)-VLOOKUP(U185,Control_Data,5)))*N185*O185*VLOOKUP(IF(E185=\"\",$D$16,E185),ClgHtgTypeData,2,FALSE)/1000)","v":0},{"$f":"IF(OR(U185=\"\",W185=\"\"),\"\",IF(VLOOKUP(L185,'Wattage Table'!D:F,3,0)*N185/W185>=VLOOKUP(U185,Control_Data,3,0),1,0))","v":""}]
[null,162,null,null,null,null,{"$f":"IF(F186=\"\",\"\",HLOOKUP(F186,Validation!$F$5:$Q$6,2,FALSE))","v":""},{"$f":"IF(G186=\"\",\"\",INDEX('Measure Code Summary'!$D$20:$D$52,MATCH(G186,'Measure Code Summary'!$C$20:$C$52,0),1))","v":""},"",null,null,null,{"$f":"IF(L186=\"\",\"\",VLOOKUP(L186,'Wattage Table'!$D:$E,2,0))","v":""},null,{"$f":"IF(L186=\"\",\"\",VLOOKUP(L186,'Wattage Table'!D:F,3,0))","v":""},null,{"$f":"IF(P186=\"\",\"\",VLOOKUP(P186,'Wattage Table'!D:E,2,0))","v":""},null,{"$f":"IF(P186=\"\",\"\",VLOOKUP(P186,'Wattage Table'!D:F,3,0))","v":""},null,null,{"$f":"IF(U186=\"\",\"\",IF(U186=\"None\",\"None\",INDEX('Measure Code Summary'!$D$50:$D$53,MATCH(U186,'Measure Code Summary'!$C$50:$C$53,0),1)))","v":""},null,0,0,0,{"$error":"#VALUE!"},{"$error":"#VALUE!"},"",{"$f":"IF(OR(P186=\"\",L186=\"\", D$16=\"\"),0,((S186*R186)-(O186*N186))*IF(G186=\"90C\",Validation!B$32,T186)*VLOOKUP(IF(E186=\"\",$D$16,E186),ClgHtgTypeData,3,FALSE)/1000)","v":0},0,"",{"$error":"#VALUE!"},0,{"$f":"IF(OR(U186=\"\",W186=\"\"),0,IF(U186=\"80F\",Validation!W173,(VLOOKUP(IF(D186=\"\",$D$15,D186),LtgBldgTypeData,3,FALSE)-VLOOKUP(U186,Control_Data,5)))*N186*O186*VLOOKUP(IF(E186=\"\",$D$16,E186),ClgHtgTypeData,2,FALSE)/1000)","v":0},{"$f":"IF(OR(U186=\"\",W186=\"\"),\"\",IF(VLOOKUP(L186,'Wattage Table'!D:F,3,0)*N186/W186>=VLOOKUP(U186,Control_Data,3,0),1,0))","v":""}]
[null,163,null,null,null,null,{"$f":"IF(F187=\"\",\"\",HLOOKUP(F187,Validation!$F$5:$Q$6,2,FALSE))","v":""},{"$f":"IF(G187=\"\",\"\",INDEX('Measure Code Summary'!$D$20:$D$52,MATCH(G187,'Measure Code Summary'!$C$20:$C$52,0),1))","v":""},"",null,null,null,{"$f":"IF(L187=\"\",\"\",VLOOKUP(L187,'Wattage Table'!$D:$E,2,0))","v":""},null,{"$f":"IF(L187=\"\",\"\",VLOOKUP(L187,'Wattage Table'!D:F,3,0))","v":""},null,{"$f":"IF(P187=\"\",\"\",VLOOKUP(P187,'Wattage Table'!D:E,2,0))","v":""},null,{"$f":"IF(P187=\"\",\"\",VLOOKUP(P187,'Wattage Table'!D:F,3,0))","v":""},null,null,{"$f":"IF(U187=\"\",\"\",IF(U187=\"None\",\"None\",INDEX('Measure Code Summary'!$D$50:$D$53,MATCH(U187,'Measure Code Summary'!$C$50:$C$53,0),1)))","v":""},null,0,0,0,{"$error":"#VALUE!"},{"$error":"#VALUE!"},"",{"$f":"IF(OR(P187=\"\",L187=\"\", D$16=\"\"),0,((S187*R187)-(O187*N187))*IF(G187=\"90C\",Validation!B$32,T187)*VLOOKUP(IF(E187=\"\",$D$16,E187),ClgHtgTypeData,3,FALSE)/1000)","v":0},0,"",{"$error":"#VALUE!"},0,{"$f":"IF(OR(U187=\"\",W187=\"\"),0,IF(U187=\"80F\",Validation!W174,(VLOOKUP(IF(D187=\"\",$D$15,D187),LtgBldgTypeData,3,FALSE)-VLOOKUP(U187,Control_Data,5)))*N187*O187*VLOOKUP(IF(E187=\"\",$D$16,E187),ClgHtgTypeData,2,FALSE)/1000)","v":0},{"$f":"IF(OR(U187=\"\",W187=\"\"),\"\",IF(VLOOKUP(L187,'Wattage Table'!D:F,3,0)*N187/W187>=VLOOKUP(U187,Control_Data,3,0),1,0))","v":""}]
[null,164,null,null,null,null,{"$f":"IF(F188=\"\",\"\",HLOOKUP(F188,Validation!$F$5:$Q$6,2,FALSE))","v":""},{"$f":"IF(G188=\"\",\"\",INDEX('Measure Code Summary'!$D$20:$D$52,MATCH(G188,'Measure Code Summary'!$C$20:$C$52,0),1))","v":""},"",null,null,null,{"$f":"IF(L188=\"\",\"\",VLOOKUP(L188,'Wattage Table'!$D:$E,2,0))","v":""},null,{"$f":"IF(L188=\"\",\"\",VLOOKUP(L188,'Wattage Table'!D:F,3,0))","v":""},null,{"$f":"IF(P188=\"\",\"\",VLOOKUP(P188,'Wattage Table'!D:E,2,0))","v":""},null,{"$f":"IF(P188=\"\",\"\",VLOOKUP(P188,'Wattage Table'!D:F,3,0))","v":""},null,null,{"$f":"IF(U188=\"\",\"\",IF(U188=\"None\",\"None\",INDEX('Measure Code Summary'!$D$50:$D$53,MATCH(U188,'Measure Code Summary'!$C$50:$C$53,0),1)))","v":""},null,0,0,0,{"$error":"#VALUE!"},{"$error":"#VALUE!"},"",{"$f":"IF(OR(P188=\"\",L188=\"\", D$16=\"\"),0,((S188*R188)-(O188*N188))*IF(G188=\"90C\",Validation!B$32,T188)*VLOOKUP(IF(E188=\"\",$D$16,E188),ClgHtgTypeData,3,FALSE)/1000)","v":0},0,"",{"$error":"#VALUE!"},0,{"$f":"IF(OR(U188=\"\",W188=\"\"),0,IF(U188=\"80F\",Validation!W175,(VLOOKUP(IF(D188=\"\",$D$15,D188),LtgBldgTypeData,3,FALSE)-VLOOKUP(U188,Control_Data,5)))*N188*O188*VLOOKUP(IF(E188=\"\",$D$16,E188),ClgHtgTypeData,2,FALSE)/1000)","v":0},{"$f":"IF(OR(U188=\"\",W188=\"\"),\"\",IF(VLOOKUP(L188,'Wattage Table'!D:F,3,0)*N188/W188>=VLOOKUP(U188,Control_Data,3,0),1,0))","v":""}]
[null,165,null,null,null,null,{"$f":"IF(F189=\"\",\"\",HLOOKUP(F189,Validation!$F$5:$Q$6,2,FALSE))","v":""},{"$f":"IF(G189=\"\",\"\",INDEX('Measure Code Summary'!$D$20:$D$52,MATCH(G189,'Measure Code Summary'!$C$20:$C$52,0),1))","v":""},"",null,null,null,{"$f":"IF(L189=\"\",\"\",VLOOKUP(L189,'Wattage Table'!$D:$E,2,0))","v":""},null,{"$f":"IF(L189=\"\",\"\",VLOOKUP(L189,'Wattage Table'!D:F,3,0))","v":""},null,{"$f":"IF(P189=\"\",\"\",VLOOKUP(P189,'Wattage Table'!D:E,2,0))","v":""},null,{"$f":"IF(P189=\"\",\"\",VLOOKUP(P189,'Wattage Table'!D:F,3,0))","v":""},null,null,{"$f":"IF(U189=\"\",\"\",IF(U189=\"None\",\"None\",INDEX('Measure Code Summary'!$D$50:$D$53,MATCH(U189,'Measure Code Summary'!$C$50:$C$53,0),1)))","v":""},null,0,0,0,{"$error":"#VALUE!"},{"$error":"#VALUE!"},"",{"$f":"IF(OR(P189=\"\",L189=\"\", D$16=\"\"),0,((S189*R189)-(O189*N189))*IF(G189=\"90C\",Validation!B$32,T189)*VLOOKUP(IF(E189=\"\",$D$16,E189),ClgHtgTypeData,3,FALSE)/1000)","v":0},0,"",{"$error":"#VALUE!"},0,{"$f":"IF(OR(U189=\"\",W189=\"\"),0,IF(U189=\"80F\",Validation!W176,(VLOOKUP(IF(D189=\"\",$D$15,D189),LtgBldgTypeData,3,FALSE)-VLOOKUP(U189,Control_Data,5)))*N189*O189*VLOOKUP(IF(E189=\"\",$D$16,E189),ClgHtgTypeData,2,FALSE)/1000)","v":0},{"$f":"IF(OR(U189=\"\",W189=\"\"),\"\",IF(VLOOKUP(L189,'Wattage Table'!D:F,3,0)*N189/W189>=VLOOKUP(U189,Control_Data,3,0),1,0))","v":""}]
[null,166,null,null,null,null,{"$f":"IF(F190=\"\",\"\",HLOOKUP(F190,Validation!$F$5:$Q$6,2,FALSE))","v":""},{"$f":"IF(G190=\"\",\"\",INDEX('Measure Code Summary'!$D$20:$D$52,MATCH(G190,'Measure Code Summary'!$C$20:$C$52,0),1))","v":""},"",null,null,null,{"$f":"IF(L190=\"\",\"\",VLOOKUP(L190,'Wattage Table'!$D:$E,2,0))","v":""},null,{"$f":"IF(L190=\"\",\"\",VLOOKUP(L190,'Wattage Table'!D:F,3,0))","v":""},null,{"$f":"IF(P190=\"\",\"\",VLOOKUP(P190,'Wattage Table'!D:E,2,0))","v":""},null,{"$f":"IF(P190=\"\",\"\",VLOOKUP(P190,'Wattage Table'!D:F,3,0))","v":""},null,null,{"$f":"IF(U190=\"\",\"\",IF(U190=\"None\",\"None\",INDEX('Measure Code Summary'!$D$50:$D$53,MATCH(U190,'Measure Code Summary'!$C$50:$C$53,0),1)))","v":""},null,0,0,0,{"$error":"#VALUE!"},{"$error":"#VALUE!"},"",{"$f":"IF(OR(P190=\"\",L190=\"\", D$16=\"\"),0,((S190*R190)-(O190*N190))*IF(G190=\"90C\",Validation!B$32,T190)*VLOOKUP(IF(E190=\"\",$D$16,E190),ClgHtgTypeData,3,FALSE)/1000)","v":0},0,"",{"$error":"#VALUE!"},0,{"$f":"IF(OR(U190=\"\",W190=\"\"),0,IF(U190=\"80F\",Validation!W177,(VLOOKUP(IF(D190=\"\",$D$15,D190),LtgBldgTypeData,3,FALSE)-VLOOKUP(U190,Control_Data,5)))*N190*O190*VLOOKUP(IF(E190=\"\",$D$16,E190),ClgHtgTypeData,2,FALSE)/1000)","v":0},{"$f":"IF(OR(U190=\"\",W190=\"\"),\"\",IF(VLOOKUP(L190,'Wattage Table'!D:F,3,0)*N190/W190>=VLOOKUP(U190,Control_Data,3,0),1,0))","v":""}]
[null,167,null,null,null,null,{"$f":"IF(F191=\"\",\"\",HLOOKUP(F191,Validation!$F$5:$Q$6,2,FALSE))","v":""},{"$f":"IF(G191=\"\",\"\",INDEX('Measure Code Summary'!$D$20:$D$52,MATCH(G191,'Measure Code Summary'!$C$20:$C$52,0),1))","v":""},"",null,null,null,{"$f":"IF(L191=\"\",\"\",VLOOKUP(L191,'Wattage Table'!$D:$E,2,0))","v":""},null,{"$f":"IF(L191=\"\",\"\",VLOOKUP(L191,'Wattage Table'!D:F,3,0))","v":""},null,{"$f":"IF(P191=\"\",\"\",VLOOKUP(P191,'Wattage Table'!D:E,2,0))","v":""},null,{"$f":"IF(P191=\"\",\"\",VLOOKUP(P191,'Wattage Table'!D:F,3,0))","v":""},null,null,{"$f":"IF(U191=\"\",\"\",IF(U191=\"None\",\"None\",INDEX('Measure Code Summary'!$D$50:$D$53,MATCH(U191,'Measure Code Summary'!$C$50:$C$53,0),1)))","v":""},null,0,0,0,{"$error":"#VALUE!"},{"$error":"#VALUE!"},"",{"$f":"IF(OR(P191=\"\",L191=\"\", D$16=\"\"),0,((S191*R191)-(O191*N191))*IF(G191=\"90C\",Validation!B$32,T191)*VLOOKUP(IF(E191=\"\",$D$16,E191),ClgHtgTypeData,3,FALSE)/1000)","v":0},0,"",{"$error":"#VALUE!"},0,{"$f":"IF(OR(U191=\"\",W191=\"\"),0,IF(U191=\"80F\",Validation!W178,(VLOOKUP(IF(D191=\"\",$D$15,D191),LtgBldgTypeData,3,FALSE)-VLOOKUP(U191,Control_Data,5)))*N191*O191*VLOOKUP(IF(E191=\"\",$D$16,E191),ClgHtgTypeData,2,FALSE)/1000)","v":0},{"$f":"IF(OR(U191=\"\",W191=\"\"),\"\",IF(VLOOKUP(L191,'Wattage Table'!D:F,3,0)*N191/W191>=VLOOKUP(U191,Control_Data,3,0),1,0))","v":""}]
[null,168,null,null,null,null,{"$f":"IF(F192=\"\",\"\",HLOOKUP(F192,Validation!$F$5:$Q$6,2,FALSE))","v":""},{"$f":"IF(G192=\"\",\"\",INDEX('Measure Code Summary'!$D$20:$D$52,MATCH(G192,'Measure Code Summary'!$C$20:$C$52,0),1))","v":""},"",null,null,null,{"$f":"IF(L192=\"\",\"\",VLOOKUP(L192,'Wattage Table'!$D:$E,2,0))","v":""},null,{"$f":"IF(L192=\"\",\"\",VLOOKUP(L192,'Wattage Table'!D:F,3,0))","v":""},null,{"$f":"IF(P192=\"\",\"\",VLOOKUP(P192,'Wattage Table'!D:E,2,0))","v":""},null,{"$f":"IF(P192=\"\",\"\",VLOOKUP(P192,'Wattage Table'!D:F,3,0))","v":""},null,null,{"$f":"IF(U192=\"\",\"\",IF(U192=\"None\",\"None\",INDEX('Measure Code Summary'!$D$50:$D$53,MATCH(U192,'Measure Code Summary'!$C$50:$C$53,0),1)))","v":""},null,0,0,0,{"$error":"#VALUE!"},{"$error":"#VALUE!"},"",{"$f":"IF(OR(P192=\"\",L192=\"\", D$16=\"\"),0,((S192*R192)-(O192*N192))*IF(G192=\"90C\",Validation!B$32,T192)*VLOOKUP(IF(E192=\"\",$D$16,E192),ClgHtgTypeData,3,FALSE)/1000)","v":0},0,"",{"$error":"#VALUE!"},0,{"$f":"IF(OR(U192=\"\",W192=\"\"),0,IF(U192=\"80F\",Validation!W179,(VLOOKUP(IF(D192=\"\",$D$15,D192),LtgBldgTypeData,3,FALSE)-VLOOKUP(U192,Control_Data,5)))*N192*O192*VLOOKUP(IF(E192=\"\",$D$16,E192),ClgHtgTypeData,2,FALSE)/1000)","v":0},{"$f":"IF(OR(U192=\"\",W192=\"\"),\"\",IF(VLOOKUP(L192,'Wattage Table'!D:F,3,0)*N192/W192>=VLOOKUP(U192,Control_Data,3,0),1,0))","v":""}]
[null,169,null,null,null,null,{"$f":"IF(F193=\"\",\"\",HLOOKUP(F193,Validation!$F$5:$Q$6,2,FALSE))","v":""},{"$f":"IF(G193=\"\",\"\",INDEX('Measure Code Summary'!$D$20:$D$52,MATCH(G193,'Measure Code Summary'!$C$20:$C$52,0),1))","v":""},"",null,null,null,{"$f":"IF(L193=\"\",\"\",VLOOKUP(L193,'Wattage Table'!$D:$E,2,0))","v":""},null,{"$f":"IF(L193=\"\",\"\",VLOOKUP(L193,'Wattage Table'!D:F,3,0))","v":""},null,{"$f":"IF(P193=\"\",\"\",VLOOKUP(P193,'Wattage Table'!D:E,2,0))","v":""},null,{"$f":"IF(P193=\"\",\"\",VLOOKUP(P193,'Wattage Table'!D:F,3,0))","v":""},null,null,{"$f":"IF(U193=\"\",\"\",IF(U193=\"None\",\"None\",INDEX('Measure Code Summary'!$D$50:$D$53,MATCH(U193,'Measure Code Summary'!$C$50:$C$53,0),1)))","v":""},null,0,0,0,{"$error":"#VALUE!"},{"$error":"#VALUE!"},"",{"$f":"IF(OR(P193=\"\",L193=\"\", D$16=\"\"),0,((S193*R193)-(O193*N193))*IF(G193=\"90C\",Validation!B$32,T193)*VLOOKUP(IF(E193=\"\",$D$16,E193),ClgHtgTypeData,3,FALSE)/1000)","v":0},0,"",{"$error":"#VALUE!"},0,{"$f":"IF(OR(U193=\"\",W193=\"\"),0,IF(U193=\"80F\",Validation!W180,(VLOOKUP(IF(D193=\"\",$D$15,D193),LtgBldgTypeData,3,FALSE)-VLOOKUP(U193,Control_Data,5)))*N193*O193*VLOOKUP(IF(E193=\"\",$D$16,E193),ClgHtgTypeData,2,FALSE)/1000)","v":0},{"$f":"IF(OR(U193=\"\",W193=\"\"),\"\",IF(VLOOKUP(L193,'Wattage Table'!D:F,3,0)*N193/W193>=VLOOKUP(U193,Control_Data,3,0),1,0))","v":""}]
[null,170,null,null,null,null,{"$f":"IF(F194=\"\",\"\",HLOOKUP(F194,Validation!$F$5:$Q$6,2,FALSE))","v":""},{"$f":"IF(G194=\"\",\"\",INDEX('Measure Code Summary'!$D$20:$D$52,MATCH(G194,'Measure Code Summary'!$C$20:$C$52,0),1))","v":""},"",null,null,null,{"$f":"IF(L194=\"\",\"\",VLOOKUP(L194,'Wattage Table'!$D:$E,2,0))","v":""},null,{"$f":"IF(L194=\"\",\"\",VLOOKUP(L194,'Wattage Table'!D:F,3,0))","v":""},null,{"$f":"IF(P194=\"\",\"\",VLOOKUP(P194,'Wattage Table'!D:E,2,0))","v":""},null,{"$f":"IF(P194=\"\",\"\",VLOOKUP(P194,'Wattage Table'!D:F,3,0))","v":""},null,null,{"$f":"IF(U194=\"\",\"\",IF(U194=\"None\",\"None\",INDEX('Measure Code Summary'!$D$50:$D$53,MATCH(U194,'Measure Code Summary'!$C$50:$C$53,0),1)))","v":""},null,0,0,0,{"$error":"#VALUE!"},{"$error":"#VALUE!"},"",{"$f":"IF(OR(P194=\"\",L194=\"\", D$16=\"\"),0,((S194*R194)-(O194*N194))*IF(G194=\"90C\",Validation!B$32,T194)*VLOOKUP(IF(E194=\"\",$D$16,E194),ClgHtgTypeData,3,FALSE)/1000)","v":0},0,"",{"$error":"#VALUE!"},0,{"$f":"IF(OR(U194=\"\",W194=\"\"),0,IF(U194=\"80F\",Validation!W181,(VLOOKUP(IF(D194=\"\",$D$15,D194),LtgBldgTypeData,3,FALSE)-VLOOKUP(U194,Control_Data,5)))*N194*O194*VLOOKUP(IF(E194=\"\",$D$16,E194),ClgHtgTypeData,2,FALSE)/1000)","v":0},{"$f":"IF(OR(U194=\"\",W194=\"\"),\"\",IF(VLOOKUP(L194,'Wattage Table'!D:F,3,0)*N194/W194>=VLOOKUP(U194,Control_Data,3,0),1,0))","v":""}]
[null,171,null,null,null,null,{"$f":"IF(F195=\"\",\"\",HLOOKUP(F195,Validation!$F$5:$Q$6,2,FALSE))","v":""},{"$f":"IF(G195=\"\",\"\",INDEX('Measure Code Summary'!$D$20:$D$52,MATCH(G195,'Measure Code Summary'!$C$20:$C$52,0),1))","v":""},"",null,null,null,{"$f":"IF(L195=\"\",\"\",VLOOKUP(L195,'Wattage Table'!$D:$E,2,0))","v":""},null,{"$f":"IF(L195=\"\",\"\",VLOOKUP(L195,'Wattage Table'!D:F,3,0))","v":""},null,{"$f":"IF(P195=\"\",\"\",VLOOKUP(P195,'Wattage Table'!D:E,2,0))","v":""},null,{"$f":"IF(P195=\"\",\"\",VLOOKUP(P195,'Wattage Table'!D:F,3,0))","v":""},null,null,{"$f":"IF(U195=\"\",\"\",IF(U195=\"None\",\"None\",INDEX('Measure Code Summary'!$D$50:$D$53,MATCH(U195,'Measure Code Summary'!$C$50:$C$53,0),1)))","v":""},null,0,0,0,{"$error":"#VALUE!"},{"$error":"#VALUE!"},"",{"$f":"IF(OR(P195=\"\",L195=\"\", D$16=\"\"),0,((S195*R195)-(O195*N195))*IF(G195=\"90C\",Validation!B$32,T195)*VLOOKUP(IF(E195=\"\",$D$16,E195),ClgHtgTypeData,3,FALSE)/1000)","v":0},0,"",{"$error":"#VALUE!"},0,{"$f":"IF(OR(U195=\"\",W195=\"\"),0,IF(U195=\"80F\",Validation!W182,(VLOOKUP(IF(D195=\"\",$D$15,D195),LtgBldgTypeData,3,FALSE)-VLOOKUP(U195,Control_Data,5)))*N195*O195*VLOOKUP(IF(E195=\"\",$D$16,E195),ClgHtgTypeData,2,FALSE)/1000)","v":0},{"$f":"IF(OR(U195=\"\",W195=\"\"),\"\",IF(VLOOKUP(L195,'Wattage Table'!D:F,3,0)*N195/W195>=VLOOKUP(U195,Control_Data,3,0),1,0))","v":""}]
[null,172,null,null,null,null,{"$f":"IF(F196=\"\",\"\",HLOOKUP(F196,Validation!$F$5:$Q$6,2,FALSE))","v":""},{"$f":"IF(G196=\"\",\"\",INDEX('Measure Code Summary'!$D$20:$D$52,MATCH(G196,'Measure Code Summary'!$C$20:$C$52,0),1))","v":""},"",null,null,null,{"$f":"IF(L196=\"\",\"\",VLOOKUP(L196,'Wattage Table'!$D:$E,2,0))","v":""},null,{"$f":"IF(L196=\"\",\"\",VLOOKUP(L196,'Wattage Table'!D:F,3,0))","v":""},null,{"$f":"IF(P196=\"\",\"\",VLOOKUP(P196,'Wattage Table'!D:E,2,0))","v":""},null,{"$f":"IF(P196=\"\",\"\",VLOOKUP(P196,'Wattage Table'!D:F,3,0))","v":""},null,null,{"$f":"IF(U196=\"\",\"\",IF(U196=\"None\",\"None\",INDEX('Measure Code Summary'!$D$50:$D$53,MATCH(U196,'Measure Code Summary'!$C$50:$C$53,0),1)))","v":""},null,0,0,0,{"$error":"#VALUE!"},{"$error":"#VALUE!"},"",{"$f":"IF(OR(P196=\"\",L196=\"\", D$16=\"\"),0,((S196*R196)-(O196*N196))*IF(G196=\"90C\",Validation!B$32,T196)*VLOOKUP(IF(E196=\"\",$D$16,E196),ClgHtgTypeData,3,FALSE)/1000)","v":0},0,"",{"$error":"#VALUE!"},0,{"$f":"IF(OR(U196=\"\",W196=\"\"),0,IF(U196=\"80F\",Validation!W183,(VLOOKUP(IF(D196=\"\",$D$15,D196),LtgBldgTypeData,3,FALSE)-VLOOKUP(U196,Control_Data,5)))*N196*O196*VLOOKUP(IF(E196=\"\",$D$16,E196),ClgHtgTypeData,2,FALSE)/1000)","v":0},{"$f":"IF(OR(U196=\"\",W196=\"\"),\"\",IF(VLOOKUP(L196,'Wattage Table'!D:F,3,0)*N196/W196>=VLOOKUP(U196,Control_Data,3,0),1,0))","v":""}]
[null,173,null,null,null,null,{"$f":"IF(F197=\"\",\"\",HLOOKUP(F197,Validation!$F$5:$Q$6,2,FALSE))","v":""},{"$f":"IF(G197=\"\",\"\",INDEX('Measure Code Summary'!$D$20:$D$52,MATCH(G197,'Measure Code Summary'!$C$20:$C$52,0),1))","v":""},"",null,null,null,{"$f":"IF(L197=\"\",\"\",VLOOKUP(L197,'Wattage Table'!$D:$E,2,0))","v":""},null,{"$f":"IF(L197=\"\",\"\",VLOOKUP(L197,'Wattage Table'!D:F,3,0))","v":""},null,{"$f":"IF(P197=\"\",\"\",VLOOKUP(P197,'Wattage Table'!D:E,2,0))","v":""},null,{"$f":"IF(P197=\"\",\"\",VLOOKUP(P197,'Wattage Table'!D:F,3,0))","v":""},null,null,{"$f":"IF(U197=\"\",\"\",IF(U197=\"None\",\"None\",INDEX('Measure Code Summary'!$D$50:$D$53,MATCH(U197,'Measure Code Summary'!$C$50:$C$53,0),1)))","v":""},null,0,0,0,{"$error":"#VALUE!"},{"$error":"#VALUE!"},"",{"$f":"IF(OR(P197=\"\",L197=\"\", D$16=\"\"),0,((S197*R197)-(O197*N197))*IF(G197=\"90C\",Validation!B$32,T197)*VLOOKUP(IF(E197=\"\",$D$16,E197),ClgHtgTypeData,3,FALSE)/1000)","v":0},0,"",{"$error":"#VALUE!"},0,{"$f":"IF(OR(U197=\"\",W197=\"\"),0,IF(U197=\"80F\",Validation!W184,(VLOOKUP(IF(D197=\"\",$D$15,D197),LtgBldgTypeData,3,FALSE)-VLOOKUP(U197,Control_Data,5)))*N197*O197*VLOOKUP(IF(E197=\"\",$D$16,E197),ClgHtgTypeData,2,FALSE)/1000)","v":0},{"$f":"IF(OR(U197=\"\",W197=\"\"),\"\",IF(VLOOKUP(L197,'Wattage Table'!D:F,3,0)*N197/W197>=VLOOKUP(U197,Control_Data,3,0),1,0))","v":""}]
[null,174,null,null,null,null,{"$f":"IF(F198=\"\",\"\",HLOOKUP(F198,Validation!$F$5:$Q$6,2,FALSE))","v":""},{"$f":"IF(G198=\"\",\"\",INDEX('Measure Code Summary'!$D$20:$D$52,MATCH(G198,'Measure Code Summary'!$C$20:$C$52,0),1))","v":""},"",null,null,null,{"$f":"IF(L198=\"\",\"\",VLOOKUP(L198,'Wattage Table'!$D:$E,2,0))","v":""},null,{"$f":"IF(L198=\"\",\"\",VLOOKUP(L198,'Wattage Table'!D:F,3,0))","v":""},null,{"$f":"IF(P198=\"\",\"\",VLOOKUP(P198,'Wattage Table'!D:E,2,0))","v":""},null,{"$f":"IF(P198=\"\",\"\",VLOOKUP(P198,'Wattage Table'!D:F,3,0))","v":""},null,null,{"$f":"IF(U198=\"\",\"\",IF(U198=\"None\",\"None\",INDEX('Measure Code Summary'!$D$50:$D$53,MATCH(U198,'Measure Code Summary'!$C$50:$C$53,0),1)))","v":""},null,0,0,0,{"$error":"#VALUE!"},{"$error":"#VALUE!"},"",{"$f":"IF(OR(P198=\"\",L198=\"\", D$16=\"\"),0,((S198*R198)-(O198*N198))*IF(G198=\"90C\",Validation!B$32,T198)*VLOOKUP(IF(E198=\"\",$D$16,E198),ClgHtgTypeData,3,FALSE)/1000)","v":0},0,"",{"$error":"#VALUE!"},0,{"$f":"IF(OR(U198=\"\",W198=\"\"),0,IF(U198=\"80F\",Validation!W185,(VLOOKUP(IF(D198=\"\",$D$15,D198),LtgBldgTypeData,3,FALSE)-VLOOKUP(U198,Control_Data,5)))*N198*O198*VLOOKUP(IF(E198=\"\",$D$16,E198),ClgHtgTypeData,2,FALSE)/1000)","v":0},{"$f":"IF(OR(U198=\"\",W198=\"\"),\"\",IF(VLOOKUP(L198,'Wattage Table'!D:F,3,0)*N198/W198>=VLOOKUP(U198,Control_Data,3,0),1,0))","v":""}]
[null,175,null,null,null,null,{"$f":"IF(F199=\"\",\"\",HLOOKUP(F199,Validation!$F$5:$Q$6,2,FALSE))","v":""},{"$f":"IF(G199=\"\",\"\",INDEX('Measure Code Summary'!$D$20:$D$52,MATCH(G199,'Measure Code Summary'!$C$20:$C$52,0),1))","v":""},"",null,null,null,{"$f":"IF(L199=\"\",\"\",VLOOKUP(L199,'Wattage Table'!$D:$E,2,0))","v":""},null,{"$f":"IF(L199=\"\",\"\",VLOOKUP(L199,'Wattage Table'!D:F,3,0))","v":""},null,{"$f":"IF(P199=\"\",\"\",VLOOKUP(P199,'Wattage Table'!D:E,2,0))","v":""},null,{"$f":"IF(P199=\"\",\"\",VLOOKUP(P199,'Wattage Table'!D:F,3,0))","v":""},null,null,{"$f":"IF(U199=\"\",\"\",IF(U199=\"None\",\"None\",INDEX('Measure Code Summary'!$D$50:$D$53,MATCH(U199,'Measure Code Summary'!$C$50:$C$53,0),1)))","v":""},null,0,0,0,{"$error":"#VALUE!"},{"$error":"#VALUE!"},"",{"$f":"IF(OR(P199=\"\",L199=\"\", D$16=\"\"),0,((S199*R199)-(O199*N199))*IF(G199=\"90C\",Validation!B$32,T199)*VLOOKUP(IF(E199=\"\",$D$16,E199),ClgHtgTypeData,3,FALSE)/1000)","v":0},0,"",{"$error":"#VALUE!"},0,{"$f":"IF(OR(U199=\"\",W199=\"\"),0,IF(U199=\"80F\",Validation!W186,(VLOOKUP(IF(D199=\"\",$D$15,D199),LtgBldgTypeData,3,FALSE)-VLOOKUP(U199,Control_Data,5)))*N199*O199*VLOOKUP(IF(E199=\"\",$D$16,E199),ClgHtgTypeData,2,FALSE)/1000)","v":0},{"$f":"IF(OR(U199=\"\",W199=\"\"),\"\",IF(VLOOKUP(L199,'Wattage Table'!D:F,3,0)*N199/W199>=VLOOKUP(U199,Control_Data,3,0),1,0))","v":""}]
[null,176,null,null,null,null,{"$f":"IF(F200=\"\",\"\",HLOOKUP(F200,Validation!$F$5:$Q$6,2,FALSE))","v":""},{"$f":"IF(G200=\"\",\"\",INDEX('Measure Code Summary'!$D$20:$D$52,MATCH(G200,'Measure Code Summary'!$C$20:$C$52,0),1))","v":""},"",null,null,null,{"$f":"IF(L200=\"\",\"\",VLOOKUP(L200,'Wattage Table'!$D:$E,2,0))","v":""},null,{"$f":"IF(L200=\"\",\"\",VLOOKUP(L200,'Wattage Table'!D:F,3,0))","v":""},null,{"$f":"IF(P200=\"\",\"\",VLOOKUP(P200,'Wattage Table'!D:E,2,0))","v":""},null,{"$f":"IF(P200=\"\",\"\",VLOOKUP(P200,'Wattage Table'!D:F,3,0))","v":""},null,null,{"$f":"IF(U200=\"\",\"\",IF(U200=\"None\",\"None\",INDEX('Measure Code Summary'!$D$50:$D$53,MATCH(U200,'Measure Code Summary'!$C$50:$C$53,0),1)))","v":""},null,0,0,0,{"$error":"#VALUE!"},{"$error":"#VALUE!"},"",{"$f":"IF(OR(P200=\"\",L200=\"\", D$16=\"\"),0,((S200*R200)-(O200*N200))*IF(G200=\"90C\",Validation!B$32,T200)*VLOOKUP(IF(E200=\"\",$D$16,E200),ClgHtgTypeData,3,FALSE)/1000)","v":0},0,"",{"$error":"#VALUE!"},0,{"$f":"IF(OR(U200=\"\",W200=\"\"),0,IF(U200=\"80F\",Validation!W187,(VLOOKUP(IF(D200=\"\",$D$15,D200),LtgBldgTypeData,3,FALSE)-VLOOKUP(U200,Control_Data,5)))*N200*O200*VLOOKUP(IF(E200=\"\",$D$16,E200),ClgHtgTypeData,2,FALSE)/1000)","v":0},{"$f":"IF(OR(U200=\"\",W200=\"\"),\"\",IF(VLOOKUP(L200,'Wattage Table'!D:F,3,0)*N200/W200>=VLOOKUP(U200,Control_Data,3,0),1,0))","v":""}]
[null,177,null,null,null,null,{"$f":"IF(F201=\"\",\"\",HLOOKUP(F201,Validation!$F$5:$Q$6,2,FALSE))","v":""},{"$f":"IF(G201=\"\",\"\",INDEX('Measure Code Summary'!$D$20:$D$52,MATCH(G201,'Measure Code Summary'!$C$20:$C$52,0),1))","v":""},"",null,null,null,{"$f":"IF(L201=\"\",\"\",VLOOKUP(L201,'Wattage Table'!$D:$E,2,0))","v":""},null,{"$f":"IF(L201=\"\",\"\",VLOOKUP(L201,'Wattage Table'!D:F,3,0))","v":""},null,{"$f":"IF(P201=\"\",\"\",VLOOKUP(P201,'Wattage Table'!D:E,2,0))","v":""},null,{"$f":"IF(P201=\"\",\"\",VLOOKUP(P201,'Wattage Table'!D:F,3,0))","v":""},null,null,{"$f":"IF(U201=\"\",\"\",IF(U201=\"None\",\"None\",INDEX('Measure Code Summary'!$D$50:$D$53,MATCH(U201,'Measure Code Summary'!$C$50:$C$53,0),1)))","v":""},null,0,0,0,{"$error":"#VALUE!"},{"$error":"#VALUE!"},"",{"$f":"IF(OR(P201=\"\",L201=\"\", D$16=\"\"),0,((S201*R201)-(O201*N201))*IF(G201=\"90C\",Validation!B$32,T201)*VLOOKUP(IF(E201=\"\",$D$16,E201),ClgHtgTypeData,3,FALSE)/1000)","v":0},0,"",{"$error":"#VALUE!"},0,{"$f":"IF(OR(U201=\"\",W201=\"\"),0,IF(U201=\"80F\",Validation!W188,(VLOOKUP(IF(D201=\"\",$D$15,D201),LtgBldgTypeData,3,FALSE)-VLOOKUP(U201,Control_Data,5)))*N201*O201*VLOOKUP(IF(E201=\"\",$D$16,E201),ClgHtgTypeData,2,FALSE)/1000)","v":0},{"$f":"IF(OR(U201=\"\",W201=\"\"),\"\",IF(VLOOKUP(L201,'Wattage Table'!D:F,3,0)*N201/W201>=VLOOKUP(U201,Control_Data,3,0),1,0))","v":""}]
[null,178,null,null,null,null,{"$f":"IF(F202=\"\",\"\",HLOOKUP(F202,Validation!$F$5:$Q$6,2,FALSE))","v":""},{"$f":"IF(G202=\"\",\"\",INDEX('Measure Code Summary'!$D$20:$D$52,MATCH(G202,'Measure Code Summary'!$C$20:$C$52,0),1))","v":""},"",null,null,null,{"$f":"IF(L202=\"\",\"\",VLOOKUP(L202,'Wattage Table'!$D:$E,2,0))","v":""},null,{"$f":"IF(L202=\"\",\"\",VLOOKUP(L202,'Wattage Table'!D:F,3,0))","v":""},null,{"$f":"IF(P202=\"\",\"\",VLOOKUP(P202,'Wattage Table'!D:E,2,0))","v":""},null,{"$f":"IF(P202=\"\",\"\",VLOOKUP(P202,'Wattage Table'!D:F,3,0))","v":""},null,null,{"$f":"IF(U202=\"\",\"\",IF(U202=\"None\",\"None\",INDEX('Measure Code Summary'!$D$50:$D$53,MATCH(U202,'Measure Code Summary'!$C$50:$C$53,0),1)))","v":""},null,0,0,0,{"$error":"#VALUE!"},{"$error":"#VALUE!"},"",{"$f":"IF(OR(P202=\"\",L202=\"\", D$16=\"\"),0,((S202*R202)-(O202*N202))*IF(G202=\"90C\",Validation!B$32,T202)*VLOOKUP(IF(E202=\"\",$D$16,E202),ClgHtgTypeData,3,FALSE)/1000)","v":0},0,"",{"$error":"#VALUE!"},0,{"$f":"IF(OR(U202=\"\",W202=\"\"),0,IF(U202=\"80F\",Validation!W189,(VLOOKUP(IF(D202=\"\",$D$15,D202),LtgBldgTypeData,3,FALSE)-VLOOKUP(U202,Control_Data,5)))*N202*O202*VLOOKUP(IF(E202=\"\",$D$16,E202),ClgHtgTypeData,2,FALSE)/1000)","v":0},{"$f":"IF(OR(U202=\"\",W202=\"\"),\"\",IF(VLOOKUP(L202,'Wattage Table'!D:F,3,0)*N202/W202>=VLOOKUP(U202,Control_Data,3,0),1,0))","v":""}]
[null,179,null,null,null,null,{"$f":"IF(F203=\"\",\"\",HLOOKUP(F203,Validation!$F$5:$Q$6,2,FALSE))","v":""},{"$f":"IF(G203=\"\",\"\",INDEX('Measure Code Summary'!$D$20:$D$52,MATCH(G203,'Measure Code Summary'!$C$20:$C$52,0),1))","v":""},"",null,null,null,{"$f":"IF(L203=\"\",\"\",VLOOKUP(L203,'Wattage Table'!$D:$E,2,0))","v":""},null,{"$f":"IF(L203=\"\",\"\",VLOOKUP(L203,'Wattage Table'!D:F,3,0))","v":""},null,{"$f":"IF(P203=\"\",\"\",VLOOKUP(P203,'Wattage Table'!D:E,2,0))","v":""},null,{"$f":"IF(P203=\"\",\"\",VLOOKUP(P203,'Wattage Table'!D:F,3,0))","v":""},null,null,{"$f":"IF(U203=\"\",\"\",IF(U203=\"None\",\"None\",INDEX('Measure Code Summary'!$D$50:$D$53,MATCH(U203,'Measure Code Summary'!$C$50:$C$53,0),1)))","v":""},null,0,0,0,{"$error":"#VALUE!"},{"$error":"#VALUE!"},"",{"$f":"IF(OR(P203=\"\",L203=\"\", D$16=\"\"),0,((S203*R203)-(O203*N203))*IF(G203=\"90C\",Validation!B$32,T203)*VLOOKUP(IF(E203=\"\",$D$16,E203),ClgHtgTypeData,3,FALSE)/1000)","v":0},0,"",{"$error":"#VALUE!"},0,{"$f":"IF(OR(U203=\"\",W203=\"\"),0,IF(U203=\"80F\",Validation!W190,(VLOOKUP(IF(D203=\"\",$D$15,D203),LtgBldgTypeData,3,FALSE)-VLOOKUP(U203,Control_Data,5)))*N203*O203*VLOOKUP(IF(E203=\"\",$D$16,E203),ClgHtgTypeData,2,FALSE)/1000)","v":0},{"$f":"IF(OR(U203=\"\",W203=\"\"),\"\",IF(VLOOKUP(L203,'Wattage Table'!D:F,3,0)*N203/W203>=VLOOKUP(U203,Control_Data,3,0),1,0))","v":""}]
[null,180,null,null,null,null,{"$f":"IF(F204=\"\",\"\",HLOOKUP(F204,Validation!$F$5:$Q$6,2,FALSE))","v":""},{"$f":"IF(G204=\"\",\"\",INDEX('Measure Code Summary'!$D$20:$D$52,MATCH(G204,'Measure Code Summary'!$C$20:$C$52,0),1))","v":""},"",null,null,null,{"$f":"IF(L204=\"\",\"\",VLOOKUP(L204,'Wattage Table'!$D:$E,2,0))","v":""},null,{"$f":"IF(L204=\"\",\"\",VLOOKUP(L204,'Wattage Table'!D:F,3,0))","v":""},null,{"$f":"IF(P204=\"\",\"\",VLOOKUP(P204,'Wattage Table'!D:E,2,0))","v":""},null,{"$f":"IF(P204=\"\",\"\",VLOOKUP(P204,'Wattage Table'!D:F,3,0))","v":""},null,null,{"$f":"IF(U204=\"\",\"\",IF(U204=\"None\",\"None\",INDEX('Measure Code Summary'!$D$50:$D$53,MATCH(U204,'Measure Code Summary'!$C$50:$C$53,0),1)))","v":""},null,0,0,0,{"$error":"#VALUE!"},{"$error":"#VALUE!"},"",{"$f":"IF(OR(P204=\"\",L204=\"\", D$16=\"\"),0,((S204*R204)-(O204*N204))*IF(G204=\"90C\",Validation!B$32,T204)*VLOOKUP(IF(E204=\"\",$D$16,E204),ClgHtgTypeData,3,FALSE)/1000)","v":0},0,"",{"$error":"#VALUE!"},0,{"$f":"IF(OR(U204=\"\",W204=\"\"),0,IF(U204=\"80F\",Validation!W191,(VLOOKUP(IF(D204=\"\",$D$15,D204),LtgBldgTypeData,3,FALSE)-VLOOKUP(U204,Control_Data,5)))*N204*O204*VLOOKUP(IF(E204=\"\",$D$16,E204),ClgHtgTypeData,2,FALSE)/1000)","v":0},{"$f":"IF(OR(U204=\"\",W204=\"\"),\"\",IF(VLOOKUP(L204,'Wattage Table'!D:F,3,0)*N204/W204>=VLOOKUP(U204,Control_Data,3,0),1,0))","v":""}]
[null,181,null,null,null,null,{"$f":"IF(F205=\"\",\"\",HLOOKUP(F205,Validation!$F$5:$Q$6,2,FALSE))","v":""},{"$f":"IF(G205=\"\",\"\",INDEX('Measure Code Summary'!$D$20:$D$52,MATCH(G205,'Measure Code Summary'!$C$20:$C$52,0),1))","v":""},"",null,null,null,{"$f":"IF(L205=\"\",\"\",VLOOKUP(L205,'Wattage Table'!$D:$E,2,0))","v":""},null,{"$f":"IF(L205=\"\",\"\",VLOOKUP(L205,'Wattage Table'!D:F,3,0))","v":""},null,{"$f":"IF(P205=\"\",\"\",VLOOKUP(P205,'Wattage Table'!D:E,2,0))","v":""},null,{"$f":"IF(P205=\"\",\"\",VLOOKUP(P205,'Wattage Table'!D:F,3,0))","v":""},null,null,{"$f":"IF(U205=\"\",\"\",IF(U205=\"None\",\"None\",INDEX('Measure Code Summary'!$D$50:$D$53,MATCH(U205,'Measure Code Summary'!$C$50:$C$53,0),1)))","v":""},null,0,0,0,{"$error":"#VALUE!"},{"$error":"#VALUE!"},"",{"$f":"IF(OR(P205=\"\",L205=\"\", D$16=\"\"),0,((S205*R205)-(O205*N205))*IF(G205=\"90C\",Validation!B$32,T205)*VLOOKUP(IF(E205=\"\",$D$16,E205),ClgHtgTypeData,3,FALSE)/1000)","v":0},0,"",{"$error":"#VALUE!"},0,{"$f":"IF(OR(U205=\"\",W205=\"\"),0,IF(U205=\"80F\",Validation!W192,(VLOOKUP(IF(D205=\"\",$D$15,D205),LtgBldgTypeData,3,FALSE)-VLOOKUP(U205,Control_Data,5)))*N205*O205*VLOOKUP(IF(E205=\"\",$D$16,E205),ClgHtgTypeData,2,FALSE)/1000)","v":0},{"$f":"IF(OR(U205=\"\",W205=\"\"),\"\",IF(VLOOKUP(L205,'Wattage Table'!D:F,3,0)*N205/W205>=VLOOKUP(U205,Control_Data,3,0),1,0))","v":""}]
[null,182,null,null,null,null,{"$f":"IF(F206=\"\",\"\",HLOOKUP(F206,Validation!$F$5:$Q$6,2,FALSE))","v":""},{"$f":"IF(G206=\"\",\"\",INDEX('Measure Code Summary'!$D$20:$D$52,MATCH(G206,'Measure Code Summary'!$C$20:$C$52,0),1))","v":""},"",null,null,null,{"$f":"IF(L206=\"\",\"\",VLOOKUP(L206,'Wattage Table'!$D:$E,2,0))","v":""},null,{"$f":"IF(L206=\"\",\"\",VLOOKUP(L206,'Wattage Table'!D:F,3,0))","v":""},null,{"$f":"IF(P206=\"\",\"\",VLOOKUP(P206,'Wattage Table'!D:E,2,0))","v":""},null,{"$f":"IF(P206=\"\",\"\",VLOOKUP(P206,'Wattage Table'!D:F,3,0))","v":""},null,null,{"$f":"IF(U206=\"\",\"\",IF(U206=\"None\",\"None\",INDEX('Measure Code Summary'!$D$50:$D$53,MATCH(U206,'Measure Code Summary'!$C$50:$C$53,0),1)))","v":""},null,0,0,0,{"$error":"#VALUE!"},{"$error":"#VALUE!"},"",{"$f":"IF(OR(P206=\"\",L206=\"\", D$16=\"\"),0,((S206*R206)-(O206*N206))*IF(G206=\"90C\",Validation!B$32,T206)*VLOOKUP(IF(E206=\"\",$D$16,E206),ClgHtgTypeData,3,FALSE)/1000)","v":0},0,"",{"$error":"#VALUE!"},0,{"$f":"IF(OR(U206=\"\",W206=\"\"),0,IF(U206=\"80F\",Validation!W193,(VLOOKUP(IF(D206=\"\",$D$15,D206),LtgBldgTypeData,3,FALSE)-VLOOKUP(U206,Control_Data,5)))*N206*O206*VLOOKUP(IF(E206=\"\",$D$16,E206),ClgHtgTypeData,2,FALSE)/1000)","v":0},{"$f":"IF(OR(U206=\"\",W206=\"\"),\"\",IF(VLOOKUP(L206,'Wattage Table'!D:F,3,0)*N206/W206>=VLOOKUP(U206,Control_Data,3,0),1,0))","v":""}]
[null,183,null,null,null,null,{"$f":"IF(F207=\"\",\"\",HLOOKUP(F207,Validation!$F$5:$Q$6,2,FALSE))","v":""},{"$f":"IF(G207=\"\",\"\",INDEX('Measure Code Summary'!$D$20:$D$52,MATCH(G207,'Measure Code Summary'!$C$20:$C$52,0),1))","v":""},"",null,null,null,{"$f":"IF(L207=\"\",\"\",VLOOKUP(L207,'Wattage Table'!$D:$E,2,0))","v":""},null,{"$f":"IF(L207=\"\",\"\",VLOOKUP(L207,'Wattage Table'!D:F,3,0))","v":""},null,{"$f":"IF(P207=\"\",\"\",VLOOKUP(P207,'Wattage Table'!D:E,2,0))","v":""},null,{"$f":"IF(P207=\"\",\"\",VLOOKUP(P207,'Wattage Table'!D:F,3,0))","v":""},null,null,{"$f":"IF(U207=\"\",\"\",IF(U207=\"None\",\"None\",INDEX('Measure Code Summary'!$D$50:$D$53,MATCH(U207,'Measure Code Summary'!$C$50:$C$53,0),1)))","v":""},null,0,0,0,{"$error":"#VALUE!"},{"$error":"#VALUE!"},"",{"$f":"IF(OR(P207=\"\",L207=\"\", D$16=\"\"),0,((S207*R207)-(O207*N207))*IF(G207=\"90C\",Validation!B$32,T207)*VLOOKUP(IF(E207=\"\",$D$16,E207),ClgHtgTypeData,3,FALSE)/1000)","v":0},0,"",{"$error":"#VALUE!"},0,{"$f":"IF(OR(U207=\"\",W207=\"\"),0,IF(U207=\"80F\",Validation!W194,(VLOOKUP(IF(D207=\"\",$D$15,D207),LtgBldgTypeData,3,FALSE)-VLOOKUP(U207,Control_Data,5)))*N207*O207*VLOOKUP(IF(E207=\"\",$D$16,E207),ClgHtgTypeData,2,FALSE)/1000)","v":0},{"$f":"IF(OR(U207=\"\",W207=\"\"),\"\",IF(VLOOKUP(L207,'Wattage Table'!D:F,3,0)*N207/W207>=VLOOKUP(U207,Control_Data,3,0),1,0))","v":""}]
[null,184,null,null,null,null,{"$f":"IF(F208=\"\",\"\",HLOOKUP(F208,Validation!$F$5:$Q$6,2,FALSE))","v":""},{"$f":"IF(G208=\"\",\"\",INDEX('Measure Code Summary'!$D$20:$D$52,MATCH(G208,'Measure Code Summary'!$C$20:$C$52,0),1))","v":""},"",null,null,null,{"$f":"IF(L208=\"\",\"\",VLOOKUP(L208,'Wattage Table'!$D:$E,2,0))","v":""},null,{"$f":"IF(L208=\"\",\"\",VLOOKUP(L208,'Wattage Table'!D:F,3,0))","v":""},null,{"$f":"IF(P208=\"\",\"\",VLOOKUP(P208,'Wattage Table'!D:E,2,0))","v":""},null,{"$f":"IF(P208=\"\",\"\",VLOOKUP(P208,'Wattage Table'!D:F,3,0))","v":""},null,null,{"$f":"IF(U208=\"\",\"\",IF(U208=\"None\",\"None\",INDEX('Measure Code Summary'!$D$50:$D$53,MATCH(U208,'Measure Code Summary'!$C$50:$C$53,0),1)))","v":""},null,0,0,0,{"$error":"#VALUE!"},{"$error":"#VALUE!"},"",{"$f":"IF(OR(P208=\"\",L208=\"\", D$16=\"\"),0,((S208*R208)-(O208*N208))*IF(G208=\"90C\",Validation!B$32,T208)*VLOOKUP(IF(E208=\"\",$D$16,E208),ClgHtgTypeData,3,FALSE)/1000)","v":0},0,"",{"$error":"#VALUE!"},0,{"$f":"IF(OR(U208=\"\",W208=\"\"),0,IF(U208=\"80F\",Validation!W195,(VLOOKUP(IF(D208=\"\",$D$15,D208),LtgBldgTypeData,3,FALSE)-VLOOKUP(U208,Control_Data,5)))*N208*O208*VLOOKUP(IF(E208=\"\",$D$16,E208),ClgHtgTypeData,2,FALSE)/1000)","v":0},{"$f":"IF(OR(U208=\"\",W208=\"\"),\"\",IF(VLOOKUP(L208,'Wattage Table'!D:F,3,0)*N208/W208>=VLOOKUP(U208,Control_Data,3,0),1,0))","v":""}]
[null,185,null,null,null,null,{"$f":"IF(F209=\"\",\"\",HLOOKUP(F209,Validation!$F$5:$Q$6,2,FALSE))","v":""},{"$f":"IF(G209=\"\",\"\",INDEX('Measure Code Summary'!$D$20:$D$52,MATCH(G209,'Measure Code Summary'!$C$20:$C$52,0),1))","v":""},"",null,null,null,{"$f":"IF(L209=\"\",\"\",VLOOKUP(L209,'Wattage Table'!$D:$E,2,0))","v":""},null,{"$f":"IF(L209=\"\",\"\",VLOOKUP(L209,'Wattage Table'!D:F,3,0))","v":""},null,{"$f":"IF(P209=\"\",\"\",VLOOKUP(P209,'Wattage Table'!D:E,2,0))","v":""},null,{"$f":"IF(P209=\"\",\"\",VLOOKUP(P209,'Wattage Table'!D:F,3,0))","v":""},null,null,{"$f":"IF(U209=\"\",\"\",IF(U209=\"None\",\"None\",INDEX('Measure Code Summary'!$D$50:$D$53,MATCH(U209,'Measure Code Summary'!$C$50:$C$53,0),1)))","v":""},null,0,0,0,{"$error":"#VALUE!"},{"$error":"#VALUE!"},"",{"$f":"IF(OR(P209=\"\",L209=\"\", D$16=\"\"),0,((S209*R209)-(O209*N209))*IF(G209=\"90C\",Validation!B$32,T209)*VLOOKUP(IF(E209=\"\",$D$16,E209),ClgHtgTypeData,3,FALSE)/1000)","v":0},0,"",{"$error":"#VALUE!"},0,{"$f":"IF(OR(U209=\"\",W209=\"\"),0,IF(U209=\"80F\",Validation!W196,(VLOOKUP(IF(D209=\"\",$D$15,D209),LtgBldgTypeData,3,FALSE)-VLOOKUP(U209,Control_Data,5)))*N209*O209*VLOOKUP(IF(E209=\"\",$D$16,E209),ClgHtgTypeData,2,FALSE)/1000)","v":0},{"$f":"IF(OR(U209=\"\",W209=\"\"),\"\",IF(VLOOKUP(L209,'Wattage Table'!D:F,3,0)*N209/W209>=VLOOKUP(U209,Control_Data,3,0),1,0))","v":""}]
[null,186,null,null,null,null,{"$f":"IF(F210=\"\",\"\",HLOOKUP(F210,Validation!$F$5:$Q$6,2,FALSE))","v":""},{"$f":"IF(G210=\"\",\"\",INDEX('Measure Code Summary'!$D$20:$D$52,MATCH(G210,'Measure Code Summary'!$C$20:$C$52,0),1))","v":""},"",null,null,null,{"$f":"IF(L210=\"\",\"\",VLOOKUP(L210,'Wattage Table'!$D:$E,2,0))","v":""},null,{"$f":"IF(L210=\"\",\"\",VLOOKUP(L210,'Wattage Table'!D:F,3,0))","v":""},null,{"$f":"IF(P210=\"\",\"\",VLOOKUP(P210,'Wattage Table'!D:E,2,0))","v":""},null,{"$f":"IF(P210=\"\",\"\",VLOOKUP(P210,'Wattage Table'!D:F,3,0))","v":""},null,null,{"$f":"IF(U210=\"\",\"\",IF(U210=\"None\",\"None\",INDEX('Measure Code Summary'!$D$50:$D$53,MATCH(U210,'Measure Code Summary'!$C$50:$C$53,0),1)))","v":""},null,0,0,0,{"$error":"#VALUE!"},{"$error":"#VALUE!"},"",{"$f":"IF(OR(P210=\"\",L210=\"\", D$16=\"\"),0,((S210*R210)-(O210*N210))*IF(G210=\"90C\",Validation!B$32,T210)*VLOOKUP(IF(E210=\"\",$D$16,E210),ClgHtgTypeData,3,FALSE)/1000)","v":0},0,"",{"$error":"#VALUE!"},0,{"$f":"IF(OR(U210=\"\",W210=\"\"),0,IF(U210=\"80F\",Validation!W197,(VLOOKUP(IF(D210=\"\",$D$15,D210),LtgBldgTypeData,3,FALSE)-VLOOKUP(U210,Control_Data,5)))*N210*O210*VLOOKUP(IF(E210=\"\",$D$16,E210),ClgHtgTypeData,2,FALSE)/1000)","v":0},{"$f":"IF(OR(U210=\"\",W210=\"\"),\"\",IF(VLOOKUP(L210,'Wattage Table'!D:F,3,0)*N210/W210>=VLOOKUP(U210,Control_Data,3,0),1,0))","v":""}]
[null,187,null,null,null,null,{"$f":"IF(F211=\"\",\"\",HLOOKUP(F211,Validation!$F$5:$Q$6,2,FALSE))","v":""},{"$f":"IF(G211=\"\",\"\",INDEX('Measure Code Summary'!$D$20:$D$52,MATCH(G211,'Measure Code Summary'!$C$20:$C$52,0),1))","v":""},"",null,null,null,{"$f":"IF(L211=\"\",\"\",VLOOKUP(L211,'Wattage Table'!$D:$E,2,0))","v":""},null,{"$f":"IF(L211=\"\",\"\",VLOOKUP(L211,'Wattage Table'!D:F,3,0))","v":""},null,{"$f":"IF(P211=\"\",\"\",VLOOKUP(P211,'Wattage Table'!D:E,2,0))","v":""},null,{"$f":"IF(P211=\"\",\"\",VLOOKUP(P211,'Wattage Table'!D:F,3,0))","v":""},null,null,{"$f":"IF(U211=\"\",\"\",IF(U211=\"None\",\"None\",INDEX('Measure Code Summary'!$D$50:$D$53,MATCH(U211,'Measure Code Summary'!$C$50:$C$53,0),1)))","v":""},null,0,0,0,{"$error":"#VALUE!"},{"$error":"#VALUE!"},"",{"$f":"IF(OR(P211=\"\",L211=\"\", D$16=\"\"),0,((S211*R211)-(O211*N211))*IF(G211=\"90C\",Validation!B$32,T211)*VLOOKUP(IF(E211=\"\",$D$16,E211),ClgHtgTypeData,3,FALSE)/1000)","v":0},0,"",{"$error":"#VALUE!"},0,{"$f":"IF(OR(U211=\"\",W211=\"\"),0,IF(U211=\"80F\",Validation!W198,(VLOOKUP(IF(D211=\"\",$D$15,D211),LtgBldgTypeData,3,FALSE)-VLOOKUP(U211,Control_Data,5)))*N211*O211*VLOOKUP(IF(E211=\"\",$D$16,E211),ClgHtgTypeData,2,FALSE)/1000)","v":0},{"$f":"IF(OR(U211=\"\",W211=\"\"),\"\",IF(VLOOKUP(L211,'Wattage Table'!D:F,3,0)*N211/W211>=VLOOKUP(U211,Control_Data,3,0),1,0))","v":""}]
[null,188,null,null,null,null,{"$f":"IF(F212=\"\",\"\",HLOOKUP(F212,Validation!$F$5:$Q$6,2,FALSE))","v":""},{"$f":"IF(G212=\"\",\"\",INDEX('Measure Code Summary'!$D$20:$D$52,MATCH(G212,'Measure Code Summary'!$C$20:$C$52,0),1))","v":""},"",null,null,null,{"$f":"IF(L212=\"\",\"\",VLOOKUP(L212,'Wattage Table'!$D:$E,2,0))","v":""},null,{"$f":"IF(L212=\"\",\"\",VLOOKUP(L212,'Wattage Table'!D:F,3,0))","v":""},null,{"$f":"IF(P212=\"\",\"\",VLOOKUP(P212,'Wattage Table'!D:E,2,0))","v":""},null,{"$f":"IF(P212=\"\",\"\",VLOOKUP(P212,'Wattage Table'!D:F,3,0))","v":""},null,null,{"$f":"IF(U212=\"\",\"\",IF(U212=\"None\",\"None\",INDEX('Measure Code Summary'!$D$50:$D$53,MATCH(U212,'Measure Code Summary'!$C$50:$C$53,0),1)))","v":""},null,0,0,0,{"$error":"#VALUE!"},{"$error":"#VALUE!"},"",{"$f":"IF(OR(P212=\"\",L212=\"\", D$16=\"\"),0,((S212*R212)-(O212*N212))*IF(G212=\"90C\",Validation!B$32,T212)*VLOOKUP(IF(E212=\"\",$D$16,E212),ClgHtgTypeData,3,FALSE)/1000)","v":0},0,"",{"$error":"#VALUE!"},0,{"$f":"IF(OR(U212=\"\",W212=\"\"),0,IF(U212=\"80F\",Validation!W199,(VLOOKUP(IF(D212=\"\",$D$15,D212),LtgBldgTypeData,3,FALSE)-VLOOKUP(U212,Control_Data,5)))*N212*O212*VLOOKUP(IF(E212=\"\",$D$16,E212),ClgHtgTypeData,2,FALSE)/1000)","v":0},{"$f":"IF(OR(U212=\"\",W212=\"\"),\"\",IF(VLOOKUP(L212,'Wattage Table'!D:F,3,0)*N212/W212>=VLOOKUP(U212,Control_Data,3,0),1,0))","v":""}]
[null,189,null,null,null,null,{"$f":"IF(F213=\"\",\"\",HLOOKUP(F213,Validation!$F$5:$Q$6,2,FALSE))","v":""},{"$f":"IF(G213=\"\",\"\",INDEX('Measure Code Summary'!$D$20:$D$52,MATCH(G213,'Measure Code Summary'!$C$20:$C$52,0),1))","v":""},"",null,null,null,{"$f":"IF(L213=\"\",\"\",VLOOKUP(L213,'Wattage Table'!$D:$E,2,0))","v":""},null,{"$f":"IF(L213=\"\",\"\",VLOOKUP(L213,'Wattage Table'!D:F,3,0))","v":""},null,{"$f":"IF(P213=\"\",\"\",VLOOKUP(P213,'Wattage Table'!D:E,2,0))","v":""},null,{"$f":"IF(P213=\"\",\"\",VLOOKUP(P213,'Wattage Table'!D:F,3,0))","v":""},null,null,{"$f":"IF(U213=\"\",\"\",IF(U213=\"None\",\"None\",INDEX('Measure Code Summary'!$D$50:$D$53,MATCH(U213,'Measure Code Summary'!$C$50:$C$53,0),1)))","v":""},null,0,0,0,{"$error":"#VALUE!"},{"$error":"#VALUE!"},"",{"$f":"IF(OR(P213=\"\",L213=\"\", D$16=\"\"),0,((S213*R213)-(O213*N213))*IF(G213=\"90C\",Validation!B$32,T213)*VLOOKUP(IF(E213=\"\",$D$16,E213),ClgHtgTypeData,3,FALSE)/1000)","v":0},0,"",{"$error":"#VALUE!"},0,{"$f":"IF(OR(U213=\"\",W213=\"\"),0,IF(U213=\"80F\",Validation!W200,(VLOOKUP(IF(D213=\"\",$D$15,D213),LtgBldgTypeData,3,FALSE)-VLOOKUP(U213,Control_Data,5)))*N213*O213*VLOOKUP(IF(E213=\"\",$D$16,E213),ClgHtgTypeData,2,FALSE)/1000)","v":0},{"$f":"IF(OR(U213=\"\",W213=\"\"),\"\",IF(VLOOKUP(L213,'Wattage Table'!D:F,3,0)*N213/W213>=VLOOKUP(U213,Control_Data,3,0),1,0))","v":""}]
[null,190,null,null,null,null,{"$f":"IF(F214=\"\",\"\",HLOOKUP(F214,Validation!$F$5:$Q$6,2,FALSE))","v":""},{"$f":"IF(G214=\"\",\"\",INDEX('Measure Code Summary'!$D$20:$D$52,MATCH(G214,'Measure Code Summary'!$C$20:$C$52,0),1))","v":""},"",null,null,null,{"$f":"IF(L214=\"\",\"\",VLOOKUP(L214,'Wattage Table'!$D:$E,2,0))","v":""},null,{"$f":"IF(L214=\"\",\"\",VLOOKUP(L214,'Wattage Table'!D:F,3,0))","v":""},null,{"$f":"IF(P214=\"\",\"\",VLOOKUP(P214,'Wattage Table'!D:E,2,0))","v":""},null,{"$f":"IF(P214=\"\",\"\",VLOOKUP(P214,'Wattage Table'!D:F,3,0))","v":""},null,null,{"$f":"IF(U214=\"\",\"\",IF(U214=\"None\",\"None\",INDEX('Measure Code Summary'!$D$50:$D$53,MATCH(U214,'Measure Code Summary'!$C$50:$C$53,0),1)))","v":""},null,0,0,0,{"$error":"#VALUE!"},{"$error":"#VALUE!"},"",{"$f":"IF(OR(P214=\"\",L214=\"\", D$16=\"\"),0,((S214*R214)-(O214*N214))*IF(G214=\"90C\",Validation!B$32,T214)*VLOOKUP(IF(E214=\"\",$D$16,E214),ClgHtgTypeData,3,FALSE)/1000)","v":0},0,"",{"$error":"#VALUE!"},0,{"$f":"IF(OR(U214=\"\",W214=\"\"),0,IF(U214=\"80F\",Validation!W201,(VLOOKUP(IF(D214=\"\",$D$15,D214),LtgBldgTypeData,3,FALSE)-VLOOKUP(U214,Control_Data,5)))*N214*O214*VLOOKUP(IF(E214=\"\",$D$16,E214),ClgHtgTypeData,2,FALSE)/1000)","v":0},{"$f":"IF(OR(U214=\"\",W214=\"\"),\"\",IF(VLOOKUP(L214,'Wattage Table'!D:F,3,0)*N214/W214>=VLOOKUP(U214,Control_Data,3,0),1,0))","v":""}]
[null,191,null,null,null,null,{"$f":"IF(F215=\"\",\"\",HLOOKUP(F215,Validation!$F$5:$Q$6,2,FALSE))","v":""},{"$f":"IF(G215=\"\",\"\",INDEX('Measure Code Summary'!$D$20:$D$52,MATCH(G215,'Measure Code Summary'!$C$20:$C$52,0),1))","v":""},"",null,null,null,{"$f":"IF(L215=\"\",\"\",VLOOKUP(L215,'Wattage Table'!$D:$E,2,0))","v":""},null,{"$f":"IF(L215=\"\",\"\",VLOOKUP(L215,'Wattage Table'!D:F,3,0))","v":""},null,{"$f":"IF(P215=\"\",\"\",VLOOKUP(P215,'Wattage Table'!D:E,2,0))","v":""},null,{"$f":"IF(P215=\"\",\"\",VLOOKUP(P215,'Wattage Table'!D:F,3,0))","v":""},null,null,{"$f":"IF(U215=\"\",\"\",IF(U215=\"None\",\"None\",INDEX('Measure Code Summary'!$D$50:$D$53,MATCH(U215,'Measure Code Summary'!$C$50:$C$53,0),1)))","v":""},null,0,0,0,{"$error":"#VALUE!"},{"$error":"#VALUE!"},"",{"$f":"IF(OR(P215=\"\",L215=\"\", D$16=\"\"),0,((S215*R215)-(O215*N215))*IF(G215=\"90C\",Validation!B$32,T215)*VLOOKUP(IF(E215=\"\",$D$16,E215),ClgHtgTypeData,3,FALSE)/1000)","v":0},0,"",{"$error":"#VALUE!"},0,{"$f":"IF(OR(U215=\"\",W215=\"\"),0,IF(U215=\"80F\",Validation!W202,(VLOOKUP(IF(D215=\"\",$D$15,D215),LtgBldgTypeData,3,FALSE)-VLOOKUP(U215,Control_Data,5)))*N215*O215*VLOOKUP(IF(E215=\"\",$D$16,E215),ClgHtgTypeData,2,FALSE)/1000)","v":0},{"$f":"IF(OR(U215=\"\",W215=\"\"),\"\",IF(VLOOKUP(L215,'Wattage Table'!D:F,3,0)*N215/W215>=VLOOKUP(U215,Control_Data,3,0),1,0))","v":""}]
[null,192,null,null,null,null,{"$f":"IF(F216=\"\",\"\",HLOOKUP(F216,Validation!$F$5:$Q$6,2,FALSE))","v":""},{"$f":"IF(G216=\"\",\"\",INDEX('Measure Code Summary'!$D$20:$D$52,MATCH(G216,'Measure Code Summary'!$C$20:$C$52,0),1))","v":""},{"$f":"IF(G216=\"\",\"\",IF(G216=\"90C\",Min_Watts,0))","v":""},null,null,null,{"$f":"IF(L216=\"\",\"\",VLOOKUP(L216,'Wattage Table'!$D:$E,2,0))","v":""},null,{"$f":"IF(L216=\"\",\"\",VLOOKUP(L216,'Wattage Table'!D:F,3,0))","v":""},null,{"$f":"IF(P216=\"\",\"\",VLOOKUP(P216,'Wattage Table'!D:E,2,0))","v":""},null,{"$f":"IF(P216=\"\",\"\",VLOOKUP(P216,'Wattage Table'!D:F,3,0))","v":""},null,null,{"$f":"IF(U216=\"\",\"\",IF(U216=\"None\",\"None\",INDEX('Measure Code Summary'!$D$50:$D$53,MATCH(U216,'Measure Code Summary'!$C$50:$C$53,0),1)))","v":""},null,0,{"$f":"IF(OR(P216=\"\",L216=\"\"),0,AD216+AH216)","v":0},0,{"$f":"IF(AND(G216=\"90C\",S216-O216<I216),0,N216)","v":{"$error":"#VALUE!"}},{"$f":"W216*AJ216","v":{"$error":"#VALUE!"}},{"$f":"IF(N216=\"\",\"\",N216*O216)","v":""},{"$f":"IF(OR(P216=\"\",L216=\"\", D$16=\"\"),0,((S216*R216)-(O216*N216))*IF(G216=\"90C\",Validation!B$32,T216)*VLOOKUP(IF(E216=\"\",$D$16,E216),ClgHtgTypeData,3,FALSE)/1000)","v":0},{"$f":"IF(OR(P216=\"\",L216=\"\",T216=0,D$16=\"\"),0,(((S216*R216)-(O216*N216))/1000)*IF(G216=\"90C\",1,VLOOKUP(IF(D216=\"\",$D$15,D216),LtgBldgTypeData,3,FALSE))*VLOOKUP(IF(E216=\"\",$D$16,E216),ClgHtgTypeData,2,FALSE))","v":0},"",{"$error":"#VALUE!"},0,{"$f":"IF(OR(U216=\"\",W216=\"\"),0,IF(U216=\"80F\",Validation!W203,(VLOOKUP(IF(D216=\"\",$D$15,D216),LtgBldgTypeData,3,FALSE)-VLOOKUP(U216,Control_Data,5)))*N216*O216*VLOOKUP(IF(E216=\"\",$D$16,E216),ClgHtgTypeData,2,FALSE)/1000)","v":0},{"$f":"IF(OR(U216=\"\",W216=\"\"),\"\",IF(VLOOKUP(L216,'Wattage Table'!D:F,3,0)*N216/W216>=VLOOKUP(U216,Control_Data,3,0),1,0))","v":""}]
[null,193,null,null,null,null,{"$f":"IF(F217=\"\",\"\",HLOOKUP(F217,Validation!$F$5:$Q$6,2,FALSE))","v":""},{"$f":"IF(G217=\"\",\"\",INDEX('Measure Code Summary'!$D$20:$D$52,MATCH(G217,'Measure Code Summary'!$C$20:$C$52,0),1))","v":""},"",null,null,null,{"$f":"IF(L217=\"\",\"\",VLOOKUP(L217,'Wattage Table'!$D:$E,2,0))","v":""},null,{"$f":"IF(L217=\"\",\"\",VLOOKUP(L217,'Wattage Table'!D:F,3,0))","v":""},null,{"$f":"IF(P217=\"\",\"\",VLOOKUP(P217,'Wattage Table'!D:E,2,0))","v":""},null,{"$f":"IF(P217=\"\",\"\",VLOOKUP(P217,'Wattage Table'!D:F,3,0))","v":""},null,null,{"$f":"IF(U217=\"\",\"\",IF(U217=\"None\",\"None\",INDEX('Measure Code Summary'!$D$50:$D$53,MATCH(U217,'Measure Code Summary'!$C$50:$C$53,0),1)))","v":""},null,{"$f":"IF(U217=\"\",0,IF(U217=\"None\",0,-0.25*T217))","v":0},0,0,{"$error":"#VALUE!"},{"$error":"#VALUE!"},"",{"$f":"IF(OR(P217=\"\",L217=\"\", D$16=\"\"),0,((S217*R217)-(O217*N217))*IF(G217=\"90C\",Validation!B$32,T217)*VLOOKUP(IF(E217=\"\",$D$16,E217),ClgHtgTypeData,3,FALSE)/1000)","v":0},0,{"$f":"IF(R217=\"\",\"\",R217*S217)","v":""},{"$f":"AF217-AC217","v":{"$error":"#VALUE!"}},{"$f":"IF(OR(U217=\"\",AJ217=\"No\"),0,0.25*O217*T217*N217)/1000","v":0},{"$f":"IF(OR(U217=\"\",W217=\"\"),0,IF(U217=\"80F\",Validation!W204,(VLOOKUP(IF(D217=\"\",$D$15,D217),LtgBldgTypeData,3,FALSE)-VLOOKUP(U217,Control_Data,5)))*N217*O217*VLOOKUP(IF(E217=\"\",$D$16,E217),ClgHtgTypeData,2,FALSE)/1000)","v":0},{"$f":"IF(OR(U217=\"\",W217=\"\"),\"\",IF(VLOOKUP(L217,'Wattage Table'!D:F,3,0)*N217/W217>=VLOOKUP(U217,Control_Data,3,0),1,0))","v":""}]
[null,194,null,null,null,null,{"$f":"IF(F218=\"\",\"\",HLOOKUP(F218,Validation!$F$5:$Q$6,2,FALSE))","v":""},{"$f":"IF(G218=\"\",\"\",INDEX('Measure Code Summary'!$D$20:$D$52,MATCH(G218,'Measure Code Summary'!$C$20:$C$52,0),1))","v":""},"",null,null,null,{"$f":"IF(L218=\"\",\"\",VLOOKUP(L218,'Wattage Table'!$D:$E,2,0))","v":""},null,{"$f":"IF(L218=\"\",\"\",VLOOKUP(L218,'Wattage Table'!D:F,3,0))","v":""},null,{"$f":"IF(P218=\"\",\"\",VLOOKUP(P218,'Wattage Table'!D:E,2,0))","v":""},null,{"$f":"IF(P218=\"\",\"\",VLOOKUP(P218,'Wattage Table'!D:F,3,0))","v":""},null,null,{"$f":"IF(U218=\"\",\"\",IF(U218=\"None\",\"None\",INDEX('Measure Code Summary'!$D$50:$D$53,MATCH(U218,'Measure Code Summary'!$C$50:$C$53,0),1)))","v":""},null,0,0,{"$f":"IF(OR(P218=\"\",L218=\"\",T218=0),0,(AE218+AI218))","v":0},{"$error":"#VALUE!"},{"$error":"#VALUE!"},"",{"$f":"IF(OR(P218=\"\",L218=\"\", D$16=\"\"),0,((S218*R218)-(O218*N218))*IF(G218=\"90C\",Validation!B$32,T218)*VLOOKUP(IF(E218=\"\",$D$16,E218),ClgHtgTypeData,3,FALSE)/1000)","v":0},0,"",{"$error":"#VALUE!"},0,{"$f":"IF(OR(U218=\"\",W218=\"\"),0,IF(U218=\"80F\",Validation!W205,(VLOOKUP(IF(D218=\"\",$D$15,D218),LtgBldgTypeData,3,FALSE)-VLOOKUP(U218,Control_Data,5)))*N218*O218*VLOOKUP(IF(E218=\"\",$D$16,E218),ClgHtgTypeData,2,FALSE)/1000)","v":0},{"$f":"IF(OR(U218=\"\",W218=\"\"),\"\",IF(VLOOKUP(L218,'Wattage Table'!D:F,3,0)*N218/W218>=VLOOKUP(U218,Control_Data,3,0),1,0))","v":""}]
[null,195,null,null,null,null,{"$f":"IF(F219=\"\",\"\",HLOOKUP(F219,Validation!$F$5:$Q$6,2,FALSE))","v":""},{"$f":"IF(G219=\"\",\"\",INDEX('Measure Code Summary'!$D$20:$D$52,MATCH(G219,'Measure Code Summary'!$C$20:$C$52,0),1))","v":""},"",null,null,null,{"$f":"IF(L219=\"\",\"\",VLOOKUP(L219,'Wattage Table'!$D:$E,2,0))","v":""},null,{"$f":"IF(L219=\"\",\"\",VLOOKUP(L219,'Wattage Table'!D:F,3,0))","v":""},null,{"$f":"IF(P219=\"\",\"\",VLOOKUP(P219,'Wattage Table'!D:E,2,0))","v":""},null,{"$f":"IF(P219=\"\",\"\",VLOOKUP(P219,'Wattage Table'!D:F,3,0))","v":""},null,null,{"$f":"IF(U219=\"\",\"\",IF(U219=\"None\",\"None\",INDEX('Measure Code Summary'!$D$50:$D$53,MATCH(U219,'Measure Code Summary'!$C$50:$C$53,0),1)))","v":""},null,0,0,0,{"$error":"#VALUE!"},{"$error":"#VALUE!"},"",{"$f":"IF(OR(P219=\"\",L219=\"\", D$16=\"\"),0,((S219*R219)-(O219*N219))*IF(G219=\"90C\",Validation!B$32,T219)*VLOOKUP(IF(E219=\"\",$D$16,E219),ClgHtgTypeData,3,FALSE)/1000)","v":0},0,"",{"$error":"#VALUE!"},0,{"$f":"IF(OR(U219=\"\",W219=\"\"),0,IF(U219=\"80F\",Validation!W206,(VLOOKUP(IF(D219=\"\",$D$15,D219),LtgBldgTypeData,3,FALSE)-VLOOKUP(U219,Control_Data,5)))*N219*O219*VLOOKUP(IF(E219=\"\",$D$16,E219),ClgHtgTypeData,2,FALSE)/1000)","v":0},{"$f":"IF(OR(U219=\"\",W219=\"\"),\"\",IF(VLOOKUP(L219,'Wattage Table'!D:F,3,0)*N219/W219>=VLOOKUP(U219,Control_Data,3,0),1,0))","v":""}]
[null,196,null,null,null,null,{"$f":"IF(F220=\"\",\"\",HLOOKUP(F220,Validation!$F$5:$Q$6,2,FALSE))","v":""},{"$f":"IF(G220=\"\",\"\",INDEX('Measure Code Summary'!$D$20:$D$52,MATCH(G220,'Measure Code Summary'!$C$20:$C$52,0),1))","v":""},"",null,null,null,{"$f":"IF(L220=\"\",\"\",VLOOKUP(L220,'Wattage Table'!$D:$E,2,0))","v":""},null,{"$f":"IF(L220=\"\",\"\",VLOOKUP(L220,'Wattage Table'!D:F,3,0))","v":""},null,{"$f":"IF(P220=\"\",\"\",VLOOKUP(P220,'Wattage Table'!D:E,2,0))","v":""},null,{"$f":"IF(P220=\"\",\"\",VLOOKUP(P220,'Wattage Table'!D:F,3,0))","v":""},null,null,{"$f":"IF(U220=\"\",\"\",IF(U220=\"None\",\"None\",INDEX('Measure Code Summary'!$D$50:$D$53,MATCH(U220,'Measure Code Summary'!$C$50:$C$53,0),1)))","v":""},null,0,0,0,{"$error":"#VALUE!"},{"$error":"#VALUE!"},"",{"$f":"IF(OR(P220=\"\",L220=\"\", D$16=\"\"),0,((S220*R220)-(O220*N220))*IF(G220=\"90C\",Validation!B$32,T220)*VLOOKUP(IF(E220=\"\",$D$16,E220),ClgHtgTypeData,3,FALSE)/1000)","v":0},0,"",{"$error":"#VALUE!"},0,{"$f":"IF(OR(U220=\"\",W220=\"\"),0,IF(U220=\"80F\",Validation!W207,(VLOOKUP(IF(D220=\"\",$D$15,D220),LtgBldgTypeData,3,FALSE)-VLOOKUP(U220,Control_Data,5)))*N220*O220*VLOOKUP(IF(E220=\"\",$D$16,E220),ClgHtgTypeData,2,FALSE)/1000)","v":0},{"$f":"IF(OR(U220=\"\",W220=\"\"),\"\",IF(VLOOKUP(L220,'Wattage Table'!D:F,3,0)*N220/W220>=VLOOKUP(U220,Control_Data,3,0),1,0))","v":""}]
[null,197,null,null,null,null,{"$f":"IF(F221=\"\",\"\",HLOOKUP(F221,Validation!$F$5:$Q$6,2,FALSE))","v":""},{"$f":"IF(G221=\"\",\"\",INDEX('Measure Code Summary'!$D$20:$D$52,MATCH(G221,'Measure Code Summary'!$C$20:$C$52,0),1))","v":""},"",null,null,null,{"$f":"IF(L221=\"\",\"\",VLOOKUP(L221,'Wattage Table'!$D:$E,2,0))","v":""},null,{"$f":"IF(L221=\"\",\"\",VLOOKUP(L221,'Wattage Table'!D:F,3,0))","v":""},null,{"$f":"IF(P221=\"\",\"\",VLOOKUP(P221,'Wattage Table'!D:E,2,0))","v":""},null,{"$f":"IF(P221=\"\",\"\",VLOOKUP(P221,'Wattage Table'!D:F,3,0))","v":""},null,null,{"$f":"IF(U221=\"\",\"\",IF(U221=\"None\",\"None\",INDEX('Measure Code Summary'!$D$50:$D$53,MATCH(U221,'Measure Code Summary'!$C$50:$C$53,0),1)))","v":""},null,0,0,0,{"$error":"#VALUE!"},{"$error":"#VALUE!"},"",{"$f":"IF(OR(P221=\"\",L221=\"\", D$16=\"\"),0,((S221*R221)-(O221*N221))*IF(G221=\"90C\",Validation!B$32,T221)*VLOOKUP(IF(E221=\"\",$D$16,E221),ClgHtgTypeData,3,FALSE)/1000)","v":0},0,"",{"$error":"#VALUE!"},0,{"$f":"IF(OR(U221=\"\",W221=\"\"),0,IF(U221=\"80F\",Validation!W208,(VLOOKUP(IF(D221=\"\",$D$15,D221),LtgBldgTypeData,3,FALSE)-VLOOKUP(U221,Control_Data,5)))*N221*O221*VLOOKUP(IF(E221=\"\",$D$16,E221),ClgHtgTypeData,2,FALSE)/1000)","v":0},{"$f":"IF(OR(U221=\"\",W221=\"\"),\"\",IF(VLOOKUP(L221,'Wattage Table'!D:F,3,0)*N221/W221>=VLOOKUP(U221,Control_Data,3,0),1,0))","v":""}]
[null,198,null,null,null,null,{"$f":"IF(F222=\"\",\"\",HLOOKUP(F222,Validation!$F$5:$Q$6,2,FALSE))","v":""},{"$f":"IF(G222=\"\",\"\",INDEX('Measure Code Summary'!$D$20:$D$52,MATCH(G222,'Measure Code Summary'!$C$20:$C$52,0),1))","v":""},"",null,null,null,{"$f":"IF(L222=\"\",\"\",VLOOKUP(L222,'Wattage Table'!$D:$E,2,0))","v":""},null,{"$f":"IF(L222=\"\",\"\",VLOOKUP(L222,'Wattage Table'!D:F,3,0))","v":""},null,{"$f":"IF(P222=\"\",\"\",VLOOKUP(P222,'Wattage Table'!D:E,2,0))","v":""},null,{"$f":"IF(P222=\"\",\"\",VLOOKUP(P222,'Wattage Table'!D:F,3,0))","v":""},null,null,{"$f":"IF(U222=\"\",\"\",IF(U222=\"None\",\"None\",INDEX('Measure Code Summary'!$D$50:$D$53,MATCH(U222,'Measure Code Summary'!$C$50:$C$53,0),1)))","v":""},null,0,0,0,{"$error":"#VALUE!"},{"$error":"#VALUE!"},"",{"$f":"IF(OR(P222=\"\",L222=\"\", D$16=\"\"),0,((S222*R222)-(O222*N222))*IF(G222=\"90C\",Validation!B$32,T222)*VLOOKUP(IF(E222=\"\",$D$16,E222),ClgHtgTypeData,3,FALSE)/1000)","v":0},0,"",{"$error":"#VALUE!"},0,{"$f":"IF(OR(U222=\"\",W222=\"\"),0,IF(U222=\"80F\",Validation!W209,(VLOOKUP(IF(D222=\"\",$D$15,D222),LtgBldgTypeData,3,FALSE)-VLOOKUP(U222,Control_Data,5)))*N222*O222*VLOOKUP(IF(E222=\"\",$D$16,E222),ClgHtgTypeData,2,FALSE)/1000)","v":0},{"$f":"IF(OR(U222=\"\",W222=\"\"),\"\",IF(VLOOKUP(L222,'Wattage Table'!D:F,3,0)*N222/W222>=VLOOKUP(U222,Control_Data,3,0),1,0))","v":""}]
[null,199,null,null,null,null,{"$f":"IF(F223=\"\",\"\",HLOOKUP(F223,Validation!$F$5:$Q$6,2,FALSE))","v":""},{"$f":"IF(G223=\"\",\"\",INDEX('Measure Code Summary'!$D$20:$D$52,MATCH(G223,'Measure Code Summary'!$C$20:$C$52,0),1))","v":""},"",null,null,null,{"$f":"IF(L223=\"\",\"\",VLOOKUP(L223,'Wattage Table'!$D:$E,2,0))","v":""},null,{"$f":"IF(L223=\"\",\"\",VLOOKUP(L223,'Wattage Table'!D:F,3,0))","v":""},null,{"$f":"IF(P223=\"\",\"\",VLOOKUP(P223,'Wattage Table'!D:E,2,0))","v":""},null,{"$f":"IF(P223=\"\",\"\",VLOOKUP(P223,'Wattage Table'!D:F,3,0))","v":""},null,null,{"$f":"IF(U223=\"\",\"\",IF(U223=\"None\",\"None\",INDEX('Measure Code Summary'!$D$50:$D$53,MATCH(U223,'Measure Code Summary'!$C$50:$C$53,0),1)))","v":""},null,0,0,0,{"$error":"#VALUE!"},{"$error":"#VALUE!"},"",{"$f":"IF(OR(P223=\"\",L223=\"\", D$16=\"\"),0,((S223*R223)-(O223*N223))*IF(G223=\"90C\",Validation!B$32,T223)*VLOOKUP(IF(E223=\"\",$D$16,E223),ClgHtgTypeData,3,FALSE)/1000)","v":0},0,"",{"$error":"#VALUE!"},0,{"$f":"IF(OR(U223=\"\",W223=\"\"),0,IF(U223=\"80F\",Validation!W210,(VLOOKUP(IF(D223=\"\",$D$15,D223),LtgBldgTypeData,3,FALSE)-VLOOKUP(U223,Control_Data,5)))*N223*O223*VLOOKUP(IF(E223=\"\",$D$16,E223),ClgHtgTypeData,2,FALSE)/1000)","v":0},{"$f":"IF(OR(U223=\"\",W223=\"\"),\"\",IF(VLOOKUP(L223,'Wattage Table'!D:F,3,0)*N223/W223>=VLOOKUP(U223,Control_Data,3,0),1,0))","v":""}]
[null,200,null,null,null,null,{"$f":"IF(F224=\"\",\"\",HLOOKUP(F224,Validation!$F$5:$Q$6,2,FALSE))","v":""},{"$f":"IF(G224=\"\",\"\",INDEX('Measure Code Summary'!$D$20:$D$52,MATCH(G224,'Measure Code Summary'!$C$20:$C$52,0),1))","v":""},"",null,null,null,{"$f":"IF(L224=\"\",\"\",VLOOKUP(L224,'Wattage Table'!$D:$E,2,0))","v":""},null,{"$f":"IF(L224=\"\",\"\",VLOOKUP(L224,'Wattage Table'!D:F,3,0))","v":""},null,{"$f":"IF(P224=\"\",\"\",VLOOKUP(P224,'Wattage Table'!D:E,2,0))","v":""},null,{"$f":"IF(P224=\"\",\"\",VLOOKUP(P224,'Wattage Table'!D:F,3,0))","v":""},null,null,{"$f":"IF(U224=\"\",\"\",IF(U224=\"None\",\"None\",INDEX('Measure Code Summary'!$D$50:$D$53,MATCH(U224,'Measure Code Summary'!$C$50:$C$53,0),1)))","v":""},null,0,0,0,{"$error":"#VALUE!"},{"$error":"#VALUE!"},"",{"$f":"IF(OR(P224=\"\",L224=\"\", D$16=\"\"),0,((S224*R224)-(O224*N224))*IF(G224=\"90C\",Validation!B$32,T224)*VLOOKUP(IF(E224=\"\",$D$16,E224),ClgHtgTypeData,3,FALSE)/1000)","v":0},0,"",{"$error":"#VALUE!"},0,{"$f":"IF(OR(U224=\"\",W224=\"\"),0,IF(U224=\"80F\",Validation!W211,(VLOOKUP(IF(D224=\"\",$D$15,D224),LtgBldgTypeData,3,FALSE)-VLOOKUP(U224,Control_Data,5)))*N224*O224*VLOOKUP(IF(E224=\"\",$D$16,E224),ClgHtgTypeData,2,FALSE)/1000)","v":0},{"$f":"IF(OR(U224=\"\",W224=\"\"),\"\",IF(VLOOKUP(L224,'Wattage Table'!D:F,3,0)*N224/W224>=VLOOKUP(U224,Control_Data,3,0),1,0))","v":""}]

{"sheet":"Input - Lighting Controls Only","index":10,"n_rows":223,"n_cols":20,"rows_kept":223,"cut":false,"hidden":false,"merged":[[10,6,10,7],[1,1,1,19],[2,1,2,19],[5,1,5,19],[14,3,14,4],[4,1,4,13],[3,1,3,13],[8,14,8,16],[8,1,8,8],[11,6,11,7],[12,6,12,7],[10,3,10,4],[11,3,11,4],[12,3,12,4],[17,1,18,1],[13,3,13,4],[13,6,13,7],[20,2,20,4],[20,17,20,19],[20,5,20,13],[20,14,20,15],[14,5,15,6],[15,3,15,4]]}
[null,null,null,"Space Use Type \n(If different from Lighting Building Type input above) ","Space AC / Heat Type\n(If different from Building AC / Heat Type input above)"]
[]
[]
[null,"Lighting Controls Only"]
[null,{"$f":"\"Version # \"&'Version Tracking'!C4","v":"Version # 10.2"}]
[null," "]
[null,"Copyright © 2010 ICF Resources, LLC, All Rights Reserved. Do not copy, distribute or quote without ICF’s written permission."]
[]
[null,"Required General Project Information",null,null,null,null,null,null,null,"Administrative Use Only",null,null,null,null,"Summary Table"]
[null,null,null,null,null,null,null,null,null,null,null,null,null,null,"Total kWh ","Total Summer Coincident Peak (kW)","Total Incentive"]
[null,null,"Project Name",null,null,"Prepared By",null,null,null,"Project ID",null,null,null,null,{"$f":"SUM(O24:O223)","v":0},{"$f":"SUM(P24:P223)","v":0},{"$f":"SUM(Q24:Q223)","v":0}]
[null,null,"Project Address",null,null,"Contact Person",null,null,null,"Data Input By"]
[null,null,"City",null,null,"Phone",null,null,null,"Input Date"]
[null,null,"ZIP",null,null,"Email"]
[null,null,"Lighting Building Type ",{"$f":"'Input - Retrofit Lighting'!D15","v":0},null,"Required Inputs - Input or change values on the \"Input - Retrofit Lighting\" tab."]
[null,null,"Building AC / Heat Type",{"$f":"'Input - Retrofit Lighting'!D16","v":0}]
[]
[null,"Input Cells"]
[null,null,"Data input allowed in shaded cells only.",null,null,null,null,null,null,null,null,null,"*If print button malfunctions, "]
[null,null,null,null,null,null,null,null,null,null,null,null,"select printer settings manually from print menu"]
[null,null,"Location Information",null,null,"Controls Installed",null,null,null,null,null,null,null,null,"Savings"]
[null,"Line Item","Location","Space Use Type \n(If different from Lighting Building Type input above) ","Space AC / Heat Type\n(If different from Building AC / Heat Type input above)","Controls Included","Control Type","Quantity of Controls (If Daylight Dimming - Quantity of Ballasts Controlled)","Device Category of Controlled Fixtures","Device Code of Controlled Fixtures","Device Description","Annual Operating Hours w/o Control Installed","Hours Reduced by Controls","Quantity of Devices Controlled","Total kWh Saved","Summer Coincident Peak kW Saved","Control Incentive","Control Count","Total Wattage Controlled","Controls Qualify?\n(1=Yes)"]
[null,"Ex.","Stockroom","Education: College, University, K-12 with summer session","A/C / Gas","80A",{"$f":"IF(F23=\"\",\"\",IF(F23=\"None\",\"None\",INDEX('Measure Code Summary'!$D$50:$D$53,MATCH(F23,'Measure Code Summary'!$C$50:$C$53,0),1)))","v":"Occupancy Control: Wall Switch Replacement"},1,"4’ HPT8 Retrofit: 1-2 Lamps","2F32SSE",{"$f":"IF(J23=\"\",\"\",VLOOKUP(J23,'Wattage Table'!$D:$E,2,0))","v":" 2L4' T8/ELIG  "},5000,{"$f":"IF(F23=\"\",0,IF(F23=\"None\",0,VLOOKUP(F23,Control_Data,4)*L23))","v":1500},3,{"$f":"IF(J23=\"\",0,(VLOOKUP(J23,'Wattage Table'!$D:$F,3,0)*N23*M23)/1000*VLOOKUP(IF(E23=\"\",$D$16,E23),ClgHtgTypeData,3,FALSE))","v":269.77500000000003},{"$f":"IF(OR(F23=\"\",H23=\"\"),0,IF(F23=\"80F\",Validation!W$11,(VLOOKUP(IF(D23=\"\",$D$15,D23),LtgBldgTypeData,3,FALSE)-VLOOKUP(F23,Control_Data,5)))*S23*VLOOKUP(IF(E23=\"\",$D$16,E23),ClgHtgTypeData,2,FALSE)/1000)","v":0.10691999999999999},{"$f":"IF(OR(O23<=0,P23<=0,F23=\"\",J23=\"\"),0,VLOOKUP(F23,Control_Data,6)*H23*T23)","v":15},{"$f":"IF(Q23<=0,0,H23*T23)","v":1},{"$f":"IF(ISERROR(IF(J23=\"-\",\"-\",INDEX('Wattage Table'!$F$21:$F$1229,MATCH(J23,'Wattage Table'!$D$21:$D$1229,0)))*$N23),\" \",IF(J23=\"-\",\"-\",INDEX('Wattage Table'!$F$21:$F$1229,MATCH(J23,'Wattage Table'!$D$21:$D$1229,0)))*$N23)","v":165},{"$f":"IF(F23=\"\",\"\",IF(OR(F23=\"None\",F23=\"\",J23=\"\"),0,IF(S23/H23>=VLOOKUP(F23,Control_Data,3,0),1,0)))","v":1}]
[null,1,null,null,null,null,{"$f":"IF(F24=\"\",\"\",IF(F24=\"None\",\"None\",INDEX('Measure Code Summary'!$D$50:$D$53,MATCH(F24,'Measure Code Summary'!$C$50:$C$53,0),1)))","v":""},null,null,null,{"$f":"IF(J24=\"\",\"\",VLOOKUP(J24,'Wattage Table'!$D:$E,2,0))","v":""},null,{"$f":"IF(OR(F24=\"\",L24=\"\"),0,L24*0.25)","v":0},null,{"$f":"IF(J24=\"\",0,(VLOOKUP(J24,'Wattage Table'!$D:$F,3,0)*N24*M24)/1000*VLOOKUP(IF(E24=\"\",$D$16,E24),ClgHtgTypeData,3,FALSE))","v":0},{"$f":"IF(OR(F24=\"\",H24=\"\"),0,IF(F24=\"80F\",Validation!W$11,(VLOOKUP(IF(D24=\"\",$D$15,D24),LtgBldgTypeData,3,FALSE)-VLOOKUP(F24,Control_Data,5)))*S24*VLOOKUP(IF(E24=\"\",$D$16,E24),ClgHtgTypeData,2,FALSE)/1000)","v":0},0,{"$f":"IF(Q24<=0,0,H24*T24)","v":0},{"$f":"IF(ISERROR(IF(J24=\"-\",\"-\",INDEX('Wattage Table'!$F$21:$F$1229,MATCH(J24,'Wattage Table'!$D$21:$D$1229,0)))*$N24),\" \",IF(J24=\"-\",\"-\",INDEX('Wattage Table'!$F$21:$F$1229,MATCH(J24,'Wattage Table'!$D$21:$D$1229,0)))*$N24)","v":" "},{"$f":"IF(F24=\"\",\"\",IF(OR(F24=\"None\",F24=\"\",J24=\"\"),0,IF(S24/H24>=VLOOKUP(F24,Control_Data,3,0),1,0)))","v":""}]
[null,2,null,null,null,null,{"$f":"IF(F25=\"\",\"\",IF(F25=\"None\",\"None\",INDEX('Measure Code Summary'!$D$50:$D$53,MATCH(F25,'Measure Code Summary'!$C$50:$C$53,0),1)))","v":""},null,null,null,{"$f":"IF(J25=\"\",\"\",VLOOKUP(J25,'Wattage Table'!$D:$E,2,0))","v":""},null,0,null,{"$f":"IF(J25=\"\",0,(VLOOKUP(J25,'Wattage Table'!$D:$F,3,0)*N25*M25)/1000*VLOOKUP(IF(E25=\"\",$D$16,E25),ClgHtgTypeData,3,FALSE))","v":0},{"$f":"IF(OR(F25=\"\",H25=\"\"),0,IF(F25=\"80F\",Validation!W$11,(VLOOKUP(IF(D25=\"\",$D$15,D25),LtgBldgTypeData,3,FALSE)-VLOOKUP(F25,Control_Data,5)))*S25*VLOOKUP(IF(E25=\"\",$D$16,E25),ClgHtgTypeData,2,FALSE)/1000)","v":0},0,0,{"$f":"IF(ISERROR(IF(J25=\"-\",\"-\",INDEX('Wattage Table'!$F$21:$F$1229,MATCH(J25,'Wattage Table'!$D$21:$D$1229,0)))*$N25),\" \",IF(J25=\"-\",\"-\",INDEX('Wattage Table'!$F$21:$F$1229,MATCH(J25,'Wattage Table'!$D$21:$D$1229,0)))*$N25)","v":" "},{"$f":"IF(F25=\"\",\"\",IF(OR(F25=\"None\",F25=\"\",J25=\"\"),0,IF(S25/H25>=VLOOKUP(F25,Control_Data,3,0),1,0)))","v":""}]
[null,3,null,null,null,null,{"$f":"IF(F26=\"\",\"\",IF(F26=\"None\",\"None\",INDEX('Measure Code Summary'!$D$50:$D$53,MATCH(F26,'Measure Code Summary'!$C$50:$C$53,0),1)))","v":""},null,null,null,{"$f":"IF(J26=\"\",\"\",VLOOKUP(J26,'Wattage Table'!$D:$E,2,0))","v":""},null,0,null,{"$f":"IF(J26=\"\",0,(VLOOKUP(J26,'Wattage Table'!$D:$F,3,0)*N26*M26)/1000*VLOOKUP(IF(E26=\"\",$D$16,E26),ClgHtgTypeData,3,FALSE))","v":0},{"$f":"IF(OR(F26=\"\",H26=\"\"),0,IF(F26=\"80F\",Validation!W$11,(VLOOKUP(IF(D26=\"\",$D$15,D26),LtgBldgTypeData,3,FALSE)-VLOOKUP(F26,Control_Data,5)))*S26*VLOOKUP(IF(E26=\"\",$D$16,E26),ClgHtgTypeData,2,FALSE)/1000)","v":0},0,0,{"$f":"IF(ISERROR(IF(J26=\"-\",\"-\",INDEX('Wattage Table'!$F$21:$F$1229,MATCH(J26,'Wattage Table'!$D$21:$D$1229,0)))*$N26),\" \",IF(J26=\"-\",\"-\",INDEX('Wattage Table'!$F$21:$F$1229,MATCH(J26,'Wattage Table'!$D$21:$D$1229,0)))*$N26)","v":" "},{"$f":"IF(F26=\"\",\"\",IF(OR(F26=\"None\",F26=\"\",J26=\"\"),0,IF(S26/H26>=VLOOKUP(F26,Control_Data,3,0),1,0)))","v":""}]
[null,4,null,null,null,null,{"$f":"IF(F27=\"\",\"\",IF(F27=\"None\",\"None\",INDEX('Measure Code Summary'!$D$50:$D$53,MATCH(F27,'Measure Code Summary'!$C$50:$C$53,0),1)))","v":""},null,null,null,{"$f":"IF(J27=\"\",\"\",VLOOKUP(J27,'Wattage Table'!$D:$E,2,0))","v":""},null,0,null,{"$f":"IF(J27=\"\",0,(VLOOKUP(J27,'Wattage Table'!$D:$F,3,0)*N27*M27)/1000*VLOOKUP(IF(E27=\"\",$D$16,E27),ClgHtgTypeData,3,FALSE))","v":0},{"$f":"IF(OR(F27=\"\",H27=\"\"),0,IF(F27=\"80F\",Validation!W$11,(VLOOKUP(IF(D27=\"\",$D$15,D27),LtgBldgTypeData,3,FALSE)-VLOOKUP(F27,Control_Data,5)))*S27*VLOOKUP(IF(E27=\"\",$D$16,E27),ClgHtgTypeData,2,FALSE)/1000)","v":0},0,0,{"$f":"IF(ISERROR(IF(J27=\"-\",\"-\",INDEX('Wattage Table'!$F$21:$F$1229,MATCH(J27,'Wattage Table'!$D$21:$D$1229,0)))*$N27),\" \",IF(J27=\"-\",\"-\",INDEX('Wattage Table'!$F$21:$F$1229,MATCH(J27,'Wattage Table'!$D$21:$D$1229,0)))*$N27)","v":" "},{"$f":"IF(F27=\"\",\"\",IF(OR(F27=\"None\",F27=\"\",J27=\"\"),0,IF(S27/H27>=VLOOKUP(F27,Control_Data,3,0),1,0)))","v":""}]
[null,5,null,null,null,null,{"$f":"IF(F28=\"\",\"\",IF(F28=\"None\",\"None\",INDEX('Measure Code Summary'!$D$50:$D$53,MATCH(F28,'Measure Code Summary'!$C$50:$C$53,0),1)))","v":""},null,null,null,{"$f":"IF(J28=\"\",\"\",VLOOKUP(J28,'Wattage Table'!$D:$E,2,0))","v":""},null,0,null,{"$f":"IF(J28=\"\",0,(VLOOKUP(J28,'Wattage Table'!$D:$F,3,0)*N28*M28)/1000*VLOOKUP(IF(E28=\"\",$D$16,E28),ClgHtgTypeData,3,FALSE))","v":0},{"$f":"IF(OR(F28=\"\",H28=\"\"),0,IF(F28=\"80F\",Validation!W$11,(VLOOKUP(IF(D28=\"\",$D$15,D28),LtgBldgTypeData,3,FALSE)-VLOOKUP(F28,Control_Data,5)))*S28*VLOOKUP(IF(E28=\"\",$D$16,E28),ClgHtgTypeData,2,FALSE)/1000)","v":0},0,0,{"$f":"IF(ISERROR(IF(J28=\"-\",\"-\",INDEX('Wattage Table'!$F$21:$F$1229,MATCH(J28,'Wattage Table'!$D$21:$D$1229,0)))*$N28),\" \",IF(J28=\"-\",\"-\",INDEX('Wattage Table'!$F$21:$F$1229,MATCH(J28,'Wattage Table'!$D$21:$D$1229,0)))*$N28)","v":" "},{"$f":"IF(F28=\"\",\"\",IF(OR(F28=\"None\",F28=\"\",J28=\"\"),\"No\",IF(VLOOKUP(J28,'Wattage Table'!$D:$F,3,0)*N28/H28<=VLOOKUP(F28,Control_Data,3,0),\"No\",\"Yes\")))","v":""}]
[null,6,null,null,null,null,{"$f":"IF(F29=\"\",\"\",IF(F29=\"None\",\"None\",INDEX('Measure Code Summary'!$D$50:$D$53,MATCH(F29,'Measure Code Summary'!$C$50:$C$53,0),1)))","v":""},null,null,null,{"$f":"IF(J29=\"\",\"\",VLOOKUP(J29,'Wattage Table'!$D:$E,2,0))","v":""},null,0,null,{"$f":"IF(J29=\"\",0,(VLOOKUP(J29,'Wattage Table'!$D:$F,3,0)*N29*M29)/1000*VLOOKUP(IF(E29=\"\",$D$16,E29),ClgHtgTypeData,3,FALSE))","v":0},{"$f":"IF(OR(F29=\"\",H29=\"\"),0,IF(F29=\"80F\",Validation!W$11,(VLOOKUP(IF(D29=\"\",$D$15,D29),LtgBldgTypeData,3,FALSE)-VLOOKUP(F29,Control_Data,5)))*S29*VLOOKUP(IF(E29=\"\",$D$16,E29),ClgHtgTypeData,2,FALSE)/1000)","v":0},0,0,{"$f":"IF(ISERROR(IF(J29=\"-\",\"-\",INDEX('Wattage Table'!$F$21:$F$1229,MATCH(J29,'Wattage Table'!$D$21:$D$1229,0)))*$N29),\" \",IF(J29=\"-\",\"-\",INDEX('Wattage Table'!$F$21:$F$1229,MATCH(J29,'Wattage Table'!$D$21:$D$1229,0)))*$N29)","v":" "},{"$f":"IF(F29=\"\",\"\",IF(OR(F29=\"None\",F29=\"\",J29=\"\"),\"No\",IF(VLOOKUP(J29,'Wattage Table'!$D:$F,3,0)*N29/H29<=VLOOKUP(F29,Control_Data,3,0),\"No\",\"Yes\")))","v":""}]
[null,7,null,null,null,null,{"$f":"IF(F30=\"\",\"\",IF(F30=\"None\",\"None\",INDEX('Measure Code Summary'!$D$50:$D$53,MATCH(F30,'Measure Code Summary'!$C$50:$C$53,0),1)))","v":""},null,null,null,{"$f":"IF(J30=\"\",\"\",VLOOKUP(J30,'Wattage Table'!$D:$E,2,0))","v":""},null,0,null,{"$f":"IF(J30=\"\",0,(VLOOKUP(J30,'Wattage Table'!$D:$F,3,0)*N30*M30)/1000*VLOOKUP(IF(E30=\"\",$D$16,E30),ClgHtgTypeData,3,FALSE))","v":0},{"$f":"IF(OR(F30=\"\",H30=\"\"),0,IF(F30=\"80F\",Validation!W$11,(VLOOKUP(IF(D30=\"\",$D$15,D30),LtgBldgTypeData,3,FALSE)-VLOOKUP(F30,Control_Data,5)))*S30*VLOOKUP(IF(E30=\"\",$D$16,E30),ClgHtgTypeData,2,FALSE)/1000)","v":0},0,0,{"$f":"IF(ISERROR(IF(J30=\"-\",\"-\",INDEX('Wattage Table'!$F$21:$F$1229,MATCH(J30,'Wattage Table'!$D$21:$D$1229,0)))*$N30),\" \",IF(J30=\"-\",\"-\",INDEX('Wattage Table'!$F$21:$F$1229,MATCH(J30,'Wattage Table'!$D$21:$D$1229,0)))*$N30)","v":" "},{"$f":"IF(F30=\"\",\"\",IF(OR(F30=\"None\",F30=\"\",J30=\"\"),\"No\",IF(VLOOKUP(J30,'Wattage Table'!$D:$F,3,0)*N30/H30<=VLOOKUP(F30,Control_Data,3,0),\"No\",\"Yes\")))","v":""}]
[null,8,null,null,null,null,{"$f":"IF(F31=\"\",\"\",IF(F31=\"None\",\"None\",INDEX('Measure Code Summary'!$D$50:$D$53,MATCH(F31,'Measure Code Summary'!$C$50:$C$53,0),1)))","v":""},null,null,null,{"$f":"IF(J31=\"\",\"\",VLOOKUP(J31,'Wattage Table'!$D:$E,2,0))","v":""},null,0,null,{"$f":"IF(J31=\"\",0,(VLOOKUP(J31,'Wattage Table'!$D:$F,3,0)*N31*M31)/1000*VLOOKUP(IF(E31=\"\",$D$16,E31),ClgHtgTypeData,3,FALSE))","v":0},{"$f":"IF(OR(F31=\"\",H31=\"\"),0,IF(F31=\"80F\",Validation!W$11,(VLOOKUP(IF(D31=\"\",$D$15,D31),LtgBldgTypeData,3,FALSE)-VLOOKUP(F31,Control_Data,5)))*S31*VLOOKUP(IF(E31=\"\",$D$16,E31),ClgHtgTypeData,2,FALSE)/1000)","v":0},0,0,{"$f":"IF(ISERROR(IF(J31=\"-\",\"-\",INDEX('Wattage Table'!$F$21:$F$1229,MATCH(J31,'Wattage Table'!$D$21:$D$1229,0)))*$N31),\" \",IF(J31=\"-\",\"-\",INDEX('Wattage Table'!$F$21:$F$1229,MATCH(J31,'Wattage Table'!$D$21:$D$1229,0)))*$N31)","v":" "},{"$f":"IF(F31=\"\",\"\",IF(OR(F31=\"None\",F31=\"\",J31=\"\"),\"No\",IF(VLOOKUP(J31,'Wattage Table'!$D:$F,3,0)*N31/H31<=VLOOKUP(F31,Control_Data,3,0),\"No\",\"Yes\")))","v":""}]
[null,9,null,null,null,null,{"$f":"IF(F32=\"\",\"\",IF(F32=\"None\",\"None\",INDEX('Measure Code Summary'!$D$50:$D$53,MATCH(F32,'Measure Code Summary'!$C$50:$C$53,0),1)))","v":""},null,null,null,{"$f":"IF(J32=\"\",\"\",VLOOKUP(J32,'Wattage Table'!$D:$E,2,0))","v":""},null,0,null,{"$f":"IF(J32=\"\",0,(VLOOKUP(J32,'Wattage Table'!$D:$F,3,0)*N32*M32)/1000*VLOOKUP(IF(E32=\"\",$D$16,E32),ClgHtgTypeData,3,FALSE))","v":0},{"$f":"IF(OR(F32=\"\",H32=\"\"),0,IF(F32=\"80F\",Validation!W$11,(VLOOKUP(IF(D32=\"\",$D$15,D32),LtgBldgTypeData,3,FALSE)-VLOOKUP(F32,Control_Data,5)))*S32*VLOOKUP(IF(E32=\"\",$D$16,E32),ClgHtgTypeData,2,FALSE)/1000)","v":0},0,0,{"$f":"IF(ISERROR(IF(J32=\"-\",\"-\",INDEX('Wattage Table'!$F$21:$F$1229,MATCH(J32,'Wattage Table'!$D$21:$D$1229,0)))*$N32),\" \",IF(J32=\"-\",\"-\",INDEX('Wattage Table'!$F$21:$F$1229,MATCH(J32,'Wattage Table'!$D$21:$D$1229,0)))*$N32)","v":" "},{"$f":"IF(F32=\"\",\"\",IF(OR(F32=\"None\",F32=\"\",J32=\"\"),\"No\",IF(VLOOKUP(J32,'Wattage Table'!$D:$F,3,0)*N32/H32<=VLOOKUP(F32,Control_Data,3,0),\"No\",\"Yes\")))","v":""}]
[null,10,null,null,null,null,{"$f":"IF(F33=\"\",\"\",IF(F33=\"None\",\"None\",INDEX('Measure Code Summary'!$D$50:$D$53,MATCH(F33,'Measure Code Summary'!$C$50:$C$53,0),1)))","v":""},null,null,null,{"$f":"IF(J33=\"\",\"\",VLOOKUP(J33,'Wattage Table'!$D:$E,2,0))","v":""},null,0,null,{"$f":"IF(J33=\"\",0,(VLOOKUP(J33,'Wattage Table'!$D:$F,3,0)*N33*M33)/1000*VLOOKUP(IF(E33=\"\",$D$16,E33),ClgHtgTypeData,3,FALSE))","v":0},{"$f":"IF(OR(F33=\"\",H33=\"\"),0,IF(F33=\"80F\",Validation!W$11,(VLOOKUP(IF(D33=\"\",$D$15,D33),LtgBldgTypeData,3,FALSE)-VLOOKUP(F33,Control_Data,5)))*S33*VLOOKUP(IF(E33=\"\",$D$16,E33),ClgHtgTypeData,2,FALSE)/1000)","v":0},0,0,{"$f":"IF(ISERROR(IF(J33=\"-\",\"-\",INDEX('Wattage Table'!$F$21:$F$1229,MATCH(J33,'Wattage Table'!$D$21:$D$1229,0)))*$N33),\" \",IF(J33=\"-\",\"-\",INDEX('Wattage Table'!$F$21:$F$1229,MATCH(J33,'Wattage Table'!$D$21:$D$1229,0)))*$N33)","v":" "},{"$f":"IF(F33=\"\",\"\",IF(OR(F33=\"None\",F33=\"\",J33=\"\"),\"No\",IF(VLOOKUP(J33,'Wattage Table'!$D:$F,3,0)*N33/H33<=VLOOKUP(F33,Control_Data,3,0),\"No\",\"Yes\")))","v":""}]
[null,11,null,null,null,null,{"$f":"IF(F34=\"\",\"\",IF(F34=\"None\",\"None\",INDEX('Measure Code Summary'!$D$50:$D$53,MATCH(F34,'Measure Code Summary'!$C$50:$C$53,0),1)))","v":""},null,null,null,{"$f":"IF(J34=\"\",\"\",VLOOKUP(J34,'Wattage Table'!$D:$E,2,0))","v":""},null,0,null,{"$f":"IF(J34=\"\",0,(VLOOKUP(J34,'Wattage Table'!$D:$F,3,0)*N34*M34)/1000*VLOOKUP(IF(E34=\"\",$D$16,E34),ClgHtgTypeData,3,FALSE))","v":0},{"$f":"IF(OR(F34=\"\",H34=\"\"),0,IF(F34=\"80F\",Validation!W$11,(VLOOKUP(IF(D34=\"\",$D$15,D34),LtgBldgTypeData,3,FALSE)-VLOOKUP(F34,Control_Data,5)))*S34*VLOOKUP(IF(E34=\"\",$D$16,E34),ClgHtgTypeData,2,FALSE)/1000)","v":0},0,0,{"$f":"IF(ISERROR(IF(J34=\"-\",\"-\",INDEX('Wattage Table'!$F$21:$F$1229,MATCH(J34,'Wattage Table'!$D$21:$D$1229,0)))*$N34),\" \",IF(J34=\"-\",\"-\",INDEX('Wattage Table'!$F$21:$F$1229,MATCH(J34,'Wattage Table'!$D$21:$D$1229,0)))*$N34)","v":" "},{"$f":"IF(F34=\"\",\"\",IF(OR(F34=\"None\",F34=\"\",J34=\"\"),\"No\",IF(VLOOKUP(J34,'Wattage Table'!$D:$F,3,0)*N34/H34<=VLOOKUP(F34,Control_Data,3,0),\"No\",\"Yes\")))","v":""}]
[null,12,null,null,null,null,{"$f":"IF(F35=\"\",\"\",IF(F35=\"None\",\"None\",INDEX('Measure Code Summary'!$D$50:$D$53,MATCH(F35,'Measure Code Summary'!$C$50:$C$53,0),1)))","v":""},null,null,null,{"$f":"IF(J35=\"\",\"\",VLOOKUP(J35,'Wattage Table'!$D:$E,2,0))","v":""},null,0,null,{"$f":"IF(J35=\"\",0,(VLOOKUP(J35,'Wattage Table'!$D:$F,3,0)*N35*M35)/1000*VLOOKUP(IF(E35=\"\",$D$16,E35),ClgHtgTypeData,3,FALSE))","v":0},{"$f":"IF(OR(F35=\"\",H35=\"\"),0,IF(F35=\"80F\",Validation!W$11,(VLOOKUP(IF(D35=\"\",$D$15,D35),LtgBldgTypeData,3,FALSE)-VLOOKUP(F35,Control_Data,5)))*S35*VLOOKUP(IF(E35=\"\",$D$16,E35),ClgHtgTypeData,2,FALSE)/1000)","v":0},0,0,{"$f":"IF(ISERROR(IF(J35=\"-\",\"-\",INDEX('Wattage Table'!$F$21:$F$1229,MATCH(J35,'Wattage Table'!$D$21:$D$1229,0)))*$N35),\" \",IF(J35=\"-\",\"-\",INDEX('Wattage Table'!$F$21:$F$1229,MATCH(J35,'Wattage Table'!$D$21:$D$1229,0)))*$N35)","v":" "},{"$f":"IF(F35=\"\",\"\",IF(OR(F35=\"None\",F35=\"\",J35=\"\"),\"No\",IF(VLOOKUP(J35,'Wattage Table'!$D:$F,3,0)*N35/H35<=VLOOKUP(F35,Control_Data,3,0),\"No\",\"Yes\")))","v":""}]
[null,13,null,null,null,null,{"$f":"IF(F36=\"\",\"\",IF(F36=\"None\",\"None\",INDEX('Measure Code Summary'!$D$50:$D$53,MATCH(F36,'Measure Code Summary'!$C$50:$C$53,0),1)))","v":""},null,null,null,{"$f":"IF(J36=\"\",\"\",VLOOKUP(J36,'Wattage Table'!$D:$E,2,0))","v":""},null,0,null,{"$f":"IF(J36=\"\",0,(VLOOKUP(J36,'Wattage Table'!$D:$F,3,0)*N36*M36)/1000*VLOOKUP(IF(E36=\"\",$D$16,E36),ClgHtgTypeData,3,FALSE))","v":0},{"$f":"IF(OR(F36=\"\",H36=\"\"),0,IF(F36=\"80F\",Validation!W$11,(VLOOKUP(IF(D36=\"\",$D$15,D36),LtgBldgTypeData,3,FALSE)-VLOOKUP(F36,Control_Data,5)))*S36*VLOOKUP(IF(E36=\"\",$D$16,E36),ClgHtgTypeData,2,FALSE)/1000)","v":0},0,0,{"$f":"IF(ISERROR(IF(J36=\"-\",\"-\",INDEX('Wattage Table'!$F$21:$F$1229,MATCH(J36,'Wattage Table'!$D$21:$D$1229,0)))*$N36),\" \",IF(J36=\"-\",\"-\",INDEX('Wattage Table'!$F$21:$F$1229,MATCH(J36,'Wattage Table'!$D$21:$D$1229,0)))*$N36)","v":" "},{"$f":"IF(F36=\"\",\"\",IF(OR(F36=\"None\",F36=\"\",J36=\"\"),\"No\",IF(VLOOKUP(J36,'Wattage Table'!$D:$F,3,0)*N36/H36<=VLOOKUP(F36,Control_Data,3,0),\"No\",\"Yes\")))","v":""}]
[null,14,null,null,null,null,{"$f":"IF(F37=\"\",\"\",IF(F37=\"None\",\"None\",INDEX('Measure Code Summary'!$D$50:$D$53,MATCH(F37,'Measure Code Summary'!$C$50:$C$53,0),1)))","v":""},null,null,null,{"$f":"IF(J37=\"\",\"\",VLOOKUP(J37,'Wattage Table'!$D:$E,2,0))","v":""},null,0,null,{"$f":"IF(J37=\"\",0,(VLOOKUP(J37,'Wattage Table'!$D:$F,3,0)*N37*M37)/1000*VLOOKUP(IF(E37=\"\",$D$16,E37),ClgHtgTypeData,3,FALSE))","v":0},{"$f":"IF(OR(F37=\"\",H37=\"\"),0,IF(F37=\"80F\",Validation!W$11,(VLOOKUP(IF(D37=\"\",$D$15,D37),LtgBldgTypeData,3,FALSE)-VLOOKUP(F37,Control_Data,5)))*S37*VLOOKUP(IF(E37=\"\",$D$16,E37),ClgHtgTypeData,2,FALSE)/1000)","v":0},0,0,{"$f":"IF(ISERROR(IF(J37=\"-\",\"-\",INDEX('Wattage Table'!$F$21:$F$1229,MATCH(J37,'Wattage Table'!$D$21:$D$1229,0)))*$N37),\" \",IF(J37=\"-\",\"-\",INDEX('Wattage Table'!$F$21:$F$1229,MATCH(J37,'Wattage Table'!$D$21:$D$1229,0)))*$N37)","v":" "},{"$f":"IF(F37=\"\",\"\",IF(OR(F37=\"None\",F37=\"\",J37=\"\"),\"No\",IF(VLOOKUP(J37,'Wattage Table'!$D:$F,3,0)*N37/H37<=VLOOKUP(F37,Control_Data,3,0),\"No\",\"Yes\")))","v":""}]
[null,15,null,null,null,null,{"$f":"IF(F38=\"\",\"\",IF(F38=\"None\",\"None\",INDEX('Measure Code Summary'!$D$50:$D$53,MATCH(F38,'Measure Code Summary'!$C$50:$C$53,0),1)))","v":""},null,null,null,{"$f":"IF(J38=\"\",\"\",VLOOKUP(J38,'Wattage Table'!$D:$E,2,0))","v":""},null,0,null,{"$f":"IF(J38=\"\",0,(VLOOKUP(J38,'Wattage Table'!$D:$F,3,0)*N38*M38)/1000*VLOOKUP(IF(E38=\"\",$D$16,E38),ClgHtgTypeData,3,FALSE))","v":0},{"$f":"IF(OR(F38=\"\",H38=\"\"),0,IF(F38=\"80F\",Validation!W$11,(VLOOKUP(IF(D38=\"\",$D$15,D38),LtgBldgTypeData,3,FALSE)-VLOOKUP(F38,Control_Data,5)))*S38*VLOOKUP(IF(E38=\"\",$D$16,E38),ClgHtgTypeData,2,FALSE)/1000)","v":0},0,0,{"$f":"IF(ISERROR(IF(J38=\"-\",\"-\",INDEX('Wattage Table'!$F$21:$F$1229,MATCH(J38,'Wattage Table'!$D$21:$D$1229,0)))*$N38),\" \",IF(J38=\"-\",\"-\",INDEX('Wattage Table'!$F$21:$F$1229,MATCH(J38,'Wattage Table'!$D$21:$D$1229,0)))*$N38)","v":" "},{"$f":"IF(F38=\"\",\"\",IF(OR(F38=\"None\",F38=\"\",J38=\"\"),\"No\",IF(VLOOKUP(J38,'Wattage Table'!$D:$F,3,0)*N38/H38<=VLOOKUP(F38,Control_Data,3,0),\"No\",\"Yes\")))","v":""}]
[null,16,null,null,null,null,{"$f":"IF(F39=\"\",\"\",IF(F39=\"None\",\"None\",INDEX('Measure Code Summary'!$D$50:$D$53,MATCH(F39,'Measure Code Summary'!$C$50:$C$53,0),1)))","v":""},null,null,null,{"$f":"IF(J39=\"\",\"\",VLOOKUP(J39,'Wattage Table'!$D:$E,2,0))","v":""},null,0,null,{"$f":"IF(J39=\"\",0,(VLOOKUP(J39,'Wattage Table'!$D:$F,3,0)*N39*M39)/1000*VLOOKUP(IF(E39=\"\",$D$16,E39),ClgHtgTypeData,3,FALSE))","v":0},{"$f":"IF(OR(F39=\"\",H39=\"\"),0,IF(F39=\"80F\",Validation!W$11,(VLOOKUP(IF(D39=\"\",$D$15,D39),LtgBldgTypeData,3,FALSE)-VLOOKUP(F39,Control_Data,5)))*S39*VLOOKUP(IF(E39=\"\",$D$16,E39),ClgHtgTypeData,2,FALSE)/1000)","v":0},0,0,{"$f":"IF(ISERROR(IF(J39=\"-\",\"-\",INDEX('Wattage Table'!$F$21:$F$1229,MATCH(J39,'Wattage Table'!$D$21:$D$1229,0)))*$N39),\" \",IF(J39=\"-\",\"-\",INDEX('Wattage Table'!$F$21:$F$1229,MATCH(J39,'Wattage Table'!$D$21:$D$1229,0)))*$N39)","v":" "},{"$f":"IF(F39=\"\",\"\",IF(OR(F39=\"None\",F39=\"\",J39=\"\"),\"No\",IF(VLOOKUP(J39,'Wattage Table'!$D:$F,3,0)*N39/H39<=VLOOKUP(F39,Control_Data,3,0),\"No\",\"Yes\")))","v":""}]
[null,17,null,null,null,null,{"$f":"IF(F40=\"\",\"\",IF(F40=\"None\",\"None\",INDEX('Measure Code Summary'!$D$50:$D$53,MATCH(F40,'Measure Code Summary'!$C$50:$C$53,0),1)))","v":""},null,null,null,{"$f":"IF(J40=\"\",\"\",VLOOKUP(J40,'Wattage Table'!$D:$E,2,0))","v":""},null,0,null,{"$f":"IF(J40=\"\",0,(VLOOKUP(J40,'Wattage Table'!$D:$F,3,0)*N40*M40)/1000*VLOOKUP(IF(E40=\"\",$D$16,E40),ClgHtgTypeData,3,FALSE))","v":0},{"$f":"IF(OR(F40=\"\",H40=\"\"),0,IF(F40=\"80F\",Validation!W$11,(VLOOKUP(IF(D40=\"\",$D$15,D40),LtgBldgTypeData,3,FALSE)-VLOOKUP(F40,Control_Data,5)))*S40*VLOOKUP(IF(E40=\"\",$D$16,E40),ClgHtgTypeData,2,FALSE)/1000)","v":0},0,0,{"$f":"IF(ISERROR(IF(J40=\"-\",\"-\",INDEX('Wattage Table'!$F$21:$F$1229,MATCH(J40,'Wattage Table'!$D$21:$D$1229,0)))*$N40),\" \",IF(J40=\"-\",\"-\",INDEX('Wattage Table'!$F$21:$F$1229,MATCH(J40,'Wattage Table'!$D$21:$D$1229,0)))*$N40)","v":" "},{"$f":"IF(F40=\"\",\"\",IF(OR(F40=\"None\",F40=\"\",J40=\"\"),\"No\",IF(VLOOKUP(J40,'Wattage Table'!$D:$F,3,0)*N40/H40<=VLOOKUP(F40,Control_Data,3,0),\"No\",\"Yes\")))","v":""}]
[null,18,null,null,null,null,{"$f":"IF(F41=\"\",\"\",IF(F41=\"None\",\"None\",INDEX('Measure Code Summary'!$D$50:$D$53,MATCH(F41,'Measure Code Summary'!$C$50:$C$53,0),1)))","v":""},null,null,null,{"$f":"IF(J41=\"\",\"\",VLOOKUP(J41,'Wattage Table'!$D:$E,2,0))","v":""},null,0,null,{"$f":"IF(J41=\"\",0,(VLOOKUP(J41,'Wattage Table'!$D:$F,3,0)*N41*M41)/1000*VLOOKUP(IF(E41=\"\",$D$16,E41),ClgHtgTypeData,3,FALSE))","v":0},{"$f":"IF(OR(F41=\"\",H41=\"\"),0,IF(F41=\"80F\",Validation!W$11,(VLOOKUP(IF(D41=\"\",$D$15,D41),LtgBldgTypeData,3,FALSE)-VLOOKUP(F41,Control_Data,5)))*S41*VLOOKUP(IF(E41=\"\",$D$16,E41),ClgHtgTypeData,2,FALSE)/1000)","v":0},0,0,{"$f":"IF(ISERROR(IF(J41=\"-\",\"-\",INDEX('Wattage Table'!$F$21:$F$1229,MATCH(J41,'Wattage Table'!$D$21:$D$1229,0)))*$N41),\" \",IF(J41=\"-\",\"-\",INDEX('Wattage Table'!$F$21:$F$1229,MATCH(J41,'Wattage Table'!$D$21:$D$1229,0)))*$N41)","v":" "},{"$f":"IF(F41=\"\",\"\",IF(OR(F41=\"None\",F41=\"\",J41=\"\"),\"No\",IF(VLOOKUP(J41,'Wattage Table'!$D:$F,3,0)*N41/H41<=VLOOKUP(F41,Control_Data,3,0),\"No\",\"Yes\")))","v":""}]
[null,19,null,null,null,null,{"$f":"IF(F42=\"\",\"\",IF(F42=\"None\",\"None\",INDEX('Measure Code Summary'!$D$50:$D$53,MATCH(F42,'Measure Code Summary'!$C$50:$C$53,0),1)))","v":""},null,null,null,{"$f":"IF(J42=\"\",\"\",VLOOKUP(J42,'Wattage Table'!$D:$E,2,0))","v":""},null,0,null,{"$f":"IF(J42=\"\",0,(VLOOKUP(J42,'Wattage Table'!$D:$F,3,0)*N42*M42)/1000*VLOOKUP(IF(E42=\"\",$D$16,E42),ClgHtgTypeData,3,FALSE))","v":0},{"$f":"IF(OR(F42=\"\",H42=\"\"),0,IF(F42=\"80F\",Validation!W$11,(VLOOKUP(IF(D42=\"\",$D$15,D42),LtgBldgTypeData,3,FALSE)-VLOOKUP(F42,Control_Data,5)))*S42*VLOOKUP(IF(E42=\"\",$D$16,E42),ClgHtgTypeData,2,FALSE)/1000)","v":0},0,0,{"$f":"IF(ISERROR(IF(J42=\"-\",\"-\",INDEX('Wattage Table'!$F$21:$F$1229,MATCH(J42,'Wattage Table'!$D$21:$D$1229,0)))*$N42),\" \",IF(J42=\"-\",\"-\",INDEX('Wattage Table'!$F$21:$F$1229,MATCH(J42,'Wattage Table'!$D$21:$D$1229,0)))*$N42)","v":" "},{"$f":"IF(F42=\"\",\"\",IF(OR(F42=\"None\",F42=\"\",J42=\"\"),\"No\",IF(VLOOKUP(J42,'Wattage Table'!$D:$F,3,0)*N42/H42<=VLOOKUP(F42,Control_Data,3,0),\"No\",\"Yes\")))","v":""}]
[null,20,null,null,null,null,{"$f":"IF(F43=\"\",\"\",IF(F43=\"None\",\"None\",INDEX('Measure Code Summary'!$D$50:$D$53,MATCH(F43,'Measure Code Summary'!$C$50:$C$53,0),1)))","v":""},null,null,null,{"$f":"IF(J43=\"\",\"\",VLOOKUP(J43,'Wattage Table'!$D:$E,2,0))","v":""},null,0,null,{"$f":"IF(J43=\"\",0,(VLOOKUP(J43,'Wattage Table'!$D:$F,3,0)*N43*M43)/1000*VLOOKUP(IF(E43=\"\",$D$16,E43),ClgHtgTypeData,3,FALSE))","v":0},{"$f":"IF(OR(F43=\"\",H43=\"\"),0,IF(F43=\"80F\",Validation!W$11,(VLOOKUP(IF(D43=\"\",$D$15,D43),LtgBldgTypeData,3,FALSE)-VLOOKUP(F43,Control_Data,5)))*S43*VLOOKUP(IF(E43=\"\",$D$16,E43),ClgHtgTypeData,2,FALSE)/1000)","v":0},0,0,{"$f":"IF(ISERROR(IF(J43=\"-\",\"-\",INDEX('Wattage Table'!$F$21:$F$1229,MATCH(J43,'Wattage Table'!$D$21:$D$1229,0)))*$N43),\" \",IF(J43=\"-\",\"-\",INDEX('Wattage Table'!$F$21:$F$1229,MATCH(J43,'Wattage Table'!$D$21:$D$1229,0)))*$N43)","v":" "},{"$f":"IF(F43=\"\",\"\",IF(OR(F43=\"None\",F43=\"\",J43=\"\"),\"No\",IF(VLOOKUP(J43,'Wattage Table'!$D:$F,3,0)*N43/H43<=VLOOKUP(F43,Control_Data,3,0),\"No\",\"Yes\")))","v":""}]
[null,21,null,null,null,null,{"$f":"IF(F44=\"\",\"\",IF(F44=\"None\",\"None\",INDEX('Measure Code Summary'!$D$50:$D$53,MATCH(F44,'Measure Code Summary'!$C$50:$C$53,0),1)))","v":""},null,null,null,{"$f":"IF(J44=\"\",\"\",VLOOKUP(J44,'Wattage Table'!$D:$E,2,0))","v":""},null,0,null,{"$f":"IF(J44=\"\",0,(VLOOKUP(J44,'Wattage Table'!$D:$F,3,0)*N44*M44)/1000*VLOOKUP(IF(E44=\"\",$D$16,E44),ClgHtgTypeData,3,FALSE))","v":0},{"$f":"IF(OR(F44=\"\",H44=\"\"),0,IF(F44=\"80F\",Validation!W$11,(VLOOKUP(IF(D44=\"\",$D$15,D44),LtgBldgTypeData,3,FALSE)-VLOOKUP(F44,Control_Data,5)))*S44*VLOOKUP(IF(E44=\"\",$D$16,E44),ClgHtgTypeData,2,FALSE)/1000)","v":0},0,0,{"$f":"IF(ISERROR(IF(J44=\"-\",\"-\",INDEX('Wattage Table'!$F$21:$F$1229,MATCH(J44,'Wattage Table'!$D$21:$D$1229,0)))*$N44),\" \",IF(J44=\"-\",\"-\",INDEX('Wattage Table'!$F$21:$F$1229,MATCH(J44,'Wattage Table'!$D$21:$D$1229,0)))*$N44)","v":" "},{"$f":"IF(F44=\"\",\"\",IF(OR(F44=\"None\",F44=\"\",J44=\"\"),\"No\",IF(VLOOKUP(J44,'Wattage Table'!$D:$F,3,0)*N44/H44<=VLOOKUP(F44,Control_Data,3,0),\"No\",\"Yes\")))","v":""}]
[null,22,null,null,null,null,{"$f":"IF(F45=\"\",\"\",IF(F45=\"None\",\"None\",INDEX('Measure Code Summary'!$D$50:$D$53,MATCH(F45,'Measure Code Summary'!$C$50:$C$53,0),1)))","v":""},null,null,null,{"$f":"IF(J45=\"\",\"\",VLOOKUP(J45,'Wattage Table'!$D:$E,2,0))","v":""},null,0,null,{"$f":"IF(J45=\"\",0,(VLOOKUP(J45,'Wattage Table'!$D:$F,3,0)*N45*M45)/1000*VLOOKUP(IF(E45=\"\",$D$16,E45),ClgHtgTypeData,3,FALSE))","v":0},{"$f":"IF(OR(F45=\"\",H45=\"\"),0,IF(F45=\"80F\",Validation!W$11,(VLOOKUP(IF(D45=\"\",$D$15,D45),LtgBldgTypeData,3,FALSE)-VLOOKUP(F45,Control_Data,5)))*S45*VLOOKUP(IF(E45=\"\",$D$16,E45),ClgHtgTypeData,2,FALSE)/1000)","v":0},0,0,{"$f":"IF(ISERROR(IF(J45=\"-\",\"-\",INDEX('Wattage Table'!$F$21:$F$1229,MATCH(J45,'Wattage Table'!$D$21:$D$1229,0)))*$N45),\" \",IF(J45=\"-\",\"-\",INDEX('Wattage Table'!$F$21:$F$1229,MATCH(J45,'Wattage Table'!$D$21:$D$1229,0)))*$N45)","v":" "},{"$f":"IF(F45=\"\",\"\",IF(OR(F45=\"None\",F45=\"\",J45=\"\"),\"No\",IF(VLOOKUP(J45,'Wattage Table'!$D:$F,3,0)*N45/H45<=VLOOKUP(F45,Control_Data,3,0),\"No\",\"Yes\")))","v":""}]
[null,23,null,null,null,null,{"$f":"IF(F46=\"\",\"\",IF(F46=\"None\",\"None\",INDEX('Measure Code Summary'!$D$50:$D$53,MATCH(F46,'Measure Code Summary'!$C$50:$C$53,0),1)))","v":""},null,null,null,{"$f":"IF(J46=\"\",\"\",VLOOKUP(J46,'Wattage Table'!$D:$E,2,0))","v":""},null,0,null,{"$f":"IF(J46=\"\",0,(VLOOKUP(J46,'Wattage Table'!$D:$F,3,0)*N46*M46)/1000*VLOOKUP(IF(E46=\"\",$D$16,E46),ClgHtgTypeData,3,FALSE))","v":0},{"$f":"IF(OR(F46=\"\",H46=\"\"),0,IF(F46=\"80F\",Validation!W$11,(VLOOKUP(IF(D46=\"\",$D$15,D46),LtgBldgTypeData,3,FALSE)-VLOOKUP(F46,Control_Data,5)))*S46*VLOOKUP(IF(E46=\"\",$D$16,E46),ClgHtgTypeData,2,FALSE)/1000)","v":0},0,0,{"$f":"IF(ISERROR(IF(J46=\"-\",\"-\",INDEX('Wattage Table'!$F$21:$F$1229,MATCH(J46,'Wattage Table'!$D$21:$D$1229,0)))*$N46),\" \",IF(J46=\"-\",\"-\",INDEX('Wattage Table'!$F$21:$F$1229,MATCH(J46,'Wattage Table'!$D$21:$D$1229,0)))*$N46)","v":" "},{"$f":"IF(F46=\"\",\"\",IF(OR(F46=\"None\",F46=\"\",J46=\"\"),\"No\",IF(VLOOKUP(J46,'Wattage Table'!$D:$F,3,0)*N46/H46<=VLOOKUP(F46,Control_Data,3,0),\"No\",\"Yes\")))","v":""}]
[null,24,null,null,null,null,{"$f":"IF(F47=\"\",\"\",IF(F47=\"None\",\"None\",INDEX('Measure Code Summary'!$D$50:$D$53,MATCH(F47,'Measure Code Summary'!$C$50:$C$53,0),1)))","v":""},null,null,null,{"$f":"IF(J47=\"\",\"\",VLOOKUP(J47,'Wattage Table'!$D:$E,2,0))","v":""},null,0,null,{"$f":"IF(J47=\"\",0,(VLOOKUP(J47,'Wattage Table'!$D:$F,3,0)*N47*M47)/1000*VLOOKUP(IF(E47=\"\",$D$16,E47),ClgHtgTypeData,3,FALSE))","v":0},{"$f":"IF(OR(F47=\"\",H47=\"\"),0,IF(F47=\"80F\",Validation!W$11,(VLOOKUP(IF(D47=\"\",$D$15,D47),LtgBldgTypeData,3,FALSE)-VLOOKUP(F47,Control_Data,5)))*S47*VLOOKUP(IF(E47=\"\",$D$16,E47),ClgHtgTypeData,2,FALSE)/1000)","v":0},0,0,{"$f":"IF(ISERROR(IF(J47=\"-\",\"-\",INDEX('Wattage Table'!$F$21:$F$1229,MATCH(J47,'Wattage Table'!$D$21:$D$1229,0)))*$N47),\" \",IF(J47=\"-\",\"-\",INDEX('Wattage Table'!$F$21:$F$1229,MATCH(J47,'Wattage Table'!$D$21:$D$1229,0)))*$N47)","v":" "},{"$f":"IF(F47=\"\",\"\",IF(OR(F47=\"None\",F47=\"\",J47=\"\"),\"No\",IF(VLOOKUP(J47,'Wattage Table'!$D:$F,3,0)*N47/H47<=VLOOKUP(F47,Control_Data,3,0),\"No\",\"Yes\")))","v":""}]
[null,25,null,null,null,null,{"$f":"IF(F48=\"\",\"\",IF(F48=\"None\",\"None\",INDEX('Measure Code Summary'!$D$50:$D$53,MATCH(F48,'Measure Code Summary'!$C$50:$C$53,0),1)))","v":""},null,null,null,{"$f":"IF(J48=\"\",\"\",VLOOKUP(J48,'Wattage Table'!$D:$E,2,0))","v":""},null,0,null,{"$f":"IF(J48=\"\",0,(VLOOKUP(J48,'Wattage Table'!$D:$F,3,0)*N48*M48)/1000*VLOOKUP(IF(E48=\"\",$D$16,E48),ClgHtgTypeData,3,FALSE))","v":0},{"$f":"IF(OR(F48=\"\",H48=\"\"),0,IF(F48=\"80F\",Validation!W$11,(VLOOKUP(IF(D48=\"\",$D$15,D48),LtgBldgTypeData,3,FALSE)-VLOOKUP(F48,Control_Data,5)))*S48*VLOOKUP(IF(E48=\"\",$D$16,E48),ClgHtgTypeData,2,FALSE)/1000)","v":0},0,0,{"$f":"IF(ISERROR(IF(J48=\"-\",\"-\",INDEX('Wattage Table'!$F$21:$F$1229,MATCH(J48,'Wattage Table'!$D$21:$D$1229,0)))*$N48),\" \",IF(J48=\"-\",\"-\",INDEX('Wattage Table'!$F$21:$F$1229,MATCH(J48,'Wattage Table'!$D$21:$D$1229,0)))*$N48)","v":" "},{"$f":"IF(F48=\"\",\"\",IF(OR(F48=\"None\",F48=\"\",J48=\"\"),\"No\",IF(VLOOKUP(J48,'Wattage Table'!$D:$F,3,0)*N48/H48<=VLOOKUP(F48,Control_Data,3,0),\"No\",\"Yes\")))","v":""}]
[null,26,null,null,null,null,{"$f":"IF(F49=\"\",\"\",IF(F49=\"None\",\"None\",INDEX('Measure Code Summary'!$D$50:$D$53,MATCH(F49,'Measure Code Summary'!$C$50:$C$53,0),1)))","v":""},null,null,null,{"$f":"IF(J49=\"\",\"\",VLOOKUP(J49,'Wattage Table'!$D:$E,2,0))","v":""},null,0,null,{"$f":"IF(J49=\"\",0,(VLOOKUP(J49,'Wattage Table'!$D:$F,3,0)*N49*M49)/1000*VLOOKUP(IF(E49=\"\",$D$16,E49),ClgHtgTypeData,3,FALSE))","v":0},{"$f":"IF(OR(F49=\"\",H49=\"\"),0,IF(F49=\"80F\",Validation!W$11,(VLOOKUP(IF(D49=\"\",$D$15,D49),LtgBldgTypeData,3,FALSE)-VLOOKUP(F49,Control_Data,5)))*S49*VLOOKUP(IF(E49=\"\",$D$16,E49),ClgHtgTypeData,2,FALSE)/1000)","v":0},0,0,{"$f":"IF(ISERROR(IF(J49=\"-\",\"-\",INDEX('Wattage Table'!$F$21:$F$1229,MATCH(J49,'Wattage Table'!$D$21:$D$1229,0)))*$N49),\" \",IF(J49=\"-\",\"-\",INDEX('Wattage Table'!$F$21:$F$1229,MATCH(J49,'Wattage Table'!$D$21:$D$1229,0)))*$N49)","v":" "},{"$f":"IF(F49=\"\",\"\",IF(OR(F49=\"None\",F49=\"\",J49=\"\"),\"No\",IF(VLOOKUP(J49,'Wattage Table'!$D:$F,3,0)*N49/H49<=VLOOKUP(F49,Control_Data,3,0),\"No\",\"Yes\")))","v":""}]
[null,27,null,null,null,null,{"$f":"IF(F50=\"\",\"\",IF(F50=\"None\",\"None\",INDEX('Measure Code Summary'!$D$50:$D$53,MATCH(F50,'Measure Code Summary'!$C$50:$C$53,0),1)))","v":""},null,null,null,{"$f":"IF(J50=\"\",\"\",VLOOKUP(J50,'Wattage Table'!$D:$E,2,0))","v":""},null,0,null,{"$f":"IF(J50=\"\",0,(VLOOKUP(J50,'Wattage Table'!$D:$F,3,0)*N50*M50)/1000*VLOOKUP(IF(E50=\"\",$D$16,E50),ClgHtgTypeData,3,FALSE))","v":0},{"$f":"IF(OR(F50=\"\",H50=\"\"),0,IF(F50=\"80F\",Validation!W$11,(VLOOKUP(IF(D50=\"\",$D$15,D50),LtgBldgTypeData,3,FALSE)-VLOOKUP(F50,Control_Data,5)))*S50*VLOOKUP(IF(E50=\"\",$D$16,E50),ClgHtgTypeData,2,FALSE)/1000)","v":0},0,0,{"$f":"IF(ISERROR(IF(J50=\"-\",\"-\",INDEX('Wattage Table'!$F$21:$F$1229,MATCH(J50,'Wattage Table'!$D$21:$D$1229,0)))*$N50),\" \",IF(J50=\"-\",\"-\",INDEX('Wattage Table'!$F$21:$F$1229,MATCH(J50,'Wattage Table'!$D$21:$D$1229,0)))*$N50)","v":" "},{"$f":"IF(F50=\"\",\"\",IF(OR(F50=\"None\",F50=\"\",J50=\"\"),\"No\",IF(VLOOKUP(J50,'Wattage Table'!$D:$F,3,0)*N50/H50<=VLOOKUP(F50,Control_Data,3,0),\"No\",\"Yes\")))","v":""}]
[null,28,null,null,null,null,{"$f":"IF(F51=\"\",\"\",IF(F51=\"None\",\"None\",INDEX('Measure Code Summary'!$D$50:$D$53,MATCH(F51,'Measure Code Summary'!$C$50:$C$53,0),1)))","v":""},null,null,null,{"$f":"IF(J51=\"\",\"\",VLOOKUP(J51,'Wattage Table'!$D:$E,2,0))","v":""},null,0,null,{"$f":"IF(J51=\"\",0,(VLOOKUP(J51,'Wattage Table'!$D:$F,3,0)*N51*M51)/1000*VLOOKUP(IF(E51=\"\",$D$16,E51),ClgHtgTypeData,3,FALSE))","v":0},{"$f":"IF(OR(F51=\"\",H51=\"\"),0,IF(F51=\"80F\",Validation!W$11,(VLOOKUP(IF(D51=\"\",$D$15,D51),LtgBldgTypeData,3,FALSE)-VLOOKUP(F51,Control_Data,5)))*S51*VLOOKUP(IF(E51=\"\",$D$16,E51),ClgHtgTypeData,2,FALSE)/1000)","v":0},0,0,{"$f":"IF(ISERROR(IF(J51=\"-\",\"-\",INDEX('Wattage Table'!$F$21:$F$1229,MATCH(J51,'Wattage Table'!$D$21:$D$1229,0)))*$N51),\" \",IF(J51=\"-\",\"-\",INDEX('Wattage Table'!$F$21:$F$1229,MATCH(J51,'Wattage Table'!$D$21:$D$1229,0)))*$N51)","v":" "},{"$f":"IF(F51=\"\",\"\",IF(OR(F51=\"None\",F51=\"\",J51=\"\"),\"No\",IF(VLOOKUP(J51,'Wattage Table'!$D:$F,3,0)*N51/H51<=VLOOKUP(F51,Control_Data,3,0),\"No\",\"Yes\")))","v":""}]
[null,29,null,null,null,null,{"$f":"IF(F52=\"\",\"\",IF(F52=\"None\",\"None\",INDEX('Measure Code Summary'!$D$50:$D$53,MATCH(F52,'Measure Code Summary'!$C$50:$C$53,0),1)))","v":""},null,null,null,{"$f":"IF(J52=\"\",\"\",VLOOKUP(J52,'Wattage Table'!$D:$E,2,0))","v":""},null,0,null,{"$f":"IF(J52=\"\",0,(VLOOKUP(J52,'Wattage Table'!$D:$F,3,0)*N52*M52)/1000*VLOOKUP(IF(E52=\"\",$D$16,E52),ClgHtgTypeData,3,FALSE))","v":0},{"$f":"IF(OR(F52=\"\",H52=\"\"),0,IF(F52=\"80F\",Validation!W$11,(VLOOKUP(IF(D52=\"\",$D$15,D52),LtgBldgTypeData,3,FALSE)-VLOOKUP(F52,Control_Data,5)))*S52*VLOOKUP(IF(E52=\"\",$D$16,E52),ClgHtgTypeData,2,FALSE)/1000)","v":0},0,0,{"$f":"IF(ISERROR(IF(J52=\"-\",\"-\",INDEX('Wattage Table'!$F$21:$F$1229,MATCH(J52,'Wattage Table'!$D$21:$D$1229,0)))*$N52),\" \",IF(J52=\"-\",\"-\",INDEX('Wattage Table'!$F$21:$F$1229,MATCH(J52,'Wattage Table'!$D$21:$D$1229,0)))*$N52)","v":" "},{"$f":"IF(F52=\"\",\"\",IF(OR(F52=\"None\",F52=\"\",J52=\"\"),\"No\",IF(VLOOKUP(J52,'Wattage Table'!$D:$F,3,0)*N52/H52<=VLOOKUP(F52,Control_Data,3,0),\"No\",\"Yes\")))","v":""}]
[null,30,null,null,null,null,{"$f":"IF(F53=\"\",\"\",IF(F53=\"None\",\"None\",INDEX('Measure Code Summary'!$D$50:$D$53,MATCH(F53,'Measure Code Summary'!$C$50:$C$53,0),1)))","v":""},null,null,null,{"$f":"IF(J53=\"\",\"\",VLOOKUP(J53,'Wattage Table'!$D:$E,2,0))","v":""},null,0,null,{"$f":"IF(J53=\"\",0,(VLOOKUP(J53,'Wattage Table'!$D:$F,3,0)*N53*M53)/1000*VLOOKUP(IF(E53=\"\",$D$16,E53),ClgHtgTypeData,3,FALSE))","v":0},{"$f":"IF(OR(F53=\"\",H53=\"\"),0,IF(F53=\"80F\",Validation!W$11,(VLOOKUP(IF(D53=\"\",$D$15,D53),LtgBldgTypeData,3,FALSE)-VLOOKUP(F53,Control_Data,5)))*S53*VLOOKUP(IF(E53=\"\",$D$16,E53),ClgHtgTypeData,2,FALSE)/1000)","v":0},0,0,{"$f":"IF(ISERROR(IF(J53=\"-\",\"-\",INDEX('Wattage Table'!$F$21:$F$1229,MATCH(J53,'Wattage Table'!$D$21:$D$1229,0)))*$N53),\" \",IF(J53=\"-\",\"-\",INDEX('Wattage Table'!$F$21:$F$1229,MATCH(J53,'Wattage Table'!$D$21:$D$1229,0)))*$N53)","v":" "},{"$f":"IF(F53=\"\",\"\",IF(OR(F53=\"None\",F53=\"\",J53=\"\"),\"No\",IF(VLOOKUP(J53,'Wattage Table'!$D:$F,3,0)*N53/H53<=VLOOKUP(F53,Control_Data,3,0),\"No\",\"Yes\")))","v":""}]
[null,31,null,null,null,null,{"$f":"IF(F54=\"\",\"\",IF(F54=\"None\",\"None\",INDEX('Measure Code Summary'!$D$50:$D$53,MATCH(F54,'Measure Code Summary'!$C$50:$C$53,0),1)))","v":""},null,null,null,{"$f":"IF(J54=\"\",\"\",VLOOKUP(J54,'Wattage Table'!$D:$E,2,0))","v":""},null,0,null,{"$f":"IF(J54=\"\",0,(VLOOKUP(J54,'Wattage Table'!$D:$F,3,0)*N54*M54)/1000*VLOOKUP(IF(E54=\"\",$D$16,E54),ClgHtgTypeData,3,FALSE))","v":0},{"$f":"IF(OR(F54=\"\",H54=\"\"),0,IF(F54=\"80F\",Validation!W$11,(VLOOKUP(IF(D54=\"\",$D$15,D54),LtgBldgTypeData,3,FALSE)-VLOOKUP(F54,Control_Data,5)))*S54*VLOOKUP(IF(E54=\"\",$D$16,E54),ClgHtgTypeData,2,FALSE)/1000)","v":0},0,0,{"$f":"IF(ISERROR(IF(J54=\"-\",\"-\",INDEX('Wattage Table'!$F$21:$F$1229,MATCH(J54,'Wattage Table'!$D$21:$D$1229,0)))*$N54),\" \",IF(J54=\"-\",\"-\",INDEX('Wattage Table'!$F$21:$F$1229,MATCH(J54,'Wattage Table'!$D$21:$D$1229,0)))*$N54)","v":" "},{"$f":"IF(F54=\"\",\"\",IF(OR(F54=\"None\",F54=\"\",J54=\"\"),\"No\",IF(VLOOKUP(J54,'Wattage Table'!$D:$F,3,0)*N54/H54<=VLOOKUP(F54,Control_Data,3,0),\"No\",\"Yes\")))","v":""}]
[null,32,null,null,null,null,{"$f":"IF(F55=\"\",\"\",IF(F55=\"None\",\"None\",INDEX('Measure Code Summary'!$D$50:$D$53,MATCH(F55,'Measure Code Summary'!$C$50:$C$53,0),1)))","v":""},null,null,null,{"$f":"IF(J55=\"\",\"\",VLOOKUP(J55,'Wattage Table'!$D:$E,2,0))","v":""},null,0,null,{"$f":"IF(J55=\"\",0,(VLOOKUP(J55,'Wattage Table'!$D:$F,3,0)*N55*M55)/1000*VLOOKUP(IF(E55=\"\",$D$16,E55),ClgHtgTypeData,3,FALSE))","v":0},{"$f":"IF(OR(F55=\"\",H55=\"\"),0,IF(F55=\"80F\",Validation!W$11,(VLOOKUP(IF(D55=\"\",$D$15,D55),LtgBldgTypeData,3,FALSE)-VLOOKUP(F55,Control_Data,5)))*S55*VLOOKUP(IF(E55=\"\",$D$16,E55),ClgHtgTypeData,2,FALSE)/1000)","v":0},0,0,{"$f":"IF(ISERROR(IF(J55=\"-\",\"-\",INDEX('Wattage Table'!$F$21:$F$1229,MATCH(J55,'Wattage Table'!$D$21:$D$1229,0)))*$N55),\" \",IF(J55=\"-\",\"-\",INDEX('Wattage Table'!$F$21:$F$1229,MATCH(J55,'Wattage Table'!$D$21:$D$1229,0)))*$N55)","v":" "},{"$f":"IF(F55=\"\",\"\",IF(OR(F55=\"None\",F55=\"\",J55=\"\"),\"No\",IF(VLOOKUP(J55,'Wattage Table'!$D:$F,3,0)*N55/H55<=VLOOKUP(F55,Control_Data,3,0),\"No\",\"Yes\")))","v":""}]
[null,33,null,null,null,null,{"$f":"IF(F56=\"\",\"\",IF(F56=\"None\",\"None\",INDEX('Measure Code Summary'!$D$50:$D$53,MATCH(F56,'Measure Code Summary'!$C$50:$C$53,0),1)))","v":""},null,null,null,{"$f":"IF(J56=\"\",\"\",VLOOKUP(J56,'Wattage Table'!$D:$E,2,0))","v":""},null,0,null,{"$f":"IF(J56=\"\",0,(VLOOKUP(J56,'Wattage Table'!$D:$F,3,0)*N56*M56)/1000*VLOOKUP(IF(E56=\"\",$D$16,E56),ClgHtgTypeData,3,FALSE))","v":0},{"$f":"IF(OR(F56=\"\",H56=\"\"),0,IF(F56=\"80F\",Validation!W$11,(VLOOKUP(IF(D56=\"\",$D$15,D56),LtgBldgTypeData,3,FALSE)-VLOOKUP(F56,Control_Data,5)))*S56*VLOOKUP(IF(E56=\"\",$D$16,E56),ClgHtgTypeData,2,FALSE)/1000)","v":0},0,0,{"$f":"IF(ISERROR(IF(J56=\"-\",\"-\",INDEX('Wattage Table'!$F$21:$F$1229,MATCH(J56,'Wattage Table'!$D$21:$D$1229,0)))*$N56),\" \",IF(J56=\"-\",\"-\",INDEX('Wattage Table'!$F$21:$F$1229,MATCH(J56,'Wattage Table'!$D$21:$D$1229,0)))*$N56)","v":" "},{"$f":"IF(F56=\"\",\"\",IF(OR(F56=\"None\",F56=\"\",J56=\"\"),\"No\",IF(VLOOKUP(J56,'Wattage Table'!$D:$F,3,0)*N56/H56<=VLOOKUP(F56,Control_Data,3,0),\"No\",\"Yes\")))","v":""}]
[null,34,null,null,null,null,{"$f":"IF(F57=\"\",\"\",IF(F57=\"None\",\"None\",INDEX('Measure Code Summary'!$D$50:$D$53,MATCH(F57,'Measure Code Summary'!$C$50:$C$53,0),1)))","v":""},null,null,null,{"$f":"IF(J57=\"\",\"\",VLOOKUP(J57,'Wattage Table'!$D:$E,2,0))","v":""},null,0,null,{"$f":"IF(J57=\"\",0,(VLOOKUP(J57,'Wattage Table'!$D:$F,3,0)*N57*M57)/1000*VLOOKUP(IF(E57=\"\",$D$16,E57),ClgHtgTypeData,3,FALSE))","v":0},{"$f":"IF(OR(F57=\"\",H57=\"\"),0,IF(F57=\"80F\",Validation!W$11,(VLOOKUP(IF(D57=\"\",$D$15,D57),LtgBldgTypeData,3,FALSE)-VLOOKUP(F57,Control_Data,5)))*S57*VLOOKUP(IF(E57=\"\",$D$16,E57),ClgHtgTypeData,2,FALSE)/1000)","v":0},0,0,{"$f":"IF(ISERROR(IF(J57=\"-\",\"-\",INDEX('Wattage Table'!$F$21:$F$1229,MATCH(J57,'Wattage Table'!$D$21:$D$1229,0)))*$N57),\" \",IF(J57=\"-\",\"-\",INDEX('Wattage Table'!$F$21:$F$1229,MATCH(J57,'Wattage Table'!$D$21:$D$1229,0)))*$N57)","v":" "},{"$f":"IF(F57=\"\",\"\",IF(OR(F57=\"None\",F57=\"\",J57=\"\"),\"No\",IF(VLOOKUP(J57,'Wattage Table'!$D:$F,3,0)*N57/H57<=VLOOKUP(F57,Control_Data,3,0),\"No\",\"Yes\")))","v":""}]
[null,35,null,null,null,null,{"$f":"IF(F58=\"\",\"\",IF(F58=\"None\",\"None\",INDEX('Measure Code Summary'!$D$50:$D$53,MATCH(F58,'Measure Code Summary'!$C$50:$C$53,0),1)))","v":""},null,null,null,{"$f":"IF(J58=\"\",\"\",VLOOKUP(J58,'Wattage Table'!$D:$E,2,0))","v":""},null,0,null,{"$f":"IF(J58=\"\",0,(VLOOKUP(J58,'Wattage Table'!$D:$F,3,0)*N58*M58)/1000*VLOOKUP(IF(E58=\"\",$D$16,E58),ClgHtgTypeData,3,FALSE))","v":0},{"$f":"IF(OR(F58=\"\",H58=\"\"),0,IF(F58=\"80F\",Validation!W$11,(VLOOKUP(IF(D58=\"\",$D$15,D58),LtgBldgTypeData,3,FALSE)-VLOOKUP(F58,Control_Data,5)))*S58*VLOOKUP(IF(E58=\"\",$D$16,E58),ClgHtgTypeData,2,FALSE)/1000)","v":0},0,0,{"$f":"IF(ISERROR(IF(J58=\"-\",\"-\",INDEX('Wattage Table'!$F$21:$F$1229,MATCH(J58,'Wattage Table'!$D$21:$D$1229,0)))*$N58),\" \",IF(J58=\"-\",\"-\",INDEX('Wattage Table'!$F$21:$F$1229,MATCH(J58,'Wattage Table'!$D$21:$D$1229,0)))*$N58)","v":" "},{"$f":"IF(F58=\"\",\"\",IF(OR(F58=\"None\",F58=\"\",J58=\"\"),\"No\",IF(VLOOKUP(J58,'Wattage Table'!$D:$F,3,0)*N58/H58<=VLOOKUP(F58,Control_Data,3,0),\"No\",\"Yes\")))","v":""}]
[null,36,null,null,null,null,{"$f":"IF(F59=\"\",\"\",IF(F59=\"None\",\"None\",INDEX('Measure Code Summary'!$D$50:$D$53,MATCH(F59,'Measure Code Summary'!$C$50:$C$53,0),1)))","v":""},null,null,null,{"$f":"IF(J59=\"\",\"\",VLOOKUP(J59,'Wattage Table'!$D:$E,2,0))","v":""},null,0,null,{"$f":"IF(J59=\"\",0,(VLOOKUP(J59,'Wattage Table'!$D:$F,3,0)*N59*M59)/1000*VLOOKUP(IF(E59=\"\",$D$16,E59),ClgHtgTypeData,3,FALSE))","v":0},{"$f":"IF(OR(F59=\"\",H59=\"\"),0,IF(F59=\"80F\",Validation!W$11,(VLOOKUP(IF(D59=\"\",$D$15,D59),LtgBldgTypeData,3,FALSE)-VLOOKUP(F59,Control_Data,5)))*S59*VLOOKUP(IF(E59=\"\",$D$16,E59),ClgHtgTypeData,2,FALSE)/1000)","v":0},0,0,{"$f":"IF(ISERROR(IF(J59=\"-\",\"-\",INDEX('Wattage Table'!$F$21:$F$1229,MATCH(J59,'Wattage Table'!$D$21:$D$1229,0)))*$N59),\" \",IF(J59=\"-\",\"-\",INDEX('Wattage Table'!$F$21:$F$1229,MATCH(J59,'Wattage Table'!$D$21:$D$1229,0)))*$N59)","v":" "},{"$f":"IF(F59=\"\",\"\",IF(OR(F59=\"None\",F59=\"\",J59=\"\"),\"No\",IF(VLOOKUP(J59,'Wattage Table'!$D:$F,3,0)*N59/H59<=VLOOKUP(F59,Control_Data,3,0),\"No\",\"Yes\")))","v":""}]
[null,37,null,null,null,null,{"$f":"IF(F60=\"\",\"\",IF(F60=\"None\",\"None\",INDEX('Measure Code Summary'!$D$50:$D$53,MATCH(F60,'Measure Code Summary'!$C$50:$C$53,0),1)))","v":""},null,null,null,{"$f":"IF(J60=\"\",\"\",VLOOKUP(J60,'Wattage Table'!$D:$E,2,0))","v":""},null,0,null,{"$f":"IF(J60=\"\",0,(VLOOKUP(J60,'Wattage Table'!$D:$F,3,0)*N60*M60)/1000*VLOOKUP(IF(E60=\"\",$D$16,E60),ClgHtgTypeData,3,FALSE))","v":0},{"$f":"IF(OR(F60=\"\",H60=\"\"),0,IF(F60=\"80F\",Validation!W$11,(VLOOKUP(IF(D60=\"\",$D$15,D60),LtgBldgTypeData,3,FALSE)-VLOOKUP(F60,Control_Data,5)))*S60*VLOOKUP(IF(E60=\"\",$D$16,E60),ClgHtgTypeData,2,FALSE)/1000)","v":0},0,0,{"$f":"IF(ISERROR(IF(J60=\"-\",\"-\",INDEX('Wattage Table'!$F$21:$F$1229,MATCH(J60,'Wattage Table'!$D$21:$D$1229,0)))*$N60),\" \",IF(J60=\"-\",\"-\",INDEX('Wattage Table'!$F$21:$F$1229,MATCH(J60,'Wattage Table'!$D$21:$D$1229,0)))*$N60)","v":" "},{"$f":"IF(F60=\"\",\"\",IF(OR(F60=\"None\",F60=\"\",J60=\"\"),\"No\",IF(VLOOKUP(J60,'Wattage Table'!$D:$F,3,0)*N60/H60<=VLOOKUP(F60,Control_Data,3,0),\"No\",\"Yes\")))","v":""}]
[null,38,null,null,null,null,{"$f":"IF(F61=\"\",\"\",IF(F61=\"None\",\"None\",INDEX('Measure Code Summary'!$D$50:$D$53,MATCH(F61,'Measure Code Summary'!$C$50:$C$53,0),1)))","v":""},null,null,null,{"$f":"IF(J61=\"\",\"\",VLOOKUP(J61,'Wattage Table'!$D:$E,2,0))","v":""},null,0,null,{"$f":"IF(J61=\"\",0,(VLOOKUP(J61,'Wattage Table'!$D:$F,3,0)*N61*M61)/1000*VLOOKUP(IF(E61=\"\",$D$16,E61),ClgHtgTypeData,3,FALSE))","v":0},{"$f":"IF(OR(F61=\"\",H61=\"\"),0,IF(F61=\"80F\",Validation!W$11,(VLOOKUP(IF(D61=\"\",$D$15,D61),LtgBldgTypeData,3,FALSE)-VLOOKUP(F61,Control_Data,5)))*S61*VLOOKUP(IF(E61=\"\",$D$16,E61),ClgHtgTypeData,2,FALSE)/1000)","v":0},0,0,{"$f":"IF(ISERROR(IF(J61=\"-\",\"-\",INDEX('Wattage Table'!$F$21:$F$1229,MATCH(J61,'Wattage Table'!$D$21:$D$1229,0)))*$N61),\" \",IF(J61=\"-\",\"-\",INDEX('Wattage Table'!$F$21:$F$1229,MATCH(J61,'Wattage Table'!$D$21:$D$1229,0)))*$N61)","v":" "},{"$f":"IF(F61=\"\",\"\",IF(OR(F61=\"None\",F61=\"\",J61=\"\"),\"No\",IF(VLOOKUP(J61,'Wattage Table'!$D:$F,3,0)*N61/H61<=VLOOKUP(F61,Control_Data,3,0),\"No\",\"Yes\")))","v":""}]
[null,39,null,null,null,null,{"$f":"IF(F62=\"\",\"\",IF(F62=\"None\",\"None\",INDEX('Measure Code Summary'!$D$50:$D$53,MATCH(F62,'Measure Code Summary'!$C$50:$C$53,0),1)))","v":""},null,null,null,{"$f":"IF(J62=\"\",\"\",VLOOKUP(J62,'Wattage Table'!$D:$E,2,0))","v":""},null,0,null,{"$f":"IF(J62=\"\",0,(VLOOKUP(J62,'Wattage Table'!$D:$F,3,0)*N62*M62)/1000*VLOOKUP(IF(E62=\"\",$D$16,E62),ClgHtgTypeData,3,FALSE))","v":0},{"$f":"IF(OR(F62=\"\",H62=\"\"),0,IF(F62=\"80F\",Validation!W$11,(VLOOKUP(IF(D62=\"\",$D$15,D62),LtgBldgTypeData,3,FALSE)-VLOOKUP(F62,Control_Data,5)))*S62*VLOOKUP(IF(E62=\"\",$D$16,E62),ClgHtgTypeData,2,FALSE)/1000)","v":0},0,0,{"$f":"IF(ISERROR(IF(J62=\"-\",\"-\",INDEX('Wattage Table'!$F$21:$F$1229,MATCH(J62,'Wattage Table'!$D$21:$D$1229,0)))*$N62),\" \",IF(J62=\"-\",\"-\",INDEX('Wattage Table'!$F$21:$F$1229,MATCH(J62,'Wattage Table'!$D$21:$D$1229,0)))*$N62)","v":" "},{"$f":"IF(F62=\"\",\"\",IF(OR(F62=\"None\",F62=\"\",J62=\"\"),\"No\",IF(VLOOKUP(J62,'Wattage Table'!$D:$F,3,0)*N62/H62<=VLOOKUP(F62,Control_Data,3,0),\"No\",\"Yes\")))","v":""}]
[null,40,null,null,null,null,{"$f":"IF(F63=\"\",\"\",IF(F63=\"None\",\"None\",INDEX('Measure Code Summary'!$D$50:$D$53,MATCH(F63,'Measure Code Summary'!$C$50:$C$53,0),1)))","v":""},null,null,null,{"$f":"IF(J63=\"\",\"\",VLOOKUP(J63,'Wattage Table'!$D:$E,2,0))","v":""},null,0,null,{"$f":"IF(J63=\"\",0,(VLOOKUP(J63,'Wattage Table'!$D:$F,3,0)*N63*M63)/1000*VLOOKUP(IF(E63=\"\",$D$16,E63),ClgHtgTypeData,3,FALSE))","v":0},{"$f":"IF(OR(F63=\"\",H63=\"\"),0,IF(F63=\"80F\",Validation!W$11,(VLOOKUP(IF(D63=\"\",$D$15,D63),LtgBldgTypeData,3,FALSE)-VLOOKUP(F63,Control_Data,5)))*S63*VLOOKUP(IF(E63=\"\",$D$16,E63),ClgHtgTypeData,2,FALSE)/1000)","v":0},0,0,{"$f":"IF(ISERROR(IF(J63=\"-\",\"-\",INDEX('Wattage Table'!$F$21:$F$1229,MATCH(J63,'Wattage Table'!$D$21:$D$1229,0)))*$N63),\" \",IF(J63=\"-\",\"-\",INDEX('Wattage Table'!$F$21:$F$1229,MATCH(J63,'Wattage Table'!$D$21:$D$1229,0)))*$N63)","v":" "},{"$f":"IF(F63=\"\",\"\",IF(OR(F63=\"None\",F63=\"\",J63=\"\"),\"No\",IF(VLOOKUP(J63,'Wattage Table'!$D:$F,3,0)*N63/H63<=VLOOKUP(F63,Control_Data,3,0),\"No\",\"Yes\")))","v":""}]
[null,41,null,null,null,null,{"$f":"IF(F64=\"\",\"\",IF(F64=\"None\",\"None\",INDEX('Measure Code Summary'!$D$50:$D$53,MATCH(F64,'Measure Code Summary'!$C$50:$C$53,0),1)))","v":""},null,null,null,{"$f":"IF(J64=\"\",\"\",VLOOKUP(J64,'Wattage Table'!$D:$E,2,0))","v":""},null,0,null,{"$f":"IF(J64=\"\",0,(VLOOKUP(J64,'Wattage Table'!$D:$F,3,0)*N64*M64)/1000*VLOOKUP(IF(E64=\"\",$D$16,E64),ClgHtgTypeData,3,FALSE))","v":0},{"$f":"IF(OR(F64=\"\",H64=\"\"),0,IF(F64=\"80F\",Validation!W$11,(VLOOKUP(IF(D64=\"\",$D$15,D64),LtgBldgTypeData,3,FALSE)-VLOOKUP(F64,Control_Data,5)))*S64*VLOOKUP(IF(E64=\"\",$D$16,E64),ClgHtgTypeData,2,FALSE)/1000)","v":0},0,0,{"$f":"IF(ISERROR(IF(J64=\"-\",\"-\",INDEX('Wattage Table'!$F$21:$F$1229,MATCH(J64,'Wattage Table'!$D$21:$D$1229,0)))*$N64),\" \",IF(J64=\"-\",\"-\",INDEX('Wattage Table'!$F$21:$F$1229,MATCH(J64,'Wattage Table'!$D$21:$D$1229,0)))*$N64)","v":" "},{"$f":"IF(F64=\"\",\"\",IF(OR(F64=\"None\",F64=\"\",J64=\"\"),\"No\",IF(VLOOKUP(J64,'Wattage Table'!$D:$F,3,0)*N64/H64<=VLOOKUP(F64,Control_Data,3,0),\"No\",\"Yes\")))","v":""}]
[null,42,null,null,null,null,{"$f":"IF(F65=\"\",\"\",IF(F65=\"None\",\"None\",INDEX('Measure Code Summary'!$D$50:$D$53,MATCH(F65,'Measure Code Summary'!$C$50:$C$53,0),1)))","v":""},null,null,null,{"$f":"IF(J65=\"\",\"\",VLOOKUP(J65,'Wattage Table'!$D:$E,2,0))","v":""},null,0,null,{"$f":"IF(J65=\"\",0,(VLOOKUP(J65,'Wattage Table'!$D:$F,3,0)*N65*M65)/1000*VLOOKUP(IF(E65=\"\",$D$16,E65),ClgHtgTypeData,3,FALSE))","v":0},{"$f":"IF(OR(F65=\"\",H65=\"\"),0,IF(F65=\"80F\",Validation!W$11,(VLOOKUP(IF(D65=\"\",$D$15,D65),LtgBldgTypeData,3,FALSE)-VLOOKUP(F65,Control_Data,5)))*S65*VLOOKUP(IF(E65=\"\",$D$16,E65),ClgHtgTypeData,2,FALSE)/1000)","v":0},0,0,{"$f":"IF(ISERROR(IF(J65=\"-\",\"-\",INDEX('Wattage Table'!$F$21:$F$1229,MATCH(J65,'Wattage Table'!$D$21:$D$1229,0)))*$N65),\" \",IF(J65=\"-\",\"-\",INDEX('Wattage Table'!$F$21:$F$1229,MATCH(J65,'Wattage Table'!$D$21:$D$1229,0)))*$N65)","v":" "},{"$f":"IF(F65=\"\",\"\",IF(OR(F65=\"None\",F65=\"\",J65=\"\"),\"No\",IF(VLOOKUP(J65,'Wattage Table'!$D:$F,3,0)*N65/H65<=VLOOKUP(F65,Control_Data,3,0),\"No\",\"Yes\")))","v":""}]
[null,43,null,null,null,null,{"$f":"IF(F66=\"\",\"\",IF(F66=\"None\",\"None\",INDEX('Measure Code Summary'!$D$50:$D$53,MATCH(F66,'Measure Code Summary'!$C$50:$C$53,0),1)))","v":""},null,null,null,{"$f":"IF(J66=\"\",\"\",VLOOKUP(J66,'Wattage Table'!$D:$E,2,0))","v":""},null,0,null,{"$f":"IF(J66=\"\",0,(VLOOKUP(J66,'Wattage Table'!$D:$F,3,0)*N66*M66)/1000*VLOOKUP(IF(E66=\"\",$D$16,E66),ClgHtgTypeData,3,FALSE))","v":0},{"$f":"IF(OR(F66=\"\",H66=\"\"),0,IF(F66=\"80F\",Validation!W$11,(VLOOKUP(IF(D66=\"\",$D$15,D66),LtgBldgTypeData,3,FALSE)-VLOOKUP(F66,Control_Data,5)))*S66*VLOOKUP(IF(E66=\"\",$D$16,E66),ClgHtgTypeData,2,FALSE)/1000)","v":0},0,0,{"$f":"IF(ISERROR(IF(J66=\"-\",\"-\",INDEX('Wattage Table'!$F$21:$F$1229,MATCH(J66,'Wattage Table'!$D$21:$D$1229,0)))*$N66),\" \",IF(J66=\"-\",\"-\",INDEX('Wattage Table'!$F$21:$F$1229,MATCH(J66,'Wattage Table'!$D$21:$D$1229,0)))*$N66)","v":" "},{"$f":"IF(F66=\"\",\"\",IF(OR(F66=\"None\",F66=\"\",J66=\"\"),\"No\",IF(VLOOKUP(J66,'Wattage Table'!$D:$F,3,0)*N66/H66<=VLOOKUP(F66,Control_Data,3,0),\"No\",\"Yes\")))","v":""}]
[null,44,null,null,null,null,{"$f":"IF(F67=\"\",\"\",IF(F67=\"None\",\"None\",INDEX('Measure Code Summary'!$D$50:$D$53,MATCH(F67,'Measure Code Summary'!$C$50:$C$53,0),1)))","v":""},null,null,null,{"$f":"IF(J67=\"\",\"\",VLOOKUP(J67,'Wattage Table'!$D:$E,2,0))","v":""},null,0,null,{"$f":"IF(J67=\"\",0,(VLOOKUP(J67,'Wattage Table'!$D:$F,3,0)*N67*M67)/1000*VLOOKUP(IF(E67=\"\",$D$16,E67),ClgHtgTypeData,3,FALSE))","v":0},{"$f":"IF(OR(F67=\"\",H67=\"\"),0,IF(F67=\"80F\",Validation!W$11,(VLOOKUP(IF(D67=\"\",$D$15,D67),LtgBldgTypeData,3,FALSE)-VLOOKUP(F67,Control_Data,5)))*S67*VLOOKUP(IF(E67=\"\",$D$16,E67),ClgHtgTypeData,2,FALSE)/1000)","v":0},0,0,{"$f":"IF(ISERROR(IF(J67=\"-\",\"-\",INDEX('Wattage Table'!$F$21:$F$1229,MATCH(J67,'Wattage Table'!$D$21:$D$1229,0)))*$N67),\" \",IF(J67=\"-\",\"-\",INDEX('Wattage Table'!$F$21:$F$1229,MATCH(J67,'Wattage Table'!$D$21:$D$1229,0)))*$N67)","v":" "},{"$f":"IF(F67=\"\",\"\",IF(OR(F67=\"None\",F67=\"\",J67=\"\"),\"No\",IF(VLOOKUP(J67,'Wattage Table'!$D:$F,3,0)*N67/H67<=VLOOKUP(F67,Control_Data,3,0),\"No\",\"Yes\")))","v":""}]
[null,45,null,null,null,null,{"$f":"IF(F68=\"\",\"\",IF(F68=\"None\",\"None\",INDEX('Measure Code Summary'!$D$50:$D$53,MATCH(F68,'Measure Code Summary'!$C$50:$C$53,0),1)))","v":""},null,null,null,{"$f":"IF(J68=\"\",\"\",VLOOKUP(J68,'Wattage Table'!$D:$E,2,0))","v":""},null,0,null,{"$f":"IF(J68=\"\",0,(VLOOKUP(J68,'Wattage Table'!$D:$F,3,0)*N68*M68)/1000*VLOOKUP(IF(E68=\"\",$D$16,E68),ClgHtgTypeData,3,FALSE))","v":0},{"$f":"IF(OR(F68=\"\",H68=\"\"),0,IF(F68=\"80F\",Validation!W$11,(VLOOKUP(IF(D68=\"\",$D$15,D68),LtgBldgTypeData,3,FALSE)-VLOOKUP(F68,Control_Data,5)))*S68*VLOOKUP(IF(E68=\"\",$D$16,E68),ClgHtgTypeData,2,FALSE)/1000)","v":0},0,0,{"$f":"IF(ISERROR(IF(J68=\"-\",\"-\",INDEX('Wattage Table'!$F$21:$F$1229,MATCH(J68,'Wattage Table'!$D$21:$D$1229,0)))*$N68),\" \",IF(J68=\"-\",\"-\",INDEX('Wattage Table'!$F$21:$F$1229,MATCH(J68,'Wattage Table'!$D$21:$D$1229,0)))*$N68)","v":" "},{"$f":"IF(F68=\"\",\"\",IF(OR(F68=\"None\",F68=\"\",J68=\"\"),\"No\",IF(VLOOKUP(J68,'Wattage Table'!$D:$F,3,0)*N68/H68<=VLOOKUP(F68,Control_Data,3,0),\"No\",\"Yes\")))","v":""}]
[null,46,null,null,null,null,{"$f":"IF(F69=\"\",\"\",IF(F69=\"None\",\"None\",INDEX('Measure Code Summary'!$D$50:$D$53,MATCH(F69,'Measure Code Summary'!$C$50:$C$53,0),1)))","v":""},null,null,null,{"$f":"IF(J69=\"\",\"\",VLOOKUP(J69,'Wattage Table'!$D:$E,2,0))","v":""},null,0,null,{"$f":"IF(J69=\"\",0,(VLOOKUP(J69,'Wattage Table'!$D:$F,3,0)*N69*M69)/1000*VLOOKUP(IF(E69=\"\",$D$16,E69),ClgHtgTypeData,3,FALSE))","v":0},{"$f":"IF(OR(F69=\"\",H69=\"\"),0,IF(F69=\"80F\",Validation!W$11,(VLOOKUP(IF(D69=\"\",$D$15,D69),LtgBldgTypeData,3,FALSE)-VLOOKUP(F69,Control_Data,5)))*S69*VLOOKUP(IF(E69=\"\",$D$16,E69),ClgHtgTypeData,2,FALSE)/1000)","v":0},0,0,{"$f":"IF(ISERROR(IF(J69=\"-\",\"-\",INDEX('Wattage Table'!$F$21:$F$1229,MATCH(J69,'Wattage Table'!$D$21:$D$1229,0)))*$N69),\" \",IF(J69=\"-\",\"-\",INDEX('Wattage Table'!$F$21:$F$1229,MATCH(J69,'Wattage Table'!$D$21:$D$1229,0)))*$N69)","v":" "},{"$f":"IF(F69=\"\",\"\",IF(OR(F69=\"None\",F69=\"\",J69=\"\"),\"No\",IF(VLOOKUP(J69,'Wattage Table'!$D:$F,3,0)*N69/H69<=VLOOKUP(F69,Control_Data,3,0),\"No\",\"Yes\")))","v":""}]
[null,47,null,null,null,null,{"$f":"IF(F70=\"\",\"\",IF(F70=\"None\",\"None\",INDEX('Measure Code Summary'!$D$50:$D$53,MATCH(F70,'Measure Code Summary'!$C$50:$C$53,0),1)))","v":""},null,null,null,{"$f":"IF(J70=\"\",\"\",VLOOKUP(J70,'Wattage Table'!$D:$E,2,0))","v":""},null,0,null,{"$f":"IF(J70=\"\",0,(VLOOKUP(J70,'Wattage Table'!$D:$F,3,0)*N70*M70)/1000*VLOOKUP(IF(E70=\"\",$D$16,E70),ClgHtgTypeData,3,FALSE))","v":0},{"$f":"IF(OR(F70=\"\",H70=\"\"),0,IF(F70=\"80F\",Validation!W$11,(VLOOKUP(IF(D70=\"\",$D$15,D70),LtgBldgTypeData,3,FALSE)-VLOOKUP(F70,Control_Data,5)))*S70*VLOOKUP(IF(E70=\"\",$D$16,E70),ClgHtgTypeData,2,FALSE)/1000)","v":0},0,0,{"$f":"IF(ISERROR(IF(J70=\"-\",\"-\",INDEX('Wattage Table'!$F$21:$F$1229,MATCH(J70,'Wattage Table'!$D$21:$D$1229,0)))*$N70),\" \",IF(J70=\"-\",\"-\",INDEX('Wattage Table'!$F$21:$F$1229,MATCH(J70,'Wattage Table'!$D$21:$D$1229,0)))*$N70)","v":" "},{"$f":"IF(F70=\"\",\"\",IF(OR(F70=\"None\",F70=\"\",J70=\"\"),\"No\",IF(VLOOKUP(J70,'Wattage Table'!$D:$F,3,0)*N70/H70<=VLOOKUP(F70,Control_Data,3,0),\"No\",\"Yes\")))","v":""}]
[null,48,null,null,null,null,{"$f":"IF(F71=\"\",\"\",IF(F71=\"None\",\"None\",INDEX('Measure Code Summary'!$D$50:$D$53,MATCH(F71,'Measure Code Summary'!$C$50:$C$53,0),1)))","v":""},null,null,null,{"$f":"IF(J71=\"\",\"\",VLOOKUP(J71,'Wattage Table'!$D:$E,2,0))","v":""},null,0,null,{"$f":"IF(J71=\"\",0,(VLOOKUP(J71,'Wattage Table'!$D:$F,3,0)*N71*M71)/1000*VLOOKUP(IF(E71=\"\",$D$16,E71),ClgHtgTypeData,3,FALSE))","v":0},{"$f":"IF(OR(F71=\"\",H71=\"\"),0,IF(F71=\"80F\",Validation!W$11,(VLOOKUP(IF(D71=\"\",$D$15,D71),LtgBldgTypeData,3,FALSE)-VLOOKUP(F71,Control_Data,5)))*S71*VLOOKUP(IF(E71=\"\",$D$16,E71),ClgHtgTypeData,2,FALSE)/1000)","v":0},0,0,{"$f":"IF(ISERROR(IF(J71=\"-\",\"-\",INDEX('Wattage Table'!$F$21:$F$1229,MATCH(J71,'Wattage Table'!$D$21:$D$1229,0)))*$N71),\" \",IF(J71=\"-\",\"-\",INDEX('Wattage Table'!$F$21:$F$1229,MATCH(J71,'Wattage Table'!$D$21:$D$1229,0)))*$N71)","v":" "},{"$f":"IF(F71=\"\",\"\",IF(OR(F71=\"None\",F71=\"\",J71=\"\"),\"No\",IF(VLOOKUP(J71,'Wattage Table'!$D:$F,3,0)*N71/H71<=VLOOKUP(F71,Control_Data,3,0),\"No\",\"Yes\")))","v":""}]
[null,49,null,null,null,null,{"$f":"IF(F72=\"\",\"\",IF(F72=\"None\",\"None\",INDEX('Measure Code Summary'!$D$50:$D$53,MATCH(F72,'Measure Code Summary'!$C$50:$C$53,0),1)))","v":""},null,null,null,{"$f":"IF(J72=\"\",\"\",VLOOKUP(J72,'Wattage Table'!$D:$E,2,0))","v":""},null,0,null,{"$f":"IF(J72=\"\",0,(VLOOKUP(J72,'Wattage Table'!$D:$F,3,0)*N72*M72)/1000*VLOOKUP(IF(E72=\"\",$D$16,E72),ClgHtgTypeData,3,FALSE))","v":0},{"$f":"IF(OR(F72=\"\",H72=\"\"),0,IF(F72=\"80F\",Validation!W$11,(VLOOKUP(IF(D72=\"\",$D$15,D72),LtgBldgTypeData,3,FALSE)-VLOOKUP(F72,Control_Data,5)))*S72*VLOOKUP(IF(E72=\"\",$D$16,E72),ClgHtgTypeData,2,FALSE)/1000)","v":0},0,0,{"$f":"IF(ISERROR(IF(J72=\"-\",\"-\",INDEX('Wattage Table'!$F$21:$F$1229,MATCH(J72,'Wattage Table'!$D$21:$D$1229,0)))*$N72),\" \",IF(J72=\"-\",\"-\",INDEX('Wattage Table'!$F$21:$F$1229,MATCH(J72,'Wattage Table'!$D$21:$D$1229,0)))*$N72)","v":" "},{"$f":"IF(F72=\"\",\"\",IF(OR(F72=\"None\",F72=\"\",J72=\"\"),\"No\",IF(VLOOKUP(J72,'Wattage Table'!$D:$F,3,0)*N72/H72<=VLOOKUP(F72,Control_Data,3,0),\"No\",\"Yes\")))","v":""}]
[null,50,null,null,null,null,{"$f":"IF(F73=\"\",\"\",IF(F73=\"None\",\"None\",INDEX('Measure Code Summary'!$D$50:$D$53,MATCH(F73,'Measure Code Summary'!$C$50:$C$53,0),1)))","v":""},null,null,null,{"$f":"IF(J73=\"\",\"\",VLOOKUP(J73,'Wattage Table'!$D:$E,2,0))","v":""},null,0,null,{"$f":"IF(J73=\"\",0,(VLOOKUP(J73,'Wattage Table'!$D:$F,3,0)*N73*M73)/1000*VLOOKUP(IF(E73=\"\",$D$16,E73),ClgHtgTypeData,3,FALSE))","v":0},{"$f":"IF(OR(F73=\"\",H73=\"\"),0,IF(F73=\"80F\",Validation!W$11,(VLOOKUP(IF(D73=\"\",$D$15,D73),LtgBldgTypeData,3,FALSE)-VLOOKUP(F73,Control_Data,5)))*S73*VLOOKUP(IF(E73=\"\",$D$16,E73),ClgHtgTypeData,2,FALSE)/1000)","v":0},0,0,{"$f":"IF(ISERROR(IF(J73=\"-\",\"-\",INDEX('Wattage Table'!$F$21:$F$1229,MATCH(J73,'Wattage Table'!$D$21:$D$1229,0)))*$N73),\" \",IF(J73=\"-\",\"-\",INDEX('Wattage Table'!$F$21:$F$1229,MATCH(J73,'Wattage Table'!$D$21:$D$1229,0)))*$N73)","v":" "},{"$f":"IF(F73=\"\",\"\",IF(OR(F73=\"None\",F73=\"\",J73=\"\"),\"No\",IF(VLOOKUP(J73,'Wattage Table'!$D:$F,3,0)*N73/H73<=VLOOKUP(F73,Control_Data,3,0),\"No\",\"Yes\")))","v":""}]
[null,51,null,null,null,null,{"$f":"IF(F74=\"\",\"\",IF(F74=\"None\",\"None\",INDEX('Measure Code Summary'!$D$50:$D$53,MATCH(F74,'Measure Code Summary'!$C$50:$C$53,0),1)))","v":""},null,null,null,{"$f":"IF(J74=\"\",\"\",VLOOKUP(J74,'Wattage Table'!$D:$E,2,0))","v":""},null,0,null,{"$f":"IF(J74=\"\",0,(VLOOKUP(J74,'Wattage Table'!$D:$F,3,0)*N74*M74)/1000*VLOOKUP(IF(E74=\"\",$D$16,E74),ClgHtgTypeData,3,FALSE))","v":0},{"$f":"IF(OR(F74=\"\",H74=\"\"),0,IF(F74=\"80F\",Validation!W$11,(VLOOKUP(IF(D74=\"\",$D$15,D74),LtgBldgTypeData,3,FALSE)-VLOOKUP(F74,Control_Data,5)))*S74*VLOOKUP(IF(E74=\"\",$D$16,E74),ClgHtgTypeData,2,FALSE)/1000)","v":0},0,0,{"$f":"IF(ISERROR(IF(J74=\"-\",\"-\",INDEX('Wattage Table'!$F$21:$F$1229,MATCH(J74,'Wattage Table'!$D$21:$D$1229,0)))*$N74),\" \",IF(J74=\"-\",\"-\",INDEX('Wattage Table'!$F$21:$F$1229,MATCH(J74,'Wattage Table'!$D$21:$D$1229,0)))*$N74)","v":" "},{"$f":"IF(F74=\"\",\"\",IF(OR(F74=\"None\",F74=\"\",J74=\"\"),\"No\",IF(VLOOKUP(J74,'Wattage Table'!$D:$F,3,0)*N74/H74<=VLOOKUP(F74,Control_Data,3,0),\"No\",\"Yes\")))","v":""}]
[null,52,null,null,null,null,{"$f":"IF(F75=\"\",\"\",IF(F75=\"None\",\"None\",INDEX('Measure Code Summary'!$D$50:$D$53,MATCH(F75,'Measure Code Summary'!$C$50:$C$53,0),1)))","v":""},null,null,null,{"$f":"IF(J75=\"\",\"\",VLOOKUP(J75,'Wattage Table'!$D:$E,2,0))","v":""},null,0,null,{"$f":"IF(J75=\"\",0,(VLOOKUP(J75,'Wattage Table'!$D:$F,3,0)*N75*M75)/1000*VLOOKUP(IF(E75=\"\",$D$16,E75),ClgHtgTypeData,3,FALSE))","v":0},{"$f":"IF(OR(F75=\"\",H75=\"\"),0,IF(F75=\"80F\",Validation!W$11,(VLOOKUP(IF(D75=\"\",$D$15,D75),LtgBldgTypeData,3,FALSE)-VLOOKUP(F75,Control_Data,5)))*S75*VLOOKUP(IF(E75=\"\",$D$16,E75),ClgHtgTypeData,2,FALSE)/1000)","v":0},0,0,{"$f":"IF(ISERROR(IF(J75=\"-\",\"-\",INDEX('Wattage Table'!$F$21:$F$1229,MATCH(J75,'Wattage Table'!$D$21:$D$1229,0)))*$N75),\" \",IF(J75=\"-\",\"-\",INDEX('Wattage Table'!$F$21:$F$1229,MATCH(J75,'Wattage Table'!$D$21:$D$1229,0)))*$N75)","v":" "},{"$f":"IF(F75=\"\",\"\",IF(OR(F75=\"None\",F75=\"\",J75=\"\"),\"No\",IF(VLOOKUP(J75,'Wattage Table'!$D:$F,3,0)*N75/H75<=VLOOKUP(F75,Control_Data,3,0),\"No\",\"Yes\")))","v":""}]
[null,53,null,null,null,null,{"$f":"IF(F76=\"\",\"\",IF(F76=\"None\",\"None\",INDEX('Measure Code Summary'!$D$50:$D$53,MATCH(F76,'Measure Code Summary'!$C$50:$C$53,0),1)))","v":""},null,null,null,{"$f":"IF(J76=\"\",\"\",VLOOKUP(J76,'Wattage Table'!$D:$E,2,0))","v":""},null,0,null,{"$f":"IF(J76=\"\",0,(VLOOKUP(J76,'Wattage Table'!$D:$F,3,0)*N76*M76)/1000*VLOOKUP(IF(E76=\"\",$D$16,E76),ClgHtgTypeData,3,FALSE))","v":0},{"$f":"IF(OR(F76=\"\",H76=\"\"),0,IF(F76=\"80F\",Validation!W$11,(VLOOKUP(IF(D76=\"\",$D$15,D76),LtgBldgTypeData,3,FALSE)-VLOOKUP(F76,Control_Data,5)))*S76*VLOOKUP(IF(E76=\"\",$D$16,E76),ClgHtgTypeData,2,FALSE)/1000)","v":0},0,0,{"$f":"IF(ISERROR(IF(J76=\"-\",\"-\",INDEX('Wattage Table'!$F$21:$F$1229,MATCH(J76,'Wattage Table'!$D$21:$D$1229,0)))*$N76),\" \",IF(J76=\"-\",\"-\",INDEX('Wattage Table'!$F$21:$F$1229,MATCH(J76,'Wattage Table'!$D$21:$D$1229,0)))*$N76)","v":" "},{"$f":"IF(F76=\"\",\"\",IF(OR(F76=\"None\",F76=\"\",J76=\"\"),\"No\",IF(VLOOKUP(J76,'Wattage Table'!$D:$F,3,0)*N76/H76<=VLOOKUP(F76,Control_Data,3,0),\"No\",\"Yes\")))","v":""}]
[null,54,null,null,null,null,{"$f":"IF(F77=\"\",\"\",IF(F77=\"None\",\"None\",INDEX('Measure Code Summary'!$D$50:$D$53,MATCH(F77,'Measure Code Summary'!$C$50:$C$53,0),1)))","v":""},null,null,null,{"$f":"IF(J77=\"\",\"\",VLOOKUP(J77,'Wattage Table'!$D:$E,2,0))","v":""},null,0,null,{"$f":"IF(J77=\"\",0,(VLOOKUP(J77,'Wattage Table'!$D:$F,3,0)*N77*M77)/1000*VLOOKUP(IF(E77=\"\",$D$16,E77),ClgHtgTypeData,3,FALSE))","v":0},{"$f":"IF(OR(F77=\"\",H77=\"\"),0,IF(F77=\"80F\",Validation!W$11,(VLOOKUP(IF(D77=\"\",$D$15,D77),LtgBldgTypeData,3,FALSE)-VLOOKUP(F77,Control_Data,5)))*S77*VLOOKUP(IF(E77=\"\",$D$16,E77),ClgHtgTypeData,2,FALSE)/1000)","v":0},0,0,{"$f":"IF(ISERROR(IF(J77=\"-\",\"-\",INDEX('Wattage Table'!$F$21:$F$1229,MATCH(J77,'Wattage Table'!$D$21:$D$1229,0)))*$N77),\" \",IF(J77=\"-\",\"-\",INDEX('Wattage Table'!$F$21:$F$1229,MATCH(J77,'Wattage Table'!$D$21:$D$1229,0)))*$N77)","v":" "},{"$f":"IF(F77=\"\",\"\",IF(OR(F77=\"None\",F77=\"\",J77=\"\"),\"No\",IF(VLOOKUP(J77,'Wattage Table'!$D:$F,3,0)*N77/H77<=VLOOKUP(F77,Control_Data,3,0),\"No\",\"Yes\")))","v":""}]
[null,55,null,null,null,null,{"$f":"IF(F78=\"\",\"\",IF(F78=\"None\",\"None\",INDEX('Measure Code Summary'!$D$50:$D$53,MATCH(F78,'Measure Code Summary'!$C$50:$C$53,0),1)))","v":""},null,null,null,{"$f":"IF(J78=\"\",\"\",VLOOKUP(J78,'Wattage Table'!$D:$E,2,0))","v":""},null,0,null,{"$f":"IF(J78=\"\",0,(VLOOKUP(J78,'Wattage Table'!$D:$F,3,0)*N78*M78)/1000*VLOOKUP(IF(E78=\"\",$D$16,E78),ClgHtgTypeData,3,FALSE))","v":0},{"$f":"IF(OR(F78=\"\",H78=\"\"),0,IF(F78=\"80F\",Validation!W$11,(VLOOKUP(IF(D78=\"\",$D$15,D78),LtgBldgTypeData,3,FALSE)-VLOOKUP(F78,Control_Data,5)))*S78*VLOOKUP(IF(E78=\"\",$D$16,E78),ClgHtgTypeData,2,FALSE)/1000)","v":0},0,0,{"$f":"IF(ISERROR(IF(J78=\"-\",\"-\",INDEX('Wattage Table'!$F$21:$F$1229,MATCH(J78,'Wattage Table'!$D$21:$D$1229,0)))*$N78),\" \",IF(J78=\"-\",\"-\",INDEX('Wattage Table'!$F$21:$F$1229,MATCH(J78,'Wattage Table'!$D$21:$D$1229,0)))*$N78)","v":" "},{"$f":"IF(F78=\"\",\"\",IF(OR(F78=\"None\",F78=\"\",J78=\"\"),\"No\",IF(VLOOKUP(J78,'Wattage Table'!$D:$F,3,0)*N78/H78<=VLOOKUP(F78,Control_Data,3,0),\"No\",\"Yes\")))","v":""}]
[null,56,null,null,null,null,{"$f":"IF(F79=\"\",\"\",IF(F79=\"None\",\"None\",INDEX('Measure Code Summary'!$D$50:$D$53,MATCH(F79,'Measure Code Summary'!$C$50:$C$53,0),1)))","v":""},null,null,null,{"$f":"IF(J79=\"\",\"\",VLOOKUP(J79,'Wattage Table'!$D:$E,2,0))","v":""},null,0,null,{"$f":"IF(J79=\"\",0,(VLOOKUP(J79,'Wattage Table'!$D:$F,3,0)*N79*M79)/1000*VLOOKUP(IF(E79=\"\",$D$16,E79),ClgHtgTypeData,3,FALSE))","v":0},{"$f":"IF(OR(F79=\"\",H79=\"\"),0,IF(F79=\"80F\",Validation!W$11,(VLOOKUP(IF(D79=\"\",$D$15,D79),LtgBldgTypeData,3,FALSE)-VLOOKUP(F79,Control_Data,5)))*S79*VLOOKUP(IF(E79=\"\",$D$16,E79),ClgHtgTypeData,2,FALSE)/1000)","v":0},0,0,{"$f":"IF(ISERROR(IF(J79=\"-\",\"-\",INDEX('Wattage Table'!$F$21:$F$1229,MATCH(J79,'Wattage Table'!$D$21:$D$1229,0)))*$N79),\" \",IF(J79=\"-\",\"-\",INDEX('Wattage Table'!$F$21:$F$1229,MATCH(J79,'Wattage Table'!$D$21:$D$1229,0)))*$N79)","v":" "},{"$f":"IF(F79=\"\",\"\",IF(OR(F79=\"None\",F79=\"\",J79=\"\"),\"No\",IF(VLOOKUP(J79,'Wattage Table'!$D:$F,3,0)*N79/H79<=VLOOKUP(F79,Control_Data,3,0),\"No\",\"Yes\")))","v":""}]
[null,57,null,null,null,null,{"$f":"IF(F80=\"\",\"\",IF(F80=\"None\",\"None\",INDEX('Measure Code Summary'!$D$50:$D$53,MATCH(F80,'Measure Code Summary'!$C$50:$C$53,0),1)))","v":""},null,null,null,{"$f":"IF(J80=\"\",\"\",VLOOKUP(J80,'Wattage Table'!$D:$E,2,0))","v":""},null,0,null,{"$f":"IF(J80=\"\",0,(VLOOKUP(J80,'Wattage Table'!$D:$F,3,0)*N80*M80)/1000*VLOOKUP(IF(E80=\"\",$D$16,E80),ClgHtgTypeData,3,FALSE))","v":0},{"$f":"IF(OR(F80=\"\",H80=\"\"),0,IF(F80=\"80F\",Validation!W$11,(VLOOKUP(IF(D80=\"\",$D$15,D80),LtgBldgTypeData,3,FALSE)-VLOOKUP(F80,Control_Data,5)))*S80*VLOOKUP(IF(E80=\"\",$D$16,E80),ClgHtgTypeData,2,FALSE)/1000)","v":0},0,0,{"$f":"IF(ISERROR(IF(J80=\"-\",\"-\",INDEX('Wattage Table'!$F$21:$F$1229,MATCH(J80,'Wattage Table'!$D$21:$D$1229,0)))*$N80),\" \",IF(J80=\"-\",\"-\",INDEX('Wattage Table'!$F$21:$F$1229,MATCH(J80,'Wattage Table'!$D$21:$D$1229,0)))*$N80)","v":" "},{"$f":"IF(F80=\"\",\"\",IF(OR(F80=\"None\",F80=\"\",J80=\"\"),\"No\",IF(VLOOKUP(J80,'Wattage Table'!$D:$F,3,0)*N80/H80<=VLOOKUP(F80,Control_Data,3,0),\"No\",\"Yes\")))","v":""}]
[null,58,null,null,null,null,{"$f":"IF(F81=\"\",\"\",IF(F81=\"None\",\"None\",INDEX('Measure Code Summary'!$D$50:$D$53,MATCH(F81,'Measure Code Summary'!$C$50:$C$53,0),1)))","v":""},null,null,null,{"$f":"IF(J81=\"\",\"\",VLOOKUP(J81,'Wattage Table'!$D:$E,2,0))","v":""},null,0,null,{"$f":"IF(J81=\"\",0,(VLOOKUP(J81,'Wattage Table'!$D:$F,3,0)*N81*M81)/1000*VLOOKUP(IF(E81=\"\",$D$16,E81),ClgHtgTypeData,3,FALSE))","v":0},{"$f":"IF(OR(F81=\"\",H81=\"\"),0,IF(F81=\"80F\",Validation!W$11,(VLOOKUP(IF(D81=\"\",$D$15,D81),LtgBldgTypeData,3,FALSE)-VLOOKUP(F81,Control_Data,5)))*S81*VLOOKUP(IF(E81=\"\",$D$16,E81),ClgHtgTypeData,2,FALSE)/1000)","v":0},0,0,{"$f":"IF(ISERROR(IF(J81=\"-\",\"-\",INDEX('Wattage Table'!$F$21:$F$1229,MATCH(J81,'Wattage Table'!$D$21:$D$1229,0)))*$N81),\" \",IF(J81=\"-\",\"-\",INDEX('Wattage Table'!$F$21:$F$1229,MATCH(J81,'Wattage Table'!$D$21:$D$1229,0)))*$N81)","v":" "},{"$f":"IF(F81=\"\",\"\",IF(OR(F81=\"None\",F81=\"\",J81=\"\"),\"No\",IF(VLOOKUP(J81,'Wattage Table'!$D:$F,3,0)*N81/H81<=VLOOKUP(F81,Control_Data,3,0),\"No\",\"Yes\")))","v":""}]
[null,59,null,null,null,null,{"$f":"IF(F82=\"\",\"\",IF(F82=\"None\",\"None\",INDEX('Measure Code Summary'!$D$50:$D$53,MATCH(F82,'Measure Code Summary'!$C$50:$C$53,0),1)))","v":""},null,null,null,{"$f":"IF(J82=\"\",\"\",VLOOKUP(J82,'Wattage Table'!$D:$E,2,0))","v":""},null,0,null,{"$f":"IF(J82=\"\",0,(VLOOKUP(J82,'Wattage Table'!$D:$F,3,0)*N82*M82)/1000*VLOOKUP(IF(E82=\"\",$D$16,E82),ClgHtgTypeData,3,FALSE))","v":0},{"$f":"IF(OR(F82=\"\",H82=\"\"),0,IF(F82=\"80F\",Validation!W$11,(VLOOKUP(IF(D82=\"\",$D$15,D82),LtgBldgTypeData,3,FALSE)-VLOOKUP(F82,Control_Data,5)))*S82*VLOOKUP(IF(E82=\"\",$D$16,E82),ClgHtgTypeData,2,FALSE)/1000)","v":0},0,0,{"$f":"IF(ISERROR(IF(J82=\"-\",\"-\",INDEX('Wattage Table'!$F$21:$F$1229,MATCH(J82,'Wattage Table'!$D$21:$D$1229,0)))*$N82),\" \",IF(J82=\"-\",\"-\",INDEX('Wattage Table'!$F$21:$F$1229,MATCH(J82,'Wattage Table'!$D$21:$D$1229,0)))*$N82)","v":" "},{"$f":"IF(F82=\"\",\"\",IF(OR(F82=\"None\",F82=\"\",J82=\"\"),\"No\",IF(VLOOKUP(J82,'Wattage Table'!$D:$F,3,0)*N82/H82<=VLOOKUP(F82,Control_Data,3,0),\"No\",\"Yes\")))","v":""}]
[null,60,null,null,null,null,{"$f":"IF(F83=\"\",\"\",IF(F83=\"None\",\"None\",INDEX('Measure Code Summary'!$D$50:$D$53,MATCH(F83,'Measure Code Summary'!$C$50:$C$53,0),1)))","v":""},null,null,null,{"$f":"IF(J83=\"\",\"\",VLOOKUP(J83,'Wattage Table'!$D:$E,2,0))","v":""},null,0,null,{"$f":"IF(J83=\"\",0,(VLOOKUP(J83,'Wattage Table'!$D:$F,3,0)*N83*M83)/1000*VLOOKUP(IF(E83=\"\",$D$16,E83),ClgHtgTypeData,3,FALSE))","v":0},{"$f":"IF(OR(F83=\"\",H83=\"\"),0,IF(F83=\"80F\",Validation!W$11,(VLOOKUP(IF(D83=\"\",$D$15,D83),LtgBldgTypeData,3,FALSE)-VLOOKUP(F83,Control_Data,5)))*S83*VLOOKUP(IF(E83=\"\",$D$16,E83),ClgHtgTypeData,2,FALSE)/1000)","v":0},0,0,{"$f":"IF(ISERROR(IF(J83=\"-\",\"-\",INDEX('Wattage Table'!$F$21:$F$1229,MATCH(J83,'Wattage Table'!$D$21:$D$1229,0)))*$N83),\" \",IF(J83=\"-\",\"-\",INDEX('Wattage Table'!$F$21:$F$1229,MATCH(J83,'Wattage Table'!$D$21:$D$1229,0)))*$N83)","v":" "},{"$f":"IF(F83=\"\",\"\",IF(OR(F83=\"None\",F83=\"\",J83=\"\"),\"No\",IF(VLOOKUP(J83,'Wattage Table'!$D:$F,3,0)*N83/H83<=VLOOKUP(F83,Control_Data,3,0),\"No\",\"Yes\")))","v":""}]
[null,61,null,null,null,null,{"$f":"IF(F84=\"\",\"\",IF(F84=\"None\",\"None\",INDEX('Measure Code Summary'!$D$50:$D$53,MATCH(F84,'Measure Code Summary'!$C$50:$C$53,0),1)))","v":""},null,null,null,{"$f":"IF(J84=\"\",\"\",VLOOKUP(J84,'Wattage Table'!$D:$E,2,0))","v":""},null,0,null,{"$f":"IF(J84=\"\",0,(VLOOKUP(J84,'Wattage Table'!$D:$F,3,0)*N84*M84)/1000*VLOOKUP(IF(E84=\"\",$D$16,E84),ClgHtgTypeData,3,FALSE))","v":0},{"$f":"IF(OR(F84=\"\",H84=\"\"),0,IF(F84=\"80F\",Validation!W$11,(VLOOKUP(IF(D84=\"\",$D$15,D84),LtgBldgTypeData,3,FALSE)-VLOOKUP(F84,Control_Data,5)))*S84*VLOOKUP(IF(E84=\"\",$D$16,E84),ClgHtgTypeData,2,FALSE)/1000)","v":0},0,0,{"$f":"IF(ISERROR(IF(J84=\"-\",\"-\",INDEX('Wattage Table'!$F$21:$F$1229,MATCH(J84,'Wattage Table'!$D$21:$D$1229,0)))*$N84),\" \",IF(J84=\"-\",\"-\",INDEX('Wattage Table'!$F$21:$F$1229,MATCH(J84,'Wattage Table'!$D$21:$D$1229,0)))*$N84)","v":" "},{"$f":"IF(F84=\"\",\"\",IF(OR(F84=\"None\",F84=\"\",J84=\"\"),\"No\",IF(VLOOKUP(J84,'Wattage Table'!$D:$F,3,0)*N84/H84<=VLOOKUP(F84,Control_Data,3,0),\"No\",\"Yes\")))","v":""}]
[null,62,null,null,null,null,{"$f":"IF(F85=\"\",\"\",IF(F85=\"None\",\"None\",INDEX('Measure Code Summary'!$D$50:$D$53,MATCH(F85,'Measure Code Summary'!$C$50:$C$53,0),1)))","v":""},null,null,null,{"$f":"IF(J85=\"\",\"\",VLOOKUP(J85,'Wattage Table'!$D:$E,2,0))","v":""},null,0,null,{"$f":"IF(J85=\"\",0,(VLOOKUP(J85,'Wattage Table'!$D:$F,3,0)*N85*M85)/1000*VLOOKUP(IF(E85=\"\",$D$16,E85),ClgHtgTypeData,3,FALSE))","v":0},{"$f":"IF(OR(F85=\"\",H85=\"\"),0,IF(F85=\"80F\",Validation!W$11,(VLOOKUP(IF(D85=\"\",$D$15,D85),LtgBldgTypeData,3,FALSE)-VLOOKUP(F85,Control_Data,5)))*S85*VLOOKUP(IF(E85=\"\",$D$16,E85),ClgHtgTypeData,2,FALSE)/1000)","v":0},0,0,{"$f":"IF(ISERROR(IF(J85=\"-\",\"-\",INDEX('Wattage Table'!$F$21:$F$1229,MATCH(J85,'Wattage Table'!$D$21:$D$1229,0)))*$N85),\" \",IF(J85=\"-\",\"-\",INDEX('Wattage Table'!$F$21:$F$1229,MATCH(J85,'Wattage Table'!$D$21:$D$1229,0)))*$N85)","v":" "},{"$f":"IF(F85=\"\",\"\",IF(OR(F85=\"None\",F85=\"\",J85=\"\"),\"No\",IF(VLOOKUP(J85,'Wattage Table'!$D:$F,3,0)*N85/H85<=VLOOKUP(F85,Control_Data,3,0),\"No\",\"Yes\")))","v":""}]
[null,63,null,null,null,null,{"$f":"IF(F86=\"\",\"\",IF(F86=\"None\",\"None\",INDEX('Measure Code Summary'!$D$50:$D$53,MATCH(F86,'Measure Code Summary'!$C$50:$C$53,0),1)))","v":""},null,null,null,{"$f":"IF(J86=\"\",\"\",VLOOKUP(J86,'Wattage Table'!$D:$E,2,0))","v":""},null,0,null,{"$f":"IF(J86=\"\",0,(VLOOKUP(J86,'Wattage Table'!$D:$F,3,0)*N86*M86)/1000*VLOOKUP(IF(E86=\"\",$D$16,E86),ClgHtgTypeData,3,FALSE))","v":0},{"$f":"IF(OR(F86=\"\",H86=\"\"),0,IF(F86=\"80F\",Validation!W$11,(VLOOKUP(IF(D86=\"\",$D$15,D86),LtgBldgTypeData,3,FALSE)-VLOOKUP(F86,Control_Data,5)))*S86*VLOOKUP(IF(E86=\"\",$D$16,E86),ClgHtgTypeData,2,FALSE)/1000)","v":0},0,0,{"$f":"IF(ISERROR(IF(J86=\"-\",\"-\",INDEX('Wattage Table'!$F$21:$F$1229,MATCH(J86,'Wattage Table'!$D$21:$D$1229,0)))*$N86),\" \",IF(J86=\"-\",\"-\",INDEX('Wattage Table'!$F$21:$F$1229,MATCH(J86,'Wattage Table'!$D$21:$D$1229,0)))*$N86)","v":" "},{"$f":"IF(F86=\"\",\"\",IF(OR(F86=\"None\",F86=\"\",J86=\"\"),\"No\",IF(VLOOKUP(J86,'Wattage Table'!$D:$F,3,0)*N86/H86<=VLOOKUP(F86,Control_Data,3,0),\"No\",\"Yes\")))","v":""}]
[null,64,null,null,null,null,{"$f":"IF(F87=\"\",\"\",IF(F87=\"None\",\"None\",INDEX('Measure Code Summary'!$D$50:$D$53,MATCH(F87,'Measure Code Summary'!$C$50:$C$53,0),1)))","v":""},null,null,null,{"$f":"IF(J87=\"\",\"\",VLOOKUP(J87,'Wattage Table'!$D:$E,2,0))","v":""},null,0,null,{"$f":"IF(J87=\"\",0,(VLOOKUP(J87,'Wattage Table'!$D:$F,3,0)*N87*M87)/1000*VLOOKUP(IF(E87=\"\",$D$16,E87),ClgHtgTypeData,3,FALSE))","v":0},{"$f":"IF(OR(F87=\"\",H87=\"\"),0,IF(F87=\"80F\",Validation!W$11,(VLOOKUP(IF(D87=\"\",$D$15,D87),LtgBldgTypeData,3,FALSE)-VLOOKUP(F87,Control_Data,5)))*S87*VLOOKUP(IF(E87=\"\",$D$16,E87),ClgHtgTypeData,2,FALSE)/1000)","v":0},{"$f":"IF(OR(O87<=0,P87<=0,F87=\"\",J87=\"\"),0,VLOOKUP(F87,Control_Data,6)*H87*T87)","v":0},0,{"$f":"IF(ISERROR(IF(J87=\"-\",\"-\",INDEX('Wattage Table'!$F$21:$F$1229,MATCH(J87,'Wattage Table'!$D$21:$D$1229,0)))*$N87),\" \",IF(J87=\"-\",\"-\",INDEX('Wattage Table'!$F$21:$F$1229,MATCH(J87,'Wattage Table'!$D$21:$D$1229,0)))*$N87)","v":" "},{"$f":"IF(F87=\"\",\"\",IF(OR(F87=\"None\",F87=\"\",J87=\"\"),\"No\",IF(VLOOKUP(J87,'Wattage Table'!$D:$F,3,0)*N87/H87<=VLOOKUP(F87,Control_Data,3,0),\"No\",\"Yes\")))","v":""}]
[null,65,null,null,null,null,{"$f":"IF(F88=\"\",\"\",IF(F88=\"None\",\"None\",INDEX('Measure Code Summary'!$D$50:$D$53,MATCH(F88,'Measure Code Summary'!$C$50:$C$53,0),1)))","v":""},null,null,null,{"$f":"IF(J88=\"\",\"\",VLOOKUP(J88,'Wattage Table'!$D:$E,2,0))","v":""},null,{"$f":"IF(OR(F88=\"\",L88=\"\"),0,L88*0.25)","v":0},null,{"$f":"IF(J88=\"\",0,(VLOOKUP(J88,'Wattage Table'!$D:$F,3,0)*N88*M88)/1000*VLOOKUP(IF(E88=\"\",$D$16,E88),ClgHtgTypeData,3,FALSE))","v":0},{"$f":"IF(OR(F88=\"\",H88=\"\"),0,IF(F88=\"80F\",Validation!W$11,(VLOOKUP(IF(D88=\"\",$D$15,D88),LtgBldgTypeData,3,FALSE)-VLOOKUP(F88,Control_Data,5)))*S88*VLOOKUP(IF(E88=\"\",$D$16,E88),ClgHtgTypeData,2,FALSE)/1000)","v":0},0,{"$f":"IF(Q88<=0,0,H88*T88)","v":0},{"$f":"IF(ISERROR(IF(J88=\"-\",\"-\",INDEX('Wattage Table'!$F$21:$F$1229,MATCH(J88,'Wattage Table'!$D$21:$D$1229,0)))*$N88),\" \",IF(J88=\"-\",\"-\",INDEX('Wattage Table'!$F$21:$F$1229,MATCH(J88,'Wattage Table'!$D$21:$D$1229,0)))*$N88)","v":" "},{"$f":"IF(F88=\"\",\"\",IF(OR(F88=\"None\",F88=\"\",J88=\"\"),\"No\",IF(VLOOKUP(J88,'Wattage Table'!$D:$F,3,0)*N88/H88<=VLOOKUP(F88,Control_Data,3,0),\"No\",\"Yes\")))","v":""}]
[null,66,null,null,null,null,{"$f":"IF(F89=\"\",\"\",IF(F89=\"None\",\"None\",INDEX('Measure Code Summary'!$D$50:$D$53,MATCH(F89,'Measure Code Summary'!$C$50:$C$53,0),1)))","v":""},null,null,null,{"$f":"IF(J89=\"\",\"\",VLOOKUP(J89,'Wattage Table'!$D:$E,2,0))","v":""},null,0,null,{"$f":"IF(J89=\"\",0,(VLOOKUP(J89,'Wattage Table'!$D:$F,3,0)*N89*M89)/1000*VLOOKUP(IF(E89=\"\",$D$16,E89),ClgHtgTypeData,3,FALSE))","v":0},{"$f":"IF(OR(F89=\"\",H89=\"\"),0,IF(F89=\"80F\",Validation!W$11,(VLOOKUP(IF(D89=\"\",$D$15,D89),LtgBldgTypeData,3,FALSE)-VLOOKUP(F89,Control_Data,5)))*S89*VLOOKUP(IF(E89=\"\",$D$16,E89),ClgHtgTypeData,2,FALSE)/1000)","v":0},0,0,{"$f":"IF(ISERROR(IF(J89=\"-\",\"-\",INDEX('Wattage Table'!$F$21:$F$1229,MATCH(J89,'Wattage Table'!$D$21:$D$1229,0)))*$N89),\" \",IF(J89=\"-\",\"-\",INDEX('Wattage Table'!$F$21:$F$1229,MATCH(J89,'Wattage Table'!$D$21:$D$1229,0)))*$N89)","v":" "},{"$f":"IF(F89=\"\",\"\",IF(OR(F89=\"None\",F89=\"\",J89=\"\"),\"No\",IF(VLOOKUP(J89,'Wattage Table'!$D:$F,3,0)*N89/H89<=VLOOKUP(F89,Control_Data,3,0),\"No\",\"Yes\")))","v":""}]
[null,67,null,null,null,null,{"$f":"IF(F90=\"\",\"\",IF(F90=\"None\",\"None\",INDEX('Measure Code Summary'!$D$50:$D$53,MATCH(F90,'Measure Code Summary'!$C$50:$C$53,0),1)))","v":""},null,null,null,{"$f":"IF(J90=\"\",\"\",VLOOKUP(J90,'Wattage Table'!$D:$E,2,0))","v":""},null,0,null,{"$f":"IF(J90=\"\",0,(VLOOKUP(J90,'Wattage Table'!$D:$F,3,0)*N90*M90)/1000*VLOOKUP(IF(E90=\"\",$D$16,E90),ClgHtgTypeData,3,FALSE))","v":0},{"$f":"IF(OR(F90=\"\",H90=\"\"),0,IF(F90=\"80F\",Validation!W$11,(VLOOKUP(IF(D90=\"\",$D$15,D90),LtgBldgTypeData,3,FALSE)-VLOOKUP(F90,Control_Data,5)))*S90*VLOOKUP(IF(E90=\"\",$D$16,E90),ClgHtgTypeData,2,FALSE)/1000)","v":0},0,0,{"$f":"IF(ISERROR(IF(J90=\"-\",\"-\",INDEX('Wattage Table'!$F$21:$F$1229,MATCH(J90,'Wattage Table'!$D$21:$D$1229,0)))*$N90),\" \",IF(J90=\"-\",\"-\",INDEX('Wattage Table'!$F$21:$F$1229,MATCH(J90,'Wattage Table'!$D$21:$D$1229,0)))*$N90)","v":" "},{"$f":"IF(F90=\"\",\"\",IF(OR(F90=\"None\",F90=\"\",J90=\"\"),\"No\",IF(VLOOKUP(J90,'Wattage Table'!$D:$F,3,0)*N90/H90<=VLOOKUP(F90,Control_Data,3,0),\"No\",\"Yes\")))","v":""}]
[null,68,null,null,null,null,{"$f":"IF(F91=\"\",\"\",IF(F91=\"None\",\"None\",INDEX('Measure Code Summary'!$D$50:$D$53,MATCH(F91,'Measure Code Summary'!$C$50:$C$53,0),1)))","v":""},null,null,null,{"$f":"IF(J91=\"\",\"\",VLOOKUP(J91,'Wattage Table'!$D:$E,2,0))","v":""},null,0,null,{"$f":"IF(J91=\"\",0,(VLOOKUP(J91,'Wattage Table'!$D:$F,3,0)*N91*M91)/1000*VLOOKUP(IF(E91=\"\",$D$16,E91),ClgHtgTypeData,3,FALSE))","v":0},{"$f":"IF(OR(F91=\"\",H91=\"\"),0,IF(F91=\"80F\",Validation!W$11,(VLOOKUP(IF(D91=\"\",$D$15,D91),LtgBldgTypeData,3,FALSE)-VLOOKUP(F91,Control_Data,5)))*S91*VLOOKUP(IF(E91=\"\",$D$16,E91),ClgHtgTypeData,2,FALSE)/1000)","v":0},0,0,{"$f":"IF(ISERROR(IF(J91=\"-\",\"-\",INDEX('Wattage Table'!$F$21:$F$1229,MATCH(J91,'Wattage Table'!$D$21:$D$1229,0)))*$N91),\" \",IF(J91=\"-\",\"-\",INDEX('Wattage Table'!$F$21:$F$1229,MATCH(J91,'Wattage Table'!$D$21:$D$1229,0)))*$N91)","v":" "},{"$f":"IF(F91=\"\",\"\",IF(OR(F91=\"None\",F91=\"\",J91=\"\"),\"No\",IF(VLOOKUP(J91,'Wattage Table'!$D:$F,3,0)*N91/H91<=VLOOKUP(F91,Control_Data,3,0),\"No\",\"Yes\")))","v":""}]
[null,69,null,null,null,null,{"$f":"IF(F92=\"\",\"\",IF(F92=\"None\",\"None\",INDEX('Measure Code Summary'!$D$50:$D$53,MATCH(F92,'Measure Code Summary'!$C$50:$C$53,0),1)))","v":""},null,null,null,{"$f":"IF(J92=\"\",\"\",VLOOKUP(J92,'Wattage Table'!$D:$E,2,0))","v":""},null,0,null,{"$f":"IF(J92=\"\",0,(VLOOKUP(J92,'Wattage Table'!$D:$F,3,0)*N92*M92)/1000*VLOOKUP(IF(E92=\"\",$D$16,E92),ClgHtgTypeData,3,FALSE))","v":0},{"$f":"IF(OR(F92=\"\",H92=\"\"),0,IF(F92=\"80F\",Validation!W$11,(VLOOKUP(IF(D92=\"\",$D$15,D92),LtgBldgTypeData,3,FALSE)-VLOOKUP(F92,Control_Data,5)))*S92*VLOOKUP(IF(E92=\"\",$D$16,E92),ClgHtgTypeData,2,FALSE)/1000)","v":0},0,0,{"$f":"IF(ISERROR(IF(J92=\"-\",\"-\",INDEX('Wattage Table'!$F$21:$F$1229,MATCH(J92,'Wattage Table'!$D$21:$D$1229,0)))*$N92),\" \",IF(J92=\"-\",\"-\",INDEX('Wattage Table'!$F$21:$F$1229,MATCH(J92,'Wattage Table'!$D$21:$D$1229,0)))*$N92)","v":" "},{"$f":"IF(F92=\"\",\"\",IF(OR(F92=\"None\",F92=\"\",J92=\"\"),\"No\",IF(VLOOKUP(J92,'Wattage Table'!$D:$F,3,0)*N92/H92<=VLOOKUP(F92,Control_Data,3,0),\"No\",\"Yes\")))","v":""}]
[null,70,null,null,null,null,{"$f":"IF(F93=\"\",\"\",IF(F93=\"None\",\"None\",INDEX('Measure Code Summary'!$D$50:$D$53,MATCH(F93,'Measure Code Summary'!$C$50:$C$53,0),1)))","v":""},null,null,null,{"$f":"IF(J93=\"\",\"\",VLOOKUP(J93,'Wattage Table'!$D:$E,2,0))","v":""},null,0,null,{"$f":"IF(J93=\"\",0,(VLOOKUP(J93,'Wattage Table'!$D:$F,3,0)*N93*M93)/1000*VLOOKUP(IF(E93=\"\",$D$16,E93),ClgHtgTypeData,3,FALSE))","v":0},{"$f":"IF(OR(F93=\"\",H93=\"\"),0,IF(F93=\"80F\",Validation!W$11,(VLOOKUP(IF(D93=\"\",$D$15,D93),LtgBldgTypeData,3,FALSE)-VLOOKUP(F93,Control_Data,5)))*S93*VLOOKUP(IF(E93=\"\",$D$16,E93),ClgHtgTypeData,2,FALSE)/1000)","v":0},0,0,{"$f":"IF(ISERROR(IF(J93=\"-\",\"-\",INDEX('Wattage Table'!$F$21:$F$1229,MATCH(J93,'Wattage Table'!$D$21:$D$1229,0)))*$N93),\" \",IF(J93=\"-\",\"-\",INDEX('Wattage Table'!$F$21:$F$1229,MATCH(J93,'Wattage Table'!$D$21:$D$1229,0)))*$N93)","v":" "},{"$f":"IF(F93=\"\",\"\",IF(OR(F93=\"None\",F93=\"\",J93=\"\"),\"No\",IF(VLOOKUP(J93,'Wattage Table'!$D:$F,3,0)*N93/H93<=VLOOKUP(F93,Control_Data,3,0),\"No\",\"Yes\")))","v":""}]
[null,71,null,null,null,null,{"$f":"IF(F94=\"\",\"\",IF(F94=\"None\",\"None\",INDEX('Measure Code Summary'!$D$50:$D$53,MATCH(F94,'Measure Code Summary'!$C$50:$C$53,0),1)))","v":""},null,null,null,{"$f":"IF(J94=\"\",\"\",VLOOKUP(J94,'Wattage Table'!$D:$E,2,0))","v":""},null,0,null,{"$f":"IF(J94=\"\",0,(VLOOKUP(J94,'Wattage Table'!$D:$F,3,0)*N94*M94)/1000*VLOOKUP(IF(E94=\"\",$D$16,E94),ClgHtgTypeData,3,FALSE))","v":0},{"$f":"IF(OR(F94=\"\",H94=\"\"),0,IF(F94=\"80F\",Validation!W$11,(VLOOKUP(IF(D94=\"\",$D$15,D94),LtgBldgTypeData,3,FALSE)-VLOOKUP(F94,Control_Data,5)))*S94*VLOOKUP(IF(E94=\"\",$D$16,E94),ClgHtgTypeData,2,FALSE)/1000)","v":0},0,0,{"$f":"IF(ISERROR(IF(J94=\"-\",\"-\",INDEX('Wattage Table'!$F$21:$F$1229,MATCH(J94,'Wattage Table'!$D$21:$D$1229,0)))*$N94),\" \",IF(J94=\"-\",\"-\",INDEX('Wattage Table'!$F$21:$F$1229,MATCH(J94,'Wattage Table'!$D$21:$D$1229,0)))*$N94)","v":" "},{"$f":"IF(F94=\"\",\"\",IF(OR(F94=\"None\",F94=\"\",J94=\"\"),\"No\",IF(VLOOKUP(J94,'Wattage Table'!$D:$F,3,0)*N94/H94<=VLOOKUP(F94,Control_Data,3,0),\"No\",\"Yes\")))","v":""}]
[null,72,null,null,null,null,{"$f":"IF(F95=\"\",\"\",IF(F95=\"None\",\"None\",INDEX('Measure Code Summary'!$D$50:$D$53,MATCH(F95,'Measure Code Summary'!$C$50:$C$53,0),1)))","v":""},null,null,null,{"$f":"IF(J95=\"\",\"\",VLOOKUP(J95,'Wattage Table'!$D:$E,2,0))","v":""},null,0,null,{"$f":"IF(J95=\"\",0,(VLOOKUP(J95,'Wattage Table'!$D:$F,3,0)*N95*M95)/1000*VLOOKUP(IF(E95=\"\",$D$16,E95),ClgHtgTypeData,3,FALSE))","v":0},{"$f":"IF(OR(F95=\"\",H95=\"\"),0,IF(F95=\"80F\",Validation!W$11,(VLOOKUP(IF(D95=\"\",$D$15,D95),LtgBldgTypeData,3,FALSE)-VLOOKUP(F95,Control_Data,5)))*S95*VLOOKUP(IF(E95=\"\",$D$16,E95),ClgHtgTypeData,2,FALSE)/1000)","v":0},0,0,{"$f":"IF(ISERROR(IF(J95=\"-\",\"-\",INDEX('Wattage Table'!$F$21:$F$1229,MATCH(J95,'Wattage Table'!$D$21:$D$1229,0)))*$N95),\" \",IF(J95=\"-\",\"-\",INDEX('Wattage Table'!$F$21:$F$1229,MATCH(J95,'Wattage Table'!$D$21:$D$1229,0)))*$N95)","v":" "},{"$f":"IF(F95=\"\",\"\",IF(OR(F95=\"None\",F95=\"\",J95=\"\"),\"No\",IF(VLOOKUP(J95,'Wattage Table'!$D:$F,3,0)*N95/H95<=VLOOKUP(F95,Control_Data,3,0),\"No\",\"Yes\")))","v":""}]
[null,73,null,null,null,null,{"$f":"IF(F96=\"\",\"\",IF(F96=\"None\",\"None\",INDEX('Measure Code Summary'!$D$50:$D$53,MATCH(F96,'Measure Code Summary'!$C$50:$C$53,0),1)))","v":""},null,null,null,{"$f":"IF(J96=\"\",\"\",VLOOKUP(J96,'Wattage Table'!$D:$E,2,0))","v":""},null,0,null,{"$f":"IF(J96=\"\",0,(VLOOKUP(J96,'Wattage Table'!$D:$F,3,0)*N96*M96)/1000*VLOOKUP(IF(E96=\"\",$D$16,E96),ClgHtgTypeData,3,FALSE))","v":0},{"$f":"IF(OR(F96=\"\",H96=\"\"),0,IF(F96=\"80F\",Validation!W$11,(VLOOKUP(IF(D96=\"\",$D$15,D96),LtgBldgTypeData,3,FALSE)-VLOOKUP(F96,Control_Data,5)))*S96*VLOOKUP(IF(E96=\"\",$D$16,E96),ClgHtgTypeData,2,FALSE)/1000)","v":0},0,0,{"$f":"IF(ISERROR(IF(J96=\"-\",\"-\",INDEX('Wattage Table'!$F$21:$F$1229,MATCH(J96,'Wattage Table'!$D$21:$D$1229,0)))*$N96),\" \",IF(J96=\"-\",\"-\",INDEX('Wattage Table'!$F$21:$F$1229,MATCH(J96,'Wattage Table'!$D$21:$D$1229,0)))*$N96)","v":" "},{"$f":"IF(F96=\"\",\"\",IF(OR(F96=\"None\",F96=\"\",J96=\"\"),\"No\",IF(VLOOKUP(J96,'Wattage Table'!$D:$F,3,0)*N96/H96<=VLOOKUP(F96,Control_Data,3,0),\"No\",\"Yes\")))","v":""}]
[null,74,null,null,null,null,{"$f":"IF(F97=\"\",\"\",IF(F97=\"None\",\"None\",INDEX('Measure Code Summary'!$D$50:$D$53,MATCH(F97,'Measure Code Summary'!$C$50:$C$53,0),1)))","v":""},null,null,null,{"$f":"IF(J97=\"\",\"\",VLOOKUP(J97,'Wattage Table'!$D:$E,2,0))","v":""},null,0,null,{"$f":"IF(J97=\"\",0,(VLOOKUP(J97,'Wattage Table'!$D:$F,3,0)*N97*M97)/1000*VLOOKUP(IF(E97=\"\",$D$16,E97),ClgHtgTypeData,3,FALSE))","v":0},{"$f":"IF(OR(F97=\"\",H97=\"\"),0,IF(F97=\"80F\",Validation!W$11,(VLOOKUP(IF(D97=\"\",$D$15,D97),LtgBldgTypeData,3,FALSE)-VLOOKUP(F97,Control_Data,5)))*S97*VLOOKUP(IF(E97=\"\",$D$16,E97),ClgHtgTypeData,2,FALSE)/1000)","v":0},0,0,{"$f":"IF(ISERROR(IF(J97=\"-\",\"-\",INDEX('Wattage Table'!$F$21:$F$1229,MATCH(J97,'Wattage Table'!$D$21:$D$1229,0)))*$N97),\" \",IF(J97=\"-\",\"-\",INDEX('Wattage Table'!$F$21:$F$1229,MATCH(J97,'Wattage Table'!$D$21:$D$1229,0)))*$N97)","v":" "},{"$f":"IF(F97=\"\",\"\",IF(OR(F97=\"None\",F97=\"\",J97=\"\"),\"No\",IF(VLOOKUP(J97,'Wattage Table'!$D:$F,3,0)*N97/H97<=VLOOKUP(F97,Control_Data,3,0),\"No\",\"Yes\")))","v":""}]
[null,75,null,null,null,null,{"$f":"IF(F98=\"\",\"\",IF(F98=\"None\",\"None\",INDEX('Measure Code Summary'!$D$50:$D$53,MATCH(F98,'Measure Code Summary'!$C$50:$C$53,0),1)))","v":""},null,null,null,{"$f":"IF(J98=\"\",\"\",VLOOKUP(J98,'Wattage Table'!$D:$E,2,0))","v":""},null,0,null,{"$f":"IF(J98=\"\",0,(VLOOKUP(J98,'Wattage Table'!$D:$F,3,0)*N98*M98)/1000*VLOOKUP(IF(E98=\"\",$D$16,E98),ClgHtgTypeData,3,FALSE))","v":0},{"$f":"IF(OR(F98=\"\",H98=\"\"),0,IF(F98=\"80F\",Validation!W$11,(VLOOKUP(IF(D98=\"\",$D$15,D98),LtgBldgTypeData,3,FALSE)-VLOOKUP(F98,Control_Data,5)))*S98*VLOOKUP(IF(E98=\"\",$D$16,E98),ClgHtgTypeData,2,FALSE)/1000)","v":0},0,0,{"$f":"IF(ISERROR(IF(J98=\"-\",\"-\",INDEX('Wattage Table'!$F$21:$F$1229,MATCH(J98,'Wattage Table'!$D$21:$D$1229,0)))*$N98),\" \",IF(J98=\"-\",\"-\",INDEX('Wattage Table'!$F$21:$F$1229,MATCH(J98,'Wattage Table'!$D$21:$D$1229,0)))*$N98)","v":" "},{"$f":"IF(F98=\"\",\"\",IF(OR(F98=\"None\",F98=\"\",J98=\"\"),\"No\",IF(VLOOKUP(J98,'Wattage Table'!$D:$F,3,0)*N98/H98<=VLOOKUP(F98,Control_Data,3,0),\"No\",\"Yes\")))","v":""}]
[null,76,null,null,null,null,{"$f":"IF(F99=\"\",\"\",IF(F99=\"None\",\"None\",INDEX('Measure Code Summary'!$D$50:$D$53,MATCH(F99,'Measure Code Summary'!$C$50:$C$53,0),1)))","v":""},null,null,null,{"$f":"IF(J99=\"\",\"\",VLOOKUP(J99,'Wattage Table'!$D:$E,2,0))","v":""},null,0,null,{"$f":"IF(J99=\"\",0,(VLOOKUP(J99,'Wattage Table'!$D:$F,3,0)*N99*M99)/1000*VLOOKUP(IF(E99=\"\",$D$16,E99),ClgHtgTypeData,3,FALSE))","v":0},{"$f":"IF(OR(F99=\"\",H99=\"\"),0,IF(F99=\"80F\",Validation!W$11,(VLOOKUP(IF(D99=\"\",$D$15,D99),LtgBldgTypeData,3,FALSE)-VLOOKUP(F99,Control_Data,5)))*S99*VLOOKUP(IF(E99=\"\",$D$16,E99),ClgHtgTypeData,2,FALSE)/1000)","v":0},0,0,{"$f":"IF(ISERROR(IF(J99=\"-\",\"-\",INDEX('Wattage Table'!$F$21:$F$1229,MATCH(J99,'Wattage Table'!$D$21:$D$1229,0)))*$N99),\" \",IF(J99=\"-\",\"-\",INDEX('Wattage Table'!$F$21:$F$1229,MATCH(J99,'Wattage Table'!$D$21:$D$1229,0)))*$N99)","v":" "},{"$f":"IF(F99=\"\",\"\",IF(OR(F99=\"None\",F99=\"\",J99=\"\"),\"No\",IF(VLOOKUP(J99,'Wattage Table'!$D:$F,3,0)*N99/H99<=VLOOKUP(F99,Control_Data,3,0),\"No\",\"Yes\")))","v":""}]
[null,77,null,null,null,null,{"$f":"IF(F100=\"\",\"\",IF(F100=\"None\",\"None\",INDEX('Measure Code Summary'!$D$50:$D$53,MATCH(F100,'Measure Code Summary'!$C$50:$C$53,0),1)))","v":""},null,null,null,{"$f":"IF(J100=\"\",\"\",VLOOKUP(J100,'Wattage Table'!$D:$E,2,0))","v":""},null,0,null,{"$f":"IF(J100=\"\",0,(VLOOKUP(J100,'Wattage Table'!$D:$F,3,0)*N100*M100)/1000*VLOOKUP(IF(E100=\"\",$D$16,E100),ClgHtgTypeData,3,FALSE))","v":0},{"$f":"IF(OR(F100=\"\",H100=\"\"),0,IF(F100=\"80F\",Validation!W$11,(VLOOKUP(IF(D100=\"\",$D$15,D100),LtgBldgTypeData,3,FALSE)-VLOOKUP(F100,Control_Data,5)))*S100*VLOOKUP(IF(E100=\"\",$D$16,E100),ClgHtgTypeData,2,FALSE)/1000)","v":0},0,0,{"$f":"IF(ISERROR(IF(J100=\"-\",\"-\",INDEX('Wattage Table'!$F$21:$F$1229,MATCH(J100,'Wattage Table'!$D$21:$D$1229,0)))*$N100),\" \",IF(J100=\"-\",\"-\",INDEX('Wattage Table'!$F$21:$F$1229,MATCH(J100,'Wattage Table'!$D$21:$D$1229,0)))*$N100)","v":" "},{"$f":"IF(F100=\"\",\"\",IF(OR(F100=\"None\",F100=\"\",J100=\"\"),\"No\",IF(VLOOKUP(J100,'Wattage Table'!$D:$F,3,0)*N100/H100<=VLOOKUP(F100,Control_Data,3,0),\"No\",\"Yes\")))","v":""}]
[null,78,null,null,null,null,{"$f":"IF(F101=\"\",\"\",IF(F101=\"None\",\"None\",INDEX('Measure Code Summary'!$D$50:$D$53,MATCH(F101,'Measure Code Summary'!$C$50:$C$53,0),1)))","v":""},null,null,null,{"$f":"IF(J101=\"\",\"\",VLOOKUP(J101,'Wattage Table'!$D:$E,2,0))","v":""},null,0,null,{"$f":"IF(J101=\"\",0,(VLOOKUP(J101,'Wattage Table'!$D:$F,3,0)*N101*M101)/1000*VLOOKUP(IF(E101=\"\",$D$16,E101),ClgHtgTypeData,3,FALSE))","v":0},{"$f":"IF(OR(F101=\"\",H101=\"\"),0,IF(F101=\"80F\",Validation!W$11,(VLOOKUP(IF(D101=\"\",$D$15,D101),LtgBldgTypeData,3,FALSE)-VLOOKUP(F101,Control_Data,5)))*S101*VLOOKUP(IF(E101=\"\",$D$16,E101),ClgHtgTypeData,2,FALSE)/1000)","v":0},0,0,{"$f":"IF(ISERROR(IF(J101=\"-\",\"-\",INDEX('Wattage Table'!$F$21:$F$1229,MATCH(J101,'Wattage Table'!$D$21:$D$1229,0)))*$N101),\" \",IF(J101=\"-\",\"-\",INDEX('Wattage Table'!$F$21:$F$1229,MATCH(J101,'Wattage Table'!$D$21:$D$1229,0)))*$N101)","v":" "},{"$f":"IF(F101=\"\",\"\",IF(OR(F101=\"None\",F101=\"\",J101=\"\"),\"No\",IF(VLOOKUP(J101,'Wattage Table'!$D:$F,3,0)*N101/H101<=VLOOKUP(F101,Control_Data,3,0),\"No\",\"Yes\")))","v":""}]
[null,79,null,null,null,null,{"$f":"IF(F102=\"\",\"\",IF(F102=\"None\",\"None\",INDEX('Measure Code Summary'!$D$50:$D$53,MATCH(F102,'Measure Code Summary'!$C$50:$C$53,0),1)))","v":""},null,null,null,{"$f":"IF(J102=\"\",\"\",VLOOKUP(J102,'Wattage Table'!$D:$E,2,0))","v":""},null,0,null,{"$f":"IF(J102=\"\",0,(VLOOKUP(J102,'Wattage Table'!$D:$F,3,0)*N102*M102)/1000*VLOOKUP(IF(E102=\"\",$D$16,E102),ClgHtgTypeData,3,FALSE))","v":0},{"$f":"IF(OR(F102=\"\",H102=\"\"),0,IF(F102=\"80F\",Validation!W$11,(VLOOKUP(IF(D102=\"\",$D$15,D102),LtgBldgTypeData,3,FALSE)-VLOOKUP(F102,Control_Data,5)))*S102*VLOOKUP(IF(E102=\"\",$D$16,E102),ClgHtgTypeData,2,FALSE)/1000)","v":0},0,0,{"$f":"IF(ISERROR(IF(J102=\"-\",\"-\",INDEX('Wattage Table'!$F$21:$F$1229,MATCH(J102,'Wattage Table'!$D$21:$D$1229,0)))*$N102),\" \",IF(J102=\"-\",\"-\",INDEX('Wattage Table'!$F$21:$F$1229,MATCH(J102,'Wattage Table'!$D$21:$D$1229,0)))*$N102)","v":" "},{"$f":"IF(F102=\"\",\"\",IF(OR(F102=\"None\",F102=\"\",J102=\"\"),\"No\",IF(VLOOKUP(J102,'Wattage Table'!$D:$F,3,0)*N102/H102<=VLOOKUP(F102,Control_Data,3,0),\"No\",\"Yes\")))","v":""}]
[null,80,null,null,null,null,{"$f":"IF(F103=\"\",\"\",IF(F103=\"None\",\"None\",INDEX('Measure Code Summary'!$D$50:$D$53,MATCH(F103,'Measure Code Summary'!$C$50:$C$53,0),1)))","v":""},null,null,null,{"$f":"IF(J103=\"\",\"\",VLOOKUP(J103,'Wattage Table'!$D:$E,2,0))","v":""},null,0,null,{"$f":"IF(J103=\"\",0,(VLOOKUP(J103,'Wattage Table'!$D:$F,3,0)*N103*M103)/1000*VLOOKUP(IF(E103=\"\",$D$16,E103),ClgHtgTypeData,3,FALSE))","v":0},{"$f":"IF(OR(F103=\"\",H103=\"\"),0,IF(F103=\"80F\",Validation!W$11,(VLOOKUP(IF(D103=\"\",$D$15,D103),LtgBldgTypeData,3,FALSE)-VLOOKUP(F103,Control_Data,5)))*S103*VLOOKUP(IF(E103=\"\",$D$16,E103),ClgHtgTypeData,2,FALSE)/1000)","v":0},0,0,{"$f":"IF(ISERROR(IF(J103=\"-\",\"-\",INDEX('Wattage Table'!$F$21:$F$1229,MATCH(J103,'Wattage Table'!$D$21:$D$1229,0)))*$N103),\" \",IF(J103=\"-\",\"-\",INDEX('Wattage Table'!$F$21:$F$1229,MATCH(J103,'Wattage Table'!$D$21:$D$1229,0)))*$N103)","v":" "},{"$f":"IF(F103=\"\",\"\",IF(OR(F103=\"None\",F103=\"\",J103=\"\"),\"No\",IF(VLOOKUP(J103,'Wattage Table'!$D:$F,3,0)*N103/H103<=VLOOKUP(F103,Control_Data,3,0),\"No\",\"Yes\")))","v":""}]
[null,81,null,null,null,null,{"$f":"IF(F104=\"\",\"\",IF(F104=\"None\",\"None\",INDEX('Measure Code Summary'!$D$50:$D$53,MATCH(F104,'Measure Code Summary'!$C$50:$C$53,0),1)))","v":""},null,null,null,{"$f":"IF(J104=\"\",\"\",VLOOKUP(J104,'Wattage Table'!$D:$E,2,0))","v":""},null,0,null,{"$f":"IF(J104=\"\",0,(VLOOKUP(J104,'Wattage Table'!$D:$F,3,0)*N104*M104)/1000*VLOOKUP(IF(E104=\"\",$D$16,E104),ClgHtgTypeData,3,FALSE))","v":0},{"$f":"IF(OR(F104=\"\",H104=\"\"),0,IF(F104=\"80F\",Validation!W$11,(VLOOKUP(IF(D104=\"\",$D$15,D104),LtgBldgTypeData,3,FALSE)-VLOOKUP(F104,Control_Data,5)))*S104*VLOOKUP(IF(E104=\"\",$D$16,E104),ClgHtgTypeData,2,FALSE)/1000)","v":0},0,0,{"$f":"IF(ISERROR(IF(J104=\"-\",\"-\",INDEX('Wattage Table'!$F$21:$F$1229,MATCH(J104,'Wattage Table'!$D$21:$D$1229,0)))*$N104),\" \",IF(J104=\"-\",\"-\",INDEX('Wattage Table'!$F$21:$F$1229,MATCH(J104,'Wattage Table'!$D$21:$D$1229,0)))*$N104)","v":" "},{"$f":"IF(F104=\"\",\"\",IF(OR(F104=\"None\",F104=\"\",J104=\"\"),\"No\",IF(VLOOKUP(J104,'Wattage Table'!$D:$F,3,0)*N104/H104<=VLOOKUP(F104,Control_Data,3,0),\"No\",\"Yes\")))","v":""}]
[null,82,null,null,null,null,{"$f":"IF(F105=\"\",\"\",IF(F105=\"None\",\"None\",INDEX('Measure Code Summary'!$D$50:$D$53,MATCH(F105,'Measure Code Summary'!$C$50:$C$53,0),1)))","v":""},null,null,null,{"$f":"IF(J105=\"\",\"\",VLOOKUP(J105,'Wattage Table'!$D:$E,2,0))","v":""},null,0,null,{"$f":"IF(J105=\"\",0,(VLOOKUP(J105,'Wattage Table'!$D:$F,3,0)*N105*M105)/1000*VLOOKUP(IF(E105=\"\",$D$16,E105),ClgHtgTypeData,3,FALSE))","v":0},{"$f":"IF(OR(F105=\"\",H105=\"\"),0,IF(F105=\"80F\",Validation!W$11,(VLOOKUP(IF(D105=\"\",$D$15,D105),LtgBldgTypeData,3,FALSE)-VLOOKUP(F105,Control_Data,5)))*S105*VLOOKUP(IF(E105=\"\",$D$16,E105),ClgHtgTypeData,2,FALSE)/1000)","v":0},0,0,{"$f":"IF(ISERROR(IF(J105=\"-\",\"-\",INDEX('Wattage Table'!$F$21:$F$1229,MATCH(J105,'Wattage Table'!$D$21:$D$1229,0)))*$N105),\" \",IF(J105=\"-\",\"-\",INDEX('Wattage Table'!$F$21:$F$1229,MATCH(J105,'Wattage Table'!$D$21:$D$1229,0)))*$N105)","v":" "},{"$f":"IF(F105=\"\",\"\",IF(OR(F105=\"None\",F105=\"\",J105=\"\"),\"No\",IF(VLOOKUP(J105,'Wattage Table'!$D:$F,3,0)*N105/H105<=VLOOKUP(F105,Control_Data,3,0),\"No\",\"Yes\")))","v":""}]
[null,83,null,null,null,null,{"$f":"IF(F106=\"\",\"\",IF(F106=\"None\",\"None\",INDEX('Measure Code Summary'!$D$50:$D$53,MATCH(F106,'Measure Code Summary'!$C$50:$C$53,0),1)))","v":""},null,null,null,{"$f":"IF(J106=\"\",\"\",VLOOKUP(J106,'Wattage Table'!$D:$E,2,0))","v":""},null,0,null,{"$f":"IF(J106=\"\",0,(VLOOKUP(J106,'Wattage Table'!$D:$F,3,0)*N106*M106)/1000*VLOOKUP(IF(E106=\"\",$D$16,E106),ClgHtgTypeData,3,FALSE))","v":0},{"$f":"IF(OR(F106=\"\",H106=\"\"),0,IF(F106=\"80F\",Validation!W$11,(VLOOKUP(IF(D106=\"\",$D$15,D106),LtgBldgTypeData,3,FALSE)-VLOOKUP(F106,Control_Data,5)))*S106*VLOOKUP(IF(E106=\"\",$D$16,E106),ClgHtgTypeData,2,FALSE)/1000)","v":0},0,0,{"$f":"IF(ISERROR(IF(J106=\"-\",\"-\",INDEX('Wattage Table'!$F$21:$F$1229,MATCH(J106,'Wattage Table'!$D$21:$D$1229,0)))*$N106),\" \",IF(J106=\"-\",\"-\",INDEX('Wattage Table'!$F$21:$F$1229,MATCH(J106,'Wattage Table'!$D$21:$D$1229,0)))*$N106)","v":" "},{"$f":"IF(F106=\"\",\"\",IF(OR(F106=\"None\",F106=\"\",J106=\"\"),\"No\",IF(VLOOKUP(J106,'Wattage Table'!$D:$F,3,0)*N106/H106<=VLOOKUP(F106,Control_Data,3,0),\"No\",\"Yes\")))","v":""}]
[null,84,null,null,null,null,{"$f":"IF(F107=\"\",\"\",IF(F107=\"None\",\"None\",INDEX('Measure Code Summary'!$D$50:$D$53,MATCH(F107,'Measure Code Summary'!$C$50:$C$53,0),1)))","v":""},null,null,null,{"$f":"IF(J107=\"\",\"\",VLOOKUP(J107,'Wattage Table'!$D:$E,2,0))","v":""},null,0,null,{"$f":"IF(J107=\"\",0,(VLOOKUP(J107,'Wattage Table'!$D:$F,3,0)*N107*M107)/1000*VLOOKUP(IF(E107=\"\",$D$16,E107),ClgHtgTypeData,3,FALSE))","v":0},{"$f":"IF(OR(F107=\"\",H107=\"\"),0,IF(F107=\"80F\",Validation!W$11,(VLOOKUP(IF(D107=\"\",$D$15,D107),LtgBldgTypeData,3,FALSE)-VLOOKUP(F107,Control_Data,5)))*S107*VLOOKUP(IF(E107=\"\",$D$16,E107),ClgHtgTypeData,2,FALSE)/1000)","v":0},0,0,{"$f":"IF(ISERROR(IF(J107=\"-\",\"-\",INDEX('Wattage Table'!$F$21:$F$1229,MATCH(J107,'Wattage Table'!$D$21:$D$1229,0)))*$N107),\" \",IF(J107=\"-\",\"-\",INDEX('Wattage Table'!$F$21:$F$1229,MATCH(J107,'Wattage Table'!$D$21:$D$1229,0)))*$N107)","v":" "},{"$f":"IF(F107=\"\",\"\",IF(OR(F107=\"None\",F107=\"\",J107=\"\"),\"No\",IF(VLOOKUP(J107,'Wattage Table'!$D:$F,3,0)*N107/H107<=VLOOKUP(F107,Control_Data,3,0),\"No\",\"Yes\")))","v":""}]
[null,85,null,null,null,null,{"$f":"IF(F108=\"\",\"\",IF(F108=\"None\",\"None\",INDEX('Measure Code Summary'!$D$50:$D$53,MATCH(F108,'Measure Code Summary'!$C$50:$C$53,0),1)))","v":""},null,null,null,{"$f":"IF(J108=\"\",\"\",VLOOKUP(J108,'Wattage Table'!$D:$E,2,0))","v":""},null,0,null,{"$f":"IF(J108=\"\",0,(VLOOKUP(J108,'Wattage Table'!$D:$F,3,0)*N108*M108)/1000*VLOOKUP(IF(E108=\"\",$D$16,E108),ClgHtgTypeData,3,FALSE))","v":0},{"$f":"IF(OR(F108=\"\",H108=\"\"),0,IF(F108=\"80F\",Validation!W$11,(VLOOKUP(IF(D108=\"\",$D$15,D108),LtgBldgTypeData,3,FALSE)-VLOOKUP(F108,Control_Data,5)))*S108*VLOOKUP(IF(E108=\"\",$D$16,E108),ClgHtgTypeData,2,FALSE)/1000)","v":0},0,0,{"$f":"IF(ISERROR(IF(J108=\"-\",\"-\",INDEX('Wattage Table'!$F$21:$F$1229,MATCH(J108,'Wattage Table'!$D$21:$D$1229,0)))*$N108),\" \",IF(J108=\"-\",\"-\",INDEX('Wattage Table'!$F$21:$F$1229,MATCH(J108,'Wattage Table'!$D$21:$D$1229,0)))*$N108)","v":" "},{"$f":"IF(F108=\"\",\"\",IF(OR(F108=\"None\",F108=\"\",J108=\"\"),\"No\",IF(VLOOKUP(J108,'Wattage Table'!$D:$F,3,0)*N108/H108<=VLOOKUP(F108,Control_Data,3,0),\"No\",\"Yes\")))","v":""}]
[null,86,null,null,null,null,{"$f":"IF(F109=\"\",\"\",IF(F109=\"None\",\"None\",INDEX('Measure Code Summary'!$D$50:$D$53,MATCH(F109,'Measure Code Summary'!$C$50:$C$53,0),1)))","v":""},null,null,null,{"$f":"IF(J109=\"\",\"\",VLOOKUP(J109,'Wattage Table'!$D:$E,2,0))","v":""},null,0,null,{"$f":"IF(J109=\"\",0,(VLOOKUP(J109,'Wattage Table'!$D:$F,3,0)*N109*M109)/1000*VLOOKUP(IF(E109=\"\",$D$16,E109),ClgHtgTypeData,3,FALSE))","v":0},{"$f":"IF(OR(F109=\"\",H109=\"\"),0,IF(F109=\"80F\",Validation!W$11,(VLOOKUP(IF(D109=\"\",$D$15,D109),LtgBldgTypeData,3,FALSE)-VLOOKUP(F109,Control_Data,5)))*S109*VLOOKUP(IF(E109=\"\",$D$16,E109),ClgHtgTypeData,2,FALSE)/1000)","v":0},0,0,{"$f":"IF(ISERROR(IF(J109=\"-\",\"-\",INDEX('Wattage Table'!$F$21:$F$1229,MATCH(J109,'Wattage Table'!$D$21:$D$1229,0)))*$N109),\" \",IF(J109=\"-\",\"-\",INDEX('Wattage Table'!$F$21:$F$1229,MATCH(J109,'Wattage Table'!$D$21:$D$1229,0)))*$N109)","v":" "},{"$f":"IF(F109=\"\",\"\",IF(OR(F109=\"None\",F109=\"\",J109=\"\"),\"No\",IF(VLOOKUP(J109,'Wattage Table'!$D:$F,3,0)*N109/H109<=VLOOKUP(F109,Control_Data,3,0),\"No\",\"Yes\")))","v":""}]
[null,87,null,null,null,null,{"$f":"IF(F110=\"\",\"\",IF(F110=\"None\",\"None\",INDEX('Measure Code Summary'!$D$50:$D$53,MATCH(F110,'Measure Code Summary'!$C$50:$C$53,0),1)))","v":""},null,null,null,{"$f":"IF(J110=\"\",\"\",VLOOKUP(J110,'Wattage Table'!$D:$E,2,0))","v":""},null,0,null,{"$f":"IF(J110=\"\",0,(VLOOKUP(J110,'Wattage Table'!$D:$F,3,0)*N110*M110)/1000*VLOOKUP(IF(E110=\"\",$D$16,E110),ClgHtgTypeData,3,FALSE))","v":0},{"$f":"IF(OR(F110=\"\",H110=\"\"),0,IF(F110=\"80F\",Validation!W$11,(VLOOKUP(IF(D110=\"\",$D$15,D110),LtgBldgTypeData,3,FALSE)-VLOOKUP(F110,Control_Data,5)))*S110*VLOOKUP(IF(E110=\"\",$D$16,E110),ClgHtgTypeData,2,FALSE)/1000)","v":0},0,0,{"$f":"IF(ISERROR(IF(J110=\"-\",\"-\",INDEX('Wattage Table'!$F$21:$F$1229,MATCH(J110,'Wattage Table'!$D$21:$D$1229,0)))*$N110),\" \",IF(J110=\"-\",\"-\",INDEX('Wattage Table'!$F$21:$F$1229,MATCH(J110,'Wattage Table'!$D$21:$D$1229,0)))*$N110)","v":" "},{"$f":"IF(F110=\"\",\"\",IF(OR(F110=\"None\",F110=\"\",J110=\"\"),\"No\",IF(VLOOKUP(J110,'Wattage Table'!$D:$F,3,0)*N110/H110<=VLOOKUP(F110,Control_Data,3,0),\"No\",\"Yes\")))","v":""}]
[null,88,null,null,null,null,{"$f":"IF(F111=\"\",\"\",IF(F111=\"None\",\"None\",INDEX('Measure Code Summary'!$D$50:$D$53,MATCH(F111,'Measure Code Summary'!$C$50:$C$53,0),1)))","v":""},null,null,null,{"$f":"IF(J111=\"\",\"\",VLOOKUP(J111,'Wattage Table'!$D:$E,2,0))","v":""},null,0,null,{"$f":"IF(J111=\"\",0,(VLOOKUP(J111,'Wattage Table'!$D:$F,3,0)*N111*M111)/1000*VLOOKUP(IF(E111=\"\",$D$16,E111),ClgHtgTypeData,3,FALSE))","v":0},{"$f":"IF(OR(F111=\"\",H111=\"\"),0,IF(F111=\"80F\",Validation!W$11,(VLOOKUP(IF(D111=\"\",$D$15,D111),LtgBldgTypeData,3,FALSE)-VLOOKUP(F111,Control_Data,5)))*S111*VLOOKUP(IF(E111=\"\",$D$16,E111),ClgHtgTypeData,2,FALSE)/1000)","v":0},0,0,{"$f":"IF(ISERROR(IF(J111=\"-\",\"-\",INDEX('Wattage Table'!$F$21:$F$1229,MATCH(J111,'Wattage Table'!$D$21:$D$1229,0)))*$N111),\" \",IF(J111=\"-\",\"-\",INDEX('Wattage Table'!$F$21:$F$1229,MATCH(J111,'Wattage Table'!$D$21:$D$1229,0)))*$N111)","v":" "},{"$f":"IF(F111=\"\",\"\",IF(OR(F111=\"None\",F111=\"\",J111=\"\"),\"No\",IF(VLOOKUP(J111,'Wattage Table'!$D:$F,3,0)*N111/H111<=VLOOKUP(F111,Control_Data,3,0),\"No\",\"Yes\")))","v":""}]
[null,89,null,null,null,null,{"$f":"IF(F112=\"\",\"\",IF(F112=\"None\",\"None\",INDEX('Measure Code Summary'!$D$50:$D$53,MATCH(F112,'Measure Code Summary'!$C$50:$C$53,0),1)))","v":""},null,null,null,{"$f":"IF(J112=\"\",\"\",VLOOKUP(J112,'Wattage Table'!$D:$E,2,0))","v":""},null,0,null,{"$f":"IF(J112=\"\",0,(VLOOKUP(J112,'Wattage Table'!$D:$F,3,0)*N112*M112)/1000*VLOOKUP(IF(E112=\"\",$D$16,E112),ClgHtgTypeData,3,FALSE))","v":0},{"$f":"IF(OR(F112=\"\",H112=\"\"),0,IF(F112=\"80F\",Validation!W$11,(VLOOKUP(IF(D112=\"\",$D$15,D112),LtgBldgTypeData,3,FALSE)-VLOOKUP(F112,Control_Data,5)))*S112*VLOOKUP(IF(E112=\"\",$D$16,E112),ClgHtgTypeData,2,FALSE)/1000)","v":0},0,0,{"$f":"IF(ISERROR(IF(J112=\"-\",\"-\",INDEX('Wattage Table'!$F$21:$F$1229,MATCH(J112,'Wattage Table'!$D$21:$D$1229,0)))*$N112),\" \",IF(J112=\"-\",\"-\",INDEX('Wattage Table'!$F$21:$F$1229,MATCH(J112,'Wattage Table'!$D$21:$D$1229,0)))*$N112)","v":" "},{"$f":"IF(F112=\"\",\"\",IF(OR(F112=\"None\",F112=\"\",J112=\"\"),\"No\",IF(VLOOKUP(J112,'Wattage Table'!$D:$F,3,0)*N112/H112<=VLOOKUP(F112,Control_Data,3,0),\"No\",\"Yes\")))","v":""}]
[null,90,null,null,null,null,{"$f":"IF(F113=\"\",\"\",IF(F113=\"None\",\"None\",INDEX('Measure Code Summary'!$D$50:$D$53,MATCH(F113,'Measure Code Summary'!$C$50:$C$53,0),1)))","v":""},null,null,null,{"$f":"IF(J113=\"\",\"\",VLOOKUP(J113,'Wattage Table'!$D:$E,2,0))","v":""},null,0,null,{"$f":"IF(J113=\"\",0,(VLOOKUP(J113,'Wattage Table'!$D:$F,3,0)*N113*M113)/1000*VLOOKUP(IF(E113=\"\",$D$16,E113),ClgHtgTypeData,3,FALSE))","v":0},{"$f":"IF(OR(F113=\"\",H113=\"\"),0,IF(F113=\"80F\",Validation!W$11,(VLOOKUP(IF(D113=\"\",$D$15,D113),LtgBldgTypeData,3,FALSE)-VLOOKUP(F113,Control_Data,5)))*S113*VLOOKUP(IF(E113=\"\",$D$16,E113),ClgHtgTypeData,2,FALSE)/1000)","v":0},0,0,{"$f":"IF(ISERROR(IF(J113=\"-\",\"-\",INDEX('Wattage Table'!$F$21:$F$1229,MATCH(J113,'Wattage Table'!$D$21:$D$1229,0)))*$N113),\" \",IF(J113=\"-\",\"-\",INDEX('Wattage Table'!$F$21:$F$1229,MATCH(J113,'Wattage Table'!$D$21:$D$1229,0)))*$N113)","v":" "},{"$f":"IF(F113=\"\",\"\",IF(OR(F113=\"None\",F113=\"\",J113=\"\"),\"No\",IF(VLOOKUP(J113,'Wattage Table'!$D:$F,3,0)*N113/H113<=VLOOKUP(F113,Control_Data,3,0),\"No\",\"Yes\")))","v":""}]
[null,91,null,null,null,null,{"$f":"IF(F114=\"\",\"\",IF(F114=\"None\",\"None\",INDEX('Measure Code Summary'!$D$50:$D$53,MATCH(F114,'Measure Code Summary'!$C$50:$C$53,0),1)))","v":""},null,null,null,{"$f":"IF(J114=\"\",\"\",VLOOKUP(J114,'Wattage Table'!$D:$E,2,0))","v":""},null,0,null,{"$f":"IF(J114=\"\",0,(VLOOKUP(J114,'Wattage Table'!$D:$F,3,0)*N114*M114)/1000*VLOOKUP(IF(E114=\"\",$D$16,E114),ClgHtgTypeData,3,FALSE))","v":0},{"$f":"IF(OR(F114=\"\",H114=\"\"),0,IF(F114=\"80F\",Validation!W$11,(VLOOKUP(IF(D114=\"\",$D$15,D114),LtgBldgTypeData,3,FALSE)-VLOOKUP(F114,Control_Data,5)))*S114*VLOOKUP(IF(E114=\"\",$D$16,E114),ClgHtgTypeData,2,FALSE)/1000)","v":0},0,0,{"$f":"IF(ISERROR(IF(J114=\"-\",\"-\",INDEX('Wattage Table'!$F$21:$F$1229,MATCH(J114,'Wattage Table'!$D$21:$D$1229,0)))*$N114),\" \",IF(J114=\"-\",\"-\",INDEX('Wattage Table'!$F$21:$F$1229,MATCH(J114,'Wattage Table'!$D$21:$D$1229,0)))*$N114)","v":" "},{"$f":"IF(F114=\"\",\"\",IF(OR(F114=\"None\",F114=\"\",J114=\"\"),\"No\",IF(VLOOKUP(J114,'Wattage Table'!$D:$F,3,0)*N114/H114<=VLOOKUP(F114,Control_Data,3,0),\"No\",\"Yes\")))","v":""}]
[null,92,null,null,null,null,{"$f":"IF(F115=\"\",\"\",IF(F115=\"None\",\"None\",INDEX('Measure Code Summary'!$D$50:$D$53,MATCH(F115,'Measure Code Summary'!$C$50:$C$53,0),1)))","v":""},null,null,null,{"$f":"IF(J115=\"\",\"\",VLOOKUP(J115,'Wattage Table'!$D:$E,2,0))","v":""},null,0,null,{"$f":"IF(J115=\"\",0,(VLOOKUP(J115,'Wattage Table'!$D:$F,3,0)*N115*M115)/1000*VLOOKUP(IF(E115=\"\",$D$16,E115),ClgHtgTypeData,3,FALSE))","v":0},{"$f":"IF(OR(F115=\"\",H115=\"\"),0,IF(F115=\"80F\",Validation!W$11,(VLOOKUP(IF(D115=\"\",$D$15,D115),LtgBldgTypeData,3,FALSE)-VLOOKUP(F115,Control_Data,5)))*S115*VLOOKUP(IF(E115=\"\",$D$16,E115),ClgHtgTypeData,2,FALSE)/1000)","v":0},0,0,{"$f":"IF(ISERROR(IF(J115=\"-\",\"-\",INDEX('Wattage Table'!$F$21:$F$1229,MATCH(J115,'Wattage Table'!$D$21:$D$1229,0)))*$N115),\" \",IF(J115=\"-\",\"-\",INDEX('Wattage Table'!$F$21:$F$1229,MATCH(J115,'Wattage Table'!$D$21:$D$1229,0)))*$N115)","v":" "},{"$f":"IF(F115=\"\",\"\",IF(OR(F115=\"None\",F115=\"\",J115=\"\"),\"No\",IF(VLOOKUP(J115,'Wattage Table'!$D:$F,3,0)*N115/H115<=VLOOKUP(F115,Control_Data,3,0),\"No\",\"Yes\")))","v":""}]
[null,93,null,null,null,null,{"$f":"IF(F116=\"\",\"\",IF(F116=\"None\",\"None\",INDEX('Measure Code Summary'!$D$50:$D$53,MATCH(F116,'Measure Code Summary'!$C$50:$C$53,0),1)))","v":""},null,null,null,{"$f":"IF(J116=\"\",\"\",VLOOKUP(J116,'Wattage Table'!$D:$E,2,0))","v":""},null,0,null,{"$f":"IF(J116=\"\",0,(VLOOKUP(J116,'Wattage Table'!$D:$F,3,0)*N116*M116)/1000*VLOOKUP(IF(E116=\"\",$D$16,E116),ClgHtgTypeData,3,FALSE))","v":0},{"$f":"IF(OR(F116=\"\",H116=\"\"),0,IF(F116=\"80F\",Validation!W$11,(VLOOKUP(IF(D116=\"\",$D$15,D116),LtgBldgTypeData,3,FALSE)-VLOOKUP(F116,Control_Data,5)))*S116*VLOOKUP(IF(E116=\"\",$D$16,E116),ClgHtgTypeData,2,FALSE)/1000)","v":0},0,0,{"$f":"IF(ISERROR(IF(J116=\"-\",\"-\",INDEX('Wattage Table'!$F$21:$F$1229,MATCH(J116,'Wattage Table'!$D$21:$D$1229,0)))*$N116),\" \",IF(J116=\"-\",\"-\",INDEX('Wattage Table'!$F$21:$F$1229,MATCH(J116,'Wattage Table'!$D$21:$D$1229,0)))*$N116)","v":" "},{"$f":"IF(F116=\"\",\"\",IF(OR(F116=\"None\",F116=\"\",J116=\"\"),\"No\",IF(VLOOKUP(J116,'Wattage Table'!$D:$F,3,0)*N116/H116<=VLOOKUP(F116,Control_Data,3,0),\"No\",\"Yes\")))","v":""}]
[null,94,null,null,null,null,{"$f":"IF(F117=\"\",\"\",IF(F117=\"None\",\"None\",INDEX('Measure Code Summary'!$D$50:$D$53,MATCH(F117,'Measure Code Summary'!$C$50:$C$53,0),1)))","v":""},null,null,null,{"$f":"IF(J117=\"\",\"\",VLOOKUP(J117,'Wattage Table'!$D:$E,2,0))","v":""},null,0,null,{"$f":"IF(J117=\"\",0,(VLOOKUP(J117,'Wattage Table'!$D:$F,3,0)*N117*M117)/1000*VLOOKUP(IF(E117=\"\",$D$16,E117),ClgHtgTypeData,3,FALSE))","v":0},{"$f":"IF(OR(F117=\"\",H117=\"\"),0,IF(F117=\"80F\",Validation!W$11,(VLOOKUP(IF(D117=\"\",$D$15,D117),LtgBldgTypeData,3,FALSE)-VLOOKUP(F117,Control_Data,5)))*S117*VLOOKUP(IF(E117=\"\",$D$16,E117),ClgHtgTypeData,2,FALSE)/1000)","v":0},0,0,{"$f":"IF(ISERROR(IF(J117=\"-\",\"-\",INDEX('Wattage Table'!$F$21:$F$1229,MATCH(J117,'Wattage Table'!$D$21:$D$1229,0)))*$N117),\" \",IF(J117=\"-\",\"-\",INDEX('Wattage Table'!$F$21:$F$1229,MATCH(J117,'Wattage Table'!$D$21:$D$1229,0)))*$N117)","v":" "},{"$f":"IF(F117=\"\",\"\",IF(OR(F117=\"None\",F117=\"\",J117=\"\"),\"No\",IF(VLOOKUP(J117,'Wattage Table'!$D:$F,3,0)*N117/H117<=VLOOKUP(F117,Control_Data,3,0),\"No\",\"Yes\")))","v":""}]
[null,95,null,null,null,null,{"$f":"IF(F118=\"\",\"\",IF(F118=\"None\",\"None\",INDEX('Measure Code Summary'!$D$50:$D$53,MATCH(F118,'Measure Code Summary'!$C$50:$C$53,0),1)))","v":""},null,null,null,{"$f":"IF(J118=\"\",\"\",VLOOKUP(J118,'Wattage Table'!$D:$E,2,0))","v":""},null,0,null,{"$f":"IF(J118=\"\",0,(VLOOKUP(J118,'Wattage Table'!$D:$F,3,0)*N118*M118)/1000*VLOOKUP(IF(E118=\"\",$D$16,E118),ClgHtgTypeData,3,FALSE))","v":0},{"$f":"IF(OR(F118=\"\",H118=\"\"),0,IF(F118=\"80F\",Validation!W$11,(VLOOKUP(IF(D118=\"\",$D$15,D118),LtgBldgTypeData,3,FALSE)-VLOOKUP(F118,Control_Data,5)))*S118*VLOOKUP(IF(E118=\"\",$D$16,E118),ClgHtgTypeData,2,FALSE)/1000)","v":0},0,0,{"$f":"IF(ISERROR(IF(J118=\"-\",\"-\",INDEX('Wattage Table'!$F$21:$F$1229,MATCH(J118,'Wattage Table'!$D$21:$D$1229,0)))*$N118),\" \",IF(J118=\"-\",\"-\",INDEX('Wattage Table'!$F$21:$F$1229,MATCH(J118,'Wattage Table'!$D$21:$D$1229,0)))*$N118)","v":" "},{"$f":"IF(F118=\"\",\"\",IF(OR(F118=\"None\",F118=\"\",J118=\"\"),\"No\",IF(VLOOKUP(J118,'Wattage Table'!$D:$F,3,0)*N118/H118<=VLOOKUP(F118,Control_Data,3,0),\"No\",\"Yes\")))","v":""}]
[null,96,null,null,null,null,{"$f":"IF(F119=\"\",\"\",IF(F119=\"None\",\"None\",INDEX('Measure Code Summary'!$D$50:$D$53,MATCH(F119,'Measure Code Summary'!$C$50:$C$53,0),1)))","v":""},null,null,null,{"$f":"IF(J119=\"\",\"\",VLOOKUP(J119,'Wattage Table'!$D:$E,2,0))","v":""},null,0,null,{"$f":"IF(J119=\"\",0,(VLOOKUP(J119,'Wattage Table'!$D:$F,3,0)*N119*M119)/1000*VLOOKUP(IF(E119=\"\",$D$16,E119),ClgHtgTypeData,3,FALSE))","v":0},{"$f":"IF(OR(F119=\"\",H119=\"\"),0,IF(F119=\"80F\",Validation!W$11,(VLOOKUP(IF(D119=\"\",$D$15,D119),LtgBldgTypeData,3,FALSE)-VLOOKUP(F119,Control_Data,5)))*S119*VLOOKUP(IF(E119=\"\",$D$16,E119),ClgHtgTypeData,2,FALSE)/1000)","v":0},0,0,{"$f":"IF(ISERROR(IF(J119=\"-\",\"-\",INDEX('Wattage Table'!$F$21:$F$1229,MATCH(J119,'Wattage Table'!$D$21:$D$1229,0)))*$N119),\" \",IF(J119=\"-\",\"-\",INDEX('Wattage Table'!$F$21:$F$1229,MATCH(J119,'Wattage Table'!$D$21:$D$1229,0)))*$N119)","v":" "},{"$f":"IF(F119=\"\",\"\",IF(OR(F119=\"None\",F119=\"\",J119=\"\"),\"No\",IF(VLOOKUP(J119,'Wattage Table'!$D:$F,3,0)*N119/H119<=VLOOKUP(F119,Control_Data,3,0),\"No\",\"Yes\")))","v":""}]
[null,97,null,null,null,null,{"$f":"IF(F120=\"\",\"\",IF(F120=\"None\",\"None\",INDEX('Measure Code Summary'!$D$50:$D$53,MATCH(F120,'Measure Code Summary'!$C$50:$C$53,0),1)))","v":""},null,null,null,{"$f":"IF(J120=\"\",\"\",VLOOKUP(J120,'Wattage Table'!$D:$E,2,0))","v":""},null,0,null,{"$f":"IF(J120=\"\",0,(VLOOKUP(J120,'Wattage Table'!$D:$F,3,0)*N120*M120)/1000*VLOOKUP(IF(E120=\"\",$D$16,E120),ClgHtgTypeData,3,FALSE))","v":0},{"$f":"IF(OR(F120=\"\",H120=\"\"),0,IF(F120=\"80F\",Validation!W$11,(VLOOKUP(IF(D120=\"\",$D$15,D120),LtgBldgTypeData,3,FALSE)-VLOOKUP(F120,Control_Data,5)))*S120*VLOOKUP(IF(E120=\"\",$D$16,E120),ClgHtgTypeData,2,FALSE)/1000)","v":0},0,0,{"$f":"IF(ISERROR(IF(J120=\"-\",\"-\",INDEX('Wattage Table'!$F$21:$F$1229,MATCH(J120,'Wattage Table'!$D$21:$D$1229,0)))*$N120),\" \",IF(J120=\"-\",\"-\",INDEX('Wattage Table'!$F$21:$F$1229,MATCH(J120,'Wattage Table'!$D$21:$D$1229,0)))*$N120)","v":" "},{"$f":"IF(F120=\"\",\"\",IF(OR(F120=\"None\",F120=\"\",J120=\"\"),\"No\",IF(VLOOKUP(J120,'Wattage Table'!$D:$F,3,0)*N120/H120<=VLOOKUP(F120,Control_Data,3,0),\"No\",\"Yes\")))","v":""}]
[null,98,null,null,null,null,{"$f":"IF(F121=\"\",\"\",IF(F121=\"None\",\"None\",INDEX('Measure Code Summary'!$D$50:$D$53,MATCH(F121,'Measure Code Summary'!$C$50:$C$53,0),1)))","v":""},null,null,null,{"$f":"IF(J121=\"\",\"\",VLOOKUP(J121,'Wattage Table'!$D:$E,2,0))","v":""},null,0,null,{"$f":"IF(J121=\"\",0,(VLOOKUP(J121,'Wattage Table'!$D:$F,3,0)*N121*M121)/1000*VLOOKUP(IF(E121=\"\",$D$16,E121),ClgHtgTypeData,3,FALSE))","v":0},{"$f":"IF(OR(F121=\"\",H121=\"\"),0,IF(F121=\"80F\",Validation!W$11,(VLOOKUP(IF(D121=\"\",$D$15,D121),LtgBldgTypeData,3,FALSE)-VLOOKUP(F121,Control_Data,5)))*S121*VLOOKUP(IF(E121=\"\",$D$16,E121),ClgHtgTypeData,2,FALSE)/1000)","v":0},0,0,{"$f":"IF(ISERROR(IF(J121=\"-\",\"-\",INDEX('Wattage Table'!$F$21:$F$1229,MATCH(J121,'Wattage Table'!$D$21:$D$1229,0)))*$N121),\" \",IF(J121=\"-\",\"-\",INDEX('Wattage Table'!$F$21:$F$1229,MATCH(J121,'Wattage Table'!$D$21:$D$1229,0)))*$N121)","v":" "},{"$f":"IF(F121=\"\",\"\",IF(OR(F121=\"None\",F121=\"\",J121=\"\"),\"No\",IF(VLOOKUP(J121,'Wattage Table'!$D:$F,3,0)*N121/H121<=VLOOKUP(F121,Control_Data,3,0),\"No\",\"Yes\")))","v":""}]
[null,99,null,null,null,null,{"$f":"IF(F122=\"\",\"\",IF(F122=\"None\",\"None\",INDEX('Measure Code Summary'!$D$50:$D$53,MATCH(F122,'Measure Code Summary'!$C$50:$C$53,0),1)))","v":""},null,null,null,{"$f":"IF(J122=\"\",\"\",VLOOKUP(J122,'Wattage Table'!$D:$E,2,0))","v":""},null,0,null,{"$f":"IF(J122=\"\",0,(VLOOKUP(J122,'Wattage Table'!$D:$F,3,0)*N122*M122)/1000*VLOOKUP(IF(E122=\"\",$D$16,E122),ClgHtgTypeData,3,FALSE))","v":0},{"$f":"IF(OR(F122=\"\",H122=\"\"),0,IF(F122=\"80F\",Validation!W$11,(VLOOKUP(IF(D122=\"\",$D$15,D122),LtgBldgTypeData,3,FALSE)-VLOOKUP(F122,Control_Data,5)))*S122*VLOOKUP(IF(E122=\"\",$D$16,E122),ClgHtgTypeData,2,FALSE)/1000)","v":0},0,0,{"$f":"IF(ISERROR(IF(J122=\"-\",\"-\",INDEX('Wattage Table'!$F$21:$F$1229,MATCH(J122,'Wattage Table'!$D$21:$D$1229,0)))*$N122),\" \",IF(J122=\"-\",\"-\",INDEX('Wattage Table'!$F$21:$F$1229,MATCH(J122,'Wattage Table'!$D$21:$D$1229,0)))*$N122)","v":" "},{"$f":"IF(F122=\"\",\"\",IF(OR(F122=\"None\",F122=\"\",J122=\"\"),\"No\",IF(VLOOKUP(J122,'Wattage Table'!$D:$F,3,0)*N122/H122<=VLOOKUP(F122,Control_Data,3,0),\"No\",\"Yes\")))","v":""}]
[null,100,null,null,null,null,{"$f":"IF(F123=\"\",\"\",IF(F123=\"None\",\"None\",INDEX('Measure Code Summary'!$D$50:$D$53,MATCH(F123,'Measure Code Summary'!$C$50:$C$53,0),1)))","v":""},null,null,null,{"$f":"IF(J123=\"\",\"\",VLOOKUP(J123,'Wattage Table'!$D:$E,2,0))","v":""},null,0,null,{"$f":"IF(J123=\"\",0,(VLOOKUP(J123,'Wattage Table'!$D:$F,3,0)*N123*M123)/1000*VLOOKUP(IF(E123=\"\",$D$16,E123),ClgHtgTypeData,3,FALSE))","v":0},{"$f":"IF(OR(F123=\"\",H123=\"\"),0,IF(F123=\"80F\",Validation!W$11,(VLOOKUP(IF(D123=\"\",$D$15,D123),LtgBldgTypeData,3,FALSE)-VLOOKUP(F123,Control_Data,5)))*S123*VLOOKUP(IF(E123=\"\",$D$16,E123),ClgHtgTypeData,2,FALSE)/1000)","v":0},0,0,{"$f":"IF(ISERROR(IF(J123=\"-\",\"-\",INDEX('Wattage Table'!$F$21:$F$1229,MATCH(J123,'Wattage Table'!$D$21:$D$1229,0)))*$N123),\" \",IF(J123=\"-\",\"-\",INDEX('Wattage Table'!$F$21:$F$1229,MATCH(J123,'Wattage Table'!$D$21:$D$1229,0)))*$N123)","v":" "},{"$f":"IF(F123=\"\",\"\",IF(OR(F123=\"None\",F123=\"\",J123=\"\"),\"No\",IF(VLOOKUP(J123,'Wattage Table'!$D:$F,3,0)*N123/H123<=VLOOKUP(F123,Control_Data,3,0),\"No\",\"Yes\")))","v":""}]
[null,101,null,null,null,null,{"$f":"IF(F124=\"\",\"\",IF(F124=\"None\",\"None\",INDEX('Measure Code Summary'!$D$50:$D$53,MATCH(F124,'Measure Code Summary'!$C$50:$C$53,0),1)))","v":""},null,null,null,{"$f":"IF(J124=\"\",\"\",VLOOKUP(J124,'Wattage Table'!$D:$E,2,0))","v":""},null,0,null,{"$f":"IF(J124=\"\",0,(VLOOKUP(J124,'Wattage Table'!$D:$F,3,0)*N124*M124)/1000*VLOOKUP(IF(E124=\"\",$D$16,E124),ClgHtgTypeData,3,FALSE))","v":0},{"$f":"IF(OR(F124=\"\",H124=\"\"),0,IF(F124=\"80F\",Validation!W$11,(VLOOKUP(IF(D124=\"\",$D$15,D124),LtgBldgTypeData,3,FALSE)-VLOOKUP(F124,Control_Data,5)))*S124*VLOOKUP(IF(E124=\"\",$D$16,E124),ClgHtgTypeData,2,FALSE)/1000)","v":0},0,0,{"$f":"IF(ISERROR(IF(J124=\"-\",\"-\",INDEX('Wattage Table'!$F$21:$F$1229,MATCH(J124,'Wattage Table'!$D$21:$D$1229,0)))*$N124),\" \",IF(J124=\"-\",\"-\",INDEX('Wattage Table'!$F$21:$F$1229,MATCH(J124,'Wattage Table'!$D$21:$D$1229,0)))*$N124)","v":" "},{"$f":"IF(F124=\"\",\"\",IF(OR(F124=\"None\",F124=\"\",J124=\"\"),\"No\",IF(VLOOKUP(J124,'Wattage Table'!$D:$F,3,0)*N124/H124<=VLOOKUP(F124,Control_Data,3,0),\"No\",\"Yes\")))","v":""}]
[null,102,null,null,null,null,{"$f":"IF(F125=\"\",\"\",IF(F125=\"None\",\"None\",INDEX('Measure Code Summary'!$D$50:$D$53,MATCH(F125,'Measure Code Summary'!$C$50:$C$53,0),1)))","v":""},null,null,null,{"$f":"IF(J125=\"\",\"\",VLOOKUP(J125,'Wattage Table'!$D:$E,2,0))","v":""},null,0,null,{"$f":"IF(J125=\"\",0,(VLOOKUP(J125,'Wattage Table'!$D:$F,3,0)*N125*M125)/1000*VLOOKUP(IF(E125=\"\",$D$16,E125),ClgHtgTypeData,3,FALSE))","v":0},{"$f":"IF(OR(F125=\"\",H125=\"\"),0,IF(F125=\"80F\",Validation!W$11,(VLOOKUP(IF(D125=\"\",$D$15,D125),LtgBldgTypeData,3,FALSE)-VLOOKUP(F125,Control_Data,5)))*S125*VLOOKUP(IF(E125=\"\",$D$16,E125),ClgHtgTypeData,2,FALSE)/1000)","v":0},0,0,{"$f":"IF(ISERROR(IF(J125=\"-\",\"-\",INDEX('Wattage Table'!$F$21:$F$1229,MATCH(J125,'Wattage Table'!$D$21:$D$1229,0)))*$N125),\" \",IF(J125=\"-\",\"-\",INDEX('Wattage Table'!$F$21:$F$1229,MATCH(J125,'Wattage Table'!$D$21:$D$1229,0)))*$N125)","v":" "},{"$f":"IF(F125=\"\",\"\",IF(OR(F125=\"None\",F125=\"\",J125=\"\"),\"No\",IF(VLOOKUP(J125,'Wattage Table'!$D:$F,3,0)*N125/H125<=VLOOKUP(F125,Control_Data,3,0),\"No\",\"Yes\")))","v":""}]
[null,103,null,null,null,null,{"$f":"IF(F126=\"\",\"\",IF(F126=\"None\",\"None\",INDEX('Measure Code Summary'!$D$50:$D$53,MATCH(F126,'Measure Code Summary'!$C$50:$C$53,0),1)))","v":""},null,null,null,{"$f":"IF(J126=\"\",\"\",VLOOKUP(J126,'Wattage Table'!$D:$E,2,0))","v":""},null,0,null,{"$f":"IF(J126=\"\",0,(VLOOKUP(J126,'Wattage Table'!$D:$F,3,0)*N126*M126)/1000*VLOOKUP(IF(E126=\"\",$D$16,E126),ClgHtgTypeData,3,FALSE))","v":0},{"$f":"IF(OR(F126=\"\",H126=\"\"),0,IF(F126=\"80F\",Validation!W$11,(VLOOKUP(IF(D126=\"\",$D$15,D126),LtgBldgTypeData,3,FALSE)-VLOOKUP(F126,Control_Data,5)))*S126*VLOOKUP(IF(E126=\"\",$D$16,E126),ClgHtgTypeData,2,FALSE)/1000)","v":0},0,0,{"$f":"IF(ISERROR(IF(J126=\"-\",\"-\",INDEX('Wattage Table'!$F$21:$F$1229,MATCH(J126,'Wattage Table'!$D$21:$D$1229,0)))*$N126),\" \",IF(J126=\"-\",\"-\",INDEX('Wattage Table'!$F$21:$F$1229,MATCH(J126,'Wattage Table'!$D$21:$D$1229,0)))*$N126)","v":" "},{"$f":"IF(F126=\"\",\"\",IF(OR(F126=\"None\",F126=\"\",J126=\"\"),\"No\",IF(VLOOKUP(J126,'Wattage Table'!$D:$F,3,0)*N126/H126<=VLOOKUP(F126,Control_Data,3,0),\"No\",\"Yes\")))","v":""}]
[null,104,null,null,null,null,{"$f":"IF(F127=\"\",\"\",IF(F127=\"None\",\"None\",INDEX('Measure Code Summary'!$D$50:$D$53,MATCH(F127,'Measure Code Summary'!$C$50:$C$53,0),1)))","v":""},null,null,null,{"$f":"IF(J127=\"\",\"\",VLOOKUP(J127,'Wattage Table'!$D:$E,2,0))","v":""},null,0,null,{"$f":"IF(J127=\"\",0,(VLOOKUP(J127,'Wattage Table'!$D:$F,3,0)*N127*M127)/1000*VLOOKUP(IF(E127=\"\",$D$16,E127),ClgHtgTypeData,3,FALSE))","v":0},{"$f":"IF(OR(F127=\"\",H127=\"\"),0,IF(F127=\"80F\",Validation!W$11,(VLOOKUP(IF(D127=\"\",$D$15,D127),LtgBldgTypeData,3,FALSE)-VLOOKUP(F127,Control_Data,5)))*S127*VLOOKUP(IF(E127=\"\",$D$16,E127),ClgHtgTypeData,2,FALSE)/1000)","v":0},0,0,{"$f":"IF(ISERROR(IF(J127=\"-\",\"-\",INDEX('Wattage Table'!$F$21:$F$1229,MATCH(J127,'Wattage Table'!$D$21:$D$1229,0)))*$N127),\" \",IF(J127=\"-\",\"-\",INDEX('Wattage Table'!$F$21:$F$1229,MATCH(J127,'Wattage Table'!$D$21:$D$1229,0)))*$N127)","v":" "},{"$f":"IF(F127=\"\",\"\",IF(OR(F127=\"None\",F127=\"\",J127=\"\"),\"No\",IF(VLOOKUP(J127,'Wattage Table'!$D:$F,3,0)*N127/H127<=VLOOKUP(F127,Control_Data,3,0),\"No\",\"Yes\")))","v":""}]
[null,105,null,null,null,null,{"$f":"IF(F128=\"\",\"\",IF(F128=\"None\",\"None\",INDEX('Measure Code Summary'!$D$50:$D$53,MATCH(F128,'Measure Code Summary'!$C$50:$C$53,0),1)))","v":""},null,null,null,{"$f":"IF(J128=\"\",\"\",VLOOKUP(J128,'Wattage Table'!$D:$E,2,0))","v":""},null,0,null,{"$f":"IF(J128=\"\",0,(VLOOKUP(J128,'Wattage Table'!$D:$F,3,0)*N128*M128)/1000*VLOOKUP(IF(E128=\"\",$D$16,E128),ClgHtgTypeData,3,FALSE))","v":0},{"$f":"IF(OR(F128=\"\",H128=\"\"),0,IF(F128=\"80F\",Validation!W$11,(VLOOKUP(IF(D128=\"\",$D$15,D128),LtgBldgTypeData,3,FALSE)-VLOOKUP(F128,Control_Data,5)))*S128*VLOOKUP(IF(E128=\"\",$D$16,E128),ClgHtgTypeData,2,FALSE)/1000)","v":0},0,0,{"$f":"IF(ISERROR(IF(J128=\"-\",\"-\",INDEX('Wattage Table'!$F$21:$F$1229,MATCH(J128,'Wattage Table'!$D$21:$D$1229,0)))*$N128),\" \",IF(J128=\"-\",\"-\",INDEX('Wattage Table'!$F$21:$F$1229,MATCH(J128,'Wattage Table'!$D$21:$D$1229,0)))*$N128)","v":" "},{"$f":"IF(F128=\"\",\"\",IF(OR(F128=\"None\",F128=\"\",J128=\"\"),\"No\",IF(VLOOKUP(J128,'Wattage Table'!$D:$F,3,0)*N128/H128<=VLOOKUP(F128,Control_Data,3,0),\"No\",\"Yes\")))","v":""}]
[null,106,null,null,null,null,{"$f":"IF(F129=\"\",\"\",IF(F129=\"None\",\"None\",INDEX('Measure Code Summary'!$D$50:$D$53,MATCH(F129,'Measure Code Summary'!$C$50:$C$53,0),1)))","v":""},null,null,null,{"$f":"IF(J129=\"\",\"\",VLOOKUP(J129,'Wattage Table'!$D:$E,2,0))","v":""},null,0,null,{"$f":"IF(J129=\"\",0,(VLOOKUP(J129,'Wattage Table'!$D:$F,3,0)*N129*M129)/1000*VLOOKUP(IF(E129=\"\",$D$16,E129),ClgHtgTypeData,3,FALSE))","v":0},{"$f":"IF(OR(F129=\"\",H129=\"\"),0,IF(F129=\"80F\",Validation!W$11,(VLOOKUP(IF(D129=\"\",$D$15,D129),LtgBldgTypeData,3,FALSE)-VLOOKUP(F129,Control_Data,5)))*S129*VLOOKUP(IF(E129=\"\",$D$16,E129),ClgHtgTypeData,2,FALSE)/1000)","v":0},0,0,{"$f":"IF(ISERROR(IF(J129=\"-\",\"-\",INDEX('Wattage Table'!$F$21:$F$1229,MATCH(J129,'Wattage Table'!$D$21:$D$1229,0)))*$N129),\" \",IF(J129=\"-\",\"-\",INDEX('Wattage Table'!$F$21:$F$1229,MATCH(J129,'Wattage Table'!$D$21:$D$1229,0)))*$N129)","v":" "},{"$f":"IF(F129=\"\",\"\",IF(OR(F129=\"None\",F129=\"\",J129=\"\"),\"No\",IF(VLOOKUP(J129,'Wattage Table'!$D:$F,3,0)*N129/H129<=VLOOKUP(F129,Control_Data,3,0),\"No\",\"Yes\")))","v":""}]
[null,107,null,null,null,null,{"$f":"IF(F130=\"\",\"\",IF(F130=\"None\",\"None\",INDEX('Measure Code Summary'!$D$50:$D$53,MATCH(F130,'Measure Code Summary'!$C$50:$C$53,0),1)))","v":""},null,null,null,{"$f":"IF(J130=\"\",\"\",VLOOKUP(J130,'Wattage Table'!$D:$E,2,0))","v":""},null,0,null,{"$f":"IF(J130=\"\",0,(VLOOKUP(J130,'Wattage Table'!$D:$F,3,0)*N130*M130)/1000*VLOOKUP(IF(E130=\"\",$D$16,E130),ClgHtgTypeData,3,FALSE))","v":0},{"$f":"IF(OR(F130=\"\",H130=\"\"),0,IF(F130=\"80F\",Validation!W$11,(VLOOKUP(IF(D130=\"\",$D$15,D130),LtgBldgTypeData,3,FALSE)-VLOOKUP(F130,Control_Data,5)))*S130*VLOOKUP(IF(E130=\"\",$D$16,E130),ClgHtgTypeData,2,FALSE)/1000)","v":0},0,0,{"$f":"IF(ISERROR(IF(J130=\"-\",\"-\",INDEX('Wattage Table'!$F$21:$F$1229,MATCH(J130,'Wattage Table'!$D$21:$D$1229,0)))*$N130),\" \",IF(J130=\"-\",\"-\",INDEX('Wattage Table'!$F$21:$F$1229,MATCH(J130,'Wattage Table'!$D$21:$D$1229,0)))*$N130)","v":" "},{"$f":"IF(F130=\"\",\"\",IF(OR(F130=\"None\",F130=\"\",J130=\"\"),\"No\",IF(VLOOKUP(J130,'Wattage Table'!$D:$F,3,0)*N130/H130<=VLOOKUP(F130,Control_Data,3,0),\"No\",\"Yes\")))","v":""}]
[null,108,null,null,null,null,{"$f":"IF(F131=\"\",\"\",IF(F131=\"None\",\"None\",INDEX('Measure Code Summary'!$D$50:$D$53,MATCH(F131,'Measure Code Summary'!$C$50:$C$53,0),1)))","v":""},null,null,null,{"$f":"IF(J131=\"\",\"\",VLOOKUP(J131,'Wattage Table'!$D:$E,2,0))","v":""},null,0,null,{"$f":"IF(J131=\"\",0,(VLOOKUP(J131,'Wattage Table'!$D:$F,3,0)*N131*M131)/1000*VLOOKUP(IF(E131=\"\",$D$16,E131),ClgHtgTypeData,3,FALSE))","v":0},{"$f":"IF(OR(F131=\"\",H131=\"\"),0,IF(F131=\"80F\",Validation!W$11,(VLOOKUP(IF(D131=\"\",$D$15,D131),LtgBldgTypeData,3,FALSE)-VLOOKUP(F131,Control_Data,5)))*S131*VLOOKUP(IF(E131=\"\",$D$16,E131),ClgHtgTypeData,2,FALSE)/1000)","v":0},0,0,{"$f":"IF(ISERROR(IF(J131=\"-\",\"-\",INDEX('Wattage Table'!$F$21:$F$1229,MATCH(J131,'Wattage Table'!$D$21:$D$1229,0)))*$N131),\" \",IF(J131=\"-\",\"-\",INDEX('Wattage Table'!$F$21:$F$1229,MATCH(J131,'Wattage Table'!$D$21:$D$1229,0)))*$N131)","v":" "},{"$f":"IF(F131=\"\",\"\",IF(OR(F131=\"None\",F131=\"\",J131=\"\"),\"No\",IF(VLOOKUP(J131,'Wattage Table'!$D:$F,3,0)*N131/H131<=VLOOKUP(F131,Control_Data,3,0),\"No\",\"Yes\")))","v":""}]
[null,109,null,null,null,null,{"$f":"IF(F132=\"\",\"\",IF(F132=\"None\",\"None\",INDEX('Measure Code Summary'!$D$50:$D$53,MATCH(F132,'Measure Code Summary'!$C$50:$C$53,0),1)))","v":""},null,null,null,{"$f":"IF(J132=\"\",\"\",VLOOKUP(J132,'Wattage Table'!$D:$E,2,0))","v":""},null,0,null,{"$f":"IF(J132=\"\",0,(VLOOKUP(J132,'Wattage Table'!$D:$F,3,0)*N132*M132)/1000*VLOOKUP(IF(E132=\"\",$D$16,E132),ClgHtgTypeData,3,FALSE))","v":0},{"$f":"IF(OR(F132=\"\",H132=\"\"),0,IF(F132=\"80F\",Validation!W$11,(VLOOKUP(IF(D132=\"\",$D$15,D132),LtgBldgTypeData,3,FALSE)-VLOOKUP(F132,Control_Data,5)))*S132*VLOOKUP(IF(E132=\"\",$D$16,E132),ClgHtgTypeData,2,FALSE)/1000)","v":0},0,0,{"$f":"IF(ISERROR(IF(J132=\"-\",\"-\",INDEX('Wattage Table'!$F$21:$F$1229,MATCH(J132,'Wattage Table'!$D$21:$D$1229,0)))*$N132),\" \",IF(J132=\"-\",\"-\",INDEX('Wattage Table'!$F$21:$F$1229,MATCH(J132,'Wattage Table'!$D$21:$D$1229,0)))*$N132)","v":" "},{"$f":"IF(F132=\"\",\"\",IF(OR(F132=\"None\",F132=\"\",J132=\"\"),\"No\",IF(VLOOKUP(J132,'Wattage Table'!$D:$F,3,0)*N132/H132<=VLOOKUP(F132,Control_Data,3,0),\"No\",\"Yes\")))","v":""}]
[null,110,null,null,null,null,{"$f":"IF(F133=\"\",\"\",IF(F133=\"None\",\"None\",INDEX('Measure Code Summary'!$D$50:$D$53,MATCH(F133,'Measure Code Summary'!$C$50:$C$53,0),1)))","v":""},null,null,null,{"$f":"IF(J133=\"\",\"\",VLOOKUP(J133,'Wattage Table'!$D:$E,2,0))","v":""},null,0,null,{"$f":"IF(J133=\"\",0,(VLOOKUP(J133,'Wattage Table'!$D:$F,3,0)*N133*M133)/1000*VLOOKUP(IF(E133=\"\",$D$16,E133),ClgHtgTypeData,3,FALSE))","v":0},{"$f":"IF(OR(F133=\"\",H133=\"\"),0,IF(F133=\"80F\",Validation!W$11,(VLOOKUP(IF(D133=\"\",$D$15,D133),LtgBldgTypeData,3,FALSE)-VLOOKUP(F133,Control_Data,5)))*S133*VLOOKUP(IF(E133=\"\",$D$16,E133),ClgHtgTypeData,2,FALSE)/1000)","v":0},0,0,{"$f":"IF(ISERROR(IF(J133=\"-\",\"-\",INDEX('Wattage Table'!$F$21:$F$1229,MATCH(J133,'Wattage Table'!$D$21:$D$1229,0)))*$N133),\" \",IF(J133=\"-\",\"-\",INDEX('Wattage Table'!$F$21:$F$1229,MATCH(J133,'Wattage Table'!$D$21:$D$1229,0)))*$N133)","v":" "},{"$f":"IF(F133=\"\",\"\",IF(OR(F133=\"None\",F133=\"\",J133=\"\"),\"No\",IF(VLOOKUP(J133,'Wattage Table'!$D:$F,3,0)*N133/H133<=VLOOKUP(F133,Control_Data,3,0),\"No\",\"Yes\")))","v":""}]
[null,111,null,null,null,null,{"$f":"IF(F134=\"\",\"\",IF(F134=\"None\",\"None\",INDEX('Measure Code Summary'!$D$50:$D$53,MATCH(F134,'Measure Code Summary'!$C$50:$C$53,0),1)))","v":""},null,null,null,{"$f":"IF(J134=\"\",\"\",VLOOKUP(J134,'Wattage Table'!$D:$E,2,0))","v":""},null,0,null,{"$f":"IF(J134=\"\",0,(VLOOKUP(J134,'Wattage Table'!$D:$F,3,0)*N134*M134)/1000*VLOOKUP(IF(E134=\"\",$D$16,E134),ClgHtgTypeData,3,FALSE))","v":0},{"$f":"IF(OR(F134=\"\",H134=\"\"),0,IF(F134=\"80F\",Validation!W$11,(VLOOKUP(IF(D134=\"\",$D$15,D134),LtgBldgTypeData,3,FALSE)-VLOOKUP(F134,Control_Data,5)))*S134*VLOOKUP(IF(E134=\"\",$D$16,E134),ClgHtgTypeData,2,FALSE)/1000)","v":0},0,0,{"$f":"IF(ISERROR(IF(J134=\"-\",\"-\",INDEX('Wattage Table'!$F$21:$F$1229,MATCH(J134,'Wattage Table'!$D$21:$D$1229,0)))*$N134),\" \",IF(J134=\"-\",\"-\",INDEX('Wattage Table'!$F$21:$F$1229,MATCH(J134,'Wattage Table'!$D$21:$D$1229,0)))*$N134)","v":" "},{"$f":"IF(F134=\"\",\"\",IF(OR(F134=\"None\",F134=\"\",J134=\"\"),\"No\",IF(VLOOKUP(J134,'Wattage Table'!$D:$F,3,0)*N134/H134<=VLOOKUP(F134,Control_Data,3,0),\"No\",\"Yes\")))","v":""}]
[null,112,null,null,null,null,{"$f":"IF(F135=\"\",\"\",IF(F135=\"None\",\"None\",INDEX('Measure Code Summary'!$D$50:$D$53,MATCH(F135,'Measure Code Summary'!$C$50:$C$53,0),1)))","v":""},null,null,null,{"$f":"IF(J135=\"\",\"\",VLOOKUP(J135,'Wattage Table'!$D:$E,2,0))","v":""},null,0,null,{"$f":"IF(J135=\"\",0,(VLOOKUP(J135,'Wattage Table'!$D:$F,3,0)*N135*M135)/1000*VLOOKUP(IF(E135=\"\",$D$16,E135),ClgHtgTypeData,3,FALSE))","v":0},{"$f":"IF(OR(F135=\"\",H135=\"\"),0,IF(F135=\"80F\",Validation!W$11,(VLOOKUP(IF(D135=\"\",$D$15,D135),LtgBldgTypeData,3,FALSE)-VLOOKUP(F135,Control_Data,5)))*S135*VLOOKUP(IF(E135=\"\",$D$16,E135),ClgHtgTypeData,2,FALSE)/1000)","v":0},0,0,{"$f":"IF(ISERROR(IF(J135=\"-\",\"-\",INDEX('Wattage Table'!$F$21:$F$1229,MATCH(J135,'Wattage Table'!$D$21:$D$1229,0)))*$N135),\" \",IF(J135=\"-\",\"-\",INDEX('Wattage Table'!$F$21:$F$1229,MATCH(J135,'Wattage Table'!$D$21:$D$1229,0)))*$N135)","v":" "},{"$f":"IF(F135=\"\",\"\",IF(OR(F135=\"None\",F135=\"\",J135=\"\"),\"No\",IF(VLOOKUP(J135,'Wattage Table'!$D:$F,3,0)*N135/H135<=VLOOKUP(F135,Control_Data,3,0),\"No\",\"Yes\")))","v":""}]
[null,113,null,null,null,null,{"$f":"IF(F136=\"\",\"\",IF(F136=\"None\",\"None\",INDEX('Measure Code Summary'!$D$50:$D$53,MATCH(F136,'Measure Code Summary'!$C$50:$C$53,0),1)))","v":""},null,null,null,{"$f":"IF(J136=\"\",\"\",VLOOKUP(J136,'Wattage Table'!$D:$E,2,0))","v":""},null,0,null,{"$f":"IF(J136=\"\",0,(VLOOKUP(J136,'Wattage Table'!$D:$F,3,0)*N136*M136)/1000*VLOOKUP(IF(E136=\"\",$D$16,E136),ClgHtgTypeData,3,FALSE))","v":0},{"$f":"IF(OR(F136=\"\",H136=\"\"),0,IF(F136=\"80F\",Validation!W$11,(VLOOKUP(IF(D136=\"\",$D$15,D136),LtgBldgTypeData,3,FALSE)-VLOOKUP(F136,Control_Data,5)))*S136*VLOOKUP(IF(E136=\"\",$D$16,E136),ClgHtgTypeData,2,FALSE)/1000)","v":0},0,0,{"$f":"IF(ISERROR(IF(J136=\"-\",\"-\",INDEX('Wattage Table'!$F$21:$F$1229,MATCH(J136,'Wattage Table'!$D$21:$D$1229,0)))*$N136),\" \",IF(J136=\"-\",\"-\",INDEX('Wattage Table'!$F$21:$F$1229,MATCH(J136,'Wattage Table'!$D$21:$D$1229,0)))*$N136)","v":" "},{"$f":"IF(F136=\"\",\"\",IF(OR(F136=\"None\",F136=\"\",J136=\"\"),\"No\",IF(VLOOKUP(J136,'Wattage Table'!$D:$F,3,0)*N136/H136<=VLOOKUP(F136,Control_Data,3,0),\"No\",\"Yes\")))","v":""}]
[null,114,null,null,null,null,{"$f":"IF(F137=\"\",\"\",IF(F137=\"None\",\"None\",INDEX('Measure Code Summary'!$D$50:$D$53,MATCH(F137,'Measure Code Summary'!$C$50:$C$53,0),1)))","v":""},null,null,null,{"$f":"IF(J137=\"\",\"\",VLOOKUP(J137,'Wattage Table'!$D:$E,2,0))","v":""},null,0,null,{"$f":"IF(J137=\"\",0,(VLOOKUP(J137,'Wattage Table'!$D:$F,3,0)*N137*M137)/1000*VLOOKUP(IF(E137=\"\",$D$16,E137),ClgHtgTypeData,3,FALSE))","v":0},{"$f":"IF(OR(F137=\"\",H137=\"\"),0,IF(F137=\"80F\",Validation!W$11,(VLOOKUP(IF(D137=\"\",$D$15,D137),LtgBldgTypeData,3,FALSE)-VLOOKUP(F137,Control_Data,5)))*S137*VLOOKUP(IF(E137=\"\",$D$16,E137),ClgHtgTypeData,2,FALSE)/1000)","v":0},0,0,{"$f":"IF(ISERROR(IF(J137=\"-\",\"-\",INDEX('Wattage Table'!$F$21:$F$1229,MATCH(J137,'Wattage Table'!$D$21:$D$1229,0)))*$N137),\" \",IF(J137=\"-\",\"-\",INDEX('Wattage Table'!$F$21:$F$1229,MATCH(J137,'Wattage Table'!$D$21:$D$1229,0)))*$N137)","v":" "},{"$f":"IF(F137=\"\",\"\",IF(OR(F137=\"None\",F137=\"\",J137=\"\"),\"No\",IF(VLOOKUP(J137,'Wattage Table'!$D:$F,3,0)*N137/H137<=VLOOKUP(F137,Control_Data,3,0),\"No\",\"Yes\")))","v":""}]
[null,115,null,null,null,null,{"$f":"IF(F138=\"\",\"\",IF(F138=\"None\",\"None\",INDEX('Measure Code Summary'!$D$50:$D$53,MATCH(F138,'Measure Code Summary'!$C$50:$C$53,0),1)))","v":""},null,null,null,{"$f":"IF(J138=\"\",\"\",VLOOKUP(J138,'Wattage Table'!$D:$E,2,0))","v":""},null,0,null,{"$f":"IF(J138=\"\",0,(VLOOKUP(J138,'Wattage Table'!$D:$F,3,0)*N138*M138)/1000*VLOOKUP(IF(E138=\"\",$D$16,E138),ClgHtgTypeData,3,FALSE))","v":0},{"$f":"IF(OR(F138=\"\",H138=\"\"),0,IF(F138=\"80F\",Validation!W$11,(VLOOKUP(IF(D138=\"\",$D$15,D138),LtgBldgTypeData,3,FALSE)-VLOOKUP(F138,Control_Data,5)))*S138*VLOOKUP(IF(E138=\"\",$D$16,E138),ClgHtgTypeData,2,FALSE)/1000)","v":0},0,0,{"$f":"IF(ISERROR(IF(J138=\"-\",\"-\",INDEX('Wattage Table'!$F$21:$F$1229,MATCH(J138,'Wattage Table'!$D$21:$D$1229,0)))*$N138),\" \",IF(J138=\"-\",\"-\",INDEX('Wattage Table'!$F$21:$F$1229,MATCH(J138,'Wattage Table'!$D$21:$D$1229,0)))*$N138)","v":" "},{"$f":"IF(F138=\"\",\"\",IF(OR(F138=\"None\",F138=\"\",J138=\"\"),\"No\",IF(VLOOKUP(J138,'Wattage Table'!$D:$F,3,0)*N138/H138<=VLOOKUP(F138,Control_Data,3,0),\"No\",\"Yes\")))","v":""}]
[null,116,null,null,null,null,{"$f":"IF(F139=\"\",\"\",IF(F139=\"None\",\"None\",INDEX('Measure Code Summary'!$D$50:$D$53,MATCH(F139,'Measure Code Summary'!$C$50:$C$53,0),1)))","v":""},null,null,null,{"$f":"IF(J139=\"\",\"\",VLOOKUP(J139,'Wattage Table'!$D:$E,2,0))","v":""},null,0,null,{"$f":"IF(J139=\"\",0,(VLOOKUP(J139,'Wattage Table'!$D:$F,3,0)*N139*M139)/1000*VLOOKUP(IF(E139=\"\",$D$16,E139),ClgHtgTypeData,3,FALSE))","v":0},{"$f":"IF(OR(F139=\"\",H139=\"\"),0,IF(F139=\"80F\",Validation!W$11,(VLOOKUP(IF(D139=\"\",$D$15,D139),LtgBldgTypeData,3,FALSE)-VLOOKUP(F139,Control_Data,5)))*S139*VLOOKUP(IF(E139=\"\",$D$16,E139),ClgHtgTypeData,2,FALSE)/1000)","v":0},0,0,{"$f":"IF(ISERROR(IF(J139=\"-\",\"-\",INDEX('Wattage Table'!$F$21:$F$1229,MATCH(J139,'Wattage Table'!$D$21:$D$1229,0)))*$N139),\" \",IF(J139=\"-\",\"-\",INDEX('Wattage Table'!$F$21:$F$1229,MATCH(J139,'Wattage Table'!$D$21:$D$1229,0)))*$N139)","v":" "},{"$f":"IF(F139=\"\",\"\",IF(OR(F139=\"None\",F139=\"\",J139=\"\"),\"No\",IF(VLOOKUP(J139,'Wattage Table'!$D:$F,3,0)*N139/H139<=VLOOKUP(F139,Control_Data,3,0),\"No\",\"Yes\")))","v":""}]
[null,117,null,null,null,null,{"$f":"IF(F140=\"\",\"\",IF(F140=\"None\",\"None\",INDEX('Measure Code Summary'!$D$50:$D$53,MATCH(F140,'Measure Code Summary'!$C$50:$C$53,0),1)))","v":""},null,null,null,{"$f":"IF(J140=\"\",\"\",VLOOKUP(J140,'Wattage Table'!$D:$E,2,0))","v":""},null,0,null,{"$f":"IF(J140=\"\",0,(VLOOKUP(J140,'Wattage Table'!$D:$F,3,0)*N140*M140)/1000*VLOOKUP(IF(E140=\"\",$D$16,E140),ClgHtgTypeData,3,FALSE))","v":0},{"$f":"IF(OR(F140=\"\",H140=\"\"),0,IF(F140=\"80F\",Validation!W$11,(VLOOKUP(IF(D140=\"\",$D$15,D140),LtgBldgTypeData,3,FALSE)-VLOOKUP(F140,Control_Data,5)))*S140*VLOOKUP(IF(E140=\"\",$D$16,E140),ClgHtgTypeData,2,FALSE)/1000)","v":0},0,0,{"$f":"IF(ISERROR(IF(J140=\"-\",\"-\",INDEX('Wattage Table'!$F$21:$F$1229,MATCH(J140,'Wattage Table'!$D$21:$D$1229,0)))*$N140),\" \",IF(J140=\"-\",\"-\",INDEX('Wattage Table'!$F$21:$F$1229,MATCH(J140,'Wattage Table'!$D$21:$D$1229,0)))*$N140)","v":" "},{"$f":"IF(F140=\"\",\"\",IF(OR(F140=\"None\",F140=\"\",J140=\"\"),\"No\",IF(VLOOKUP(J140,'Wattage Table'!$D:$F,3,0)*N140/H140<=VLOOKUP(F140,Control_Data,3,0),\"No\",\"Yes\")))","v":""}]
[null,118,null,null,null,null,{"$f":"IF(F141=\"\",\"\",IF(F141=\"None\",\"None\",INDEX('Measure Code Summary'!$D$50:$D$53,MATCH(F141,'Measure Code Summary'!$C$50:$C$53,0),1)))","v":""},null,null,null,{"$f":"IF(J141=\"\",\"\",VLOOKUP(J141,'Wattage Table'!$D:$E,2,0))","v":""},null,0,null,{"$f":"IF(J141=\"\",0,(VLOOKUP(J141,'Wattage Table'!$D:$F,3,0)*N141*M141)/1000*VLOOKUP(IF(E141=\"\",$D$16,E141),ClgHtgTypeData,3,FALSE))","v":0},{"$f":"IF(OR(F141=\"\",H141=\"\"),0,IF(F141=\"80F\",Validation!W$11,(VLOOKUP(IF(D141=\"\",$D$15,D141),LtgBldgTypeData,3,FALSE)-VLOOKUP(F141,Control_Data,5)))*S141*VLOOKUP(IF(E141=\"\",$D$16,E141),ClgHtgTypeData,2,FALSE)/1000)","v":0},0,0,{"$f":"IF(ISERROR(IF(J141=\"-\",\"-\",INDEX('Wattage Table'!$F$21:$F$1229,MATCH(J141,'Wattage Table'!$D$21:$D$1229,0)))*$N141),\" \",IF(J141=\"-\",\"-\",INDEX('Wattage Table'!$F$21:$F$1229,MATCH(J141,'Wattage Table'!$D$21:$D$1229,0)))*$N141)","v":" "},{"$f":"IF(F141=\"\",\"\",IF(OR(F141=\"None\",F141=\"\",J141=\"\"),\"No\",IF(VLOOKUP(J141,'Wattage Table'!$D:$F,3,0)*N141/H141<=VLOOKUP(F141,Control_Data,3,0),\"No\",\"Yes\")))","v":""}]
[null,119,null,null,null,null,{"$f":"IF(F142=\"\",\"\",IF(F142=\"None\",\"None\",INDEX('Measure Code Summary'!$D$50:$D$53,MATCH(F142,'Measure Code Summary'!$C$50:$C$53,0),1)))","v":""},null,null,null,{"$f":"IF(J142=\"\",\"\",VLOOKUP(J142,'Wattage Table'!$D:$E,2,0))","v":""},null,0,null,{"$f":"IF(J142=\"\",0,(VLOOKUP(J142,'Wattage Table'!$D:$F,3,0)*N142*M142)/1000*VLOOKUP(IF(E142=\"\",$D$16,E142),ClgHtgTypeData,3,FALSE))","v":0},{"$f":"IF(OR(F142=\"\",H142=\"\"),0,IF(F142=\"80F\",Validation!W$11,(VLOOKUP(IF(D142=\"\",$D$15,D142),LtgBldgTypeData,3,FALSE)-VLOOKUP(F142,Control_Data,5)))*S142*VLOOKUP(IF(E142=\"\",$D$16,E142),ClgHtgTypeData,2,FALSE)/1000)","v":0},0,0,{"$f":"IF(ISERROR(IF(J142=\"-\",\"-\",INDEX('Wattage Table'!$F$21:$F$1229,MATCH(J142,'Wattage Table'!$D$21:$D$1229,0)))*$N142),\" \",IF(J142=\"-\",\"-\",INDEX('Wattage Table'!$F$21:$F$1229,MATCH(J142,'Wattage Table'!$D$21:$D$1229,0)))*$N142)","v":" "},{"$f":"IF(F142=\"\",\"\",IF(OR(F142=\"None\",F142=\"\",J142=\"\"),\"No\",IF(VLOOKUP(J142,'Wattage Table'!$D:$F,3,0)*N142/H142<=VLOOKUP(F142,Control_Data,3,0),\"No\",\"Yes\")))","v":""}]
[null,120,null,null,null,null,{"$f":"IF(F143=\"\",\"\",IF(F143=\"None\",\"None\",INDEX('Measure Code Summary'!$D$50:$D$53,MATCH(F143,'Measure Code Summary'!$C$50:$C$53,0),1)))","v":""},null,null,null,{"$f":"IF(J143=\"\",\"\",VLOOKUP(J143,'Wattage Table'!$D:$E,2,0))","v":""},null,0,null,{"$f":"IF(J143=\"\",0,(VLOOKUP(J143,'Wattage Table'!$D:$F,3,0)*N143*M143)/1000*VLOOKUP(IF(E143=\"\",$D$16,E143),ClgHtgTypeData,3,FALSE))","v":0},{"$f":"IF(OR(F143=\"\",H143=\"\"),0,IF(F143=\"80F\",Validation!W$11,(VLOOKUP(IF(D143=\"\",$D$15,D143),LtgBldgTypeData,3,FALSE)-VLOOKUP(F143,Control_Data,5)))*S143*VLOOKUP(IF(E143=\"\",$D$16,E143),ClgHtgTypeData,2,FALSE)/1000)","v":0},0,0,{"$f":"IF(ISERROR(IF(J143=\"-\",\"-\",INDEX('Wattage Table'!$F$21:$F$1229,MATCH(J143,'Wattage Table'!$D$21:$D$1229,0)))*$N143),\" \",IF(J143=\"-\",\"-\",INDEX('Wattage Table'!$F$21:$F$1229,MATCH(J143,'Wattage Table'!$D$21:$D$1229,0)))*$N143)","v":" "},{"$f":"IF(F143=\"\",\"\",IF(OR(F143=\"None\",F143=\"\",J143=\"\"),\"No\",IF(VLOOKUP(J143,'Wattage Table'!$D:$F,3,0)*N143/H143<=VLOOKUP(F143,Control_Data,3,0),\"No\",\"Yes\")))","v":""}]
[null,121,null,null,null,null,{"$f":"IF(F144=\"\",\"\",IF(F144=\"None\",\"None\",INDEX('Measure Code Summary'!$D$50:$D$53,MATCH(F144,'Measure Code Summary'!$C$50:$C$53,0),1)))","v":""},null,null,null,{"$f":"IF(J144=\"\",\"\",VLOOKUP(J144,'Wattage Table'!$D:$E,2,0))","v":""},null,0,null,{"$f":"IF(J144=\"\",0,(VLOOKUP(J144,'Wattage Table'!$D:$F,3,0)*N144*M144)/1000*VLOOKUP(IF(E144=\"\",$D$16,E144),ClgHtgTypeData,3,FALSE))","v":0},{"$f":"IF(OR(F144=\"\",H144=\"\"),0,IF(F144=\"80F\",Validation!W$11,(VLOOKUP(IF(D144=\"\",$D$15,D144),LtgBldgTypeData,3,FALSE)-VLOOKUP(F144,Control_Data,5)))*S144*VLOOKUP(IF(E144=\"\",$D$16,E144),ClgHtgTypeData,2,FALSE)/1000)","v":0},0,0,{"$f":"IF(ISERROR(IF(J144=\"-\",\"-\",INDEX('Wattage Table'!$F$21:$F$1229,MATCH(J144,'Wattage Table'!$D$21:$D$1229,0)))*$N144),\" \",IF(J144=\"-\",\"-\",INDEX('Wattage Table'!$F$21:$F$1229,MATCH(J144,'Wattage Table'!$D$21:$D$1229,0)))*$N144)","v":" "},{"$f":"IF(F144=\"\",\"\",IF(OR(F144=\"None\",F144=\"\",J144=\"\"),\"No\",IF(VLOOKUP(J144,'Wattage Table'!$D:$F,3,0)*N144/H144<=VLOOKUP(F144,Control_Data,3,0),\"No\",\"Yes\")))","v":""}]
[null,122,null,null,null,null,{"$f":"IF(F145=\"\",\"\",IF(F145=\"None\",\"None\",INDEX('Measure Code Summary'!$D$50:$D$53,MATCH(F145,'Measure Code Summary'!$C$50:$C$53,0),1)))","v":""},null,null,null,{"$f":"IF(J145=\"\",\"\",VLOOKUP(J145,'Wattage Table'!$D:$E,2,0))","v":""},null,0,null,{"$f":"IF(J145=\"\",0,(VLOOKUP(J145,'Wattage Table'!$D:$F,3,0)*N145*M145)/1000*VLOOKUP(IF(E145=\"\",$D$16,E145),ClgHtgTypeData,3,FALSE))","v":0},{"$f":"IF(OR(F145=\"\",H145=\"\"),0,IF(F145=\"80F\",Validation!W$11,(VLOOKUP(IF(D145=\"\",$D$15,D145),LtgBldgTypeData,3,FALSE)-VLOOKUP(F145,Control_Data,5)))*S145*VLOOKUP(IF(E145=\"\",$D$16,E145),ClgHtgTypeData,2,FALSE)/1000)","v":0},0,0,{"$f":"IF(ISERROR(IF(J145=\"-\",\"-\",INDEX('Wattage Table'!$F$21:$F$1229,MATCH(J145,'Wattage Table'!$D$21:$D$1229,0)))*$N145),\" \",IF(J145=\"-\",\"-\",INDEX('Wattage Table'!$F$21:$F$1229,MATCH(J145,'Wattage Table'!$D$21:$D$1229,0)))*$N145)","v":" "},{"$f":"IF(F145=\"\",\"\",IF(OR(F145=\"None\",F145=\"\",J145=\"\"),\"No\",IF(VLOOKUP(J145,'Wattage Table'!$D:$F,3,0)*N145/H145<=VLOOKUP(F145,Control_Data,3,0),\"No\",\"Yes\")))","v":""}]
[null,123,null,null,null,null,{"$f":"IF(F146=\"\",\"\",IF(F146=\"None\",\"None\",INDEX('Measure Code Summary'!$D$50:$D$53,MATCH(F146,'Measure Code Summary'!$C$50:$C$53,0),1)))","v":""},null,null,null,{"$f":"IF(J146=\"\",\"\",VLOOKUP(J146,'Wattage Table'!$D:$E,2,0))","v":""},null,0,null,{"$f":"IF(J146=\"\",0,(VLOOKUP(J146,'Wattage Table'!$D:$F,3,0)*N146*M146)/1000*VLOOKUP(IF(E146=\"\",$D$16,E146),ClgHtgTypeData,3,FALSE))","v":0},{"$f":"IF(OR(F146=\"\",H146=\"\"),0,IF(F146=\"80F\",Validation!W$11,(VLOOKUP(IF(D146=\"\",$D$15,D146),LtgBldgTypeData,3,FALSE)-VLOOKUP(F146,Control_Data,5)))*S146*VLOOKUP(IF(E146=\"\",$D$16,E146),ClgHtgTypeData,2,FALSE)/1000)","v":0},0,0,{"$f":"IF(ISERROR(IF(J146=\"-\",\"-\",INDEX('Wattage Table'!$F$21:$F$1229,MATCH(J146,'Wattage Table'!$D$21:$D$1229,0)))*$N146),\" \",IF(J146=\"-\",\"-\",INDEX('Wattage Table'!$F$21:$F$1229,MATCH(J146,'Wattage Table'!$D$21:$D$1229,0)))*$N146)","v":" "},{"$f":"IF(F146=\"\",\"\",IF(OR(F146=\"None\",F146=\"\",J146=\"\"),\"No\",IF(VLOOKUP(J146,'Wattage Table'!$D:$F,3,0)*N146/H146<=VLOOKUP(F146,Control_Data,3,0),\"No\",\"Yes\")))","v":""}]
[null,124,null,null,null,null,{"$f":"IF(F147=\"\",\"\",IF(F147=\"None\",\"None\",INDEX('Measure Code Summary'!$D$50:$D$53,MATCH(F147,'Measure Code Summary'!$C$50:$C$53,0),1)))","v":""},null,null,null,{"$f":"IF(J147=\"\",\"\",VLOOKUP(J147,'Wattage Table'!$D:$E,2,0))","v":""},null,0,null,{"$f":"IF(J147=\"\",0,(VLOOKUP(J147,'Wattage Table'!$D:$F,3,0)*N147*M147)/1000*VLOOKUP(IF(E147=\"\",$D$16,E147),ClgHtgTypeData,3,FALSE))","v":0},{"$f":"IF(OR(F147=\"\",H147=\"\"),0,IF(F147=\"80F\",Validation!W$11,(VLOOKUP(IF(D147=\"\",$D$15,D147),LtgBldgTypeData,3,FALSE)-VLOOKUP(F147,Control_Data,5)))*S147*VLOOKUP(IF(E147=\"\",$D$16,E147),ClgHtgTypeData,2,FALSE)/1000)","v":0},0,0,{"$f":"IF(ISERROR(IF(J147=\"-\",\"-\",INDEX('Wattage Table'!$F$21:$F$1229,MATCH(J147,'Wattage Table'!$D$21:$D$1229,0)))*$N147),\" \",IF(J147=\"-\",\"-\",INDEX('Wattage Table'!$F$21:$F$1229,MATCH(J147,'Wattage Table'!$D$21:$D$1229,0)))*$N147)","v":" "},{"$f":"IF(F147=\"\",\"\",IF(OR(F147=\"None\",F147=\"\",J147=\"\"),\"No\",IF(VLOOKUP(J147,'Wattage Table'!$D:$F,3,0)*N147/H147<=VLOOKUP(F147,Control_Data,3,0),\"No\",\"Yes\")))","v":""}]
[null,125,null,null,null,null,{"$f":"IF(F148=\"\",\"\",IF(F148=\"None\",\"None\",INDEX('Measure Code Summary'!$D$50:$D$53,MATCH(F148,'Measure Code Summary'!$C$50:$C$53,0),1)))","v":""},null,null,null,{"$f":"IF(J148=\"\",\"\",VLOOKUP(J148,'Wattage Table'!$D:$E,2,0))","v":""},null,0,null,{"$f":"IF(J148=\"\",0,(VLOOKUP(J148,'Wattage Table'!$D:$F,3,0)*N148*M148)/1000*VLOOKUP(IF(E148=\"\",$D$16,E148),ClgHtgTypeData,3,FALSE))","v":0},{"$f":"IF(OR(F148=\"\",H148=\"\"),0,IF(F148=\"80F\",Validation!W$11,(VLOOKUP(IF(D148=\"\",$D$15,D148),LtgBldgTypeData,3,FALSE)-VLOOKUP(F148,Control_Data,5)))*S148*VLOOKUP(IF(E148=\"\",$D$16,E148),ClgHtgTypeData,2,FALSE)/1000)","v":0},0,0,{"$f":"IF(ISERROR(IF(J148=\"-\",\"-\",INDEX('Wattage Table'!$F$21:$F$1229,MATCH(J148,'Wattage Table'!$D$21:$D$1229,0)))*$N148),\" \",IF(J148=\"-\",\"-\",INDEX('Wattage Table'!$F$21:$F$1229,MATCH(J148,'Wattage Table'!$D$21:$D$1229,0)))*$N148)","v":" "},{"$f":"IF(F148=\"\",\"\",IF(OR(F148=\"None\",F148=\"\",J148=\"\"),\"No\",IF(VLOOKUP(J148,'Wattage Table'!$D:$F,3,0)*N148/H148<=VLOOKUP(F148,Control_Data,3,0),\"No\",\"Yes\")))","v":""}]
[null,126,null,null,null,null,{"$f":"IF(F149=\"\",\"\",IF(F149=\"None\",\"None\",INDEX('Measure Code Summary'!$D$50:$D$53,MATCH(F149,'Measure Code Summary'!$C$50:$C$53,0),1)))","v":""},null,null,null,{"$f":"IF(J149=\"\",\"\",VLOOKUP(J149,'Wattage Table'!$D:$E,2,0))","v":""},null,0,null,{"$f":"IF(J149=\"\",0,(VLOOKUP(J149,'Wattage Table'!$D:$F,3,0)*N149*M149)/1000*VLOOKUP(IF(E149=\"\",$D$16,E149),ClgHtgTypeData,3,FALSE))","v":0},{"$f":"IF(OR(F149=\"\",H149=\"\"),0,IF(F149=\"80F\",Validation!W$11,(VLOOKUP(IF(D149=\"\",$D$15,D149),LtgBldgTypeData,3,FALSE)-VLOOKUP(F149,Control_Data,5)))*S149*VLOOKUP(IF(E149=\"\",$D$16,E149),ClgHtgTypeData,2,FALSE)/1000)","v":0},0,0,{"$f":"IF(ISERROR(IF(J149=\"-\",\"-\",INDEX('Wattage Table'!$F$21:$F$1229,MATCH(J149,'Wattage Table'!$D$21:$D$1229,0)))*$N149),\" \",IF(J149=\"-\",\"-\",INDEX('Wattage Table'!$F$21:$F$1229,MATCH(J149,'Wattage Table'!$D$21:$D$1229,0)))*$N149)","v":" "},{"$f":"IF(F149=\"\",\"\",IF(OR(F149=\"None\",F149=\"\",J149=\"\"),\"No\",IF(VLOOKUP(J149,'Wattage Table'!$D:$F,3,0)*N149/H149<=VLOOKUP(F149,Control_Data,3,0),\"No\",\"Yes\")))","v":""}]
[null,127,null,null,null,null,{"$f":"IF(F150=\"\",\"\",IF(F150=\"None\",\"None\",INDEX('Measure Code Summary'!$D$50:$D$53,MATCH(F150,'Measure Code Summary'!$C$50:$C$53,0),1)))","v":""},null,null,null,{"$f":"IF(J150=\"\",\"\",VLOOKUP(J150,'Wattage Table'!$D:$E,2,0))","v":""},null,0,null,{"$f":"IF(J150=\"\",0,(VLOOKUP(J150,'Wattage Table'!$D:$F,3,0)*N150*M150)/1000*VLOOKUP(IF(E150=\"\",$D$16,E150),ClgHtgTypeData,3,FALSE))","v":0},{"$f":"IF(OR(F150=\"\",H150=\"\"),0,IF(F150=\"80F\",Validation!W$11,(VLOOKUP(IF(D150=\"\",$D$15,D150),LtgBldgTypeData,3,FALSE)-VLOOKUP(F150,Control_Data,5)))*S150*VLOOKUP(IF(E150=\"\",$D$16,E150),ClgHtgTypeData,2,FALSE)/1000)","v":0},0,0,{"$f":"IF(ISERROR(IF(J150=\"-\",\"-\",INDEX('Wattage Table'!$F$21:$F$1229,MATCH(J150,'Wattage Table'!$D$21:$D$1229,0)))*$N150),\" \",IF(J150=\"-\",\"-\",INDEX('Wattage Table'!$F$21:$F$1229,MATCH(J150,'Wattage Table'!$D$21:$D$1229,0)))*$N150)","v":" "},{"$f":"IF(F150=\"\",\"\",IF(OR(F150=\"None\",F150=\"\",J150=\"\"),\"No\",IF(VLOOKUP(J150,'Wattage Table'!$D:$F,3,0)*N150/H150<=VLOOKUP(F150,Control_Data,3,0),\"No\",\"Yes\")))","v":""}]
[null,128,null,null,null,null,{"$f":"IF(F151=\"\",\"\",IF(F151=\"None\",\"None\",INDEX('Measure Code Summary'!$D$50:$D$53,MATCH(F151,'Measure Code Summary'!$C$50:$C$53,0),1)))","v":""},null,null,null,{"$f":"IF(J151=\"\",\"\",VLOOKUP(J151,'Wattage Table'!$D:$E,2,0))","v":""},null,0,null,{"$f":"IF(J151=\"\",0,(VLOOKUP(J151,'Wattage Table'!$D:$F,3,0)*N151*M151)/1000*VLOOKUP(IF(E151=\"\",$D$16,E151),ClgHtgTypeData,3,FALSE))","v":0},{"$f":"IF(OR(F151=\"\",H151=\"\"),0,IF(F151=\"80F\",Validation!W$11,(VLOOKUP(IF(D151=\"\",$D$15,D151),LtgBldgTypeData,3,FALSE)-VLOOKUP(F151,Control_Data,5)))*S151*VLOOKUP(IF(E151=\"\",$D$16,E151),ClgHtgTypeData,2,FALSE)/1000)","v":0},{"$f":"IF(OR(O151<=0,P151<=0,F151=\"\",J151=\"\"),0,VLOOKUP(F151,Control_Data,6)*H151*T151)","v":0},0,{"$f":"IF(ISERROR(IF(J151=\"-\",\"-\",INDEX('Wattage Table'!$F$21:$F$1229,MATCH(J151,'Wattage Table'!$D$21:$D$1229,0)))*$N151),\" \",IF(J151=\"-\",\"-\",INDEX('Wattage Table'!$F$21:$F$1229,MATCH(J151,'Wattage Table'!$D$21:$D$1229,0)))*$N151)","v":" "},{"$f":"IF(F151=\"\",\"\",IF(OR(F151=\"None\",F151=\"\",J151=\"\"),\"No\",IF(VLOOKUP(J151,'Wattage Table'!$D:$F,3,0)*N151/H151<=VLOOKUP(F151,Control_Data,3,0),\"No\",\"Yes\")))","v":""}]
[null,129,null,null,null,null,{"$f":"IF(F152=\"\",\"\",IF(F152=\"None\",\"None\",INDEX('Measure Code Summary'!$D$50:$D$53,MATCH(F152,'Measure Code Summary'!$C$50:$C$53,0),1)))","v":""},null,null,null,{"$f":"IF(J152=\"\",\"\",VLOOKUP(J152,'Wattage Table'!$D:$E,2,0))","v":""},null,{"$f":"IF(OR(F152=\"\",L152=\"\"),0,L152*0.25)","v":0},null,{"$f":"IF(J152=\"\",0,(VLOOKUP(J152,'Wattage Table'!$D:$F,3,0)*N152*M152)/1000*VLOOKUP(IF(E152=\"\",$D$16,E152),ClgHtgTypeData,3,FALSE))","v":0},{"$f":"IF(OR(F152=\"\",H152=\"\"),0,IF(F152=\"80F\",Validation!W$11,(VLOOKUP(IF(D152=\"\",$D$15,D152),LtgBldgTypeData,3,FALSE)-VLOOKUP(F152,Control_Data,5)))*S152*VLOOKUP(IF(E152=\"\",$D$16,E152),ClgHtgTypeData,2,FALSE)/1000)","v":0},0,{"$f":"IF(Q152<=0,0,H152*T152)","v":0},{"$f":"IF(ISERROR(IF(J152=\"-\",\"-\",INDEX('Wattage Table'!$F$21:$F$1229,MATCH(J152,'Wattage Table'!$D$21:$D$1229,0)))*$N152),\" \",IF(J152=\"-\",\"-\",INDEX('Wattage Table'!$F$21:$F$1229,MATCH(J152,'Wattage Table'!$D$21:$D$1229,0)))*$N152)","v":" "},{"$f":"IF(F152=\"\",\"\",IF(OR(F152=\"None\",F152=\"\",J152=\"\"),\"No\",IF(VLOOKUP(J152,'Wattage Table'!$D:$F,3,0)*N152/H152<=VLOOKUP(F152,Control_Data,3,0),\"No\",\"Yes\")))","v":""}]
[null,130,null,null,null,null,{"$f":"IF(F153=\"\",\"\",IF(F153=\"None\",\"None\",INDEX('Measure Code Summary'!$D$50:$D$53,MATCH(F153,'Measure Code Summary'!$C$50:$C$53,0),1)))","v":""},null,null,null,{"$f":"IF(J153=\"\",\"\",VLOOKUP(J153,'Wattage Table'!$D:$E,2,0))","v":""},null,0,null,{"$f":"IF(J153=\"\",0,(VLOOKUP(J153,'Wattage Table'!$D:$F,3,0)*N153*M153)/1000*VLOOKUP(IF(E153=\"\",$D$16,E153),ClgHtgTypeData,3,FALSE))","v":0},{"$f":"IF(OR(F153=\"\",H153=\"\"),0,IF(F153=\"80F\",Validation!W$11,(VLOOKUP(IF(D153=\"\",$D$15,D153),LtgBldgTypeData,3,FALSE)-VLOOKUP(F153,Control_Data,5)))*S153*VLOOKUP(IF(E153=\"\",$D$16,E153),ClgHtgTypeData,2,FALSE)/1000)","v":0},0,0,{"$f":"IF(ISERROR(IF(J153=\"-\",\"-\",INDEX('Wattage Table'!$F$21:$F$1229,MATCH(J153,'Wattage Table'!$D$21:$D$1229,0)))*$N153),\" \",IF(J153=\"-\",\"-\",INDEX('Wattage Table'!$F$21:$F$1229,MATCH(J153,'Wattage Table'!$D$21:$D$1229,0)))*$N153)","v":" "},{"$f":"IF(F153=\"\",\"\",IF(OR(F153=\"None\",F153=\"\",J153=\"\"),\"No\",IF(VLOOKUP(J153,'Wattage Table'!$D:$F,3,0)*N153/H153<=VLOOKUP(F153,Control_Data,3,0),\"No\",\"Yes\")))","v":""}]
[null,131,null,null,null,null,{"$f":"IF(F154=\"\",\"\",IF(F154=\"None\",\"None\",INDEX('Measure Code Summary'!$D$50:$D$53,MATCH(F154,'Measure Code Summary'!$C$50:$C$53,0),1)))","v":""},null,null,null,{"$f":"IF(J154=\"\",\"\",VLOOKUP(J154,'Wattage Table'!$D:$E,2,0))","v":""},null,0,null,{"$f":"IF(J154=\"\",0,(VLOOKUP(J154,'Wattage Table'!$D:$F,3,0)*N154*M154)/1000*VLOOKUP(IF(E154=\"\",$D$16,E154),ClgHtgTypeData,3,FALSE))","v":0},{"$f":"IF(OR(F154=\"\",H154=\"\"),0,IF(F154=\"80F\",Validation!W$11,(VLOOKUP(IF(D154=\"\",$D$15,D154),LtgBldgTypeData,3,FALSE)-VLOOKUP(F154,Control_Data,5)))*S154*VLOOKUP(IF(E154=\"\",$D$16,E154),ClgHtgTypeData,2,FALSE)/1000)","v":0},0,0,{"$f":"IF(ISERROR(IF(J154=\"-\",\"-\",INDEX('Wattage Table'!$F$21:$F$1229,MATCH(J154,'Wattage Table'!$D$21:$D$1229,0)))*$N154),\" \",IF(J154=\"-\",\"-\",INDEX('Wattage Table'!$F$21:$F$1229,MATCH(J154,'Wattage Table'!$D$21:$D$1229,0)))*$N154)","v":" "},{"$f":"IF(F154=\"\",\"\",IF(OR(F154=\"None\",F154=\"\",J154=\"\"),\"No\",IF(VLOOKUP(J154,'Wattage Table'!$D:$F,3,0)*N154/H154<=VLOOKUP(F154,Control_Data,3,0),\"No\",\"Yes\")))","v":""}]
[null,132,null,null,null,null,{"$f":"IF(F155=\"\",\"\",IF(F155=\"None\",\"None\",INDEX('Measure Code Summary'!$D$50:$D$53,MATCH(F155,'Measure Code Summary'!$C$50:$C$53,0),1)))","v":""},null,null,null,{"$f":"IF(J155=\"\",\"\",VLOOKUP(J155,'Wattage Table'!$D:$E,2,0))","v":""},null,0,null,{"$f":"IF(J155=\"\",0,(VLOOKUP(J155,'Wattage Table'!$D:$F,3,0)*N155*M155)/1000*VLOOKUP(IF(E155=\"\",$D$16,E155),ClgHtgTypeData,3,FALSE))","v":0},{"$f":"IF(OR(F155=\"\",H155=\"\"),0,IF(F155=\"80F\",Validation!W$11,(VLOOKUP(IF(D155=\"\",$D$15,D155),LtgBldgTypeData,3,FALSE)-VLOOKUP(F155,Control_Data,5)))*S155*VLOOKUP(IF(E155=\"\",$D$16,E155),ClgHtgTypeData,2,FALSE)/1000)","v":0},0,0,{"$f":"IF(ISERROR(IF(J155=\"-\",\"-\",INDEX('Wattage Table'!$F$21:$F$1229,MATCH(J155,'Wattage Table'!$D$21:$D$1229,0)))*$N155),\" \",IF(J155=\"-\",\"-\",INDEX('Wattage Table'!$F$21:$F$1229,MATCH(J155,'Wattage Table'!$D$21:$D$1229,0)))*$N155)","v":" "},{"$f":"IF(F155=\"\",\"\",IF(OR(F155=\"None\",F155=\"\",J155=\"\"),\"No\",IF(VLOOKUP(J155,'Wattage Table'!$D:$F,3,0)*N155/H155<=VLOOKUP(F155,Control_Data,3,0),\"No\",\"Yes\")))","v":""}]
[null,133,null,null,null,null,{"$f":"IF(F156=\"\",\"\",IF(F156=\"None\",\"None\",INDEX('Measure Code Summary'!$D$50:$D$53,MATCH(F156,'Measure Code Summary'!$C$50:$C$53,0),1)))","v":""},null,null,null,{"$f":"IF(J156=\"\",\"\",VLOOKUP(J156,'Wattage Table'!$D:$E,2,0))","v":""},null,0,null,{"$f":"IF(J156=\"\",0,(VLOOKUP(J156,'Wattage Table'!$D:$F,3,0)*N156*M156)/1000*VLOOKUP(IF(E156=\"\",$D$16,E156),ClgHtgTypeData,3,FALSE))","v":0},{"$f":"IF(OR(F156=\"\",H156=\"\"),0,IF(F156=\"80F\",Validation!W$11,(VLOOKUP(IF(D156=\"\",$D$15,D156),LtgBldgTypeData,3,FALSE)-VLOOKUP(F156,Control_Data,5)))*S156*VLOOKUP(IF(E156=\"\",$D$16,E156),ClgHtgTypeData,2,FALSE)/1000)","v":0},0,0,{"$f":"IF(ISERROR(IF(J156=\"-\",\"-\",INDEX('Wattage Table'!$F$21:$F$1229,MATCH(J156,'Wattage Table'!$D$21:$D$1229,0)))*$N156),\" \",IF(J156=\"-\",\"-\",INDEX('Wattage Table'!$F$21:$F$1229,MATCH(J156,'Wattage Table'!$D$21:$D$1229,0)))*$N156)","v":" "},{"$f":"IF(F156=\"\",\"\",IF(OR(F156=\"None\",F156=\"\",J156=\"\"),\"No\",IF(VLOOKUP(J156,'Wattage Table'!$D:$F,3,0)*N156/H156<=VLOOKUP(F156,Control_Data,3,0),\"No\",\"Yes\")))","v":""}]
[null,134,null,null,null,null,{"$f":"IF(F157=\"\",\"\",IF(F157=\"None\",\"None\",INDEX('Measure Code Summary'!$D$50:$D$53,MATCH(F157,'Measure Code Summary'!$C$50:$C$53,0),1)))","v":""},null,null,null,{"$f":"IF(J157=\"\",\"\",VLOOKUP(J157,'Wattage Table'!$D:$E,2,0))","v":""},null,0,null,{"$f":"IF(J157=\"\",0,(VLOOKUP(J157,'Wattage Table'!$D:$F,3,0)*N157*M157)/1000*VLOOKUP(IF(E157=\"\",$D$16,E157),ClgHtgTypeData,3,FALSE))","v":0},{"$f":"IF(OR(F157=\"\",H157=\"\"),0,IF(F157=\"80F\",Validation!W$11,(VLOOKUP(IF(D157=\"\",$D$15,D157),LtgBldgTypeData,3,FALSE)-VLOOKUP(F157,Control_Data,5)))*S157*VLOOKUP(IF(E157=\"\",$D$16,E157),ClgHtgTypeData,2,FALSE)/1000)","v":0},0,0,{"$f":"IF(ISERROR(IF(J157=\"-\",\"-\",INDEX('Wattage Table'!$F$21:$F$1229,MATCH(J157,'Wattage Table'!$D$21:$D$1229,0)))*$N157),\" \",IF(J157=\"-\",\"-\",INDEX('Wattage Table'!$F$21:$F$1229,MATCH(J157,'Wattage Table'!$D$21:$D$1229,0)))*$N157)","v":" "},{"$f":"IF(F157=\"\",\"\",IF(OR(F157=\"None\",F157=\"\",J157=\"\"),\"No\",IF(VLOOKUP(J157,'Wattage Table'!$D:$F,3,0)*N157/H157<=VLOOKUP(F157,Control_Data,3,0),\"No\",\"Yes\")))","v":""}]
[null,135,null,null,null,null,{"$f":"IF(F158=\"\",\"\",IF(F158=\"None\",\"None\",INDEX('Measure Code Summary'!$D$50:$D$53,MATCH(F158,'Measure Code Summary'!$C$50:$C$53,0),1)))","v":""},null,null,null,{"$f":"IF(J158=\"\",\"\",VLOOKUP(J158,'Wattage Table'!$D:$E,2,0))","v":""},null,0,null,{"$f":"IF(J158=\"\",0,(VLOOKUP(J158,'Wattage Table'!$D:$F,3,0)*N158*M158)/1000*VLOOKUP(IF(E158=\"\",$D$16,E158),ClgHtgTypeData,3,FALSE))","v":0},{"$f":"IF(OR(F158=\"\",H158=\"\"),0,IF(F158=\"80F\",Validation!W$11,(VLOOKUP(IF(D158=\"\",$D$15,D158),LtgBldgTypeData,3,FALSE)-VLOOKUP(F158,Control_Data,5)))*S158*VLOOKUP(IF(E158=\"\",$D$16,E158),ClgHtgTypeData,2,FALSE)/1000)","v":0},0,0,{"$f":"IF(ISERROR(IF(J158=\"-\",\"-\",INDEX('Wattage Table'!$F$21:$F$1229,MATCH(J158,'Wattage Table'!$D$21:$D$1229,0)))*$N158),\" \",IF(J158=\"-\",\"-\",INDEX('Wattage Table'!$F$21:$F$1229,MATCH(J158,'Wattage Table'!$D$21:$D$1229,0)))*$N158)","v":" "},{"$f":"IF(F158=\"\",\"\",IF(OR(F158=\"None\",F158=\"\",J158=\"\"),\"No\",IF(VLOOKUP(J158,'Wattage Table'!$D:$F,3,0)*N158/H158<=VLOOKUP(F158,Control_Data,3,0),\"No\",\"Yes\")))","v":""}]
[null,136,null,null,null,null,{"$f":"IF(F159=\"\",\"\",IF(F159=\"None\",\"None\",INDEX('Measure Code Summary'!$D$50:$D$53,MATCH(F159,'Measure Code Summary'!$C$50:$C$53,0),1)))","v":""},null,null,null,{"$f":"IF(J159=\"\",\"\",VLOOKUP(J159,'Wattage Table'!$D:$E,2,0))","v":""},null,0,null,{"$f":"IF(J159=\"\",0,(VLOOKUP(J159,'Wattage Table'!$D:$F,3,0)*N159*M159)/1000*VLOOKUP(IF(E159=\"\",$D$16,E159),ClgHtgTypeData,3,FALSE))","v":0},{"$f":"IF(OR(F159=\"\",H159=\"\"),0,IF(F159=\"80F\",Validation!W$11,(VLOOKUP(IF(D159=\"\",$D$15,D159),LtgBldgTypeData,3,FALSE)-VLOOKUP(F159,Control_Data,5)))*S159*VLOOKUP(IF(E159=\"\",$D$16,E159),ClgHtgTypeData,2,FALSE)/1000)","v":0},0,0,{"$f":"IF(ISERROR(IF(J159=\"-\",\"-\",INDEX('Wattage Table'!$F$21:$F$1229,MATCH(J159,'Wattage Table'!$D$21:$D$1229,0)))*$N159),\" \",IF(J159=\"-\",\"-\",INDEX('Wattage Table'!$F$21:$F$1229,MATCH(J159,'Wattage Table'!$D$21:$D$1229,0)))*$N159)","v":" "},{"$f":"IF(F159=\"\",\"\",IF(OR(F159=\"None\",F159=\"\",J159=\"\"),\"No\",IF(VLOOKUP(J159,'Wattage Table'!$D:$F,3,0)*N159/H159<=VLOOKUP(F159,Control_Data,3,0),\"No\",\"Yes\")))","v":""}]
[null,137,null,null,null,null,{"$f":"IF(F160=\"\",\"\",IF(F160=\"None\",\"None\",INDEX('Measure Code Summary'!$D$50:$D$53,MATCH(F160,'Measure Code Summary'!$C$50:$C$53,0),1)))","v":""},null,null,null,{"$f":"IF(J160=\"\",\"\",VLOOKUP(J160,'Wattage Table'!$D:$E,2,0))","v":""},null,0,null,{"$f":"IF(J160=\"\",0,(VLOOKUP(J160,'Wattage Table'!$D:$F,3,0)*N160*M160)/1000*VLOOKUP(IF(E160=\"\",$D$16,E160),ClgHtgTypeData,3,FALSE))","v":0},{"$f":"IF(OR(F160=\"\",H160=\"\"),0,IF(F160=\"80F\",Validation!W$11,(VLOOKUP(IF(D160=\"\",$D$15,D160),LtgBldgTypeData,3,FALSE)-VLOOKUP(F160,Control_Data,5)))*S160*VLOOKUP(IF(E160=\"\",$D$16,E160),ClgHtgTypeData,2,FALSE)/1000)","v":0},0,0,{"$f":"IF(ISERROR(IF(J160=\"-\",\"-\",INDEX('Wattage Table'!$F$21:$F$1229,MATCH(J160,'Wattage Table'!$D$21:$D$1229,0)))*$N160),\" \",IF(J160=\"-\",\"-\",INDEX('Wattage Table'!$F$21:$F$1229,MATCH(J160,'Wattage Table'!$D$21:$D$1229,0)))*$N160)","v":" "},{"$f":"IF(F160=\"\",\"\",IF(OR(F160=\"None\",F160=\"\",J160=\"\"),\"No\",IF(VLOOKUP(J160,'Wattage Table'!$D:$F,3,0)*N160/H160<=VLOOKUP(F160,Control_Data,3,0),\"No\",\"Yes\")))","v":""}]
[null,138,null,null,null,null,{"$f":"IF(F161=\"\",\"\",IF(F161=\"None\",\"None\",INDEX('Measure Code Summary'!$D$50:$D$53,MATCH(F161,'Measure Code Summary'!$C$50:$C$53,0),1)))","v":""},null,null,null,{"$f":"IF(J161=\"\",\"\",VLOOKUP(J161,'Wattage Table'!$D:$E,2,0))","v":""},null,0,null,{"$f":"IF(J161=\"\",0,(VLOOKUP(J161,'Wattage Table'!$D:$F,3,0)*N161*M161)/1000*VLOOKUP(IF(E161=\"\",$D$16,E161),ClgHtgTypeData,3,FALSE))","v":0},{"$f":"IF(OR(F161=\"\",H161=\"\"),0,IF(F161=\"80F\",Validation!W$11,(VLOOKUP(IF(D161=\"\",$D$15,D161),LtgBldgTypeData,3,FALSE)-VLOOKUP(F161,Control_Data,5)))*S161*VLOOKUP(IF(E161=\"\",$D$16,E161),ClgHtgTypeData,2,FALSE)/1000)","v":0},0,0,{"$f":"IF(ISERROR(IF(J161=\"-\",\"-\",INDEX('Wattage Table'!$F$21:$F$1229,MATCH(J161,'Wattage Table'!$D$21:$D$1229,0)))*$N161),\" \",IF(J161=\"-\",\"-\",INDEX('Wattage Table'!$F$21:$F$1229,MATCH(J161,'Wattage Table'!$D$21:$D$1229,0)))*$N161)","v":" "},{"$f":"IF(F161=\"\",\"\",IF(OR(F161=\"None\",F161=\"\",J161=\"\"),\"No\",IF(VLOOKUP(J161,'Wattage Table'!$D:$F,3,0)*N161/H161<=VLOOKUP(F161,Control_Data,3,0),\"No\",\"Yes\")))","v":""}]
[null,139,null,null,null,null,{"$f":"IF(F162=\"\",\"\",IF(F162=\"None\",\"None\",INDEX('Measure Code Summary'!$D$50:$D$53,MATCH(F162,'Measure Code Summary'!$C$50:$C$53,0),1)))","v":""},null,null,null,{"$f":"IF(J162=\"\",\"\",VLOOKUP(J162,'Wattage Table'!$D:$E,2,0))","v":""},null,0,null,{"$f":"IF(J162=\"\",0,(VLOOKUP(J162,'Wattage Table'!$D:$F,3,0)*N162*M162)/1000*VLOOKUP(IF(E162=\"\",$D$16,E162),ClgHtgTypeData,3,FALSE))","v":0},{"$f":"IF(OR(F162=\"\",H162=\"\"),0,IF(F162=\"80F\",Validation!W$11,(VLOOKUP(IF(D162=\"\",$D$15,D162),LtgBldgTypeData,3,FALSE)-VLOOKUP(F162,Control_Data,5)))*S162*VLOOKUP(IF(E162=\"\",$D$16,E162),ClgHtgTypeData,2,FALSE)/1000)","v":0},0,0,{"$f":"IF(ISERROR(IF(J162=\"-\",\"-\",INDEX('Wattage Table'!$F$21:$F$1229,MATCH(J162,'Wattage Table'!$D$21:$D$1229,0)))*$N162),\" \",IF(J162=\"-\",\"-\",INDEX('Wattage Table'!$F$21:$F$1229,MATCH(J162,'Wattage Table'!$D$21:$D$1229,0)))*$N162)","v":" "},{"$f":"IF(F162=\"\",\"\",IF(OR(F162=\"None\",F162=\"\",J162=\"\"),\"No\",IF(VLOOKUP(J162,'Wattage Table'!$D:$F,3,0)*N162/H162<=VLOOKUP(F162,Control_Data,3,0),\"No\",\"Yes\")))","v":""}]
[null,140,null,null,null,null,{"$f":"IF(F163=\"\",\"\",IF(F163=\"None\",\"None\",INDEX('Measure Code Summary'!$D$50:$D$53,MATCH(F163,'Measure Code Summary'!$C$50:$C$53,0),1)))","v":""},null,null,null,{"$f":"IF(J163=\"\",\"\",VLOOKUP(J163,'Wattage Table'!$D:$E,2,0))","v":""},null,0,null,{"$f":"IF(J163=\"\",0,(VLOOKUP(J163,'Wattage Table'!$D:$F,3,0)*N163*M163)/1000*VLOOKUP(IF(E163=\"\",$D$16,E163),ClgHtgTypeData,3,FALSE))","v":0},{"$f":"IF(OR(F163=\"\",H163=\"\"),0,IF(F163=\"80F\",Validation!W$11,(VLOOKUP(IF(D163=\"\",$D$15,D163),LtgBldgTypeData,3,FALSE)-VLOOKUP(F163,Control_Data,5)))*S163*VLOOKUP(IF(E163=\"\",$D$16,E163),ClgHtgTypeData,2,FALSE)/1000)","v":0},0,0,{"$f":"IF(ISERROR(IF(J163=\"-\",\"-\",INDEX('Wattage Table'!$F$21:$F$1229,MATCH(J163,'Wattage Table'!$D$21:$D$1229,0)))*$N163),\" \",IF(J163=\"-\",\"-\",INDEX('Wattage Table'!$F$21:$F$1229,MATCH(J163,'Wattage Table'!$D$21:$D$1229,0)))*$N163)","v":" "},{"$f":"IF(F163=\"\",\"\",IF(OR(F163=\"None\",F163=\"\",J163=\"\"),\"No\",IF(VLOOKUP(J163,'Wattage Table'!$D:$F,3,0)*N163/H163<=VLOOKUP(F163,Control_Data,3,0),\"No\",\"Yes\")))","v":""}]
[null,141,null,null,null,null,{"$f":"IF(F164=\"\",\"\",IF(F164=\"None\",\"None\",INDEX('Measure Code Summary'!$D$50:$D$53,MATCH(F164,'Measure Code Summary'!$C$50:$C$53,0),1)))","v":""},null,null,null,{"$f":"IF(J164=\"\",\"\",VLOOKUP(J164,'Wattage Table'!$D:$E,2,0))","v":""},null,0,null,{"$f":"IF(J164=\"\",0,(VLOOKUP(J164,'Wattage Table'!$D:$F,3,0)*N164*M164)/1000*VLOOKUP(IF(E164=\"\",$D$16,E164),ClgHtgTypeData,3,FALSE))","v":0},{"$f":"IF(OR(F164=\"\",H164=\"\"),0,IF(F164=\"80F\",Validation!W$11,(VLOOKUP(IF(D164=\"\",$D$15,D164),LtgBldgTypeData,3,FALSE)-VLOOKUP(F164,Control_Data,5)))*S164*VLOOKUP(IF(E164=\"\",$D$16,E164),ClgHtgTypeData,2,FALSE)/1000)","v":0},0,0,{"$f":"IF(ISERROR(IF(J164=\"-\",\"-\",INDEX('Wattage Table'!$F$21:$F$1229,MATCH(J164,'Wattage Table'!$D$21:$D$1229,0)))*$N164),\" \",IF(J164=\"-\",\"-\",INDEX('Wattage Table'!$F$21:$F$1229,MATCH(J164,'Wattage Table'!$D$21:$D$1229,0)))*$N164)","v":" "},{"$f":"IF(F164=\"\",\"\",IF(OR(F164=\"None\",F164=\"\",J164=\"\"),\"No\",IF(VLOOKUP(J164,'Wattage Table'!$D:$F,3,0)*N164/H164<=VLOOKUP(F164,Control_Data,3,0),\"No\",\"Yes\")))","v":""}]
[null,142,null,null,null,null,{"$f":"IF(F165=\"\",\"\",IF(F165=\"None\",\"None\",INDEX('Measure Code Summary'!$D$50:$D$53,MATCH(F165,'Measure Code Summary'!$C$50:$C$53,0),1)))","v":""},null,null,null,{"$f":"IF(J165=\"\",\"\",VLOOKUP(J165,'Wattage Table'!$D:$E,2,0))","v":""},null,0,null,{"$f":"IF(J165=\"\",0,(VLOOKUP(J165,'Wattage Table'!$D:$F,3,0)*N165*M165)/1000*VLOOKUP(IF(E165=\"\",$D$16,E165),ClgHtgTypeData,3,FALSE))","v":0},{"$f":"IF(OR(F165=\"\",H165=\"\"),0,IF(F165=\"80F\",Validation!W$11,(VLOOKUP(IF(D165=\"\",$D$15,D165),LtgBldgTypeData,3,FALSE)-VLOOKUP(F165,Control_Data,5)))*S165*VLOOKUP(IF(E165=\"\",$D$16,E165),ClgHtgTypeData,2,FALSE)/1000)","v":0},0,0,{"$f":"IF(ISERROR(IF(J165=\"-\",\"-\",INDEX('Wattage Table'!$F$21:$F$1229,MATCH(J165,'Wattage Table'!$D$21:$D$1229,0)))*$N165),\" \",IF(J165=\"-\",\"-\",INDEX('Wattage Table'!$F$21:$F$1229,MATCH(J165,'Wattage Table'!$D$21:$D$1229,0)))*$N165)","v":" "},{"$f":"IF(F165=\"\",\"\",IF(OR(F165=\"None\",F165=\"\",J165=\"\"),\"No\",IF(VLOOKUP(J165,'Wattage Table'!$D:$F,3,0)*N165/H165<=VLOOKUP(F165,Control_Data,3,0),\"No\",\"Yes\")))","v":""}]
[null,143,null,null,null,null,{"$f":"IF(F166=\"\",\"\",IF(F166=\"None\",\"None\",INDEX('Measure Code Summary'!$D$50:$D$53,MATCH(F166,'Measure Code Summary'!$C$50:$C$53,0),1)))","v":""},null,null,null,{"$f":"IF(J166=\"\",\"\",VLOOKUP(J166,'Wattage Table'!$D:$E,2,0))","v":""},null,0,null,{"$f":"IF(J166=\"\",0,(VLOOKUP(J166,'Wattage Table'!$D:$F,3,0)*N166*M166)/1000*VLOOKUP(IF(E166=\"\",$D$16,E166),ClgHtgTypeData,3,FALSE))","v":0},{"$f":"IF(OR(F166=\"\",H166=\"\"),0,IF(F166=\"80F\",Validation!W$11,(VLOOKUP(IF(D166=\"\",$D$15,D166),LtgBldgTypeData,3,FALSE)-VLOOKUP(F166,Control_Data,5)))*S166*VLOOKUP(IF(E166=\"\",$D$16,E166),ClgHtgTypeData,2,FALSE)/1000)","v":0},0,0,{"$f":"IF(ISERROR(IF(J166=\"-\",\"-\",INDEX('Wattage Table'!$F$21:$F$1229,MATCH(J166,'Wattage Table'!$D$21:$D$1229,0)))*$N166),\" \",IF(J166=\"-\",\"-\",INDEX('Wattage Table'!$F$21:$F$1229,MATCH(J166,'Wattage Table'!$D$21:$D$1229,0)))*$N166)","v":" "},{"$f":"IF(F166=\"\",\"\",IF(OR(F166=\"None\",F166=\"\",J166=\"\"),\"No\",IF(VLOOKUP(J166,'Wattage Table'!$D:$F,3,0)*N166/H166<=VLOOKUP(F166,Control_Data,3,0),\"No\",\"Yes\")))","v":""}]
[null,144,null,null,null,null,{"$f":"IF(F167=\"\",\"\",IF(F167=\"None\",\"None\",INDEX('Measure Code Summary'!$D$50:$D$53,MATCH(F167,'Measure Code Summary'!$C$50:$C$53,0),1)))","v":""},null,null,null,{"$f":"IF(J167=\"\",\"\",VLOOKUP(J167,'Wattage Table'!$D:$E,2,0))","v":""},null,0,null,{"$f":"IF(J167=\"\",0,(VLOOKUP(J167,'Wattage Table'!$D:$F,3,0)*N167*M167)/1000*VLOOKUP(IF(E167=\"\",$D$16,E167),ClgHtgTypeData,3,FALSE))","v":0},{"$f":"IF(OR(F167=\"\",H167=\"\"),0,IF(F167=\"80F\",Validation!W$11,(VLOOKUP(IF(D167=\"\",$D$15,D167),LtgBldgTypeData,3,FALSE)-VLOOKUP(F167,Control_Data,5)))*S167*VLOOKUP(IF(E167=\"\",$D$16,E167),ClgHtgTypeData,2,FALSE)/1000)","v":0},0,0,{"$f":"IF(ISERROR(IF(J167=\"-\",\"-\",INDEX('Wattage Table'!$F$21:$F$1229,MATCH(J167,'Wattage Table'!$D$21:$D$1229,0)))*$N167),\" \",IF(J167=\"-\",\"-\",INDEX('Wattage Table'!$F$21:$F$1229,MATCH(J167,'Wattage Table'!$D$21:$D$1229,0)))*$N167)","v":" "},{"$f":"IF(F167=\"\",\"\",IF(OR(F167=\"None\",F167=\"\",J167=\"\"),\"No\",IF(VLOOKUP(J167,'Wattage Table'!$D:$F,3,0)*N167/H167<=VLOOKUP(F167,Control_Data,3,0),\"No\",\"Yes\")))","v":""}]
[null,145,null,null,null,null,{"$f":"IF(F168=\"\",\"\",IF(F168=\"None\",\"None\",INDEX('Measure Code Summary'!$D$50:$D$53,MATCH(F168,'Measure Code Summary'!$C$50:$C$53,0),1)))","v":""},null,null,null,{"$f":"IF(J168=\"\",\"\",VLOOKUP(J168,'Wattage Table'!$D:$E,2,0))","v":""},null,0,null,{"$f":"IF(J168=\"\",0,(VLOOKUP(J168,'Wattage Table'!$D:$F,3,0)*N168*M168)/1000*VLOOKUP(IF(E168=\"\",$D$16,E168),ClgHtgTypeData,3,FALSE))","v":0},{"$f":"IF(OR(F168=\"\",H168=\"\"),0,IF(F168=\"80F\",Validation!W$11,(VLOOKUP(IF(D168=\"\",$D$15,D168),LtgBldgTypeData,3,FALSE)-VLOOKUP(F168,Control_Data,5)))*S168*VLOOKUP(IF(E168=\"\",$D$16,E168),ClgHtgTypeData,2,FALSE)/1000)","v":0},0,0,{"$f":"IF(ISERROR(IF(J168=\"-\",\"-\",INDEX('Wattage Table'!$F$21:$F$1229,MATCH(J168,'Wattage Table'!$D$21:$D$1229,0)))*$N168),\" \",IF(J168=\"-\",\"-\",INDEX('Wattage Table'!$F$21:$F$1229,MATCH(J168,'Wattage Table'!$D$21:$D$1229,0)))*$N168)","v":" "},{"$f":"IF(F168=\"\",\"\",IF(OR(F168=\"None\",F168=\"\",J168=\"\"),\"No\",IF(VLOOKUP(J168,'Wattage Table'!$D:$F,3,0)*N168/H168<=VLOOKUP(F168,Control_Data,3,0),\"No\",\"Yes\")))","v":""}]
[null,146,null,null,null,null,{"$f":"IF(F169=\"\",\"\",IF(F169=\"None\",\"None\",INDEX('Measure Code Summary'!$D$50:$D$53,MATCH(F169,'Measure Code Summary'!$C$50:$C$53,0),1)))","v":""},null,null,null,{"$f":"IF(J169=\"\",\"\",VLOOKUP(J169,'Wattage Table'!$D:$E,2,0))","v":""},null,0,null,{"$f":"IF(J169=\"\",0,(VLOOKUP(J169,'Wattage Table'!$D:$F,3,0)*N169*M169)/1000*VLOOKUP(IF(E169=\"\",$D$16,E169),ClgHtgTypeData,3,FALSE))","v":0},{"$f":"IF(OR(F169=\"\",H169=\"\"),0,IF(F169=\"80F\",Validation!W$11,(VLOOKUP(IF(D169=\"\",$D$15,D169),LtgBldgTypeData,3,FALSE)-VLOOKUP(F169,Control_Data,5)))*S169*VLOOKUP(IF(E169=\"\",$D$16,E169),ClgHtgTypeData,2,FALSE)/1000)","v":0},0,0,{"$f":"IF(ISERROR(IF(J169=\"-\",\"-\",INDEX('Wattage Table'!$F$21:$F$1229,MATCH(J169,'Wattage Table'!$D$21:$D$1229,0)))*$N169),\" \",IF(J169=\"-\",\"-\",INDEX('Wattage Table'!$F$21:$F$1229,MATCH(J169,'Wattage Table'!$D$21:$D$1229,0)))*$N169)","v":" "},{"$f":"IF(F169=\"\",\"\",IF(OR(F169=\"None\",F169=\"\",J169=\"\"),\"No\",IF(VLOOKUP(J169,'Wattage Table'!$D:$F,3,0)*N169/H169<=VLOOKUP(F169,Control_Data,3,0),\"No\",\"Yes\")))","v":""}]
[null,147,null,null,null,null,{"$f":"IF(F170=\"\",\"\",IF(F170=\"None\",\"None\",INDEX('Measure Code Summary'!$D$50:$D$53,MATCH(F170,'Measure Code Summary'!$C$50:$C$53,0),1)))","v":""},null,null,null,{"$f":"IF(J170=\"\",\"\",VLOOKUP(J170,'Wattage Table'!$D:$E,2,0))","v":""},null,0,null,{"$f":"IF(J170=\"\",0,(VLOOKUP(J170,'Wattage Table'!$D:$F,3,0)*N170*M170)/1000*VLOOKUP(IF(E170=\"\",$D$16,E170),ClgHtgTypeData,3,FALSE))","v":0},{"$f":"IF(OR(F170=\"\",H170=\"\"),0,IF(F170=\"80F\",Validation!W$11,(VLOOKUP(IF(D170=\"\",$D$15,D170),LtgBldgTypeData,3,FALSE)-VLOOKUP(F170,Control_Data,5)))*S170*VLOOKUP(IF(E170=\"\",$D$16,E170),ClgHtgTypeData,2,FALSE)/1000)","v":0},0,0,{"$f":"IF(ISERROR(IF(J170=\"-\",\"-\",INDEX('Wattage Table'!$F$21:$F$1229,MATCH(J170,'Wattage Table'!$D$21:$D$1229,0)))*$N170),\" \",IF(J170=\"-\",\"-\",INDEX('Wattage Table'!$F$21:$F$1229,MATCH(J170,'Wattage Table'!$D$21:$D$1229,0)))*$N170)","v":" "},{"$f":"IF(F170=\"\",\"\",IF(OR(F170=\"None\",F170=\"\",J170=\"\"),\"No\",IF(VLOOKUP(J170,'Wattage Table'!$D:$F,3,0)*N170/H170<=VLOOKUP(F170,Control_Data,3,0),\"No\",\"Yes\")))","v":""}]
[null,148,null,null,null,null,{"$f":"IF(F171=\"\",\"\",IF(F171=\"None\",\"None\",INDEX('Measure Code Summary'!$D$50:$D$53,MATCH(F171,'Measure Code Summary'!$C$50:$C$53,0),1)))","v":""},null,null,null,{"$f":"IF(J171=\"\",\"\",VLOOKUP(J171,'Wattage Table'!$D:$E,2,0))","v":""},null,0,null,{"$f":"IF(J171=\"\",0,(VLOOKUP(J171,'Wattage Table'!$D:$F,3,0)*N171*M171)/1000*VLOOKUP(IF(E171=\"\",$D$16,E171),ClgHtgTypeData,3,FALSE))","v":0},{"$f":"IF(OR(F171=\"\",H171=\"\"),0,IF(F171=\"80F\",Validation!W$11,(VLOOKUP(IF(D171=\"\",$D$15,D171),LtgBldgTypeData,3,FALSE)-VLOOKUP(F171,Control_Data,5)))*S171*VLOOKUP(IF(E171=\"\",$D$16,E171),ClgHtgTypeData,2,FALSE)/1000)","v":0},0,0,{"$f":"IF(ISERROR(IF(J171=\"-\",\"-\",INDEX('Wattage Table'!$F$21:$F$1229,MATCH(J171,'Wattage Table'!$D$21:$D$1229,0)))*$N171),\" \",IF(J171=\"-\",\"-\",INDEX('Wattage Table'!$F$21:$F$1229,MATCH(J171,'Wattage Table'!$D$21:$D$1229,0)))*$N171)","v":" "},{"$f":"IF(F171=\"\",\"\",IF(OR(F171=\"None\",F171=\"\",J171=\"\"),\"No\",IF(VLOOKUP(J171,'Wattage Table'!$D:$F,3,0)*N171/H171<=VLOOKUP(F171,Control_Data,3,0),\"No\",\"Yes\")))","v":""}]
[null,149,null,null,null,null,{"$f":"IF(F172=\"\",\"\",IF(F172=\"None\",\"None\",INDEX('Measure Code Summary'!$D$50:$D$53,MATCH(F172,'Measure Code Summary'!$C$50:$C$53,0),1)))","v":""},null,null,null,{"$f":"IF(J172=\"\",\"\",VLOOKUP(J172,'Wattage Table'!$D:$E,2,0))","v":""},null,0,null,{"$f":"IF(J172=\"\",0,(VLOOKUP(J172,'Wattage Table'!$D:$F,3,0)*N172*M172)/1000*VLOOKUP(IF(E172=\"\",$D$16,E172),ClgHtgTypeData,3,FALSE))","v":0},{"$f":"IF(OR(F172=\"\",H172=\"\"),0,IF(F172=\"80F\",Validation!W$11,(VLOOKUP(IF(D172=\"\",$D$15,D172),LtgBldgTypeData,3,FALSE)-VLOOKUP(F172,Control_Data,5)))*S172*VLOOKUP(IF(E172=\"\",$D$16,E172),ClgHtgTypeData,2,FALSE)/1000)","v":0},0,0,{"$f":"IF(ISERROR(IF(J172=\"-\",\"-\",INDEX('Wattage Table'!$F$21:$F$1229,MATCH(J172,'Wattage Table'!$D$21:$D$1229,0)))*$N172),\" \",IF(J172=\"-\",\"-\",INDEX('Wattage Table'!$F$21:$F$1229,MATCH(J172,'Wattage Table'!$D$21:$D$1229,0)))*$N172)","v":" "},{"$f":"IF(F172=\"\",\"\",IF(OR(F172=\"None\",F172=\"\",J172=\"\"),\"No\",IF(VLOOKUP(J172,'Wattage Table'!$D:$F,3,0)*N172/H172<=VLOOKUP(F172,Control_Data,3,0),\"No\",\"Yes\")))","v":""}]
[null,150,null,null,null,null,{"$f":"IF(F173=\"\",\"\",IF(F173=\"None\",\"None\",INDEX('Measure Code Summary'!$D$50:$D$53,MATCH(F173,'Measure Code Summary'!$C$50:$C$53,0),1)))","v":""},null,null,null,{"$f":"IF(J173=\"\",\"\",VLOOKUP(J173,'Wattage Table'!$D:$E,2,0))","v":""},null,0,null,{"$f":"IF(J173=\"\",0,(VLOOKUP(J173,'Wattage Table'!$D:$F,3,0)*N173*M173)/1000*VLOOKUP(IF(E173=\"\",$D$16,E173),ClgHtgTypeData,3,FALSE))","v":0},{"$f":"IF(OR(F173=\"\",H173=\"\"),0,IF(F173=\"80F\",Validation!W$11,(VLOOKUP(IF(D173=\"\",$D$15,D173),LtgBldgTypeData,3,FALSE)-VLOOKUP(F173,Control_Data,5)))*S173*VLOOKUP(IF(E173=\"\",$D$16,E173),ClgHtgTypeData,2,FALSE)/1000)","v":0},0,0,{"$f":"IF(ISERROR(IF(J173=\"-\",\"-\",INDEX('Wattage Table'!$F$21:$F$1229,MATCH(J173,'Wattage Table'!$D$21:$D$1229,0)))*$N173),\" \",IF(J173=\"-\",\"-\",INDEX('Wattage Table'!$F$21:$F$1229,MATCH(J173,'Wattage Table'!$D$21:$D$1229,0)))*$N173)","v":" "},{"$f":"IF(F173=\"\",\"\",IF(OR(F173=\"None\",F173=\"\",J173=\"\"),\"No\",IF(VLOOKUP(J173,'Wattage Table'!$D:$F,3,0)*N173/H173<=VLOOKUP(F173,Control_Data,3,0),\"No\",\"Yes\")))","v":""}]
[null,151,null,null,null,null,{"$f":"IF(F174=\"\",\"\",IF(F174=\"None\",\"None\",INDEX('Measure Code Summary'!$D$50:$D$53,MATCH(F174,'Measure Code Summary'!$C$50:$C$53,0),1)))","v":""},null,null,null,{"$f":"IF(J174=\"\",\"\",VLOOKUP(J174,'Wattage Table'!$D:$E,2,0))","v":""},null,0,null,{"$f":"IF(J174=\"\",0,(VLOOKUP(J174,'Wattage Table'!$D:$F,3,0)*N174*M174)/1000*VLOOKUP(IF(E174=\"\",$D$16,E174),ClgHtgTypeData,3,FALSE))","v":0},{"$f":"IF(OR(F174=\"\",H174=\"\"),0,IF(F174=\"80F\",Validation!W$11,(VLOOKUP(IF(D174=\"\",$D$15,D174),LtgBldgTypeData,3,FALSE)-VLOOKUP(F174,Control_Data,5)))*S174*VLOOKUP(IF(E174=\"\",$D$16,E174),ClgHtgTypeData,2,FALSE)/1000)","v":0},0,0,{"$f":"IF(ISERROR(IF(J174=\"-\",\"-\",INDEX('Wattage Table'!$F$21:$F$1229,MATCH(J174,'Wattage Table'!$D$21:$D$1229,0)))*$N174),\" \",IF(J174=\"-\",\"-\",INDEX('Wattage Table'!$F$21:$F$1229,MATCH(J174,'Wattage Table'!$D$21:$D$1229,0)))*$N174)","v":" "},{"$f":"IF(F174=\"\",\"\",IF(OR(F174=\"None\",F174=\"\",J174=\"\"),\"No\",IF(VLOOKUP(J174,'Wattage Table'!$D:$F,3,0)*N174/H174<=VLOOKUP(F174,Control_Data,3,0),\"No\",\"Yes\")))","v":""}]
[null,152,null,null,null,null,{"$f":"IF(F175=\"\",\"\",IF(F175=\"None\",\"None\",INDEX('Measure Code Summary'!$D$50:$D$53,MATCH(F175,'Measure Code Summary'!$C$50:$C$53,0),1)))","v":""},null,null,null,{"$f":"IF(J175=\"\",\"\",VLOOKUP(J175,'Wattage Table'!$D:$E,2,0))","v":""},null,0,null,{"$f":"IF(J175=\"\",0,(VLOOKUP(J175,'Wattage Table'!$D:$F,3,0)*N175*M175)/1000*VLOOKUP(IF(E175=\"\",$D$16,E175),ClgHtgTypeData,3,FALSE))","v":0},{"$f":"IF(OR(F175=\"\",H175=\"\"),0,IF(F175=\"80F\",Validation!W$11,(VLOOKUP(IF(D175=\"\",$D$15,D175),LtgBldgTypeData,3,FALSE)-VLOOKUP(F175,Control_Data,5)))*S175*VLOOKUP(IF(E175=\"\",$D$16,E175),ClgHtgTypeData,2,FALSE)/1000)","v":0},0,0,{"$f":"IF(ISERROR(IF(J175=\"-\",\"-\",INDEX('Wattage Table'!$F$21:$F$1229,MATCH(J175,'Wattage Table'!$D$21:$D$1229,0)))*$N175),\" \",IF(J175=\"-\",\"-\",INDEX('Wattage Table'!$F$21:$F$1229,MATCH(J175,'Wattage Table'!$D$21:$D$1229,0)))*$N175)","v":" "},{"$f":"IF(F175=\"\",\"\",IF(OR(F175=\"None\",F175=\"\",J175=\"\"),\"No\",IF(VLOOKUP(J175,'Wattage Table'!$D:$F,3,0)*N175/H175<=VLOOKUP(F175,Control_Data,3,0),\"No\",\"Yes\")))","v":""}]
[null,153,null,null,null,null,{"$f":"IF(F176=\"\",\"\",IF(F176=\"None\",\"None\",INDEX('Measure Code Summary'!$D$50:$D$53,MATCH(F176,'Measure Code Summary'!$C$50:$C$53,0),1)))","v":""},null,null,null,{"$f":"IF(J176=\"\",\"\",VLOOKUP(J176,'Wattage Table'!$D:$E,2,0))","v":""},null,0,null,{"$f":"IF(J176=\"\",0,(VLOOKUP(J176,'Wattage Table'!$D:$F,3,0)*N176*M176)/1000*VLOOKUP(IF(E176=\"\",$D$16,E176),ClgHtgTypeData,3,FALSE))","v":0},{"$f":"IF(OR(F176=\"\",H176=\"\"),0,IF(F176=\"80F\",Validation!W$11,(VLOOKUP(IF(D176=\"\",$D$15,D176),LtgBldgTypeData,3,FALSE)-VLOOKUP(F176,Control_Data,5)))*S176*VLOOKUP(IF(E176=\"\",$D$16,E176),ClgHtgTypeData,2,FALSE)/1000)","v":0},0,0,{"$f":"IF(ISERROR(IF(J176=\"-\",\"-\",INDEX('Wattage Table'!$F$21:$F$1229,MATCH(J176,'Wattage Table'!$D$21:$D$1229,0)))*$N176),\" \",IF(J176=\"-\",\"-\",INDEX('Wattage Table'!$F$21:$F$1229,MATCH(J176,'Wattage Table'!$D$21:$D$1229,0)))*$N176)","v":" "},{"$f":"IF(F176=\"\",\"\",IF(OR(F176=\"None\",F176=\"\",J176=\"\"),\"No\",IF(VLOOKUP(J176,'Wattage Table'!$D:$F,3,0)*N176/H176<=VLOOKUP(F176,Control_Data,3,0),\"No\",\"Yes\")))","v":""}]
[null,154,null,null,null,null,{"$f":"IF(F177=\"\",\"\",IF(F177=\"None\",\"None\",INDEX('Measure Code Summary'!$D$50:$D$53,MATCH(F177,'Measure Code Summary'!$C$50:$C$53,0),1)))","v":""},null,null,null,{"$f":"IF(J177=\"\",\"\",VLOOKUP(J177,'Wattage Table'!$D:$E,2,0))","v":""},null,0,null,{"$f":"IF(J177=\"\",0,(VLOOKUP(J177,'Wattage Table'!$D:$F,3,0)*N177*M177)/1000*VLOOKUP(IF(E177=\"\",$D$16,E177),ClgHtgTypeData,3,FALSE))","v":0},{"$f":"IF(OR(F177=\"\",H177=\"\"),0,IF(F177=\"80F\",Validation!W$11,(VLOOKUP(IF(D177=\"\",$D$15,D177),LtgBldgTypeData,3,FALSE)-VLOOKUP(F177,Control_Data,5)))*S177*VLOOKUP(IF(E177=\"\",$D$16,E177),ClgHtgTypeData,2,FALSE)/1000)","v":0},0,0,{"$f":"IF(ISERROR(IF(J177=\"-\",\"-\",INDEX('Wattage Table'!$F$21:$F$1229,MATCH(J177,'Wattage Table'!$D$21:$D$1229,0)))*$N177),\" \",IF(J177=\"-\",\"-\",INDEX('Wattage Table'!$F$21:$F$1229,MATCH(J177,'Wattage Table'!$D$21:$D$1229,0)))*$N177)","v":" "},{"$f":"IF(F177=\"\",\"\",IF(OR(F177=\"None\",F177=\"\",J177=\"\"),\"No\",IF(VLOOKUP(J177,'Wattage Table'!$D:$F,3,0)*N177/H177<=VLOOKUP(F177,Control_Data,3,0),\"No\",\"Yes\")))","v":""}]
[null,155,null,null,null,null,{"$f":"IF(F178=\"\",\"\",IF(F178=\"None\",\"None\",INDEX('Measure Code Summary'!$D$50:$D$53,MATCH(F178,'Measure Code Summary'!$C$50:$C$53,0),1)))","v":""},null,null,null,{"$f":"IF(J178=\"\",\"\",VLOOKUP(J178,'Wattage Table'!$D:$E,2,0))","v":""},null,0,null,{"$f":"IF(J178=\"\",0,(VLOOKUP(J178,'Wattage Table'!$D:$F,3,0)*N178*M178)/1000*VLOOKUP(IF(E178=\"\",$D$16,E178),ClgHtgTypeData,3,FALSE))","v":0},{"$f":"IF(OR(F178=\"\",H178=\"\"),0,IF(F178=\"80F\",Validation!W$11,(VLOOKUP(IF(D178=\"\",$D$15,D178),LtgBldgTypeData,3,FALSE)-VLOOKUP(F178,Control_Data,5)))*S178*VLOOKUP(IF(E178=\"\",$D$16,E178),ClgHtgTypeData,2,FALSE)/1000)","v":0},0,0,{"$f":"IF(ISERROR(IF(J178=\"-\",\"-\",INDEX('Wattage Table'!$F$21:$F$1229,MATCH(J178,'Wattage Table'!$D$21:$D$1229,0)))*$N178),\" \",IF(J178=\"-\",\"-\",INDEX('Wattage Table'!$F$21:$F$1229,MATCH(J178,'Wattage Table'!$D$21:$D$1229,0)))*$N178)","v":" "},{"$f":"IF(F178=\"\",\"\",IF(OR(F178=\"None\",F178=\"\",J178=\"\"),\"No\",IF(VLOOKUP(J178,'Wattage Table'!$D:$F,3,0)*N178/H178<=VLOOKUP(F178,Control_Data,3,0),\"No\",\"Yes\")))","v":""}]
[null,156,null,null,null,null,{"$f":"IF(F179=\"\",\"\",IF(F179=\"None\",\"None\",INDEX('Measure Code Summary'!$D$50:$D$53,MATCH(F179,'Measure Code Summary'!$C$50:$C$53,0),1)))","v":""},null,null,null,{"$f":"IF(J179=\"\",\"\",VLOOKUP(J179,'Wattage Table'!$D:$E,2,0))","v":""},null,0,null,{"$f":"IF(J179=\"\",0,(VLOOKUP(J179,'Wattage Table'!$D:$F,3,0)*N179*M179)/1000*VLOOKUP(IF(E179=\"\",$D$16,E179),ClgHtgTypeData,3,FALSE))","v":0},{"$f":"IF(OR(F179=\"\",H179=\"\"),0,IF(F179=\"80F\",Validation!W$11,(VLOOKUP(IF(D179=\"\",$D$15,D179),LtgBldgTypeData,3,FALSE)-VLOOKUP(F179,Control_Data,5)))*S179*VLOOKUP(IF(E179=\"\",$D$16,E179),ClgHtgTypeData,2,FALSE)/1000)","v":0},0,0,{"$f":"IF(ISERROR(IF(J179=\"-\",\"-\",INDEX('Wattage Table'!$F$21:$F$1229,MATCH(J179,'Wattage Table'!$D$21:$D$1229,0)))*$N179),\" \",IF(J179=\"-\",\"-\",INDEX('Wattage Table'!$F$21:$F$1229,MATCH(J179,'Wattage Table'!$D$21:$D$1229,0)))*$N179)","v":" "},{"$f":"IF(F179=\"\",\"\",IF(OR(F179=\"None\",F179=\"\",J179=\"\"),\"No\",IF(VLOOKUP(J179,'Wattage Table'!$D:$F,3,0)*N179/H179<=VLOOKUP(F179,Control_Data,3,0),\"No\",\"Yes\")))","v":""}]
[null,157,null,null,null,null,{"$f":"IF(F180=\"\",\"\",IF(F180=\"None\",\"None\",INDEX('Measure Code Summary'!$D$50:$D$53,MATCH(F180,'Measure Code Summary'!$C$50:$C$53,0),1)))","v":""},null,null,null,{"$f":"IF(J180=\"\",\"\",VLOOKUP(J180,'Wattage Table'!$D:$E,2,0))","v":""},null,0,null,{"$f":"IF(J180=\"\",0,(VLOOKUP(J180,'Wattage Table'!$D:$F,3,0)*N180*M180)/1000*VLOOKUP(IF(E180=\"\",$D$16,E180),ClgHtgTypeData,3,FALSE))","v":0},{"$f":"IF(OR(F180=\"\",H180=\"\"),0,IF(F180=\"80F\",Validation!W$11,(VLOOKUP(IF(D180=\"\",$D$15,D180),LtgBldgTypeData,3,FALSE)-VLOOKUP(F180,Control_Data,5)))*S180*VLOOKUP(IF(E180=\"\",$D$16,E180),ClgHtgTypeData,2,FALSE)/1000)","v":0},0,0,{"$f":"IF(ISERROR(IF(J180=\"-\",\"-\",INDEX('Wattage Table'!$F$21:$F$1229,MATCH(J180,'Wattage Table'!$D$21:$D$1229,0)))*$N180),\" \",IF(J180=\"-\",\"-\",INDEX('Wattage Table'!$F$21:$F$1229,MATCH(J180,'Wattage Table'!$D$21:$D$1229,0)))*$N180)","v":" "},{"$f":"IF(F180=\"\",\"\",IF(OR(F180=\"None\",F180=\"\",J180=\"\"),\"No\",IF(VLOOKUP(J180,'Wattage Table'!$D:$F,3,0)*N180/H180<=VLOOKUP(F180,Control_Data,3,0),\"No\",\"Yes\")))","v":""}]
[null,158,null,null,null,null,{"$f":"IF(F181=\"\",\"\",IF(F181=\"None\",\"None\",INDEX('Measure Code Summary'!$D$50:$D$53,MATCH(F181,'Measure Code Summary'!$C$50:$C$53,0),1)))","v":""},null,null,null,{"$f":"IF(J181=\"\",\"\",VLOOKUP(J181,'Wattage Table'!$D:$E,2,0))","v":""},null,0,null,{"$f":"IF(J181=\"\",0,(VLOOKUP(J181,'Wattage Table'!$D:$F,3,0)*N181*M181)/1000*VLOOKUP(IF(E181=\"\",$D$16,E181),ClgHtgTypeData,3,FALSE))","v":0},{"$f":"IF(OR(F181=\"\",H181=\"\"),0,IF(F181=\"80F\",Validation!W$11,(VLOOKUP(IF(D181=\"\",$D$15,D181),LtgBldgTypeData,3,FALSE)-VLOOKUP(F181,Control_Data,5)))*S181*VLOOKUP(IF(E181=\"\",$D$16,E181),ClgHtgTypeData,2,FALSE)/1000)","v":0},0,0,{"$f":"IF(ISERROR(IF(J181=\"-\",\"-\",INDEX('Wattage Table'!$F$21:$F$1229,MATCH(J181,'Wattage Table'!$D$21:$D$1229,0)))*$N181),\" \",IF(J181=\"-\",\"-\",INDEX('Wattage Table'!$F$21:$F$1229,MATCH(J181,'Wattage Table'!$D$21:$D$1229,0)))*$N181)","v":" "},{"$f":"IF(F181=\"\",\"\",IF(OR(F181=\"None\",F181=\"\",J181=\"\"),\"No\",IF(VLOOKUP(J181,'Wattage Table'!$D:$F,3,0)*N181/H181<=VLOOKUP(F181,Control_Data,3,0),\"No\",\"Yes\")))","v":""}]
[null,159,null,null,null,null,{"$f":"IF(F182=\"\",\"\",IF(F182=\"None\",\"None\",INDEX('Measure Code Summary'!$D$50:$D$53,MATCH(F182,'Measure Code Summary'!$C$50:$C$53,0),1)))","v":""},null,null,null,{"$f":"IF(J182=\"\",\"\",VLOOKUP(J182,'Wattage Table'!$D:$E,2,0))","v":""},null,0,null,{"$f":"IF(J182=\"\",0,(VLOOKUP(J182,'Wattage Table'!$D:$F,3,0)*N182*M182)/1000*VLOOKUP(IF(E182=\"\",$D$16,E182),ClgHtgTypeData,3,FALSE))","v":0},{"$f":"IF(OR(F182=\"\",H182=\"\"),0,IF(F182=\"80F\",Validation!W$11,(VLOOKUP(IF(D182=\"\",$D$15,D182),LtgBldgTypeData,3,FALSE)-VLOOKUP(F182,Control_Data,5)))*S182*VLOOKUP(IF(E182=\"\",$D$16,E182),ClgHtgTypeData,2,FALSE)/1000)","v":0},0,0,{"$f":"IF(ISERROR(IF(J182=\"-\",\"-\",INDEX('Wattage Table'!$F$21:$F$1229,MATCH(J182,'Wattage Table'!$D$21:$D$1229,0)))*$N182),\" \",IF(J182=\"-\",\"-\",INDEX('Wattage Table'!$F$21:$F$1229,MATCH(J182,'Wattage Table'!$D$21:$D$1229,0)))*$N182)","v":" "},{"$f":"IF(F182=\"\",\"\",IF(OR(F182=\"None\",F182=\"\",J182=\"\"),\"No\",IF(VLOOKUP(J182,'Wattage Table'!$D:$F,3,0)*N182/H182<=VLOOKUP(F182,Control_Data,3,0),\"No\",\"Yes\")))","v":""}]
[null,160,null,null,null,null,{"$f":"IF(F183=\"\",\"\",IF(F183=\"None\",\"None\",INDEX('Measure Code Summary'!$D$50:$D$53,MATCH(F183,'Measure Code Summary'!$C$50:$C$53,0),1)))","v":""},null,null,null,{"$f":"IF(J183=\"\",\"\",VLOOKUP(J183,'Wattage Table'!$D:$E,2,0))","v":""},null,0,null,{"$f":"IF(J183=\"\",0,(VLOOKUP(J183,'Wattage Table'!$D:$F,3,0)*N183*M183)/1000*VLOOKUP(IF(E183=\"\",$D$16,E183),ClgHtgTypeData,3,FALSE))","v":0},{"$f":"IF(OR(F183=\"\",H183=\"\"),0,IF(F183=\"80F\",Validation!W$11,(VLOOKUP(IF(D183=\"\",$D$15,D183),LtgBldgTypeData,3,FALSE)-VLOOKUP(F183,Control_Data,5)))*S183*VLOOKUP(IF(E183=\"\",$D$16,E183),ClgHtgTypeData,2,FALSE)/1000)","v":0},0,0,{"$f":"IF(ISERROR(IF(J183=\"-\",\"-\",INDEX('Wattage Table'!$F$21:$F$1229,MATCH(J183,'Wattage Table'!$D$21:$D$1229,0)))*$N183),\" \",IF(J183=\"-\",\"-\",INDEX('Wattage Table'!$F$21:$F$1229,MATCH(J183,'Wattage Table'!$D$21:$D$1229,0)))*$N183)","v":" "},{"$f":"IF(F183=\"\",\"\",IF(OR(F183=\"None\",F183=\"\",J183=\"\"),\"No\",IF(VLOOKUP(J183,'Wattage Table'!$D:$F,3,0)*N183/H183<=VLOOKUP(F183,Control_Data,3,0),\"No\",\"Yes\")))","v":""}]
[null,161,null,null,null,null,{"$f":"IF(F184=\"\",\"\",IF(F184=\"None\",\"None\",INDEX('Measure Code Summary'!$D$50:$D$53,MATCH(F184,'Measure Code Summary'!$C$50:$C$53,0),1)))","v":""},null,null,null,{"$f":"IF(J184=\"\",\"\",VLOOKUP(J184,'Wattage Table'!$D:$E,2,0))","v":""},null,0,null,{"$f":"IF(J184=\"\",0,(VLOOKUP(J184,'Wattage Table'!$D:$F,3,0)*N184*M184)/1000*VLOOKUP(IF(E184=\"\",$D$16,E184),ClgHtgTypeData,3,FALSE))","v":0},{"$f":"IF(OR(F184=\"\",H184=\"\"),0,IF(F184=\"80F\",Validation!W$11,(VLOOKUP(IF(D184=\"\",$D$15,D184),LtgBldgTypeData,3,FALSE)-VLOOKUP(F184,Control_Data,5)))*S184*VLOOKUP(IF(E184=\"\",$D$16,E184),ClgHtgTypeData,2,FALSE)/1000)","v":0},0,0,{"$f":"IF(ISERROR(IF(J184=\"-\",\"-\",INDEX('Wattage Table'!$F$21:$F$1229,MATCH(J184,'Wattage Table'!$D$21:$D$1229,0)))*$N184),\" \",IF(J184=\"-\",\"-\",INDEX('Wattage Table'!$F$21:$F$1229,MATCH(J184,'Wattage Table'!$D$21:$D$1229,0)))*$N184)","v":" "},{"$f":"IF(F184=\"\",\"\",IF(OR(F184=\"None\",F184=\"\",J184=\"\"),\"No\",IF(VLOOKUP(J184,'Wattage Table'!$D:$F,3,0)*N184/H184<=VLOOKUP(F184,Control_Data,3,0),\"No\",\"Yes\")))","v":""}]
[null,162,null,null,null,null,{"$f":"IF(F185=\"\",\"\",IF(F185=\"None\",\"None\",INDEX('Measure Code Summary'!$D$50:$D$53,MATCH(F185,'Measure Code Summary'!$C$50:$C$53,0),1)))","v":""},null,null,null,{"$f":"IF(J185=\"\",\"\",VLOOKUP(J185,'Wattage Table'!$D:$E,2,0))","v":""},null,0,null,{"$f":"IF(J185=\"\",0,(VLOOKUP(J185,'Wattage Table'!$D:$F,3,0)*N185*M185)/1000*VLOOKUP(IF(E185=\"\",$D$16,E185),ClgHtgTypeData,3,FALSE))","v":0},{"$f":"IF(OR(F185=\"\",H185=\"\"),0,IF(F185=\"80F\",Validation!W$11,(VLOOKUP(IF(D185=\"\",$D$15,D185),LtgBldgTypeData,3,FALSE)-VLOOKUP(F185,Control_Data,5)))*S185*VLOOKUP(IF(E185=\"\",$D$16,E185),ClgHtgTypeData,2,FALSE)/1000)","v":0},0,0,{"$f":"IF(ISERROR(IF(J185=\"-\",\"-\",INDEX('Wattage Table'!$F$21:$F$1229,MATCH(J185,'Wattage Table'!$D$21:$D$1229,0)))*$N185),\" \",IF(J185=\"-\",\"-\",INDEX('Wattage Table'!$F$21:$F$1229,MATCH(J185,'Wattage Table'!$D$21:$D$1229,0)))*$N185)","v":" "},{"$f":"IF(F185=\"\",\"\",IF(OR(F185=\"None\",F185=\"\",J185=\"\"),\"No\",IF(VLOOKUP(J185,'Wattage Table'!$D:$F,3,0)*N185/H185<=VLOOKUP(F185,Control_Data,3,0),\"No\",\"Yes\")))","v":""}]
[null,163,null,null,null,null,{"$f":"IF(F186=\"\",\"\",IF(F186=\"None\",\"None\",INDEX('Measure Code Summary'!$D$50:$D$53,MATCH(F186,'Measure Code Summary'!$C$50:$C$53,0),1)))","v":""},null,null,null,{"$f":"IF(J186=\"\",\"\",VLOOKUP(J186,'Wattage Table'!$D:$E,2,0))","v":""},null,0,null,{"$f":"IF(J186=\"\",0,(VLOOKUP(J186,'Wattage Table'!$D:$F,3,0)*N186*M186)/1000*VLOOKUP(IF(E186=\"\",$D$16,E186),ClgHtgTypeData,3,FALSE))","v":0},{"$f":"IF(OR(F186=\"\",H186=\"\"),0,IF(F186=\"80F\",Validation!W$11,(VLOOKUP(IF(D186=\"\",$D$15,D186),LtgBldgTypeData,3,FALSE)-VLOOKUP(F186,Control_Data,5)))*S186*VLOOKUP(IF(E186=\"\",$D$16,E186),ClgHtgTypeData,2,FALSE)/1000)","v":0},0,0,{"$f":"IF(ISERROR(IF(J186=\"-\",\"-\",INDEX('Wattage Table'!$F$21:$F$1229,MATCH(J186,'Wattage Table'!$D$21:$D$1229,0)))*$N186),\" \",IF(J186=\"-\",\"-\",INDEX('Wattage Table'!$F$21:$F$1229,MATCH(J186,'Wattage Table'!$D$21:$D$1229,0)))*$N186)","v":" "},{"$f":"IF(F186=\"\",\"\",IF(OR(F186=\"None\",F186=\"\",J186=\"\"),\"No\",IF(VLOOKUP(J186,'Wattage Table'!$D:$F,3,0)*N186/H186<=VLOOKUP(F186,Control_Data,3,0),\"No\",\"Yes\")))","v":""}]
[null,164,null,null,null,null,{"$f":"IF(F187=\"\",\"\",IF(F187=\"None\",\"None\",INDEX('Measure Code Summary'!$D$50:$D$53,MATCH(F187,'Measure Code Summary'!$C$50:$C$53,0),1)))","v":""},null,null,null,{"$f":"IF(J187=\"\",\"\",VLOOKUP(J187,'Wattage Table'!$D:$E,2,0))","v":""},null,0,null,{"$f":"IF(J187=\"\",0,(VLOOKUP(J187,'Wattage Table'!$D:$F,3,0)*N187*M187)/1000*VLOOKUP(IF(E187=\"\",$D$16,E187),ClgHtgTypeData,3,FALSE))","v":0},{"$f":"IF(OR(F187=\"\",H187=\"\"),0,IF(F187=\"80F\",Validation!W$11,(VLOOKUP(IF(D187=\"\",$D$15,D187),LtgBldgTypeData,3,FALSE)-VLOOKUP(F187,Control_Data,5)))*S187*VLOOKUP(IF(E187=\"\",$D$16,E187),ClgHtgTypeData,2,FALSE)/1000)","v":0},0,0,{"$f":"IF(ISERROR(IF(J187=\"-\",\"-\",INDEX('Wattage Table'!$F$21:$F$1229,MATCH(J187,'Wattage Table'!$D$21:$D$1229,0)))*$N187),\" \",IF(J187=\"-\",\"-\",INDEX('Wattage Table'!$F$21:$F$1229,MATCH(J187,'Wattage Table'!$D$21:$D$1229,0)))*$N187)","v":" "},{"$f":"IF(F187=\"\",\"\",IF(OR(F187=\"None\",F187=\"\",J187=\"\"),\"No\",IF(VLOOKUP(J187,'Wattage Table'!$D:$F,3,0)*N187/H187<=VLOOKUP(F187,Control_Data,3,0),\"No\",\"Yes\")))","v":""}]
[null,165,null,null,null,null,{"$f":"IF(F188=\"\",\"\",IF(F188=\"None\",\"None\",INDEX('Measure Code Summary'!$D$50:$D$53,MATCH(F188,'Measure Code Summary'!$C$50:$C$53,0),1)))","v":""},null,null,null,{"$f":"IF(J188=\"\",\"\",VLOOKUP(J188,'Wattage Table'!$D:$E,2,0))","v":""},null,0,null,{"$f":"IF(J188=\"\",0,(VLOOKUP(J188,'Wattage Table'!$D:$F,3,0)*N188*M188)/1000*VLOOKUP(IF(E188=\"\",$D$16,E188),ClgHtgTypeData,3,FALSE))","v":0},{"$f":"IF(OR(F188=\"\",H188=\"\"),0,IF(F188=\"80F\",Validation!W$11,(VLOOKUP(IF(D188=\"\",$D$15,D188),LtgBldgTypeData,3,FALSE)-VLOOKUP(F188,Control_Data,5)))*S188*VLOOKUP(IF(E188=\"\",$D$16,E188),ClgHtgTypeData,2,FALSE)/1000)","v":0},0,0,{"$f":"IF(ISERROR(IF(J188=\"-\",\"-\",INDEX('Wattage Table'!$F$21:$F$1229,MATCH(J188,'Wattage Table'!$D$21:$D$1229,0)))*$N188),\" \",IF(J188=\"-\",\"-\",INDEX('Wattage Table'!$F$21:$F$1229,MATCH(J188,'Wattage Table'!$D$21:$D$1229,0)))*$N188)","v":" "},{"$f":"IF(F188=\"\",\"\",IF(OR(F188=\"None\",F188=\"\",J188=\"\"),\"No\",IF(VLOOKUP(J188,'Wattage Table'!$D:$F,3,0)*N188/H188<=VLOOKUP(F188,Control_Data,3,0),\"No\",\"Yes\")))","v":""}]
[null,166,null,null,null,null,{"$f":"IF(F189=\"\",\"\",IF(F189=\"None\",\"None\",INDEX('Measure Code Summary'!$D$50:$D$53,MATCH(F189,'Measure Code Summary'!$C$50:$C$53,0),1)))","v":""},null,null,null,{"$f":"IF(J189=\"\",\"\",VLOOKUP(J189,'Wattage Table'!$D:$E,2,0))","v":""},null,0,null,{"$f":"IF(J189=\"\",0,(VLOOKUP(J189,'Wattage Table'!$D:$F,3,0)*N189*M189)/1000*VLOOKUP(IF(E189=\"\",$D$16,E189),ClgHtgTypeData,3,FALSE))","v":0},{"$f":"IF(OR(F189=\"\",H189=\"\"),0,IF(F189=\"80F\",Validation!W$11,(VLOOKUP(IF(D189=\"\",$D$15,D189),LtgBldgTypeData,3,FALSE)-VLOOKUP(F189,Control_Data,5)))*S189*VLOOKUP(IF(E189=\"\",$D$16,E189),ClgHtgTypeData,2,FALSE)/1000)","v":0},0,0,{"$f":"IF(ISERROR(IF(J189=\"-\",\"-\",INDEX('Wattage Table'!$F$21:$F$1229,MATCH(J189,'Wattage Table'!$D$21:$D$1229,0)))*$N189),\" \",IF(J189=\"-\",\"-\",INDEX('Wattage Table'!$F$21:$F$1229,MATCH(J189,'Wattage Table'!$D$21:$D$1229,0)))*$N189)","v":" "},{"$f":"IF(F189=\"\",\"\",IF(OR(F189=\"None\",F189=\"\",J189=\"\"),\"No\",IF(VLOOKUP(J189,'Wattage Table'!$D:$F,3,0)*N189/H189<=VLOOKUP(F189,Control_Data,3,0),\"No\",\"Yes\")))","v":""}]
[null,167,null,null,null,null,{"$f":"IF(F190=\"\",\"\",IF(F190=\"None\",\"None\",INDEX('Measure Code Summary'!$D$50:$D$53,MATCH(F190,'Measure Code Summary'!$C$50:$C$53,0),1)))","v":""},null,null,null,{"$f":"IF(J190=\"\",\"\",VLOOKUP(J190,'Wattage Table'!$D:$E,2,0))","v":""},null,0,null,{"$f":"IF(J190=\"\",0,(VLOOKUP(J190,'Wattage Table'!$D:$F,3,0)*N190*M190)/1000*VLOOKUP(IF(E190=\"\",$D$16,E190),ClgHtgTypeData,3,FALSE))","v":0},{"$f":"IF(OR(F190=\"\",H190=\"\"),0,IF(F190=\"80F\",Validation!W$11,(VLOOKUP(IF(D190=\"\",$D$15,D190),LtgBldgTypeData,3,FALSE)-VLOOKUP(F190,Control_Data,5)))*S190*VLOOKUP(IF(E190=\"\",$D$16,E190),ClgHtgTypeData,2,FALSE)/1000)","v":0},0,0,{"$f":"IF(ISERROR(IF(J190=\"-\",\"-\",INDEX('Wattage Table'!$F$21:$F$1229,MATCH(J190,'Wattage Table'!$D$21:$D$1229,0)))*$N190),\" \",IF(J190=\"-\",\"-\",INDEX('Wattage Table'!$F$21:$F$1229,MATCH(J190,'Wattage Table'!$D$21:$D$1229,0)))*$N190)","v":" "},{"$f":"IF(F190=\"\",\"\",IF(OR(F190=\"None\",F190=\"\",J190=\"\"),\"No\",IF(VLOOKUP(J190,'Wattage Table'!$D:$F,3,0)*N190/H190<=VLOOKUP(F190,Control_Data,3,0),\"No\",\"Yes\")))","v":""}]
[null,168,null,null,null,null,{"$f":"IF(F191=\"\",\"\",IF(F191=\"None\",\"None\",INDEX('Measure Code Summary'!$D$50:$D$53,MATCH(F191,'Measure Code Summary'!$C$50:$C$53,0),1)))","v":""},null,null,null,{"$f":"IF(J191=\"\",\"\",VLOOKUP(J191,'Wattage Table'!$D:$E,2,0))","v":""},null,0,null,{"$f":"IF(J191=\"\",0,(VLOOKUP(J191,'Wattage Table'!$D:$F,3,0)*N191*M191)/1000*VLOOKUP(IF(E191=\"\",$D$16,E191),ClgHtgTypeData,3,FALSE))","v":0},{"$f":"IF(OR(F191=\"\",H191=\"\"),0,IF(F191=\"80F\",Validation!W$11,(VLOOKUP(IF(D191=\"\",$D$15,D191),LtgBldgTypeData,3,FALSE)-VLOOKUP(F191,Control_Data,5)))*S191*VLOOKUP(IF(E191=\"\",$D$16,E191),ClgHtgTypeData,2,FALSE)/1000)","v":0},0,0,{"$f":"IF(ISERROR(IF(J191=\"-\",\"-\",INDEX('Wattage Table'!$F$21:$F$1229,MATCH(J191,'Wattage Table'!$D$21:$D$1229,0)))*$N191),\" \",IF(J191=\"-\",\"-\",INDEX('Wattage Table'!$F$21:$F$1229,MATCH(J191,'Wattage Table'!$D$21:$D$1229,0)))*$N191)","v":" "},{"$f":"IF(F191=\"\",\"\",IF(OR(F191=\"None\",F191=\"\",J191=\"\"),\"No\",IF(VLOOKUP(J191,'Wattage Table'!$D:$F,3,0)*N191/H191<=VLOOKUP(F191,Control_Data,3,0),\"No\",\"Yes\")))","v":""}]
[null,169,null,null,null,null,{"$f":"IF(F192=\"\",\"\",IF(F192=\"None\",\"None\",INDEX('Measure Code Summary'!$D$50:$D$53,MATCH(F192,'Measure Code Summary'!$C$50:$C$53,0),1)))","v":""},null,null,null,{"$f":"IF(J192=\"\",\"\",VLOOKUP(J192,'Wattage Table'!$D:$E,2,0))","v":""},null,0,null,{"$f":"IF(J192=\"\",0,(VLOOKUP(J192,'Wattage Table'!$D:$F,3,0)*N192*M192)/1000*VLOOKUP(IF(E192=\"\",$D$16,E192),ClgHtgTypeData,3,FALSE))","v":0},{"$f":"IF(OR(F192=\"\",H192=\"\"),0,IF(F192=\"80F\",Validation!W$11,(VLOOKUP(IF(D192=\"\",$D$15,D192),LtgBldgTypeData,3,FALSE)-VLOOKUP(F192,Control_Data,5)))*S192*VLOOKUP(IF(E192=\"\",$D$16,E192),ClgHtgTypeData,2,FALSE)/1000)","v":0},0,0,{"$f":"IF(ISERROR(IF(J192=\"-\",\"-\",INDEX('Wattage Table'!$F$21:$F$1229,MATCH(J192,'Wattage Table'!$D$21:$D$1229,0)))*$N192),\" \",IF(J192=\"-\",\"-\",INDEX('Wattage Table'!$F$21:$F$1229,MATCH(J192,'Wattage Table'!$D$21:$D$1229,0)))*$N192)","v":" "},{"$f":"IF(F192=\"\",\"\",IF(OR(F192=\"None\",F192=\"\",J192=\"\"),\"No\",IF(VLOOKUP(J192,'Wattage Table'!$D:$F,3,0)*N192/H192<=VLOOKUP(F192,Control_Data,3,0),\"No\",\"Yes\")))","v":""}]
[null,170,null,null,null,null,{"$f":"IF(F193=\"\",\"\",IF(F193=\"None\",\"None\",INDEX('Measure Code Summary'!$D$50:$D$53,MATCH(F193,'Measure Code Summary'!$C$50:$C$53,0),1)))","v":""},null,null,null,{"$f":"IF(J193=\"\",\"\",VLOOKUP(J193,'Wattage Table'!$D:$E,2,0))","v":""},null,0,null,{"$f":"IF(J193=\"\",0,(VLOOKUP(J193,'Wattage Table'!$D:$F,3,0)*N193*M193)/1000*VLOOKUP(IF(E193=\"\",$D$16,E193),ClgHtgTypeData,3,FALSE))","v":0},{"$f":"IF(OR(F193=\"\",H193=\"\"),0,IF(F193=\"80F\",Validation!W$11,(VLOOKUP(IF(D193=\"\",$D$15,D193),LtgBldgTypeData,3,FALSE)-VLOOKUP(F193,Control_Data,5)))*S193*VLOOKUP(IF(E193=\"\",$D$16,E193),ClgHtgTypeData,2,FALSE)/1000)","v":0},0,0,{"$f":"IF(ISERROR(IF(J193=\"-\",\"-\",INDEX('Wattage Table'!$F$21:$F$1229,MATCH(J193,'Wattage Table'!$D$21:$D$1229,0)))*$N193),\" \",IF(J193=\"-\",\"-\",INDEX('Wattage Table'!$F$21:$F$1229,MATCH(J193,'Wattage Table'!$D$21:$D$1229,0)))*$N193)","v":" "},{"$f":"IF(F193=\"\",\"\",IF(OR(F193=\"None\",F193=\"\",J193=\"\"),\"No\",IF(VLOOKUP(J193,'Wattage Table'!$D:$F,3,0)*N193/H193<=VLOOKUP(F193,Control_Data,3,0),\"No\",\"Yes\")))","v":""}]
[null,171,null,null,null,null,{"$f":"IF(F194=\"\",\"\",IF(F194=\"None\",\"None\",INDEX('Measure Code Summary'!$D$50:$D$53,MATCH(F194,'Measure Code Summary'!$C$50:$C$53,0),1)))","v":""},null,null,null,{"$f":"IF(J194=\"\",\"\",VLOOKUP(J194,'Wattage Table'!$D:$E,2,0))","v":""},null,0,null,{"$f":"IF(J194=\"\",0,(VLOOKUP(J194,'Wattage Table'!$D:$F,3,0)*N194*M194)/1000*VLOOKUP(IF(E194=\"\",$D$16,E194),ClgHtgTypeData,3,FALSE))","v":0},{"$f":"IF(OR(F194=\"\",H194=\"\"),0,IF(F194=\"80F\",Validation!W$11,(VLOOKUP(IF(D194=\"\",$D$15,D194),LtgBldgTypeData,3,FALSE)-VLOOKUP(F194,Control_Data,5)))*S194*VLOOKUP(IF(E194=\"\",$D$16,E194),ClgHtgTypeData,2,FALSE)/1000)","v":0},0,0,{"$f":"IF(ISERROR(IF(J194=\"-\",\"-\",INDEX('Wattage Table'!$F$21:$F$1229,MATCH(J194,'Wattage Table'!$D$21:$D$1229,0)))*$N194),\" \",IF(J194=\"-\",\"-\",INDEX('Wattage Table'!$F$21:$F$1229,MATCH(J194,'Wattage Table'!$D$21:$D$1229,0)))*$N194)","v":" "},{"$f":"IF(F194=\"\",\"\",IF(OR(F194=\"None\",F194=\"\",J194=\"\"),\"No\",IF(VLOOKUP(J194,'Wattage Table'!$D:$F,3,0)*N194/H194<=VLOOKUP(F194,Control_Data,3,0),\"No\",\"Yes\")))","v":""}]
[null,172,null,null,null,null,{"$f":"IF(F195=\"\",\"\",IF(F195=\"None\",\"None\",INDEX('Measure Code Summary'!$D$50:$D$53,MATCH(F195,'Measure Code Summary'!$C$50:$C$53,0),1)))","v":""},null,null,null,{"$f":"IF(J195=\"\",\"\",VLOOKUP(J195,'Wattage Table'!$D:$E,2,0))","v":""},null,0,null,{"$f":"IF(J195=\"\",0,(VLOOKUP(J195,'Wattage Table'!$D:$F,3,0)*N195*M195)/1000*VLOOKUP(IF(E195=\"\",$D$16,E195),ClgHtgTypeData,3,FALSE))","v":0},{"$f":"IF(OR(F195=\"\",H195=\"\"),0,IF(F195=\"80F\",Validation!W$11,(VLOOKUP(IF(D195=\"\",$D$15,D195),LtgBldgTypeData,3,FALSE)-VLOOKUP(F195,Control_Data,5)))*S195*VLOOKUP(IF(E195=\"\",$D$16,E195),ClgHtgTypeData,2,FALSE)/1000)","v":0},0,0,{"$f":"IF(ISERROR(IF(J195=\"-\",\"-\",INDEX('Wattage Table'!$F$21:$F$1229,MATCH(J195,'Wattage Table'!$D$21:$D$1229,0)))*$N195),\" \",IF(J195=\"-\",\"-\",INDEX('Wattage Table'!$F$21:$F$1229,MATCH(J195,'Wattage Table'!$D$21:$D$1229,0)))*$N195)","v":" "},{"$f":"IF(F195=\"\",\"\",IF(OR(F195=\"None\",F195=\"\",J195=\"\"),\"No\",IF(VLOOKUP(J195,'Wattage Table'!$D:$F,3,0)*N195/H195<=VLOOKUP(F195,Control_Data,3,0),\"No\",\"Yes\")))","v":""}]
[null,173,null,null,null,null,{"$f":"IF(F196=\"\",\"\",IF(F196=\"None\",\"None\",INDEX('Measure Code Summary'!$D$50:$D$53,MATCH(F196,'Measure Code Summary'!$C$50:$C$53,0),1)))","v":""},null,null,null,{"$f":"IF(J196=\"\",\"\",VLOOKUP(J196,'Wattage Table'!$D:$E,2,0))","v":""},null,0,null,{"$f":"IF(J196=\"\",0,(VLOOKUP(J196,'Wattage Table'!$D:$F,3,0)*N196*M196)/1000*VLOOKUP(IF(E196=\"\",$D$16,E196),ClgHtgTypeData,3,FALSE))","v":0},{"$f":"IF(OR(F196=\"\",H196=\"\"),0,IF(F196=\"80F\",Validation!W$11,(VLOOKUP(IF(D196=\"\",$D$15,D196),LtgBldgTypeData,3,FALSE)-VLOOKUP(F196,Control_Data,5)))*S196*VLOOKUP(IF(E196=\"\",$D$16,E196),ClgHtgTypeData,2,FALSE)/1000)","v":0},0,0,{"$f":"IF(ISERROR(IF(J196=\"-\",\"-\",INDEX('Wattage Table'!$F$21:$F$1229,MATCH(J196,'Wattage Table'!$D$21:$D$1229,0)))*$N196),\" \",IF(J196=\"-\",\"-\",INDEX('Wattage Table'!$F$21:$F$1229,MATCH(J196,'Wattage Table'!$D$21:$D$1229,0)))*$N196)","v":" "},{"$f":"IF(F196=\"\",\"\",IF(OR(F196=\"None\",F196=\"\",J196=\"\"),\"No\",IF(VLOOKUP(J196,'Wattage Table'!$D:$F,3,0)*N196/H196<=VLOOKUP(F196,Control_Data,3,0),\"No\",\"Yes\")))","v":""}]
[null,174,null,null,null,null,{"$f":"IF(F197=\"\",\"\",IF(F197=\"None\",\"None\",INDEX('Measure Code Summary'!$D$50:$D$53,MATCH(F197,'Measure Code Summary'!$C$50:$C$53,0),1)))","v":""},null,null,null,{"$f":"IF(J197=\"\",\"\",VLOOKUP(J197,'Wattage Table'!$D:$E,2,0))","v":""},null,0,null,{"$f":"IF(J197=\"\",0,(VLOOKUP(J197,'Wattage Table'!$D:$F,3,0)*N197*M197)/1000*VLOOKUP(IF(E197=\"\",$D$16,E197),ClgHtgTypeData,3,FALSE))","v":0},{"$f":"IF(OR(F197=\"\",H197=\"\"),0,IF(F197=\"80F\",Validation!W$11,(VLOOKUP(IF(D197=\"\",$D$15,D197),LtgBldgTypeData,3,FALSE)-VLOOKUP(F197,Control_Data,5)))*S197*VLOOKUP(IF(E197=\"\",$D$16,E197),ClgHtgTypeData,2,FALSE)/1000)","v":0},0,0,{"$f":"IF(ISERROR(IF(J197=\"-\",\"-\",INDEX('Wattage Table'!$F$21:$F$1229,MATCH(J197,'Wattage Table'!$D$21:$D$1229,0)))*$N197),\" \",IF(J197=\"-\",\"-\",INDEX('Wattage Table'!$F$21:$F$1229,MATCH(J197,'Wattage Table'!$D$21:$D$1229,0)))*$N197)","v":" "},{"$f":"IF(F197=\"\",\"\",IF(OR(F197=\"None\",F197=\"\",J197=\"\"),\"No\",IF(VLOOKUP(J197,'Wattage Table'!$D:$F,3,0)*N197/H197<=VLOOKUP(F197,Control_Data,3,0),\"No\",\"Yes\")))","v":""}]
[null,175,null,null,null,null,{"$f":"IF(F198=\"\",\"\",IF(F198=\"None\",\"None\",INDEX('Measure Code Summary'!$D$50:$D$53,MATCH(F198,'Measure Code Summary'!$C$50:$C$53,0),1)))","v":""},null,null,null,{"$f":"IF(J198=\"\",\"\",VLOOKUP(J198,'Wattage Table'!$D:$E,2,0))","v":""},null,0,null,{"$f":"IF(J198=\"\",0,(VLOOKUP(J198,'Wattage Table'!$D:$F,3,0)*N198*M198)/1000*VLOOKUP(IF(E198=\"\",$D$16,E198),ClgHtgTypeData,3,FALSE))","v":0},{"$f":"IF(OR(F198=\"\",H198=\"\"),0,IF(F198=\"80F\",Validation!W$11,(VLOOKUP(IF(D198=\"\",$D$15,D198),LtgBldgTypeData,3,FALSE)-VLOOKUP(F198,Control_Data,5)))*S198*VLOOKUP(IF(E198=\"\",$D$16,E198),ClgHtgTypeData,2,FALSE)/1000)","v":0},0,0,{"$f":"IF(ISERROR(IF(J198=\"-\",\"-\",INDEX('Wattage Table'!$F$21:$F$1229,MATCH(J198,'Wattage Table'!$D$21:$D$1229,0)))*$N198),\" \",IF(J198=\"-\",\"-\",INDEX('Wattage Table'!$F$21:$F$1229,MATCH(J198,'Wattage Table'!$D$21:$D$1229,0)))*$N198)","v":" "},{"$f":"IF(F198=\"\",\"\",IF(OR(F198=\"None\",F198=\"\",J198=\"\"),\"No\",IF(VLOOKUP(J198,'Wattage Table'!$D:$F,3,0)*N198/H198<=VLOOKUP(F198,Control_Data,3,0),\"No\",\"Yes\")))","v":""}]
[null,176,null,null,null,null,{"$f":"IF(F199=\"\",\"\",IF(F199=\"None\",\"None\",INDEX('Measure Code Summary'!$D$50:$D$53,MATCH(F199,'Measure Code Summary'!$C$50:$C$53,0),1)))","v":""},null,null,null,{"$f":"IF(J199=\"\",\"\",VLOOKUP(J199,'Wattage Table'!$D:$E,2,0))","v":""},null,0,null,{"$f":"IF(J199=\"\",0,(VLOOKUP(J199,'Wattage Table'!$D:$F,3,0)*N199*M199)/1000*VLOOKUP(IF(E199=\"\",$D$16,E199),ClgHtgTypeData,3,FALSE))","v":0},{"$f":"IF(OR(F199=\"\",H199=\"\"),0,IF(F199=\"80F\",Validation!W$11,(VLOOKUP(IF(D199=\"\",$D$15,D199),LtgBldgTypeData,3,FALSE)-VLOOKUP(F199,Control_Data,5)))*S199*VLOOKUP(IF(E199=\"\",$D$16,E199),ClgHtgTypeData,2,FALSE)/1000)","v":0},0,0,{"$f":"IF(ISERROR(IF(J199=\"-\",\"-\",INDEX('Wattage Table'!$F$21:$F$1229,MATCH(J199,'Wattage Table'!$D$21:$D$1229,0)))*$N199),\" \",IF(J199=\"-\",\"-\",INDEX('Wattage Table'!$F$21:$F$1229,MATCH(J199,'Wattage Table'!$D$21:$D$1229,0)))*$N199)","v":" "},{"$f":"IF(F199=\"\",\"\",IF(OR(F199=\"None\",F199=\"\",J199=\"\"),\"No\",IF(VLOOKUP(J199,'Wattage Table'!$D:$F,3,0)*N199/H199<=VLOOKUP(F199,Control_Data,3,0),\"No\",\"Yes\")))","v":""}]
[null,177,null,null,null,null,{"$f":"IF(F200=\"\",\"\",IF(F200=\"None\",\"None\",INDEX('Measure Code Summary'!$D$50:$D$53,MATCH(F200,'Measure Code Summary'!$C$50:$C$53,0),1)))","v":""},null,null,null,{"$f":"IF(J200=\"\",\"\",VLOOKUP(J200,'Wattage Table'!$D:$E,2,0))","v":""},null,0,null,{"$f":"IF(J200=\"\",0,(VLOOKUP(J200,'Wattage Table'!$D:$F,3,0)*N200*M200)/1000*VLOOKUP(IF(E200=\"\",$D$16,E200),ClgHtgTypeData,3,FALSE))","v":0},{"$f":"IF(OR(F200=\"\",H200=\"\"),0,IF(F200=\"80F\",Validation!W$11,(VLOOKUP(IF(D200=\"\",$D$15,D200),LtgBldgTypeData,3,FALSE)-VLOOKUP(F200,Control_Data,5)))*S200*VLOOKUP(IF(E200=\"\",$D$16,E200),ClgHtgTypeData,2,FALSE)/1000)","v":0},0,0,{"$f":"IF(ISERROR(IF(J200=\"-\",\"-\",INDEX('Wattage Table'!$F$21:$F$1229,MATCH(J200,'Wattage Table'!$D$21:$D$1229,0)))*$N200),\" \",IF(J200=\"-\",\"-\",INDEX('Wattage Table'!$F$21:$F$1229,MATCH(J200,'Wattage Table'!$D$21:$D$1229,0)))*$N200)","v":" "},{"$f":"IF(F200=\"\",\"\",IF(OR(F200=\"None\",F200=\"\",J200=\"\"),\"No\",IF(VLOOKUP(J200,'Wattage Table'!$D:$F,3,0)*N200/H200<=VLOOKUP(F200,Control_Data,3,0),\"No\",\"Yes\")))","v":""}]
[null,178,null,null,null,null,{"$f":"IF(F201=\"\",\"\",IF(F201=\"None\",\"None\",INDEX('Measure Code Summary'!$D$50:$D$53,MATCH(F201,'Measure Code Summary'!$C$50:$C$53,0),1)))","v":""},null,null,null,{"$f":"IF(J201=\"\",\"\",VLOOKUP(J201,'Wattage Table'!$D:$E,2,0))","v":""},null,0,null,{"$f":"IF(J201=\"\",0,(VLOOKUP(J201,'Wattage Table'!$D:$F,3,0)*N201*M201)/1000*VLOOKUP(IF(E201=\"\",$D$16,E201),ClgHtgTypeData,3,FALSE))","v":0},{"$f":"IF(OR(F201=\"\",H201=\"\"),0,IF(F201=\"80F\",Validation!W$11,(VLOOKUP(IF(D201=\"\",$D$15,D201),LtgBldgTypeData,3,FALSE)-VLOOKUP(F201,Control_Data,5)))*S201*VLOOKUP(IF(E201=\"\",$D$16,E201),ClgHtgTypeData,2,FALSE)/1000)","v":0},0,0,{"$f":"IF(ISERROR(IF(J201=\"-\",\"-\",INDEX('Wattage Table'!$F$21:$F$1229,MATCH(J201,'Wattage Table'!$D$21:$D$1229,0)))*$N201),\" \",IF(J201=\"-\",\"-\",INDEX('Wattage Table'!$F$21:$F$1229,MATCH(J201,'Wattage Table'!$D$21:$D$1229,0)))*$N201)","v":" "},{"$f":"IF(F201=\"\",\"\",IF(OR(F201=\"None\",F201=\"\",J201=\"\"),\"No\",IF(VLOOKUP(J201,'Wattage Table'!$D:$F,3,0)*N201/H201<=VLOOKUP(F201,Control_Data,3,0),\"No\",\"Yes\")))","v":""}]
[null,179,null,null,null,null,{"$f":"IF(F202=\"\",\"\",IF(F202=\"None\",\"None\",INDEX('Measure Code Summary'!$D$50:$D$53,MATCH(F202,'Measure Code Summary'!$C$50:$C$53,0),1)))","v":""},null,null,null,{"$f":"IF(J202=\"\",\"\",VLOOKUP(J202,'Wattage Table'!$D:$E,2,0))","v":""},null,0,null,{"$f":"IF(J202=\"\",0,(VLOOKUP(J202,'Wattage Table'!$D:$F,3,0)*N202*M202)/1000*VLOOKUP(IF(E202=\"\",$D$16,E202),ClgHtgTypeData,3,FALSE))","v":0},{"$f":"IF(OR(F202=\"\",H202=\"\"),0,IF(F202=\"80F\",Validation!W$11,(VLOOKUP(IF(D202=\"\",$D$15,D202),LtgBldgTypeData,3,FALSE)-VLOOKUP(F202,Control_Data,5)))*S202*VLOOKUP(IF(E202=\"\",$D$16,E202),ClgHtgTypeData,2,FALSE)/1000)","v":0},0,0,{"$f":"IF(ISERROR(IF(J202=\"-\",\"-\",INDEX('Wattage Table'!$F$21:$F$1229,MATCH(J202,'Wattage Table'!$D$21:$D$1229,0)))*$N202),\" \",IF(J202=\"-\",\"-\",INDEX('Wattage Table'!$F$21:$F$1229,MATCH(J202,'Wattage Table'!$D$21:$D$1229,0)))*$N202)","v":" "},{"$f":"IF(F202=\"\",\"\",IF(OR(F202=\"None\",F202=\"\",J202=\"\"),\"No\",IF(VLOOKUP(J202,'Wattage Table'!$D:$F,3,0)*N202/H202<=VLOOKUP(F202,Control_Data,3,0),\"No\",\"Yes\")))","v":""}]
[null,180,null,null,null,null,{"$f":"IF(F203=\"\",\"\",IF(F203=\"None\",\"None\",INDEX('Measure Code Summary'!$D$50:$D$53,MATCH(F203,'Measure Code Summary'!$C$50:$C$53,0),1)))","v":""},null,null,null,{"$f":"IF(J203=\"\",\"\",VLOOKUP(J203,'Wattage Table'!$D:$E,2,0))","v":""},null,0,null,{"$f":"IF(J203=\"\",0,(VLOOKUP(J203,'Wattage Table'!$D:$F,3,0)*N203*M203)/1000*VLOOKUP(IF(E203=\"\",$D$16,E203),ClgHtgTypeData,3,FALSE))","v":0},{"$f":"IF(OR(F203=\"\",H203=\"\"),0,IF(F203=\"80F\",Validation!W$11,(VLOOKUP(IF(D203=\"\",$D$15,D203),LtgBldgTypeData,3,FALSE)-VLOOKUP(F203,Control_Data,5)))*S203*VLOOKUP(IF(E203=\"\",$D$16,E203),ClgHtgTypeData,2,FALSE)/1000)","v":0},0,0,{"$f":"IF(ISERROR(IF(J203=\"-\",\"-\",INDEX('Wattage Table'!$F$21:$F$1229,MATCH(J203,'Wattage Table'!$D$21:$D$1229,0)))*$N203),\" \",IF(J203=\"-\",\"-\",INDEX('Wattage Table'!$F$21:$F$1229,MATCH(J203,'Wattage Table'!$D$21:$D$1229,0)))*$N203)","v":" "},{"$f":"IF(F203=\"\",\"\",IF(OR(F203=\"None\",F203=\"\",J203=\"\"),\"No\",IF(VLOOKUP(J203,'Wattage Table'!$D:$F,3,0)*N203/H203<=VLOOKUP(F203,Control_Data,3,0),\"No\",\"Yes\")))","v":""}]
[null,181,null,null,null,null,{"$f":"IF(F204=\"\",\"\",IF(F204=\"None\",\"None\",INDEX('Measure Code Summary'!$D$50:$D$53,MATCH(F204,'Measure Code Summary'!$C$50:$C$53,0),1)))","v":""},null,null,null,{"$f":"IF(J204=\"\",\"\",VLOOKUP(J204,'Wattage Table'!$D:$E,2,0))","v":""},null,0,null,{"$f":"IF(J204=\"\",0,(VLOOKUP(J204,'Wattage Table'!$D:$F,3,0)*N204*M204)/1000*VLOOKUP(IF(E204=\"\",$D$16,E204),ClgHtgTypeData,3,FALSE))","v":0},{"$f":"IF(OR(F204=\"\",H204=\"\"),0,IF(F204=\"80F\",Validation!W$11,(VLOOKUP(IF(D204=\"\",$D$15,D204),LtgBldgTypeData,3,FALSE)-VLOOKUP(F204,Control_Data,5)))*S204*VLOOKUP(IF(E204=\"\",$D$16,E204),ClgHtgTypeData,2,FALSE)/1000)","v":0},0,0,{"$f":"IF(ISERROR(IF(J204=\"-\",\"-\",INDEX('Wattage Table'!$F$21:$F$1229,MATCH(J204,'Wattage Table'!$D$21:$D$1229,0)))*$N204),\" \",IF(J204=\"-\",\"-\",INDEX('Wattage Table'!$F$21:$F$1229,MATCH(J204,'Wattage Table'!$D$21:$D$1229,0)))*$N204)","v":" "},{"$f":"IF(F204=\"\",\"\",IF(OR(F204=\"None\",F204=\"\",J204=\"\"),\"No\",IF(VLOOKUP(J204,'Wattage Table'!$D:$F,3,0)*N204/H204<=VLOOKUP(F204,Control_Data,3,0),\"No\",\"Yes\")))","v":""}]
[null,182,null,null,null,null,{"$f":"IF(F205=\"\",\"\",IF(F205=\"None\",\"None\",INDEX('Measure Code Summary'!$D$50:$D$53,MATCH(F205,'Measure Code Summary'!$C$50:$C$53,0),1)))","v":""},null,null,null,{"$f":"IF(J205=\"\",\"\",VLOOKUP(J205,'Wattage Table'!$D:$E,2,0))","v":""},null,0,null,{"$f":"IF(J205=\"\",0,(VLOOKUP(J205,'Wattage Table'!$D:$F,3,0)*N205*M205)/1000*VLOOKUP(IF(E205=\"\",$D$16,E205),ClgHtgTypeData,3,FALSE))","v":0},{"$f":"IF(OR(F205=\"\",H205=\"\"),0,IF(F205=\"80F\",Validation!W$11,(VLOOKUP(IF(D205=\"\",$D$15,D205),LtgBldgTypeData,3,FALSE)-VLOOKUP(F205,Control_Data,5)))*S205*VLOOKUP(IF(E205=\"\",$D$16,E205),ClgHtgTypeData,2,FALSE)/1000)","v":0},0,0,{"$f":"IF(ISERROR(IF(J205=\"-\",\"-\",INDEX('Wattage Table'!$F$21:$F$1229,MATCH(J205,'Wattage Table'!$D$21:$D$1229,0)))*$N205),\" \",IF(J205=\"-\",\"-\",INDEX('Wattage Table'!$F$21:$F$1229,MATCH(J205,'Wattage Table'!$D$21:$D$1229,0)))*$N205)","v":" "},{"$f":"IF(F205=\"\",\"\",IF(OR(F205=\"None\",F205=\"\",J205=\"\"),\"No\",IF(VLOOKUP(J205,'Wattage Table'!$D:$F,3,0)*N205/H205<=VLOOKUP(F205,Control_Data,3,0),\"No\",\"Yes\")))","v":""}]
[null,183,null,null,null,null,{"$f":"IF(F206=\"\",\"\",IF(F206=\"None\",\"None\",INDEX('Measure Code Summary'!$D$50:$D$53,MATCH(F206,'Measure Code Summary'!$C$50:$C$53,0),1)))","v":""},null,null,null,{"$f":"IF(J206=\"\",\"\",VLOOKUP(J206,'Wattage Table'!$D:$E,2,0))","v":""},null,0,null,{"$f":"IF(J206=\"\",0,(VLOOKUP(J206,'Wattage Table'!$D:$F,3,0)*N206*M206)/1000*VLOOKUP(IF(E206=\"\",$D$16,E206),ClgHtgTypeData,3,FALSE))","v":0},{"$f":"IF(OR(F206=\"\",H206=\"\"),0,IF(F206=\"80F\",Validation!W$11,(VLOOKUP(IF(D206=\"\",$D$15,D206),LtgBldgTypeData,3,FALSE)-VLOOKUP(F206,Control_Data,5)))*S206*VLOOKUP(IF(E206=\"\",$D$16,E206),ClgHtgTypeData,2,FALSE)/1000)","v":0},0,0,{"$f":"IF(ISERROR(IF(J206=\"-\",\"-\",INDEX('Wattage Table'!$F$21:$F$1229,MATCH(J206,'Wattage Table'!$D$21:$D$1229,0)))*$N206),\" \",IF(J206=\"-\",\"-\",INDEX('Wattage Table'!$F$21:$F$1229,MATCH(J206,'Wattage Table'!$D$21:$D$1229,0)))*$N206)","v":" "},{"$f":"IF(F206=\"\",\"\",IF(OR(F206=\"None\",F206=\"\",J206=\"\"),\"No\",IF(VLOOKUP(J206,'Wattage Table'!$D:$F,3,0)*N206/H206<=VLOOKUP(F206,Control_Data,3,0),\"No\",\"Yes\")))","v":""}]
[null,184,null,null,null,null,{"$f":"IF(F207=\"\",\"\",IF(F207=\"None\",\"None\",INDEX('Measure Code Summary'!$D$50:$D$53,MATCH(F207,'Measure Code Summary'!$C$50:$C$53,0),1)))","v":""},null,null,null,{"$f":"IF(J207=\"\",\"\",VLOOKUP(J207,'Wattage Table'!$D:$E,2,0))","v":""},null,0,null,{"$f":"IF(J207=\"\",0,(VLOOKUP(J207,'Wattage Table'!$D:$F,3,0)*N207*M207)/1000*VLOOKUP(IF(E207=\"\",$D$16,E207),ClgHtgTypeData,3,FALSE))","v":0},{"$f":"IF(OR(F207=\"\",H207=\"\"),0,IF(F207=\"80F\",Validation!W$11,(VLOOKUP(IF(D207=\"\",$D$15,D207),LtgBldgTypeData,3,FALSE)-VLOOKUP(F207,Control_Data,5)))*S207*VLOOKUP(IF(E207=\"\",$D$16,E207),ClgHtgTypeData,2,FALSE)/1000)","v":0},0,0,{"$f":"IF(ISERROR(IF(J207=\"-\",\"-\",INDEX('Wattage Table'!$F$21:$F$1229,MATCH(J207,'Wattage Table'!$D$21:$D$1229,0)))*$N207),\" \",IF(J207=\"-\",\"-\",INDEX('Wattage Table'!$F$21:$F$1229,MATCH(J207,'Wattage Table'!$D$21:$D$1229,0)))*$N207)","v":" "},{"$f":"IF(F207=\"\",\"\",IF(OR(F207=\"None\",F207=\"\",J207=\"\"),\"No\",IF(VLOOKUP(J207,'Wattage Table'!$D:$F,3,0)*N207/H207<=VLOOKUP(F207,Control_Data,3,0),\"No\",\"Yes\")))","v":""}]
[null,185,null,null,null,null,{"$f":"IF(F208=\"\",\"\",IF(F208=\"None\",\"None\",INDEX('Measure Code Summary'!$D$50:$D$53,MATCH(F208,'Measure Code Summary'!$C$50:$C$53,0),1)))","v":""},null,null,null,{"$f":"IF(J208=\"\",\"\",VLOOKUP(J208,'Wattage Table'!$D:$E,2,0))","v":""},null,0,null,{"$f":"IF(J208=\"\",0,(VLOOKUP(J208,'Wattage Table'!$D:$F,3,0)*N208*M208)/1000*VLOOKUP(IF(E208=\"\",$D$16,E208),ClgHtgTypeData,3,FALSE))","v":0},{"$f":"IF(OR(F208=\"\",H208=\"\"),0,IF(F208=\"80F\",Validation!W$11,(VLOOKUP(IF(D208=\"\",$D$15,D208),LtgBldgTypeData,3,FALSE)-VLOOKUP(F208,Control_Data,5)))*S208*VLOOKUP(IF(E208=\"\",$D$16,E208),ClgHtgTypeData,2,FALSE)/1000)","v":0},0,0,{"$f":"IF(ISERROR(IF(J208=\"-\",\"-\",INDEX('Wattage Table'!$F$21:$F$1229,MATCH(J208,'Wattage Table'!$D$21:$D$1229,0)))*$N208),\" \",IF(J208=\"-\",\"-\",INDEX('Wattage Table'!$F$21:$F$1229,MATCH(J208,'Wattage Table'!$D$21:$D$1229,0)))*$N208)","v":" "},{"$f":"IF(F208=\"\",\"\",IF(OR(F208=\"None\",F208=\"\",J208=\"\"),\"No\",IF(VLOOKUP(J208,'Wattage Table'!$D:$F,3,0)*N208/H208<=VLOOKUP(F208,Control_Data,3,0),\"No\",\"Yes\")))","v":""}]
[null,186,null,null,null,null,{"$f":"IF(F209=\"\",\"\",IF(F209=\"None\",\"None\",INDEX('Measure Code Summary'!$D$50:$D$53,MATCH(F209,'Measure Code Summary'!$C$50:$C$53,0),1)))","v":""},null,null,null,{"$f":"IF(J209=\"\",\"\",VLOOKUP(J209,'Wattage Table'!$D:$E,2,0))","v":""},null,0,null,{"$f":"IF(J209=\"\",0,(VLOOKUP(J209,'Wattage Table'!$D:$F,3,0)*N209*M209)/1000*VLOOKUP(IF(E209=\"\",$D$16,E209),ClgHtgTypeData,3,FALSE))","v":0},{"$f":"IF(OR(F209=\"\",H209=\"\"),0,IF(F209=\"80F\",Validation!W$11,(VLOOKUP(IF(D209=\"\",$D$15,D209),LtgBldgTypeData,3,FALSE)-VLOOKUP(F209,Control_Data,5)))*S209*VLOOKUP(IF(E209=\"\",$D$16,E209),ClgHtgTypeData,2,FALSE)/1000)","v":0},0,0,{"$f":"IF(ISERROR(IF(J209=\"-\",\"-\",INDEX('Wattage Table'!$F$21:$F$1229,MATCH(J209,'Wattage Table'!$D$21:$D$1229,0)))*$N209),\" \",IF(J209=\"-\",\"-\",INDEX('Wattage Table'!$F$21:$F$1229,MATCH(J209,'Wattage Table'!$D$21:$D$1229,0)))*$N209)","v":" "},{"$f":"IF(F209=\"\",\"\",IF(OR(F209=\"None\",F209=\"\",J209=\"\"),\"No\",IF(VLOOKUP(J209,'Wattage Table'!$D:$F,3,0)*N209/H209<=VLOOKUP(F209,Control_Data,3,0),\"No\",\"Yes\")))","v":""}]
[null,187,null,null,null,null,{"$f":"IF(F210=\"\",\"\",IF(F210=\"None\",\"None\",INDEX('Measure Code Summary'!$D$50:$D$53,MATCH(F210,'Measure Code Summary'!$C$50:$C$53,0),1)))","v":""},null,null,null,{"$f":"IF(J210=\"\",\"\",VLOOKUP(J210,'Wattage Table'!$D:$E,2,0))","v":""},null,0,null,{"$f":"IF(J210=\"\",0,(VLOOKUP(J210,'Wattage Table'!$D:$F,3,0)*N210*M210)/1000*VLOOKUP(IF(E210=\"\",$D$16,E210),ClgHtgTypeData,3,FALSE))","v":0},{"$f":"IF(OR(F210=\"\",H210=\"\"),0,IF(F210=\"80F\",Validation!W$11,(VLOOKUP(IF(D210=\"\",$D$15,D210),LtgBldgTypeData,3,FALSE)-VLOOKUP(F210,Control_Data,5)))*S210*VLOOKUP(IF(E210=\"\",$D$16,E210),ClgHtgTypeData,2,FALSE)/1000)","v":0},0,0,{"$f":"IF(ISERROR(IF(J210=\"-\",\"-\",INDEX('Wattage Table'!$F$21:$F$1229,MATCH(J210,'Wattage Table'!$D$21:$D$1229,0)))*$N210),\" \",IF(J210=\"-\",\"-\",INDEX('Wattage Table'!$F$21:$F$1229,MATCH(J210,'Wattage Table'!$D$21:$D$1229,0)))*$N210)","v":" "},{"$f":"IF(F210=\"\",\"\",IF(OR(F210=\"None\",F210=\"\",J210=\"\"),\"No\",IF(VLOOKUP(J210,'Wattage Table'!$D:$F,3,0)*N210/H210<=VLOOKUP(F210,Control_Data,3,0),\"No\",\"Yes\")))","v":""}]
[null,188,null,null,null,null,{"$f":"IF(F211=\"\",\"\",IF(F211=\"None\",\"None\",INDEX('Measure Code Summary'!$D$50:$D$53,MATCH(F211,'Measure Code Summary'!$C$50:$C$53,0),1)))","v":""},null,null,null,{"$f":"IF(J211=\"\",\"\",VLOOKUP(J211,'Wattage Table'!$D:$E,2,0))","v":""},null,0,null,{"$f":"IF(J211=\"\",0,(VLOOKUP(J211,'Wattage Table'!$D:$F,3,0)*N211*M211)/1000*VLOOKUP(IF(E211=\"\",$D$16,E211),ClgHtgTypeData,3,FALSE))","v":0},{"$f":"IF(OR(F211=\"\",H211=\"\"),0,IF(F211=\"80F\",Validation!W$11,(VLOOKUP(IF(D211=\"\",$D$15,D211),LtgBldgTypeData,3,FALSE)-VLOOKUP(F211,Control_Data,5)))*S211*VLOOKUP(IF(E211=\"\",$D$16,E211),ClgHtgTypeData,2,FALSE)/1000)","v":0},0,0,{"$f":"IF(ISERROR(IF(J211=\"-\",\"-\",INDEX('Wattage Table'!$F$21:$F$1229,MATCH(J211,'Wattage Table'!$D$21:$D$1229,0)))*$N211),\" \",IF(J211=\"-\",\"-\",INDEX('Wattage Table'!$F$21:$F$1229,MATCH(J211,'Wattage Table'!$D$21:$D$1229,0)))*$N211)","v":" "},{"$f":"IF(F211=\"\",\"\",IF(OR(F211=\"None\",F211=\"\",J211=\"\"),\"No\",IF(VLOOKUP(J211,'Wattage Table'!$D:$F,3,0)*N211/H211<=VLOOKUP(F211,Control_Data,3,0),\"No\",\"Yes\")))","v":""}]
[null,189,null,null,null,null,{"$f":"IF(F212=\"\",\"\",IF(F212=\"None\",\"None\",INDEX('Measure Code Summary'!$D$50:$D$53,MATCH(F212,'Measure Code Summary'!$C$50:$C$53,0),1)))","v":""},null,null,null,{"$f":"IF(J212=\"\",\"\",VLOOKUP(J212,'Wattage Table'!$D:$E,2,0))","v":""},null,0,null,{"$f":"IF(J212=\"\",0,(VLOOKUP(J212,'Wattage Table'!$D:$F,3,0)*N212*M212)/1000*VLOOKUP(IF(E212=\"\",$D$16,E212),ClgHtgTypeData,3,FALSE))","v":0},{"$f":"IF(OR(F212=\"\",H212=\"\"),0,IF(F212=\"80F\",Validation!W$11,(VLOOKUP(IF(D212=\"\",$D$15,D212),LtgBldgTypeData,3,FALSE)-VLOOKUP(F212,Control_Data,5)))*S212*VLOOKUP(IF(E212=\"\",$D$16,E212),ClgHtgTypeData,2,FALSE)/1000)","v":0},0,0,{"$f":"IF(ISERROR(IF(J212=\"-\",\"-\",INDEX('Wattage Table'!$F$21:$F$1229,MATCH(J212,'Wattage Table'!$D$21:$D$1229,0)))*$N212),\" \",IF(J212=\"-\",\"-\",INDEX('Wattage Table'!$F$21:$F$1229,MATCH(J212,'Wattage Table'!$D$21:$D$1229,0)))*$N212)","v":" "},{"$f":"IF(F212=\"\",\"\",IF(OR(F212=\"None\",F212=\"\",J212=\"\"),\"No\",IF(VLOOKUP(J212,'Wattage Table'!$D:$F,3,0)*N212/H212<=VLOOKUP(F212,Control_Data,3,0),\"No\",\"Yes\")))","v":""}]
[null,190,null,null,null,null,{"$f":"IF(F213=\"\",\"\",IF(F213=\"None\",\"None\",INDEX('Measure Code Summary'!$D$50:$D$53,MATCH(F213,'Measure Code Summary'!$C$50:$C$53,0),1)))","v":""},null,null,null,{"$f":"IF(J213=\"\",\"\",VLOOKUP(J213,'Wattage Table'!$D:$E,2,0))","v":""},null,0,null,{"$f":"IF(J213=\"\",0,(VLOOKUP(J213,'Wattage Table'!$D:$F,3,0)*N213*M213)/1000*VLOOKUP(IF(E213=\"\",$D$16,E213),ClgHtgTypeData,3,FALSE))","v":0},{"$f":"IF(OR(F213=\"\",H213=\"\"),0,IF(F213=\"80F\",Validation!W$11,(VLOOKUP(IF(D213=\"\",$D$15,D213),LtgBldgTypeData,3,FALSE)-VLOOKUP(F213,Control_Data,5)))*S213*VLOOKUP(IF(E213=\"\",$D$16,E213),ClgHtgTypeData,2,FALSE)/1000)","v":0},0,0,{"$f":"IF(ISERROR(IF(J213=\"-\",\"-\",INDEX('Wattage Table'!$F$21:$F$1229,MATCH(J213,'Wattage Table'!$D$21:$D$1229,0)))*$N213),\" \",IF(J213=\"-\",\"-\",INDEX('Wattage Table'!$F$21:$F$1229,MATCH(J213,'Wattage Table'!$D$21:$D$1229,0)))*$N213)","v":" "},{"$f":"IF(F213=\"\",\"\",IF(OR(F213=\"None\",F213=\"\",J213=\"\"),\"No\",IF(VLOOKUP(J213,'Wattage Table'!$D:$F,3,0)*N213/H213<=VLOOKUP(F213,Control_Data,3,0),\"No\",\"Yes\")))","v":""}]
[null,191,null,null,null,null,{"$f":"IF(F214=\"\",\"\",IF(F214=\"None\",\"None\",INDEX('Measure Code Summary'!$D$50:$D$53,MATCH(F214,'Measure Code Summary'!$C$50:$C$53,0),1)))","v":""},null,null,null,{"$f":"IF(J214=\"\",\"\",VLOOKUP(J214,'Wattage Table'!$D:$E,2,0))","v":""},null,0,null,{"$f":"IF(J214=\"\",0,(VLOOKUP(J214,'Wattage Table'!$D:$F,3,0)*N214*M214)/1000*VLOOKUP(IF(E214=\"\",$D$16,E214),ClgHtgTypeData,3,FALSE))","v":0},{"$f":"IF(OR(F214=\"\",H214=\"\"),0,IF(F214=\"80F\",Validation!W$11,(VLOOKUP(IF(D214=\"\",$D$15,D214),LtgBldgTypeData,3,FALSE)-VLOOKUP(F214,Control_Data,5)))*S214*VLOOKUP(IF(E214=\"\",$D$16,E214),ClgHtgTypeData,2,FALSE)/1000)","v":0},0,0,{"$f":"IF(ISERROR(IF(J214=\"-\",\"-\",INDEX('Wattage Table'!$F$21:$F$1229,MATCH(J214,'Wattage Table'!$D$21:$D$1229,0)))*$N214),\" \",IF(J214=\"-\",\"-\",INDEX('Wattage Table'!$F$21:$F$1229,MATCH(J214,'Wattage Table'!$D$21:$D$1229,0)))*$N214)","v":" "},{"$f":"IF(F214=\"\",\"\",IF(OR(F214=\"None\",F214=\"\",J214=\"\"),\"No\",IF(VLOOKUP(J214,'Wattage Table'!$D:$F,3,0)*N214/H214<=VLOOKUP(F214,Control_Data,3,0),\"No\",\"Yes\")))","v":""}]
[null,192,null,null,null,null,{"$f":"IF(F215=\"\",\"\",IF(F215=\"None\",\"None\",INDEX('Measure Code Summary'!$D$50:$D$53,MATCH(F215,'Measure Code Summary'!$C$50:$C$53,0),1)))","v":""},null,null,null,{"$f":"IF(J215=\"\",\"\",VLOOKUP(J215,'Wattage Table'!$D:$E,2,0))","v":""},null,0,null,{"$f":"IF(J215=\"\",0,(VLOOKUP(J215,'Wattage Table'!$D:$F,3,0)*N215*M215)/1000*VLOOKUP(IF(E215=\"\",$D$16,E215),ClgHtgTypeData,3,FALSE))","v":0},{"$f":"IF(OR(F215=\"\",H215=\"\"),0,IF(F215=\"80F\",Validation!W$11,(VLOOKUP(IF(D215=\"\",$D$15,D215),LtgBldgTypeData,3,FALSE)-VLOOKUP(F215,Control_Data,5)))*S215*VLOOKUP(IF(E215=\"\",$D$16,E215),ClgHtgTypeData,2,FALSE)/1000)","v":0},{"$f":"IF(OR(O215<=0,P215<=0,F215=\"\",J215=\"\"),0,VLOOKUP(F215,Control_Data,6)*H215*T215)","v":0},0,{"$f":"IF(ISERROR(IF(J215=\"-\",\"-\",INDEX('Wattage Table'!$F$21:$F$1229,MATCH(J215,'Wattage Table'!$D$21:$D$1229,0)))*$N215),\" \",IF(J215=\"-\",\"-\",INDEX('Wattage Table'!$F$21:$F$1229,MATCH(J215,'Wattage Table'!$D$21:$D$1229,0)))*$N215)","v":" "},{"$f":"IF(F215=\"\",\"\",IF(OR(F215=\"None\",F215=\"\",J215=\"\"),\"No\",IF(VLOOKUP(J215,'Wattage Table'!$D:$F,3,0)*N215/H215<=VLOOKUP(F215,Control_Data,3,0),\"No\",\"Yes\")))","v":""}]
[null,193,null,null,null,null,{"$f":"IF(F216=\"\",\"\",IF(F216=\"None\",\"None\",INDEX('Measure Code Summary'!$D$50:$D$53,MATCH(F216,'Measure Code Summary'!$C$50:$C$53,0),1)))","v":""},null,null,null,{"$f":"IF(J216=\"\",\"\",VLOOKUP(J216,'Wattage Table'!$D:$E,2,0))","v":""},null,{"$f":"IF(OR(F216=\"\",L216=\"\"),0,L216*0.25)","v":0},null,{"$f":"IF(J216=\"\",0,(VLOOKUP(J216,'Wattage Table'!$D:$F,3,0)*N216*M216)/1000*VLOOKUP(IF(E216=\"\",$D$16,E216),ClgHtgTypeData,3,FALSE))","v":0},{"$f":"IF(OR(F216=\"\",H216=\"\"),0,IF(F216=\"80F\",Validation!W$11,(VLOOKUP(IF(D216=\"\",$D$15,D216),LtgBldgTypeData,3,FALSE)-VLOOKUP(F216,Control_Data,5)))*S216*VLOOKUP(IF(E216=\"\",$D$16,E216),ClgHtgTypeData,2,FALSE)/1000)","v":0},0,{"$f":"IF(Q216<=0,0,H216*T216)","v":0},{"$f":"IF(ISERROR(IF(J216=\"-\",\"-\",INDEX('Wattage Table'!$F$21:$F$1229,MATCH(J216,'Wattage Table'!$D$21:$D$1229,0)))*$N216),\" \",IF(J216=\"-\",\"-\",INDEX('Wattage Table'!$F$21:$F$1229,MATCH(J216,'Wattage Table'!$D$21:$D$1229,0)))*$N216)","v":" "},{"$f":"IF(F216=\"\",\"\",IF(OR(F216=\"None\",F216=\"\",J216=\"\"),\"No\",IF(VLOOKUP(J216,'Wattage Table'!$D:$F,3,0)*N216/H216<=VLOOKUP(F216,Control_Data,3,0),\"No\",\"Yes\")))","v":""}]
[null,194,null,null,null,null,{"$f":"IF(F217=\"\",\"\",IF(F217=\"None\",\"None\",INDEX('Measure Code Summary'!$D$50:$D$53,MATCH(F217,'Measure Code Summary'!$C$50:$C$53,0),1)))","v":""},null,null,null,{"$f":"IF(J217=\"\",\"\",VLOOKUP(J217,'Wattage Table'!$D:$E,2,0))","v":""},null,0,null,{"$f":"IF(J217=\"\",0,(VLOOKUP(J217,'Wattage Table'!$D:$F,3,0)*N217*M217)/1000*VLOOKUP(IF(E217=\"\",$D$16,E217),ClgHtgTypeData,3,FALSE))","v":0},{"$f":"IF(OR(F217=\"\",H217=\"\"),0,IF(F217=\"80F\",Validation!W$11,(VLOOKUP(IF(D217=\"\",$D$15,D217),LtgBldgTypeData,3,FALSE)-VLOOKUP(F217,Control_Data,5)))*S217*VLOOKUP(IF(E217=\"\",$D$16,E217),ClgHtgTypeData,2,FALSE)/1000)","v":0},0,0,{"$f":"IF(ISERROR(IF(J217=\"-\",\"-\",INDEX('Wattage Table'!$F$21:$F$1229,MATCH(J217,'Wattage Table'!$D$21:$D$1229,0)))*$N217),\" \",IF(J217=\"-\",\"-\",INDEX('Wattage Table'!$F$21:$F$1229,MATCH(J217,'Wattage Table'!$D$21:$D$1229,0)))*$N217)","v":" "},{"$f":"IF(F217=\"\",\"\",IF(OR(F217=\"None\",F217=\"\",J217=\"\"),\"No\",IF(VLOOKUP(J217,'Wattage Table'!$D:$F,3,0)*N217/H217<=VLOOKUP(F217,Control_Data,3,0),\"No\",\"Yes\")))","v":""}]
[null,195,null,null,null,null,{"$f":"IF(F218=\"\",\"\",IF(F218=\"None\",\"None\",INDEX('Measure Code Summary'!$D$50:$D$53,MATCH(F218,'Measure Code Summary'!$C$50:$C$53,0),1)))","v":""},null,null,null,{"$f":"IF(J218=\"\",\"\",VLOOKUP(J218,'Wattage Table'!$D:$E,2,0))","v":""},null,0,null,{"$f":"IF(J218=\"\",0,(VLOOKUP(J218,'Wattage Table'!$D:$F,3,0)*N218*M218)/1000*VLOOKUP(IF(E218=\"\",$D$16,E218),ClgHtgTypeData,3,FALSE))","v":0},{"$f":"IF(OR(F218=\"\",H218=\"\"),0,IF(F218=\"80F\",Validation!W$11,(VLOOKUP(IF(D218=\"\",$D$15,D218),LtgBldgTypeData,3,FALSE)-VLOOKUP(F218,Control_Data,5)))*S218*VLOOKUP(IF(E218=\"\",$D$16,E218),ClgHtgTypeData,2,FALSE)/1000)","v":0},0,0,{"$f":"IF(ISERROR(IF(J218=\"-\",\"-\",INDEX('Wattage Table'!$F$21:$F$1229,MATCH(J218,'Wattage Table'!$D$21:$D$1229,0)))*$N218),\" \",IF(J218=\"-\",\"-\",INDEX('Wattage Table'!$F$21:$F$1229,MATCH(J218,'Wattage Table'!$D$21:$D$1229,0)))*$N218)","v":" "},{"$f":"IF(F218=\"\",\"\",IF(OR(F218=\"None\",F218=\"\",J218=\"\"),\"No\",IF(VLOOKUP(J218,'Wattage Table'!$D:$F,3,0)*N218/H218<=VLOOKUP(F218,Control_Data,3,0),\"No\",\"Yes\")))","v":""}]
[null,196,null,null,null,null,{"$f":"IF(F219=\"\",\"\",IF(F219=\"None\",\"None\",INDEX('Measure Code Summary'!$D$50:$D$53,MATCH(F219,'Measure Code Summary'!$C$50:$C$53,0),1)))","v":""},null,null,null,{"$f":"IF(J219=\"\",\"\",VLOOKUP(J219,'Wattage Table'!$D:$E,2,0))","v":""},null,0,null,{"$f":"IF(J219=\"\",0,(VLOOKUP(J219,'Wattage Table'!$D:$F,3,0)*N219*M219)/1000*VLOOKUP(IF(E219=\"\",$D$16,E219),ClgHtgTypeData,3,FALSE))","v":0},{"$f":"IF(OR(F219=\"\",H219=\"\"),0,IF(F219=\"80F\",Validation!W$11,(VLOOKUP(IF(D219=\"\",$D$15,D219),LtgBldgTypeData,3,FALSE)-VLOOKUP(F219,Control_Data,5)))*S219*VLOOKUP(IF(E219=\"\",$D$16,E219),ClgHtgTypeData,2,FALSE)/1000)","v":0},0,0,{"$f":"IF(ISERROR(IF(J219=\"-\",\"-\",INDEX('Wattage Table'!$F$21:$F$1229,MATCH(J219,'Wattage Table'!$D$21:$D$1229,0)))*$N219),\" \",IF(J219=\"-\",\"-\",INDEX('Wattage Table'!$F$21:$F$1229,MATCH(J219,'Wattage Table'!$D$21:$D$1229,0)))*$N219)","v":" "},{"$f":"IF(F219=\"\",\"\",IF(OR(F219=\"None\",F219=\"\",J219=\"\"),\"No\",IF(VLOOKUP(J219,'Wattage Table'!$D:$F,3,0)*N219/H219<=VLOOKUP(F219,Control_Data,3,0),\"No\",\"Yes\")))","v":""}]
[null,197,null,null,null,null,{"$f":"IF(F220=\"\",\"\",IF(F220=\"None\",\"None\",INDEX('Measure Code Summary'!$D$50:$D$53,MATCH(F220,'Measure Code Summary'!$C$50:$C$53,0),1)))","v":""},null,null,null,{"$f":"IF(J220=\"\",\"\",VLOOKUP(J220,'Wattage Table'!$D:$E,2,0))","v":""},null,0,null,{"$f":"IF(J220=\"\",0,(VLOOKUP(J220,'Wattage Table'!$D:$F,3,0)*N220*M220)/1000*VLOOKUP(IF(E220=\"\",$D$16,E220),ClgHtgTypeData,3,FALSE))","v":0},{"$f":"IF(OR(F220=\"\",H220=\"\"),0,IF(F220=\"80F\",Validation!W$11,(VLOOKUP(IF(D220=\"\",$D$15,D220),LtgBldgTypeData,3,FALSE)-VLOOKUP(F220,Control_Data,5)))*S220*VLOOKUP(IF(E220=\"\",$D$16,E220),ClgHtgTypeData,2,FALSE)/1000)","v":0},0,0,{"$f":"IF(ISERROR(IF(J220=\"-\",\"-\",INDEX('Wattage Table'!$F$21:$F$1229,MATCH(J220,'Wattage Table'!$D$21:$D$1229,0)))*$N220),\" \",IF(J220=\"-\",\"-\",INDEX('Wattage Table'!$F$21:$F$1229,MATCH(J220,'Wattage Table'!$D$21:$D$1229,0)))*$N220)","v":" "},{"$f":"IF(F220=\"\",\"\",IF(OR(F220=\"None\",F220=\"\",J220=\"\"),\"No\",IF(VLOOKUP(J220,'Wattage Table'!$D:$F,3,0)*N220/H220<=VLOOKUP(F220,Control_Data,3,0),\"No\",\"Yes\")))","v":""}]
[null,198,null,null,null,null,{"$f":"IF(F221=\"\",\"\",IF(F221=\"None\",\"None\",INDEX('Measure Code Summary'!$D$50:$D$53,MATCH(F221,'Measure Code Summary'!$C$50:$C$53,0),1)))","v":""},null,null,null,{"$f":"IF(J221=\"\",\"\",VLOOKUP(J221,'Wattage Table'!$D:$E,2,0))","v":""},null,0,null,{"$f":"IF(J221=\"\",0,(VLOOKUP(J221,'Wattage Table'!$D:$F,3,0)*N221*M221)/1000*VLOOKUP(IF(E221=\"\",$D$16,E221),ClgHtgTypeData,3,FALSE))","v":0},{"$f":"IF(OR(F221=\"\",H221=\"\"),0,IF(F221=\"80F\",Validation!W$11,(VLOOKUP(IF(D221=\"\",$D$15,D221),LtgBldgTypeData,3,FALSE)-VLOOKUP(F221,Control_Data,5)))*S221*VLOOKUP(IF(E221=\"\",$D$16,E221),ClgHtgTypeData,2,FALSE)/1000)","v":0},0,0,{"$f":"IF(ISERROR(IF(J221=\"-\",\"-\",INDEX('Wattage Table'!$F$21:$F$1229,MATCH(J221,'Wattage Table'!$D$21:$D$1229,0)))*$N221),\" \",IF(J221=\"-\",\"-\",INDEX('Wattage Table'!$F$21:$F$1229,MATCH(J221,'Wattage Table'!$D$21:$D$1229,0)))*$N221)","v":" "},{"$f":"IF(F221=\"\",\"\",IF(OR(F221=\"None\",F221=\"\",J221=\"\"),\"No\",IF(VLOOKUP(J221,'Wattage Table'!$D:$F,3,0)*N221/H221<=VLOOKUP(F221,Control_Data,3,0),\"No\",\"Yes\")))","v":""}]
[null,199,null,null,null,null,{"$f":"IF(F222=\"\",\"\",IF(F222=\"None\",\"None\",INDEX('Measure Code Summary'!$D$50:$D$53,MATCH(F222,'Measure Code Summary'!$C$50:$C$53,0),1)))","v":""},null,null,null,{"$f":"IF(J222=\"\",\"\",VLOOKUP(J222,'Wattage Table'!$D:$E,2,0))","v":""},null,0,null,{"$f":"IF(J222=\"\",0,(VLOOKUP(J222,'Wattage Table'!$D:$F,3,0)*N222*M222)/1000*VLOOKUP(IF(E222=\"\",$D$16,E222),ClgHtgTypeData,3,FALSE))","v":0},{"$f":"IF(OR(F222=\"\",H222=\"\"),0,IF(F222=\"80F\",Validation!W$11,(VLOOKUP(IF(D222=\"\",$D$15,D222),LtgBldgTypeData,3,FALSE)-VLOOKUP(F222,Control_Data,5)))*S222*VLOOKUP(IF(E222=\"\",$D$16,E222),ClgHtgTypeData,2,FALSE)/1000)","v":0},0,0,{"$f":"IF(ISERROR(IF(J222=\"-\",\"-\",INDEX('Wattage Table'!$F$21:$F$1229,MATCH(J222,'Wattage Table'!$D$21:$D$1229,0)))*$N222),\" \",IF(J222=\"-\",\"-\",INDEX('Wattage Table'!$F$21:$F$1229,MATCH(J222,'Wattage Table'!$D$21:$D$1229,0)))*$N222)","v":" "},{"$f":"IF(F222=\"\",\"\",IF(OR(F222=\"None\",F222=\"\",J222=\"\"),\"No\",IF(VLOOKUP(J222,'Wattage Table'!$D:$F,3,0)*N222/H222<=VLOOKUP(F222,Control_Data,3,0),\"No\",\"Yes\")))","v":""}]
[null,200,null,null,null,null,{"$f":"IF(F223=\"\",\"\",IF(F223=\"None\",\"None\",INDEX('Measure Code Summary'!$D$50:$D$53,MATCH(F223,'Measure Code Summary'!$C$50:$C$53,0),1)))","v":""},null,null,null,{"$f":"IF(J223=\"\",\"\",VLOOKUP(J223,'Wattage Table'!$D:$E,2,0))","v":""},null,0,null,{"$f":"IF(J223=\"\",0,(VLOOKUP(J223,'Wattage Table'!$D:$F,3,0)*N223*M223)/1000*VLOOKUP(IF(E223=\"\",$D$16,E223),ClgHtgTypeData,3,FALSE))","v":0},{"$f":"IF(OR(F223=\"\",H223=\"\"),0,IF(F223=\"80F\",Validation!W$11,(VLOOKUP(IF(D223=\"\",$D$15,D223),LtgBldgTypeData,3,FALSE)-VLOOKUP(F223,Control_Data,5)))*S223*VLOOKUP(IF(E223=\"\",$D$16,E223),ClgHtgTypeData,2,FALSE)/1000)","v":0},0,0,{"$f":"IF(ISERROR(IF(J223=\"-\",\"-\",INDEX('Wattage Table'!$F$21:$F$1229,MATCH(J223,'Wattage Table'!$D$21:$D$1229,0)))*$N223),\" \",IF(J223=\"-\",\"-\",INDEX('Wattage Table'!$F$21:$F$1229,MATCH(J223,'Wattage Table'!$D$21:$D$1229,0)))*$N223)","v":" "},{"$f":"IF(F223=\"\",\"\",IF(OR(F223=\"None\",F223=\"\",J223=\"\"),\"No\",IF(VLOOKUP(J223,'Wattage Table'!$D:$F,3,0)*N223/H223<=VLOOKUP(F223,Control_Data,3,0),\"No\",\"Yes\")))","v":""}]

{"sheet":"Measure Code Summary","index":11,"n_rows":54,"n_cols":10,"rows_kept":54,"cut":false,"hidden":false,"merged":[[25,8,25,9],[35,8,35,9],[37,8,37,9],[53,1,53,4],[53,5,53,7],[27,8,27,9],[29,8,29,9],[31,8,31,9],[33,8,33,9],[27,3,27,5],[29,3,29,5],[31,3,31,5],[49,3,49,5],[50,3,50,5],[51,3,51,5],[38,1,38,9],[10,3,10,5],[11,3,11,5],[12,3,12,5],[13,3,13,5],[17,1,17,9],[18,8,18,9],[18,3,18,5],[16,1,16,9],[19,8,19,9],[21,8,21,9],[19,3,19,5],[21,3,21,5],[20,1,20,9],[40,1,40,9],[39,8,39,9],[49,1,52,1],[52,3,52,5],[48,3,48,5],[42,1,43,2],[45,3,45,5],[46,3,46,5],[24,1,24,9],[22,1,22,9],[28,1,28,9],[41,1,41,9],[23,3,23,5],[25,3,25,5],[33,3,33,5],[35,3,35,5],[30,1,30,9],[32,1,32,9],[39,3,39,5],[34,1,34,9],[36,1,36,9],[37,3,37,5],[26,1,26,9],[23,8,23,9],[8,1,8,8],[1,1,1,9],[2,1,2,9],[3,1,3,9],[4,1,4,9],[5,1,5,9]]}
[]
[]
[]
[null,"Measure Summary"]
[null,{"$f":"\"Version # \"&'Version Tracking'!C4","v":"Version # 10.2"}]
[null," "]
[null,"Copyright © 2010 ICF Resources, LLC, All Rights Reserved. Do not copy, distribute or quote without ICF’s written permission."]
[]
[null,"Required General Project Information"]
[]
[null,null,"Project Name",{"$f":"IF('Input - Retrofit Lighting'!D11=0,IF('Input - Lighting Controls Only'!D11=0,\"\",'Input - Lighting Controls Only'!D11),'Input - Retrofit Lighting'!D11)","v":""},null,null,null,"Prepared By",{"$f":"IF('Input - Retrofit Lighting'!G11=0,IF('Input - Lighting Controls Only'!G11=0,\"\",'Input - Lighting Controls Only'!G11),'Input - Retrofit Lighting'!G11)","v":""}]
[null,null,"Project Address",{"$f":"IF('Input - Retrofit Lighting'!D12=0,IF('Input - Lighting Controls Only'!D12=0,\"\",'Input - Lighting Controls Only'!D12),'Input - Retrofit Lighting'!D12)","v":""},null,null,null,"Contact Person",{"$f":"IF('Input - Retrofit Lighting'!G12=0,IF('Input - Lighting Controls Only'!G12=0,\"\",'Input - Lighting Controls Only'!G12),'Input - Retrofit Lighting'!G12)","v":""}]
[null,null,"City",{"$f":"IF('Input - Retrofit Lighting'!D13=0,IF('Input - Lighting Controls Only'!D13=0,\"\",'Input - Lighting Controls Only'!D13),'Input - Retrofit Lighting'!D13)","v":""},null,null,null,"Phone",{"$f":"IF('Input - Retrofit Lighting'!G13=0,IF('Input - Lighting Controls Only'!G13=0,\"\",'Input - Lighting Controls Only'!G13),'Input - Retrofit Lighting'!G13)","v":""}]
[null,null,"ZIP",{"$f":"IF('Input - Retrofit Lighting'!D14=0,IF('Input - Lighting Controls Only'!D14=0,\"\",'Input - Lighting Controls Only'!D14),'Input - Retrofit Lighting'!D14)","v":""},null,null,null,"Email",{"$f":"IF('Input - Retrofit Lighting'!G14=0,IF('Input - Lighting Controls Only'!G14=0,\"\",'Input - Lighting Controls Only'!G14),'Input - Retrofit Lighting'!G14)","v":""}]
[]
[]
[null,"Lighting Measures and Incentives"]
[null,"Retrofit Lighting Measure Summary"]
[null,null,"Measure Code","Proposed Measure",null,null,"Wattage Reduction Percentage","Total Quantity","Incentive / Unit"]
[null,"Lamp and Ballast Retrofits",101,"Relamp/Reballast T12 or\nStandard T8 with HPT8 or\nReduced Wattage T8",null,null,{"$f":"Validation!H21","v":0},{"$f":"IFERROR(SUMIF('Input - Retrofit Lighting'!$G$25:$G$224,'Measure Code Summary'!$C20,'Input - Retrofit Lighting'!$AA$25:$AA$224),\"\")","v":0},{"$f":"Validation!$E$1","v":0.35}]
[]
[null,"New Fluorescent Fixtures",102,"Replace T12, Standard T8, Incandescent or Low-Wattage HID fixture with HPT8, RWT8 or T5/T5HO fixture",null,null,{"$f":"Validation!H22","v":0},{"$f":"IFERROR(SUMIF('Input - Retrofit Lighting'!$G$25:$G$224,'Measure Code Summary'!$C22,'Input - Retrofit Lighting'!$AA$25:$AA$224),\"\")","v":0},{"$f":"Validation!$E$1","v":0.35}]
[]
[null,"New High Bay Fluorescent Fixtures",103,"Replace HID High Bay or 8’ T12 fixtures with HPT8 or T5HO fixtures",null,null,{"$f":"Validation!H23","v":0},{"$f":"IFERROR(SUMIF('Input - Retrofit Lighting'!$G$25:$G$224,'Measure Code Summary'!$C24,'Input - Retrofit Lighting'!$AA$25:$AA$224),\"\")","v":0},{"$f":"Validation!$E$1","v":0.35}]
[]
[null,"CFL Downlight Fixtures",104,"Replace Incandescent or HID with Hardwired CFL Downlight, Surface, Pendant, or Wallpack",null,null,{"$f":"Validation!H24","v":0},{"$f":"IFERROR(SUMIF('Input - Retrofit Lighting'!$G$25:$G$224,'Measure Code Summary'!$C26,'Input - Retrofit Lighting'!$AA$25:$AA$224),\"\")","v":0},{"$f":"Validation!$E$1","v":0.35}]
[]
[null,"LED Screw-in Replacement Lamps",105,"Screw-in integral LED replacement lamps",null,null,{"$f":"Validation!H25","v":0},{"$f":"IFERROR(SUMIF('Input - Retrofit Lighting'!$G$25:$G$224,'Measure Code Summary'!$C28,'Input - Retrofit Lighting'!$AA$25:$AA$224),\"\")","v":0},{"$f":"Validation!$E$1","v":0.35}]
[]
[null,"LED pin-based Replacement Lamp",106,"Pin-based integral LED replacement lamps",null,null,{"$f":"Validation!H26","v":0},{"$f":"IFERROR(SUMIF('Input - Retrofit Lighting'!$G$25:$G$224,'Measure Code Summary'!$C30,'Input - Retrofit Lighting'!$AA$25:$AA$224),\"\")","v":0},{"$f":"Validation!$E$1","v":0.35}]
[]
[null,"Linear LED lamps replacing T8 or T12",107,"Interior lamp replacements with TLEDs in Troffer or Panel fixtures replacing linear fluorescent T8 or T12 lamps",null,null,{"$f":"Validation!H27","v":0},{"$f":"IFERROR(SUMIF('Input - Retrofit Lighting'!$G$25:$G$224,'Measure Code Summary'!$C32,'Input - Retrofit Lighting'!$AA$25:$AA$224),\"\")","v":0},{"$f":"Validation!$E$1","v":0.35}]
[]
[null,"LED Downlight or Pendant Fixture",108,"Pendant, or track downlight fixtures replacing incandescent, halogen, or hardwired compact fluorescent fixtures",null,null,{"$f":"Validation!H28","v":0},{"$f":"IFERROR(SUMIF('Input - Retrofit Lighting'!$G$25:$G$224,'Measure Code Summary'!$C34,'Input - Retrofit Lighting'!$AA$25:$AA$224),\"\")","v":0},{"$f":"Validation!$E$1","v":0.35}]
[]
[null,"LED Troffer or Panel Fixture",109,"Interior LED Troffer, Panel fixtures, linear ambient fixtures or retrofit kits replacing linear fluorescent fixtures",null,null,{"$f":"Validation!H29","v":0},{"$f":"IFERROR(SUMIF('Input - Retrofit Lighting'!$G$25:$G$224,'Measure Code Summary'!$C36,'Input - Retrofit Lighting'!$AA$25:$AA$224),\"\")","v":0},{"$f":"Validation!$E$1","v":0.35}]
[null,"."]
[null,"LED High Bays",110,"Replace HID High Bay or T12 fixtures with LED high bays",null,null,{"$f":"Validation!H30","v":0},{"$f":"IFERROR(SUMIF('Input - Retrofit Lighting'!$G$25:$G$224,'Measure Code Summary'!$C38,'Input - Retrofit Lighting'!$AA$25:$AA$224),\"\")","v":0},{"$f":"Validation!$E$1","v":0.35}]
[]
[null,"LED Exterior Fixtures",111,"Exterior parking garage, canopy, parking lot, area and flood LED fixtures replacing HID or fluorescent fixtures  ",null,null,{"$f":"Validation!H31","v":0},{"$f":"IFERROR(SUMIF('Input - Retrofit Lighting'!$G$25:$G$224,'Measure Code Summary'!$C40,'Input - Retrofit Lighting'!$AA$25:$AA$224),\"\")","v":0},{"$f":"Validation!$E$1","v":0.35}]
[]
[null,"Retrofit Lighting Incentive Calculation"]
[null,"Note: Total installed wattage for retrofit fixtures must be reduced a minimum of 10% for an incentive to be paid.",null,"Pre Retrofit Total Wattage","After Retrofit Total Wattage","Watts Reduced","Percentage Reduced ","Total Quantity","Incentive / Unit","Retrofit Lighting Incentive"]
[null,null,null,{"$f":"Validation!E32","v":0},{"$f":"Validation!F32","v":0},{"$f":"Validation!G32","v":0},{"$f":"Validation!H32","v":0},{"$f":"SUM(H20,H22,H24,H26,H28,H30,H32,H34,H36,H38,H40)","v":0},{"$f":"Validation!$E$1","v":0.35},{"$f":"IF(G44<0.1,0,'Measure Code Summary'!F44*'Measure Code Summary'!I44)","v":0}]
[]
[null,null,"Measure Code","Proposed Measure",null,null,"Minimum Wattage Reduction","Total Quantity","Incentive / Unit","Exit Sign Incentive"]
[null,"LED Exit Signs","90C","Replace Existing Exit Sign with LED Exit Sign",null,null,10,{"$f":"IFERROR(SUMIF('Input - Retrofit Lighting'!$G$25:$G$224,'Measure Code Summary'!$C47,'Input - Retrofit Lighting'!$AA$25:$AA$224),0)","v":0},10,{"$f":"I47*H47","v":0}]
[]
[null,null,"Measure Code","Proposed Measure",null,null,"Minnimum Watts that Must be Controlled","Total Quantity","Incentive / Unit","Lighting Control Incentive"]
[null,"Lighting Controls","80A","Occupancy Control: Wall Switch Replacement",null,null,40,{"$f":"SUMIF('Input - Retrofit Lighting'!$U$25:$U$224,'Measure Code Summary'!$C50,'Input - Retrofit Lighting'!$AB$25:$AB$224)+SUMIF('Input - Lighting Controls Only'!$F$24:$F$223,'Measure Code Summary'!$C50,'Input - Lighting Controls Only'!$R$24:$R$223)","v":0},15,{"$f":"I50*H50","v":0}]
[null,null,"80B","Occupancy Control: Ceiling / Wall Mount",null,null,119,{"$f":"SUMIF('Input - Retrofit Lighting'!$U$25:$U$224,'Measure Code Summary'!$C51,'Input - Retrofit Lighting'!$AB$25:$AB$224)+SUMIF('Input - Lighting Controls Only'!$F$24:$F$223,'Measure Code Summary'!$C51,'Input - Lighting Controls Only'!$R$24:$R$223)","v":0},35,{"$f":"I51*H51","v":0}]
[null,null,"80C","Occupancy Control: \nFixture Mounted/High Bay",null,null,40,{"$f":"SUMIF('Input - Retrofit Lighting'!$U$25:$U$224,'Measure Code Summary'!$C52,'Input - Retrofit Lighting'!$AB$25:$AB$224)+SUMIF('Input - Lighting Controls Only'!$F$24:$F$223,'Measure Code Summary'!$C52,'Input - Lighting Controls Only'!$R$24:$R$223)","v":0},15,{"$f":"I52*H52","v":0}]
[null,null,"80E","Daylight Control/Harvesting (On/Off)",null,null,119,{"$f":"SUMIF('Input - Retrofit Lighting'!$U$25:$U$224,'Measure Code Summary'!$C53,'Input - Retrofit Lighting'!$AB$25:$AB$224)+SUMIF('Input - Lighting Controls Only'!$F$24:$F$223,'Measure Code Summary'!$C53,'Input - Lighting Controls Only'!$R$24:$R$223)","v":0},35,{"$f":"I53*H53","v":0}]
[null,"Note: Maximum incentive will be capped at 50% of the Total Project Cost provided on the \"Input - Retrofit Lighting\" tab.",null,null,null,{"$f":"IF('Input - Retrofit Lighting'!D17=\"\",\"Total Project Cost input needed on Input - Retrofit Lighting tab\",IF(J54<SUM(J50:J53,J47,J44),\"Incentive is capped at 50% of Total Project Cost\",\"\"))","v":"Total Project Cost input needed on Input - Retrofit Lighting tab"},null,null,"Total Preapproved Incentive",{"$f":"IF('Input - Retrofit Lighting'!D17=\"\",\"\",IF(SUM(J50:J53,J47,J44)>0.5*'Input - Retrofit Lighting'!D17,0.5*'Input - Retrofit Lighting'!D17,SUM(J50:J53,J47,J44)))","v":""}]

{"sheet":"Device Code Reference","index":12,"n_rows":46,"n_cols":12,"rows_kept":46,"cut":false,"hidden":false,"merged":[[3,1,3,11],[1,1,1,11],[2,1,2,11]]}
[]
[]
[null,"Device Codes"]
[null,"(NO INPUT NEEDED - FOR REFERENCE ONLY)"]
[]
[null,"Fixture Code Legend and Notes",null,null,null,null,null,"Fixture Code Legend and Notes"]
[null,"Sample Linear Fluorescent Fixture Code",null,null,null,null,null,"Sample of Other Fixture Code:"]
[null,null,null,"OUTPUT",null,null,null,null,null,"               FIXTURE TYPE"]
[null,null,null,"High Ouput",null,null,null,null,null,"     Compact Fluorescent"]
[null,null,null,null,"LAMP TYPE",null,null,null,null,"                  "]
[null,"NUMBER OF LAMPS",null,null,"Energy Saving",null,null,null,null,null,null,"BALLAST TYPE"]
[null,"4 lamps",null,null,null,null,null,"NUMBER OF LAMPS",null,"1C2D16E",null,"Electronic Ballast"]
[null,null," 4F96HEM  ",null,null,null,null,"1 Lamp Fixture"]
[null,null,null,null,"BALLAST TYPE"]
[null,"FIXTURE TYPE",null,null,"Magnetic Ballast",null,null,null,null,null,"NOMINAL LAMP WATTAGE"]
[null,"Linear ",null,"NOMINAL WATTS OR ",null,null,null,"SPECIAL DESIGNATIONS",null,null,"16 Watts"]
[null,"Fluoresecent",null,"LAMP LENGTH",null,null,null,"OR LAMP WATTAGE"]
[null,null,null,"96 Inches",null,null,null,"2D lamp shape"]
[]
[null,"Code Explanations"]
[null,"Fixture Type",null,null,null,null,null,"Ballast Type"]
[null,"C","Compact Fluorescent",null,null,null,null,"For All Fluorescent Fixtures"]
[null,"D","Double Tandem Wired Fluorescent",null,null,null,null,"E","Electronic"]
[null,"E","LED Exit Signs",null,null,null,null,"S","Standard magnetic"]
[null,"F","Linear Flourescent",null,null,null,null,"L","Low Ballast Factor"]
[null,"HPS","High Pressure Sodium",null,null,null,null,"M","Energy-Efficient Magnetic"]
[null,"I","Incandescent",null,null,null,null,"H","High Ballast Factor"]
[null,"LPS","Low Pressure Sodium"]
[null,"MH","Metal Halide",null,null,null,null,"For HID Fixtures "]
[null,"MV","Mercury Vapor",null,null,null,null,"Metal Halide, Pulse Start, High & Low Pressure Sodium"]
[null,"PS","Pulse Start Metal Halide",null,null,null,null,"S","Standard Magnetic"]
[null,"R  ","Low Voltage Halogen",null,null,null,null,"E","Electronic"]
[null,"T","Halogen/Quartz Lamps",null,null,null,null,"P","Pulse Start CWA Ballast"]
[null,"W","Tandem Wired Fluorescent",null,null,null,null,"R","Pulse Start Linear Ballast"]
[]
[null,"Lamp Type",null,null,null,null,null,"Output"]
[null,"E","Energy-Efficient",null,null,null,null,"S","Standard Output"]
[null,"S","Standard",null,null,null,null,"H","High Output"]
[null,"BX","Biax (long compact fluorescent)",null,null,null,null,"V","Very High Hight Output"]
[null,"H","High Lumen Output (High Performance T8)",null,null,null,null,"T","Five Foot Standard Output"]
[]
[null,"Notes:"]
[null,"1) The column labeled Watts/Fixtures in the data table includes ballast loads."]
[null,"2) The fixture wattage values represent an average value, rounded to the nearest whole watt."]
[]
[null,null,null,null,null,null,null,null,null,null,null,{"$f":"\"Version # \"&'Version Tracking'!C4","v":"Version # 10.2"}]

{"sheet":"Wattage Table","index":13,"n_rows":1230,"n_cols":9,"rows_kept":1230,"cut":false,"hidden":false,"merged":[[3,1,3,5],[6,1,6,3],[4,1,4,5],[5,2,5,3]]}
[]
[]
[]
[null,"Lighting System Rated Wattage Table"]
[null,"(NO INPUT NEEDED - FOR REFERENCE ONLY)"]
[]
[null,"Device Description Abbreviations"]
[null," BX  "," Biax/Twin Tube Lamp  "]
[null," HW  "," Hard Wire Fixture  "]
[null," EEMAG  "," Energy-Efficient Magnetic  "]
[null," EE  "," Energy-Efficient Lamp  "]
[null," ELIG  "," Electronic Ballast  "]
[null," HBF"," High Ballast Factor"]
[null," HPF  "," High Power Factor  "]
[null," HO  "," High Output Lamp  "]
[null," LBF"," Low Ballast Factor"]
[null," STD  "," Standard Ballast or Lamp  "]
[null," VHO  "," Very High Output Lamp  "]
[]
[null,"Measure Codes","System Category","Device Code","Device Description","Rated\nWatts","Lookup for Baseline based on Device Type","Fluorescent Length"]
[null,"101 Proposed","Four Foot Fluorescent T8 Systems","1F32SSE"," 1L4' T8/ELIG  ",28,"Linear Fluorescent","L4'",{"$f":"IF(B21=\"\",I20,B21)","v":"101 Proposed"}]
[null,"101 Proposed","Four Foot Fluorescent T8 Systems","1F32SHH","1L4' T8/ELIG HIGH LUMEN HBF",30,"Linear Fluorescent","L4'","101 Proposed"]
[null,"101 Proposed","Four Foot Fluorescent T8 Systems","1F32SHL"," 1L4 T8/ELIG HIGH LUMEN LBF  ",26,"Linear Fluorescent","L4 ","101 Proposed"]
[null,"101 Proposed","Four Foot Fluorescent T8 Systems","2F32SSE"," 2L4' T8/ELIG  ",55,"Linear Fluorescent","L4'","101 Proposed"]
[null,"101 Proposed","Four Foot Fluorescent T8 Systems","2F32SHH"," 2L4' T8/ELIG HIGH LUMEN HBF  ",78,"Linear Fluorescent","L4'","101 Proposed"]
[null,"101 Proposed","Four Foot Fluorescent T8 Systems","2F32SHL"," 2L4 T8/ELIG HIGH LUMEN LBF  ",52,"Linear Fluorescent","L4 ","101 Proposed"]
[null,"101 Proposed","Four Foot Fluorescent T8 Systems","3F32SSE"," 3L4' T8/ELIG  ",82]
[null,"101 Proposed","Four Foot Fluorescent T8 Systems","3F32SHH"," 3L4' T8/ELIG HIGH LUMEN HBF  ",112]
[null,"101 Proposed","Four Foot Fluorescent T8 Systems","3F32SHL"," 3L4 T8/ELIG HIGH LUMEN LBF  ",76]
[null,"101 Proposed","Four Foot Fluorescent T8 Systems","4F32SSE"," 4L4' T8/ELIG  ",108]
[null,"101 Proposed","Four Foot Fluorescent T8 Systems","4F32SHH"," 4L4' T8/ELIG HIGH LUMEN HBF ",153]
[null,"101 Proposed","Four Foot Fluorescent T8 Systems","4F32SHL"," 4L4 T8/ELIG HIGH LUMEN LBF",98]
[null,"101 Proposed","T8 Reduced Wattage","1F25EEH"," 1L4' 25W T8EE/EELE HBF  ",30]
[null,"101 Proposed","T8 Reduced Wattage","1F25EEE"," 1L4' 25W T8EE/ELEE  ",22]
[null,"101 Proposed","T8 Reduced Wattage","1F25EEL"," 1L4' 25W T8EE/ELEE LBF ",20]
[null,"101 Proposed","T8 Reduced Wattage","2F25EEH"," 2L4' 25WT8EE/EELE HBF ",57]
[null,"101 Proposed","T8 Reduced Wattage","2F25EEE"," 2L4' 25W T8EE/ELEE  ",43]
[null,"101 Proposed","T8 Reduced Wattage","2F25EEL"," 2L4' 25W T8EE/ELEE LBF ",37]
[null,"101 Proposed","T8 Reduced Wattage","1F28EEH"," 1L4' 28W T8EE/EELE HBF  ",33]
[null,"101 Proposed","T8 Reduced Wattage","1F28EEE"," 1L4' 28W T8EE/ELEE  ",24]
[null,"101 Proposed","T8 Reduced Wattage","1F28EEL"," 1L4' 28W T8EE/ELEE LBF ",22]
[null,"101 Proposed","T8 Reduced Wattage","2F28EEH"," 2L4' 28WT8EE/EELE HBF  ",65]
[null,"101 Proposed","T8 Reduced Wattage","2F28EEE"," 2L4' 28W T8EE/ELEE  ",49]
[null,"101 Proposed","T8 Reduced Wattage","2F28EEL"," 2L4' 28W T8EE/ELEE LBF ",42]
[null,"101 Proposed","T8 Reduced Wattage","3F25EEH"," 3L4' 25W T8EE/EELE HBF  ",86]
[null,"101 Proposed","T8 Reduced Wattage","3F25EEE"," 3L4' 25W T8EE/ELEE  ",66]
[null,"101 Proposed","T8 Reduced Wattage","3F25EEL"," 3L4' 25W T8EE/ELEE LBF  ",57]
[null,"101 Proposed","T8 Reduced Wattage","4F25EEH"," 4L4' 25W T8EE/EELE HBF ",112]
[null,"101 Proposed","T8 Reduced Wattage","4F25EEE"," 4L4' 25W T8EE/ELEE  ",86]
[null,"101 Proposed","T8 Reduced Wattage","4F25EEL"," 4L4' 25W T8EE/ELEE LBF ",75]
[null,"101 Proposed","T8 Reduced Wattage","3F28EEH"," 3L4' 28W T8EE/EELE HBF  ",100]
[null,"101 Proposed","T8 Reduced Wattage","3F28EEE"," 3L4' 28W T8EE/ELEE  ",73]
[null,"101 Proposed","T8 Reduced Wattage","3F28EEL"," 3L4' 28W T8EE/ELEE LBF",64]
[null,"101 Proposed","T8 Reduced Wattage","4F28EEH"," 4L4' 28W T8EE/EELE HBF  ",126]
[null,"101 Proposed","T8 Reduced Wattage","4F28EEE"," 4L4' 28W T8EE/ELEE  ",94]
[null,"101 Proposed","T8 Reduced Wattage","4F28EEL"," 4L4' 28W T8EE/ELEE LBF",83]
[null,"101 Proposed","Three Foot Fluorescent Systems","1F25SSE"," 1L3'T8/ELIG  ",24]
[null,"101 Proposed","Three Foot Fluorescent Systems","2F25SSE"," 2L3' T8/ELIG  ",47]
[null,"101 Proposed","Three Foot Fluorescent Systems","3F25SSE"," 3L3'T8/ELIG  ",68,"Linear Fluorescent","L4'",{"$f":"IF(B39=\"\",I26,B39)","v":"101 Proposed"}]
[null,"101 Proposed","Three Foot Fluorescent Systems","4F25SSE"," 4L3' T8/ELIG  ",88,"Linear Fluorescent","L4'",{"$f":"IF(B40=\"\",I59,B40)","v":"101 Proposed"}]
[null,"101 Proposed","Two Foot Fluorescent Systems","1F17SSE"," 1L2'T8/ELIG  ",17,"Linear Fluorescent","L4 ",{"$f":"IF(B41=\"\",I60,B41)","v":"101 Proposed"}]
[null,"101 Proposed","Two Foot Fluorescent Systems","1F17SSL"," 1L2'T8/ELIG   LBF",14,"Linear Fluorescent","L4'",{"$f":"IF(B42=\"\",I61,B42)","v":"101 Proposed"}]
[null,"101 Proposed","Two Foot Fluorescent Systems","2F17SSE"," 2L2' T8/ELIG  ",37,"Linear Fluorescent","L4'",{"$f":"IF(B43=\"\",I62,B43)","v":"101 Proposed"}]
[null,"101 Proposed","Two Foot Fluorescent Systems","2F17SSL"," 2L2' T8/ELIG LBF  ",27,"Linear Fluorescent","L4 ",{"$f":"IF(B44=\"\",I63,B44)","v":"101 Proposed"}]
[null,"101 Proposed","Two Foot Fluorescent Systems","3F17SSE"," 3L2' T8/ELIG  ",53,"Linear Fluorescent","L4'",{"$f":"IF(#REF!=\"\",I64,#REF!)","v":{"$error":"#REF!"}}]
[null,"101 Proposed","Two Foot Fluorescent Systems","3F17SSL"," 3L2' T8/ELIG LBF  ",39,"Linear Fluorescent","L4'",{"$f":"IF(#REF!=\"\",I65,#REF!)","v":{"$error":"#REF!"}}]
[null,"101 Proposed","Two Foot Fluorescent Systems","4F17SSE"," 4L2' T8/ELIG  ",62,"Linear Fluorescent","L4'",{"$f":"IF(#REF!=\"\",I66,#REF!)","v":{"$error":"#REF!"}}]
[null,"101 Proposed","Two Foot Fluorescent Systems","4F17SSL"," 4L2' T8/ELIG  LBF",53,"Linear Fluorescent","L4'",{"$f":"IF(#REF!=\"\",I67,#REF!)","v":{"$error":"#REF!"}}]
[null,"101 Proposed","Two Foot Fluorescent Systems","2F17SSH","1L2' T8/ELIG HBF",39]
[null,"101 Proposed","Three Foot Fluorescent Systems","2F25SSE"," 2L3' T8/ELIG  ",47]
[null,"101 Proposed","Three Foot Fluorescent Systems","3F25SSE"," 3L3'T8/ELIG  ",68]
[null,"101 Proposed","Three Foot Fluorescent Systems","4F25SSE"," 4L3' T8/ELIG  ",88]
[null,"101 Proposed","Two Foot Fluorescent Systems","1F17SSE"," 1L2'T8/ELIG  ",17]
[null,"101 Proposed","Two Foot Fluorescent Systems","1F17SSL"," 1L2'T8/ELIG   LBF",14]
[null,"101 Proposed","Two Foot Fluorescent Systems","2F17SSE"," 2L2' T8/ELIG  ",37]
[null,"101 Proposed","Two Foot Fluorescent Systems","2F17SSL"," 2L2' T8/ELIG LBF  ",27]
[null,"101 Proposed","Two Foot Fluorescent Systems","3F17SSE"," 3L2' T8/ELIG  ",53]
[null,"101 Proposed","Two Foot Fluorescent Systems","3F17SSL"," 3L2' T8/ELIG LBF  ",39]
[null,"101 Proposed","Two Foot Fluorescent Systems","4F17SSE"," 4L2' T8/ELIG  ",62]
[null,"101 Proposed","Two Foot Fluorescent Systems","4F17SSL"," 4L2' T8/ELIG  LBF",53]
[null,"101 Proposed","Two Foot Fluorescent Systems","2F17SSE"," 2L2' T8/ELIG  ",30]
[null,"101 Proposed","Two Foot Fluorescent Systems","2F17SSH","1L2' T8/ELIG HBF",39]
[null,"101 Proposed","Two Foot Fluorescent Systems","2F17SSL"," 2L2' T8/ELIG LBF  ",27]
[null,"101 Existing","Four Foot Fluorescent T12 Systems","1F34SSS"," 1L4' EE/STD  ",41,"Linear Fluorescent","L4'",{"$f":"IF(B84=\"\",#REF!,B84)","v":"101 Existing"}]
[null,"101 Existing","Four Foot Fluorescent T12 Systems","2F34SSS"," 2L4' EE/STD  ",74]
[null,"101 Existing","Four Foot Fluorescent T12 Systems","1F34SSE"," 1L4' EE/Elect  ",32]
[null,"101 Existing","Four Foot Fluorescent T12 Systems","2F34SSE"," 2L4' EE/Elect  ",60,"Linear Fluorescent","L4'",{"$f":"IF(B87=\"\",I84,B87)","v":"101 Existing"}]
[null,"101 Existing","Four Foot Fluorescent T12 Systems","3F34SSS"," 3L4' EE/STD  ",115,"Linear Fluorescent","L4'",{"$f":"IF(B88=\"\",I87,B88)","v":"101 Existing"}]
[null,"101 Existing","Four Foot Fluorescent T12 Systems","4F34SSS","4L4' EE/STD  ",148,"Linear Fluorescent","L4'","101 Existing"]
[null,"101 Existing","Four Foot Fluorescent T12 Systems","3F34SSE"," 3L4' EE/Elect  ",92,"Linear Fluorescent","L4'","101 Existing"]
[null,"101 Existing","Four Foot Fluorescent T12 Systems","4F34SSE","4L4' EE/Elect  ",120,"Linear Fluorescent","L3'","101 Existing"]
[null,"101 Existing","Four Foot Fluorescent T8 Systems","1F32SSS"," 1L4' EE/STD  ",30,"Linear Fluorescent","L3'","101 Existing"]
[null,"101 Existing","Four Foot Fluorescent T8 Systems","2F32SSS"," 2L4' EE/STD  ",60,"Linear Fluorescent","L3'","101 Existing"]
[null,"101 Existing","Four Foot Fluorescent T8 Systems","3F32SSS"," 3L4' EE/STD  ",88,"Linear Fluorescent","L3'","101 Existing"]
[null,"101 Existing","Four Foot Fluorescent T8 Systems","4F32SSS","4L4' EE/STD  ",112,"Linear Fluorescent","L3'","101 Existing"]
[null,"101 Existing","Three Foot Fluorescent Systems","1F30SEM"," 1L3' EE/EEMAG  ",38,"Linear Fluorescent","L3'","101 Existing"]
[null,"101 Existing","Three Foot Fluorescent Systems","1F30SES"," 1L3' EE/STD  ",42,"Linear Fluorescent","L3'","101 Existing"]
[null,"101 Existing","Three Foot Fluorescent Systems","1F30SSS"," 1L3' STD/STD  ",46,"Linear Fluorescent","L3'","101 Existing"]
[null,"101 Existing","Three Foot Fluorescent Systems","2F30SEE"," 2L3' EE/ELIG  ",49]
[null,"101 Existing","Three Foot Fluorescent Systems","2F30SEM"," 2L3' EE/EEMAG  ",66]
[null,"101 Existing","Three Foot Fluorescent Systems","2F30SES"," 2L3' EE/STD  ",73]
[null,"101 Existing","Three Foot Fluorescent Systems","2F30SSS"," 2L3' STD/STD  ",80]
[null,"101 Existing","Three Foot Fluorescent Systems","3F30SES"," 3L3' EE/STD  ",127,"Linear Fluorescent","L3'",{"$f":"IF(B103=\"\",I98,B103)","v":"101 Existing"}]
[null,"101 Existing","Three Foot Fluorescent Systems","3F30SSS"," 3L3' STD/STD  ",140,"Linear Fluorescent","L2'",{"$f":"IF(B104=\"\",I103,B104)","v":"101 Existing"}]
[null,"101 Existing","Three Foot Fluorescent Systems","4F30SEE"," 4L3' EE/ELIG  ",98,"Linear Fluorescent","L2'",{"$f":"IF(B105=\"\",I104,B105)","v":"101 Existing"}]
[null,"101 Existing","Three Foot Fluorescent Systems","4F30SEM"," 4L3' EE/EEMAG  ",132,"Linear Fluorescent","L2'",{"$f":"IF(B106=\"\",I105,B106)","v":"101 Existing"}]
[null,"101 Existing","Three Foot Fluorescent Systems","4F30SES"," 4L3' EE/STD  ",146,"Linear Fluorescent","L2'",{"$f":"IF(B107=\"\",I106,B107)","v":"101 Existing"}]
[null,"101 Existing","Three Foot Fluorescent Systems","4F30SSS"," 4L3' STD/STD  ",160,"Linear Fluorescent","L8'",{"$f":"IF(B108=\"\",#REF!,B108)","v":"101 Existing"}]
[null,"101 Existing","Two Foot Fluorescent Systems","1F20SSS"," F20T12/HPF(1)  ",32,"Linear Fluorescent","L8'",{"$f":"IF(B109=\"\",I108,B109)","v":"101 Existing"}]
[null,"101 Existing","Two Foot Fluorescent Systems","2F20SSS"," F20T12/HPF(2)  ",56,"Linear Fluorescent","L8'",{"$f":"IF(B110=\"\",I109,B110)","v":"101 Existing"}]
[null,"101 Existing","Two Foot Fluorescent Systems","3F20SSS"," F20T12/HPF(3)  ",78,"Linear Fluorescent","L8'",{"$f":"IF(B111=\"\",I110,B111)","v":"101 Existing"}]
[null,"101 Existing","Two Foot Fluorescent Systems","4F20SSS"," F20T12/HPF(4)  ",104,"Linear Fluorescent","L8'",{"$f":"IF(B112=\"\",I111,B112)","v":"101 Existing"}]
[null,"102 Proposed","Four Foot Fluorescent T8 Systems","1F32SSE"," 1L4' T8/ELIG  ",28,"Linear Fluorescent","L4'",{"$f":"IF(B113=\"\",#REF!,B113)","v":"102 Proposed"}]
[null,null,"Four Foot Fluorescent T8 Systems","1F32SHH","1L4' T8/ELIG HIGH LUMEN HBF",30,"Linear Fluorescent","L4'",{"$f":"IF(B114=\"\",I113,B114)","v":"102 Proposed"}]
[null,null,"Four Foot Fluorescent T8 Systems","1F32SHL"," 1L4 T8/ELIG HIGH LUMEN LBF  ",26,"Linear Fluorescent","L4 ","102 Proposed"]
[null,null,"Four Foot Fluorescent T8 Systems","2F32SSE"," 2L4' T8/ELIG  ",55,"Linear Fluorescent","L4'","102 Proposed"]
[null,null,"Four Foot Fluorescent T8 Systems","2F32SHH"," 2L4' T8/ELIG HIGH LUMEN HBF  ",78,"Linear Fluorescent","L4'","102 Proposed"]
[null,null,"Four Foot Fluorescent T8 Systems","2F32SHL"," 2L4 T8/ELIG HIGH LUMEN LBF  ",52,"Linear Fluorescent","L4 ","102 Proposed"]
[null,null,"Four Foot Fluorescent T8 Systems","3F32SSE"," 3L4' T8/ELIG  ",82,"Linear Fluorescent","L4'","102 Proposed"]
[null,null,"Four Foot Fluorescent T8 Systems","3F32SHH"," 3L4' T8/ELIG HIGH LUMEN HBF  ",112,"Linear Fluorescent","L4'","102 Proposed"]
[null,null,"Four Foot Fluorescent T8 Systems","3F32SHL"," 3L4 T8/ELIG HIGH LUMEN LBF  ",76,"Linear Fluorescent","L4'","102 Proposed"]
[null,null,"Four Foot Fluorescent T8 Systems","4F32SSE"," 4L4' T8/ELIG  ",108,"Linear Fluorescent","L4'","102 Proposed"]
[null,null,"Four Foot Fluorescent T8 Systems","4F32SHH"," 4L4' T8/ELIG HIGH LUMEN HBF ",153,"Linear Fluorescent","L4'","102 Proposed"]
[null,null,"Four Foot Fluorescent T8 Systems","4F32SHL"," 4L4 T8/ELIG HIGH LUMEN LBF",98,"Linear Fluorescent","L4'","102 Proposed"]
[null,null,"Four Foot Fluorescent T8 Systems","1F32SSE"," 1L4' T8/ELIG  ",28,"Linear Fluorescent","L4'","102 Proposed"]
[null,null,"T5 Reduce Wattage HO Systems","1F49HSE","1L4' T5 HO/ELIG  ",49,"Linear Fluorescent","L4'",{"$f":"IF(B126=\"\",#REF!,B126)","v":{"$error":"#REF!"}}]
[null,null,"T5 Reduce Wattage HO Systems","2F49HSE ","2L4' T5 HO/ELIG  ",107,"Linear Fluorescent","L4'",{"$error":"#REF!"}]
[null,null,"T5 Reduce Wattage HO Systems","3F49HSE  ","3L4' T5 HO/ELIG  ",162,"Linear Fluorescent","L4'",{"$error":"#REF!"}]
[null,null,"T5 Reduce Wattage HO Systems","4F49HSE  ","4L4' 49W T5 HO",214]
[null,null,"T5 Systems","1F28SSE"," 1L4' T5/ELIG  ",32]
[null,null,"T5 Systems","2F28SSE"," 2L4' T5/ELIG  ",63,"T5HO Systems","L4'",{"$f":"IF(B131=\"\",I128,B131)","v":{"$error":"#REF!"}}]
[null,null,"T5 Systems","1F21SSE"," 1L3' T5/ELIG  ",27,"T5HO Systems","L4'",{"$f":"IF(B132=\"\",I131,B132)","v":{"$error":"#REF!"}}]
[null,null,"T5 Systems","2F21SSE"," 2L3' T5/ELIG  ",52,"Linear Fluorescent","L4'",{"$error":"#REF!"}]
[null,null,"T5HO Systems","1F54HSE"," 1L4' T5 HO/ELIG  ",59,"Linear Fluorescent","L4'",{"$error":"#REF!"}]
[null,null,"T5HO Systems","2F54HSE"," 2L4' T5 HO/ELIG  ",117,"Linear Fluorescent","L4 ",{"$error":"#REF!"}]
[null,null,"T5HO Systems","3F54HSE"," 3L4' T5 HO/ELIG  ",177,"Linear Fluorescent","L4'",{"$error":"#REF!"}]
[null,null,"T5HO Systems","4F54HSE"," 4L 54W T5 HO  ",234,"Linear Fluorescent","L4'",{"$error":"#REF!"}]
[null,null,"T5HO Systems","1F39HSE"," 1L3' T5 HO/ELIG  ",43,"Linear Fluorescent","L4 ",{"$error":"#REF!"}]
[null,null,"T5HO Systems","2F39HSE"," 2L3' T5 HO/ELIG  ",85,"Linear Fluorescent","L4'",{"$error":"#REF!"}]
[null,null,"T8 Reduced Wattage","1F25EEH"," 1L4' 25W T8EE/EELE HBF  ",30,"Linear Fluorescent","L4'",{"$error":"#REF!"}]
[null,null,"T8 Reduced Wattage","1F25EEE"," 1L4' 25W T8EE/ELEE  ",22,"Linear Fluorescent","L4'",{"$error":"#REF!"}]
[null,null,"T8 Reduced Wattage","1F25EEL"," 1L4' 25W T8EE/ELEE LBF ",20,"Linear Fluorescent","L4'",{"$error":"#REF!"}]
[null,null,"T8 Reduced Wattage","2F25EEH"," 2L4' 25WT8EE/EELE HBF ",57,"Linear Fluorescent","L4'",{"$error":"#REF!"}]
[null,null,"T8 Reduced Wattage","2F25EEE"," 2L4' 25W T8EE/ELEE  ",43,"Linear Fluorescent","L4'",{"$error":"#REF!"}]
[null,null,"T8 Reduced Wattage","2F25EEL"," 2L4' 25W T8EE/ELEE LBF ",37,"Linear Fluorescent","L4'",{"$error":"#REF!"}]
[null,null,"T8 Reduced Wattage","1F28EEH"," 1L4' 28W T8EE/EELE HBF  ",33,"Linear Fluorescent","L4'",{"$error":"#REF!"}]
[null,null,"T8 Reduced Wattage","1F28EEE"," 1L4' 28W T8EE/ELEE  ",24,"Linear Fluorescent","L4'",{"$error":"#REF!"}]
[null,null,"T8 Reduced Wattage","1F28EEL"," 1L4' 28W T8EE/ELEE LBF ",22,"Linear Fluorescent","L4'",{"$error":"#REF!"}]
[null,null,"T8 Reduced Wattage","2F28EEH"," 2L4' 28WT8EE/EELE HBF  ",65,"Linear Fluorescent","L4'",{"$error":"#REF!"}]
[null,null,"T8 Reduced Wattage","2F28EEE"," 2L4' 28W T8EE/ELEE  ",49,"Linear Fluorescent","L4'",{"$error":"#REF!"}]
[null,null,"T8 Reduced Wattage","2F28EEL"," 2L4' 28W T8EE/ELEE LBF ",42]
[null,null,"T8 Reduced Wattage","3F25EEH"," 3L4' 25W T8EE/EELE HBF  ",86]
[null,null,"T8 Reduced Wattage","3F25EEE"," 3L4' 25W T8EE/ELEE  ",66,"T5HO Systems","L4'",{"$f":"IF(B153=\"\",I150,B153)","v":{"$error":"#REF!"}}]
[null,null,"T8 Reduced Wattage","3F25EEL"," 3L4' 25W T8EE/ELEE LBF  ",57,"T5HO Systems","L4'",{"$f":"IF(B154=\"\",I153,B154)","v":{"$error":"#REF!"}}]
[null,null,"T8 Reduced Wattage","4F25EEH"," 4L4' 25W T8EE/EELE HBF ",112,"Linear Fluorescent","L3'",{"$error":"#REF!"}]
[null,null,"T8 Reduced Wattage","4F25EEE"," 4L4' 25W T8EE/ELEE  ",86,"Linear Fluorescent","L3'",{"$error":"#REF!"}]
[null,null,"T8 Reduced Wattage","4F25EEL"," 4L4' 25W T8EE/ELEE LBF ",75,"Linear Fluorescent","L3'",{"$error":"#REF!"}]
[null,null,"T8 Reduced Wattage","3F28EEH"," 3L4' 28W T8EE/EELE HBF  ",100,"Linear Fluorescent","L3'",{"$error":"#REF!"}]
[null,null,"T8 Reduced Wattage","3F28EEE"," 3L4' 28W T8EE/ELEE  ",73,"Linear Fluorescent","L3'",{"$error":"#REF!"}]
[null,null,"T8 Reduced Wattage","3F28EEL"," 3L4' 28W T8EE/ELEE LBF",64,"Linear Fluorescent","L3'",{"$error":"#REF!"}]
[null,null,"T8 Reduced Wattage","4F28EEH"," 4L4' 28W T8EE/EELE HBF  ",126,"T5HO Systems","L3'",{"$error":"#REF!"}]
[null,null,"T8 Reduced Wattage","4F28EEE"," 4L4' 28W T8EE/ELEE  ",94,"T5HO Systems","L3'",{"$error":"#REF!"}]
[null,null,"T8 Reduced Wattage","4F28EEL"," 4L4' 28W T8EE/ELEE LBF",83,"Linear Fluorescent","L2'",{"$error":"#REF!"}]
[null,null,"Three Foot Fluorescent Systems","1F25SSE"," 1L3'T8/ELIG  ",24,"Linear Fluorescent","L2'",{"$error":"#REF!"}]
[null,null,"Three Foot Fluorescent Systems","2F25SSE"," 2L3' T8/ELIG  ",47,"Linear Fluorescent","L2'",{"$error":"#REF!"}]
[null,null,"Three Foot Fluorescent Systems","3F25SSE"," 3L3'T8/ELIG  ",68,"Linear Fluorescent","L2'",{"$error":"#REF!"}]
[null,null,"Three Foot Fluorescent Systems","4F25SSE"," 4L3' T8/ELIG  ",88,"Linear Fluorescent","L2'",{"$error":"#REF!"}]
[null,null,"Two Foot Fluorescent Systems","1F17SSE"," 1L2'T8/ELIG  ",17,"Linear Fluorescent","L2'",{"$error":"#REF!"}]
[null,null,"Two Foot Fluorescent Systems","2F17SSE"," 2L2' T8/ELIG  ",37]
[null,null,"Two Foot Fluorescent Systems","2F17SSL"," 2L2' T8/ELIG LBF  ",27]
[null,null,"Two Foot Fluorescent Systems","3F17SSE"," 3L2' T8/ELIG  ",53]
[null,null,"Two Foot Fluorescent Systems","3F17SSL"," 3L2' T8/ELIG LBF  ",39]
[null,null,"Two Foot Fluorescent Systems","4F17SSE"," 4L2' T8/ELIG  ",62]
[null,"102 Existing","Eight Foot T12 HO Systems","2F96HEM"," 2L8' HO/EE/EEMAG  ",207,"Linear Fluorescent","L4'",{"$f":"IF(B174=\"\",I168,B174)","v":"102 Existing"}]
[null,null,"Eight Foot T12 HO Systems","2F96HES"," 2L8' HO/EE/STD  ",227,"Linear Fluorescent","L4'",{"$f":"IF(B175=\"\",I174,B175)","v":"102 Existing"}]
[null,null,"Eight Foot T12 HO Systems","1F96HES","1L8' HO/EE/STD",125,"Linear Fluorescent","L4'","102 Existing"]
[null,null,"Eight Foot T12 Systems","2F96SEM"," 2L8' EE/EEMAG  ",123,"Linear Fluorescent","L4'","102 Existing"]
[null,null,"Eight Foot T12 Systems","2F96SES"," 2L8' EE/STD  ",138,"Linear Fluorescent","L8'","102 Existing"]
[null,null,"Eight Foot T12 Systems","1F96SSE","1L8' EE/STD",83,"Linear Fluorescent","L8'","102 Existing"]
[null,null,"Eight Foot T12 Systems","2F96SEM"," 2L8' EE/EEMAG  ",123,"Linear Fluorescent","L8'","102 Existing"]
[null,null,"Eight Foot T12 Systems","2F96SES"," 2L8' EE/STD  ",138,"Linear Fluorescent","L8'","102 Existing"]
[null,null,"Eight Foot T12 VHO Systems","2F96VES","2L8' VHO/EE/STD",390,"Linear Fluorescent","L8'","102 Existing"]
[null,null,"Eight Foot T12 VHO Systems","2F96VSS","2L8' VHO/STD/STD",450,"Linear Fluorescent","L8'","102 Existing"]
[null,null,"Eight Foot T12 VHO Systems","1F96VES","1L8' VHO/EE/STD",200,"Linear Fluorescent","L8'","102 Existing"]
[null,null,"Eight Foot T12 VHO Systems","1F96VSS","1L8' VHO/STD/STD",230,"Linear Fluorescent","L8'","102 Existing"]
[null,null,"Eight Foot T8 HO Systems","2F80SSE"," 2L8' T8 HO/ELIG  ",160,"Linear Fluorescent","L8'","102 Existing"]
[null,null,"Eight Foot T8 HO Systems","1F80SSE","1L8' T8 HO/ELIG",85,"Linear Fluorescent","L8'","102 Existing"]
[null,null,"Eight Foot T8 Systems","2F59SSE"," 2L8' T8/ELIG  ",109,"Linear Fluorescent","L8'","102 Existing"]
[null,null,"Eight Foot T8 Systems","2F59SSL"," 2L8' T8/ELIG LOW PWR  ",100,"Linear Fluorescent","L8'","102 Existing"]
[null,null,"Eight Foot T8 Systems","1F59SSE","1L8' T8/ELIG",60,"Linear Fluorescent","L8'","102 Existing"]
[null,null,"Four Foot Fluorescent T12 Systems","1F34SSS"," 1L4' EE/STD  ",41,"Linear Fluorescent","L8'","102 Existing"]
[null,null,"Four Foot Fluorescent T12 Systems","2F34SSS"," 2L4' EE/STD  ",74,"Linear Fluorescent","L8'","102 Existing"]
[null,null,"Four Foot Fluorescent T12 Systems","3F40SSS"," 3L4' EE/STD  ",115,"Incandescent Lamps",null,"102 Existing"]
[null,null,"Four Foot Fluorescent T12 Systems","4F40SSS"," 4L4' EE/STD  ",148,"Incandescent Lamps",null,"102 Existing"]
[null,null,"Four Foot Fluorescent T12 Systems","2F34SSS"," 2L4' STD/STD  ",74,"Incandescent Lamps",null,"102 Existing"]
[null,null,"Four Foot Fluorescent T12 Systems","3F34SSS"," 3L4' STD/STD  ",115]
[null,null,"Four Foot Fluorescent T12 Systems","4F34SSS"," 4L4' STD/STD  ",148]
[null,null,"Four Foot Fluorescent T8 Systems","1F32SSS"," 1L4' T8/EEMAG  ",30]
[null,null,"Four Foot Fluorescent T8 Systems","2F32SSS"," 2L4' T8/ELIG  ",60]
[null,null,"Four Foot Fluorescent T8 Systems","3F32SSS"," 3L4' T8/ELIG  ",88]
[null,null,"Four Foot Fluorescent T8 Systems","4F32SSS"," 4L4' T8/ELIG  ",112]
[null,null,"Four Foot Fluorescent T8 Systems","2F32SSS"," 2L4' T8/ELIG  ",60]
[null,null,"Four Foot Fluorescent T8 Systems","3F32SSS"," 3L4' T8/ELIG  ",88]
[null,null,"Four Foot Fluorescent T8 Systems","4F32SSS"," 4L4' T8/ELIG  ",112]
[null,null,"Halogen/Quartz Lamps","1T0050"," 50W HALOGEN LAMP  ",50]
[null,null,"Halogen/Quartz Lamps","1T0052"," 52W HALOGEN LAMP  ",52]
[null,null,"Halogen/Quartz Lamps","1T0055"," 55W HALOGEN LAMP  ",55]
[null,null,"Halogen/Quartz Lamps","1T0060"," 60W HALOGEN LAMP  ",60]
[null,null,"Halogen/Quartz Lamps","1T0072"," 72W HALOGEN LAMP  ",72]
[null,null,"Halogen/Quartz Lamps","1T0075"," 75W HALOGEN LAMP  ",75]
[null,null,"Halogen/Quartz Lamps","1T0090"," 90W HALOGEN LAMP  ",90]
[null,null,"Halogen/Quartz Lamps","1T0100"," 100W HALOGEN LAMP  ",100]
[null,null,"Halogen/Quartz Lamps","1T0150"," 150W HALOGEN LAMP  ",150]
[null,null,"High Pressure Sodium","1HPS0050S"," 50W HPS  ",65]
[null,null,"High Pressure Sodium","1HPS0070S"," 70W HPS  ",90]
[null,null,"High Pressure Sodium","1HPS0100S"," 100W HPS  ",130]
[null,null,"High Pressure Sodium","1HPS0150S"," 150W HPS  ",190]
[null,null,"High Pressure Sodium","1HPS0050S"," 50W HPS  ",65,"Linear Fluorescent","L4'",{"$f":"IF(B218=\"\",I195,B218)","v":"102 Existing"}]
[null,null,"High Pressure Sodium","1HPS0070S"," 70W HPS  ",90,"Linear Fluorescent","L4'",{"$f":"IF(B219=\"\",I218,B219)","v":"102 Existing"}]
[null,null,"High Pressure Sodium","1HPS0100S"," 100W HPS  ",130,"Linear Fluorescent","L4'","102 Existing"]
[null,null,"High Pressure Sodium","1HPS0150S"," 150W HPS  ",190,"Linear Fluorescent","L4'","102 Existing"]
[null,null,"Incandescent Lamps","1I0060"," 60W INC  ",43,"Linear Fluorescent","L8'","102 Existing"]
[null,null,"Incandescent Lamps","1I0075"," 75W INC  ",53,"Linear Fluorescent","L8'","102 Existing"]
[null,null,"Incandescent Lamps","1I0100"," 100W INC  ",72,"Linear Fluorescent","L8'","102 Existing"]
[null,null,"Incandescent Lamps","1I0120"," 120W INC  ",120,"Linear Fluorescent","L8'","102 Existing"]
[null,null,"Incandescent Lamps","1I0125"," 125W INC  ",125,"Linear Fluorescent","L8'","102 Existing"]
[null,null,"Incandescent Lamps","1I0135"," 135W INC  ",135,"Linear Fluorescent","L8'","102 Existing"]
[null,null,"Incandescent Lamps","1I0150"," 150W INC  ",150,"Linear Fluorescent","L8'","102 Existing"]
[null,null,"Metal Halide","1MH0032S"," 32W METAL HALIDE  ",40,"Linear Fluorescent","L8'","102 Existing"]
[null,null,"Metal Halide","1MH0050S"," 50W METAL HALIDE  ",65,"Linear Fluorescent","L8'","102 Existing"]
[null,null,"Metal Halide","1MH0070S"," 70W METAL HALIDE  ",95,"Linear Fluorescent","L8'","102 Existing"]
[null,null,"Metal Halide","1MH0100S"," 100W METAL HALIDE  ",120,"Linear Fluorescent","L8'","102 Existing"]
[null,null,"Metal Halide","1MH0150S"," 150W METAL HALIDE  ",190,"Linear Fluorescent","L8'","102 Existing"]
[null,null,"Metal Halide","1MH0100S"," 100W METAL HALIDE  ",120,"Linear Fluorescent","L8'","102 Existing"]
[null,null,"Metal Halide","1MH0150S"," 150W METAL HALIDE  ",190,"Linear Fluorescent","L8'","102 Existing"]
[null,null,"Three Foot Fluorescent Systems","1F30SEM"," 1L3' EE/EEMAG  ",38,"Linear Fluorescent","L8'","102 Existing"]
[null,null,"Three Foot Fluorescent Systems","1F30SES"," 1L3' EE/STD  ",42,"Incandescent Lamps",null,"102 Existing"]
[null,null,"Three Foot Fluorescent Systems","1F30SSS"," 1L3' STD/STD  ",46,"Incandescent Lamps",null,"102 Existing"]
[null,null,"Three Foot Fluorescent Systems","2F30SEE"," 2L3' EE/ELIG  ",49,"Incandescent Lamps",null,"102 Existing"]
[null,null,"Three Foot Fluorescent Systems","2F30SEM"," 2L3' EE/EEMAG  ",66]
[null,null,"Three Foot Fluorescent Systems","2F30SES"," 2L3' EE/STD  ",73]
[null,null,"Three Foot Fluorescent Systems","2F30SSS"," 2L3' STD/STD  ",80]
[null,null,"Three Foot Fluorescent Systems","3F30SES"," 3L3' EE/STD  ",127]
[null,null,"Three Foot Fluorescent Systems","3F30SSS"," 3L3' STD/STD  ",140]
[null,null,"Two Foot Fluorescent Systems","1F20SSS"," F20T12/HPF(1)  ",32]
[null,null,"Two Foot Fluorescent Systems","2F20SSS"," F20T12/HPF(2)  ",56]
[null,null,"Two Foot Fluorescent Systems","2F24HSS"," 2L2' HO/STD/STD  ",85]
[null,null,"Two Foot Fluorescent Systems","3F20SSS"," F20T12/HPF(3)  ",78]
[null,null,"Two Foot Fluorescent Systems","3F24HSE"," 3L4’ T5HO/ELIG  ",80]
[null,null,"Two Foot Fluorescent Systems","4F20SSS"," F20T12/HPF(4)  ",104]
[null,"103 Proposed","Four Foot Fluorescent T8 Systems","4F32SHH"," 4L4' T8/ELIG HIGH LUMEN HBF ",153,"T5HO Systems","L4'",{"$f":"IF(B251=\"\",#REF!,B251)","v":"103 Proposed"}]
[null,"103 Proposed","Four Foot Fluorescent T8 Systems","3F32SHH"," 3L4' T8/ELIG HIGH LUMEN HBF ",112]
[null,"103 Proposed","Four Foot Fluorescent T8 Systems","6F32SHH","6L4' T8/ELIG HIGH LUMEN HBF",234]
[null,"103 Proposed","Four Foot Fluorescent T8 Systems","8F32SHH"," 8L4' T8/ELIG HIGH LUMEN HBF",312,"T5HO Systems","L4'",{"$f":"IF(B254=\"\",I251,B254)","v":"103 Proposed"}]
[null,"103 Proposed","Four Foot Fluorescent T8 Systems","16F32SHH"," 16L4' T8/ELIG HIGH LUMEN HBF",624,"T5HO Systems","L4'",{"$f":"IF(B255=\"\",I254,B255)","v":"103 Proposed"}]
[null,"103 Proposed","Four Foot Fluorescent T8 Systems","12F32SHH"," 12L4' T8/ELIG HIGH LUMEN HBF",442]
[null,"103 Proposed","Four Foot Fluorescent T8 Systems","10F32SHH","10L4' T8/ELIG HIGH LUMEN HBF",368]
[null,"103 Proposed","T5 Reduce Wattage HO Systems","3F49HSE  ","3L4' T5 HO/ELIG  ",162,"T5HO Systems","L4'",{"$f":"IF(B258=\"\",I255,B258)","v":"103 Proposed"}]
[null,"103 Proposed","T5 Reduce Wattage HO Systems","2F49HSE ","2L4' T5 HO/ELIG  ",107,"T5HO Systems","L4'",{"$f":"IF(B259=\"\",I258,B259)","v":"103 Proposed"}]
[null,"103 Proposed","T5 Reduce Wattage HO Systems","4F49HSE","4L4' 49W T5 HO",214]
[null,"103 Proposed","T5 Reduce Wattage HO Systems","5F49HSE ","5L4' T5 HO/ELIG  ",269]
[null,"103 Proposed","T5 Reduce Wattage HO Systems","6F49HSE ","6L 54W T5 HO  ",321,"T5HO Systems","L4'",{"$f":"IF(B262=\"\",I259,B262)","v":"103 Proposed"}]
[null,"103 Proposed","T5 Reduce Wattage HO Systems","8F49HSE  ","8L4' T5 HO/ELIG  ",428,"T5HO Systems","L4'",{"$f":"IF(B263=\"\",I262,B263)","v":"103 Proposed"}]
[null,"103 Proposed","T5 Reduce Wattage HO Systems","10F49HSE ","10 54W T5 HO  ",535,"T5HO Systems","L4'",{"$f":"IF(B264=\"\",I263,B264)","v":"103 Proposed"}]
[null,"103 Proposed","T5 Reduce Wattage HO Systems","12F49HSE ","12L' 54W T5HO  ",642]
[null,"103 Proposed","T5HO Systems","3F54HSE"," 3L4' T5 HO/ELIG  ",177]
[null,"103 Proposed","T5HO Systems","2F54HSE","2L4' T5 HO/ELIG",117]
[null,"103 Proposed","T5HO Systems","4F54HSE","4L 54W T5 HO",234]
[null,"103 Proposed","T5HO Systems","5F54HSW","5L 54W T5 HO",294,"T5HO Systems","L4'",{"$f":"IF(B269=\"\",I264,B269)","v":"103 Proposed"}]
[null,"103 Proposed","T5HO Systems","6F54HSE"," 6L 54W T5 HO  ",351,"T5HO Systems","L4'",{"$f":"IF(B270=\"\",I269,B270)","v":"103 Proposed"}]
[null,"103 Proposed","T5HO Systems","12F54HSE"," 12L' 54W T5HO  ",702,"Linear Fluorescent","L4'",{"$f":"IF(B271=\"\",I270,B271)","v":"103 Proposed"}]
[null,"103 Proposed","T5HO Systems","10F54HSE"," 10L' 54W T5HO  ",585,"Linear Fluorescent","L4'",{"$f":"IF(B272=\"\",I271,B272)","v":"103 Proposed"}]
[null,"103 Proposed","T5HO Systems","8F54HSE"," 8L' 54W T5HO  ",468,"Linear Fluorescent","L4'",{"$f":"IF(B273=\"\",I272,B273)","v":"103 Proposed"}]
[null,"103 Existing","Eight Foot T12 HO Systems","1F96HES"," 1L8' HO/EE/STD  ",125,"Metal Halide",null,{"$f":"IF(B274=\"\",#REF!,B274)","v":"103 Existing"}]
[null,"103 Existing","Eight Foot T12 HO Systems","1F96HSS"," 1L8' HO/STD/STD  ",135,"Mercury Vapor",null,{"$f":"IF(B275=\"\",I274,B275)","v":"103 Existing"}]
[null,"103 Existing","Eight Foot T12 HO Systems","2F96HEE"," 2L8' HO/EE/ELIG  ",170,"High Pressure Sodium",null,"103 Existing"]
[null,"103 Existing","Eight Foot T12 HO Systems","2F96HEM"," 2L8' HO/EE/EEMAG  ",207,"Metal Halide",null,"103 Existing"]
[null,"103 Existing","Eight Foot T12 HO Systems","2F96HES"," 2L8' HO/EE/STD  ",227,"Mercury Vapor",null,"103 Existing"]
[null,"103 Existing","Eight Foot T12 HO Systems","2F96HSE"," 2L8' HO/STD/ELIG  ",195,"High Pressure Sodium",null,"103 Existing"]
[null,"103 Existing","Eight Foot T12 HO Systems","2F96HSM"," 2L8' HO/STD/EEMAG  ",237,"Metal Halide",null,"103 Existing"]
[null,"103 Existing","Eight Foot T12 HO Systems","2F96HSS"," 2L8' HO/STD/STD  ",257]
[null,"103 Existing","Eight Foot T12 HO Systems","3F96HES"," 3L8' HO/EE/STD  ",352]
[null,"103 Existing","Eight Foot T12 HO Systems","3F96HSS"," 3L8' HO/STD/STD  ",392]
[null,"103 Existing","Eight Foot T12 HO Systems","4F96HEE"," 4L8' HO/EE/ELIG  ",340]
[null,"103 Existing","Eight Foot T12 HO Systems","4F96HEM"," 4L8' HO/EE/EEMAG  ",414]
[null,"103 Existing","Eight Foot T12 HO Systems","4F96HES"," 4L8' HO/EE/STD  ",454]
[null,"103 Existing","Eight Foot T12 HO Systems","4F96HSE"," 4L8' HO/STD/ELIG  ",390]
[null,"103 Existing","Eight Foot T12 HO Systems","4F96HSM"," 4L8' HO/STD/EEMAG  ",474]
[null,"103 Existing","Eight Foot T12 HO Systems","4F96HSS"," 4L8' HO/STD/STD  ",514]
[null,"103 Existing","Eight Foot T12 VHO Systems","1F96VES"," 1L8' VHO/EE/STD  ",200]
[null,"103 Existing","Eight Foot T12 VHO Systems","1F96VSS"," 1L8' VHO/STD/STD  ",230]
[null,"103 Existing","Eight Foot T12 VHO Systems","2F96VES"," 2L8' VHO/EE/STD  ",390]
[null,"103 Existing","Eight Foot T12 VHO Systems","2F96VSS"," 2L8' VHO/STD/STD  ",450]
[null,"103 Existing","Eight Foot T12 VHO Systems","3F96VES"," 3L8' VHO/EE/STD  ",590]
[null,"103 Existing","Eight Foot T12 VHO Systems","3F96VSS"," 3L8' VHO/STD/STD  ",680]
[null,"103 Existing","Eight Foot T12 VHO Systems","4F96VES"," 4L8' VHO/EE/STD  ",780]
[null,"103 Existing","Eight Foot T12 VHO Systems","4F96VSS"," 4L8' VHO/STD/STD  ",900]
[null,"103 Existing","High Pressure Sodium","1HPS0250S"," 250W HPS  ",295]
[null,"103 Existing","High Pressure Sodium","1HPS0150S","150W HPS",190]
[null,"103 Existing","High Pressure Sodium","1HPS0400S"," 400W HPS  ",460]
[null,"103 Existing","High Pressure Sodium","1HPS0310S","310w HPS",350]
[null,"103 Existing","High Pressure Sodium","1HPS0360S","360w HPS",435]
[null,"103 Existing","High Pressure Sodium","1HPS01000S"," 1000W HPS  ",1085]
[null,"103 Existing","High Pressure Sodium","1HPS0600S","600w HPS",675]
[null,"103 Existing","High Pressure Sodium","1HPS0750S","750w HPS",835,"Metal Halide",null,{"$f":"IF(B305=\"\",#REF!,B305)","v":"103 Existing"}]
[null,"103 Existing","High Pressure Sodium","1HPS1000S"," 1000W HPS  ",1085,"Mercury Vapor",null,{"$f":"IF(B306=\"\",I305,B306)","v":"103 Existing"}]
[null,"103 Existing","Mercury Vapor","1MV0250S"," 250W MERCURY  ",290,"High Pressure Sodium",null,"103 Existing"]
[null,"103 Existing","Mercury Vapor","1MV0175S","175W MERCURY VAPOR",205,"Metal Halide",null,"103 Existing"]
[null,"103 Existing","Mercury Vapor","1MV0400S"," 400W MERCURY  ",455,"Pulse Start Metal Halide",null,"103 Existing"]
[null,"103 Existing","Mercury Vapor","1MV1000S"," 1000W MERCURY  ",1075,"Pulse Start Metal Halide",null,"103 Existing"]
[null,"103 Existing","Mercury Vapor","1MV0700S","700W MERCURY",775,"Pulse Start Metal Halide",null,"103 Existing"]
[null,"103 Existing","Metal Halide","1MH0250S"," 250W METAL HALIDE  ",295,"High Pressure Sodium",null,"103 Existing"]
[null,"103 Existing","Metal Halide","1MH0175S","175W METAL HALIDE",205,"High Pressure Sodium",null,"103 Existing"]
[null,"103 Existing","Metal Halide","1MH0150S","150W METAL HALIDE",190]
[null,"103 Existing","Metal Halide","1MH0400S"," 400W METAL HALIDE  ",455]
[null,"103 Existing","Metal Halide","1MH0360S","360w METAL HALIDE",430]
[null,"103 Existing","Metal Halide","1MH01000S"," 1000W METAL HALIDE  ",1075]
[null,"103 Existing","Metal Halide","1MH0750S","750w METAL HALIDE",825]
[null,"103 Existing","Metal Halide","1MH1000S"," 1000W METAL HALIDE  ",1075]
[null,"103 Existing","Pulse Start MH","PS0300P","300w PS METAL HALIDE",342]
[null,"103 Existing","Pulse Start MH","PS0320P","320w PS METAL HALIDE",365]
[null,"103 Existing","Pulse Start MH","PS0350P","350W PS METAL HALIDE",400]
[null,"103 Existing","Pulse Start MH","PS0750P","750 PS METAL HALIDE",815]
[null,"103 Existing","Pulse Start MH Lamp/Ballast","1PS0320P"," 320W PSMH CWA  ",365]
[null,"103 Existing","Pulse Start MH Lamp/Ballast","1PS0320R"," 320W PSMH LINEAR  ",345]
[null,"103 Existing","Pulse Start MH Lamp/Ballast","1PS0750P"," 750W PSMH CWA  ",815]
[null,"103 Existing","Pulse Start MH Lamp/Ballast","1PS0750R"," 750W PSMH Linear  ",805]
[null,"104 Proposed","Compact Fluorescents","1C0013S"," 13W COMPACT HW  ",15,"High Pressure Sodium",null,{"$f":"IF(#REF!=\"\",#REF!,#REF!)","v":{"$error":"#REF!"}}]
[null,"104 Proposed","Compact Fluorescents","1C0018E"," 18W COMPACT HW ELIG  ",20,"High Pressure Sodium",null,{"$f":"IF(#REF!=\"\",I328,#REF!)","v":{"$error":"#REF!"}}]
[null,"104 Proposed","Compact Fluorescents","1C0026E"," 26W COMPACT HW ELIG  ",28,"High Pressure Sodium",null,{"$f":"IF(#REF!=\"\",I329,#REF!)","v":{"$error":"#REF!"}}]
[null,"104 Proposed","Compact Fluorescents","1C0032E","32w COMPACT HW ELIG",34,"High Pressure Sodium",null,{"$f":"IF(#REF!=\"\",I330,#REF!)","v":{"$error":"#REF!"}}]
[null,"104 Proposed","Compact Fluorescents","1C0042E","42W COMPACT HW ELIG",48,"Compact Fluorescents",null,{"$f":"IF(#REF!=\"\",I331,#REF!)","v":{"$error":"#REF!"}}]
[null,"104 Proposed","Compact Fluorescents","2C0013E"," 2/13W COMPACT HW ELIG  ",28]
[null,"104 Proposed","Compact Fluorescents","2C0013S"," 2/13W COMPACT HW  ",30]
[null,"104 Proposed","Compact Fluorescents","2C0018E"," 2/18W COMP. HW ELIG  ",40]
[null,"104 Proposed","Compact Fluorescents","2C0026E"," 2/26W COMP. HW ELIG  ",54]
[null,"104 Proposed","Compact Fluorescents","2C0032E","2/32W COMP. HW ELIG",68]
[null,"104 Proposed","Compact Fluorescents","2C0042E","2/42W COMP. HW ELIG",100]
[null,"104 Proposed","Compact Fluorescents","3C0018E"," 3'/18W COMPACT HW ELIG  ",60]
[null,"104 Proposed","Compact Fluorescents","3C0026E"," 3/26W COMPACT HW ELIG  ",82]
[null,"104 Proposed","Compact Fluorescents","3C0032E"," 3/32W COMPACT HW ELIG  ",114]
[null,"104 Proposed","Compact Fluorescents","3C0042E","3/42 COMPACT HW ELIG",141]
[null,"104 Existing","High Pressure Sodium","1HPS0050S"," 50W HPS  ",65,"Compact Fluorescents",null,{"$f":"IF(#REF!=\"\",I332,#REF!)","v":{"$error":"#REF!"}}]
[null,"104 Existing","High Pressure Sodium","1HPS0070S"," 70W HPS  ",90,"Compact Fluorescents",null,{"$f":"IF(#REF!=\"\",I343,#REF!)","v":{"$error":"#REF!"}}]
[null,"104 Existing","High Pressure Sodium","1HPS0100S"," 100W HPS  ",130,"Compact Fluorescents",null,{"$f":"IF(#REF!=\"\",I344,#REF!)","v":{"$error":"#REF!"}}]
[null,"104 Existing","High Pressure Sodium","1HPS0150S"," 150W HPS  ",190]
[null,"104 Existing","High Pressure Sodium","1HPS0175S"," 175W HPS  ",210]
[null,"104 Existing","High Pressure Sodium","1HPS0200S"," 200W HPS  ",240]
[null,"104 Existing","High Pressure Sodium","1HPS0225S"," 225W HPS  ",275]
[null,"104 Existing","High Pressure Sodium","1HPS0250S"," 250W HPS  ",295]
[null,"104 Existing","Incandescent Lamps","1I0060"," 60W INC  ",43]
[null,"104 Existing","Incandescent Lamps","1I0075"," 75W INC  ",53]
[null,"104 Existing","Incandescent Lamps","1I0100"," 100W INC  ",72]
[null,"104 Existing","Incandescent Lamps","1I0120"," 120W INC  ",120,"High Pressure Sodium",null,{"$f":"IF(#REF!=\"\",#REF!,#REF!)","v":{"$error":"#REF!"}}]
[null,"104 Existing","Incandescent Lamps","1I0125"," 125W INC  ",125,"High Pressure Sodium",null,{"$f":"IF(#REF!=\"\",I354,#REF!)","v":{"$error":"#REF!"}}]
[null,"104 Existing","Incandescent Lamps","1I0135"," 135W INC  ",135,"High Pressure Sodium",null,{"$f":"IF(#REF!=\"\",I355,#REF!)","v":{"$error":"#REF!"}}]
[null,"104 Existing","Incandescent Lamps","1I0150"," 150W INC  ",150,"Compact Fluorescents",null,{"$f":"IF(#REF!=\"\",I356,#REF!)","v":{"$error":"#REF!"}}]
[null,"104 Existing","Incandescent Lamps","1I0200"," 200W INC  ",200,"Compact Fluorescents",null,{"$f":"IF(#REF!=\"\",I357,#REF!)","v":{"$error":"#REF!"}}]
[null,"104 Existing","Incandescent Lamps","1I0300"," 300W INC  ",300,"Compact Fluorescents",null,{"$f":"IF(#REF!=\"\",I358,#REF!)","v":{"$error":"#REF!"}}]
[null,"104 Existing","Metal Halide","1MH0050S"," 50W METAL HALIDE  ",65,"Compact Fluorescents",null,{"$f":"IF(#REF!=\"\",I359,#REF!)","v":{"$error":"#REF!"}}]
[null,"104 Existing","Metal Halide","1MH0070S"," 70W METAL HALIDE  ",95,"Incandescent Lamps",null,{"$f":"IF(#REF!=\"\",I360,#REF!)","v":{"$error":"#REF!"}}]
[null,"104 Existing","Metal Halide","1MH0100S"," 100W METAL HALIDE  ",120]
[null,"104 Existing","Metal Halide","1MH0150S"," 150W METAL HALIDE  ",190]
[null,"104 Existing","Metal Halide","1MH0175S"," 175W METAL HALIDE  ",205]
[null,"104 Existing","Metal Halide","1MH0250S"," 250W METAL HALIDE  ",295]
[null,"90C Proposed","LED Exit Signs","1E0002"," 2.0 WATT LED  ",2]
[null,"90C Proposed","LED Exit Signs","1E0003"," 3.0 WATT LED  ",3]
[null,"90C Proposed","LED Exit Signs","1E0005"," 5.0 WLED  ",5]
[null,"90C Proposed","LED Exit Signs","1E0005C"," 0.5 WATT LED  ",0.5]
[null,"90C Proposed","LED Exit Signs","1E0008"," 8.0 WLED  ",8]
[null,"90C Proposed","LED Exit Signs","1E0015"," 1.5 WATT LED  ",1.5]
[null,"90C Proposed","LED Exit Signs","1E0105"," 10.5 WATT LED  ",10.5]
[null,"90C Existing","Incandescent Lamps","1I0020"," 20W INC  ",20]
[null,"90C Existing","Incandescent Lamps","1I0040"," 40W INC  ",29]
[null,"90C Existing","Compact Fluorescents","1C0009S"," 9W COMPACT HW  ",11]
[null,"90C Existing","Compact Fluorescents","1C0018E"," 18W COMPACT HW ELIG  ",20]
[null,"105, 106, 107, 108 Proposed","LED Lamp or Fixture","1LED001","1w LED (including driver wattage)",1]
[null,"105, 106, 107, 108 Proposed","LED Lamp or Fixture","1LED002","2w LED (including driver wattage)",2]
[null,"105, 106, 107, 108 Proposed","LED Lamp or Fixture","1LED003","3w LED (including driver wattage)",3]
[null,"105, 106, 107, 108 Proposed","LED Lamp or Fixture","1LED004","4w LED (including driver wattage)",4]
[null,"105, 106, 107, 108 Proposed","LED Lamp or Fixture","1LED005","5w LED (including driver wattage)",5]
[null,"105, 106, 107, 108 Proposed","LED Lamp or Fixture","1LED006","6w LED (including driver wattage)",6]
[null,"105, 106, 107, 108 Proposed","LED Lamp or Fixture","1LED007","7w LED (including driver wattage)",7]
[null,"105, 106, 107, 108 Proposed","LED Lamp or Fixture","1LED008","8w LED (including driver wattage)",8]
[null,"105, 106, 107, 108 Proposed","LED Lamp or Fixture","1LED009","9w LED (including driver wattage)",9]
[null,"105, 106, 107, 108 Proposed","LED Lamp or Fixture","1LED010","10w LED (including driver wattage)",10]
[null,"105, 106, 107, 108 Proposed","LED Lamp or Fixture","1LED011","11w LED (including driver wattage)",11]
[null,"105, 106, 107, 108 Proposed","LED Lamp or Fixture","1LED012","12w LED (including driver wattage)",12]
[null,"105, 106, 107, 108 Proposed","LED Lamp or Fixture","1LED013","13w LED (including driver wattage)",13]
[null,"105, 106, 107, 108 Proposed","LED Lamp or Fixture","1LED014","14w LED (including driver wattage)",14]
[null,"105, 106, 107, 108 Proposed","LED Lamp or Fixture","1LED015","15w LED (including driver wattage)",15]
[null,"105, 106, 107, 108 Proposed","LED Lamp or Fixture","1LED016","16w LED (including driver wattage)",16]
[null,"105, 106, 107, 108 Proposed","LED Lamp or Fixture","1LED017","17w LED (including driver wattage)",17]
[null,"105, 106, 107, 108 Proposed","LED Lamp or Fixture","1LED018","18w LED (including driver wattage)",18]
[null,"105, 106, 107, 108 Proposed","LED Lamp or Fixture","1LED019","19w LED (including driver wattage)",19]
[null,"105, 106, 107, 108 Proposed","LED Lamp or Fixture","1LED020","20w LED (including driver wattage)",20]
[null,"105, 106, 107, 108 Proposed","LED Lamp or Fixture","1LED021","21w LED (including driver wattage)",21]
[null,"105, 106, 107, 108 Proposed","LED Lamp or Fixture","1LED022","22w LED (including driver wattage)",22]
[null,"105, 106, 107, 108 Proposed","LED Lamp or Fixture","1LED023","23w LED (including driver wattage)",23]
[null,"105, 106, 107, 108 Proposed","LED Lamp or Fixture","1LED024","24w LED (including driver wattage)",24]
[null,"105, 106, 107, 108 Proposed","LED Lamp or Fixture","1LED025","25w LED (including driver wattage)",25]
[null,"105, 106, 107, 108 Proposed","LED Lamp or Fixture","1LED026","26w LED (including driver wattage)",26]
[null,"105, 106, 107, 108 Proposed","LED Lamp or Fixture","1LED027","27w LED (including driver wattage)",27]
[null,"105, 106, 107, 108 Proposed","LED Lamp or Fixture","1LED028","28w LED (including driver wattage)",28]
[null,"105, 106, 107, 108 Proposed","LED Lamp or Fixture","1LED029","29w LED (including driver wattage)",29]
[null,"105, 106, 107, 108 Proposed","LED Lamp or Fixture","1LED030","30w LED (including driver wattage)",30]
[null,"105, 106, 107, 108 Proposed","LED Lamp or Fixture","1LED031","31w LED (including driver wattage)",31]
[null,"105, 106, 107, 108 Proposed","LED Lamp or Fixture","1LED032","32w LED (including driver wattage)",32]
[null,"105, 106, 107, 108 Proposed","LED Lamp or Fixture","1LED033","33w LED (including driver wattage)",33]
[null,"105, 106, 107, 108 Proposed","LED Lamp or Fixture","1LED034","34w LED (including driver wattage)",34]
[null,"105, 106, 107, 108 Proposed","LED Lamp or Fixture","1LED035","35w LED (including driver wattage)",35]
[null,"105, 106, 107, 108 Proposed","LED Lamp or Fixture","1LED036","36w LED (including driver wattage)",36]
[null,"105, 106, 107, 108 Proposed","LED Lamp or Fixture","1LED037","37w LED (including driver wattage)",37]
[null,"105, 106, 107, 108 Proposed","LED Lamp or Fixture","1LED038","38w LED (including driver wattage)",38]
[null,"105, 106, 107, 108 Proposed","LED Lamp or Fixture","1LED039","39w LED (including driver wattage)",39]
[null,"105, 106, 107, 108 Proposed","LED Lamp or Fixture","1LED040","40w LED (including driver wattage)",40]
[null,"105, 106, 107, 108 Proposed","LED Lamp or Fixture","1LED041","41w LED (including driver wattage)",41]
[null,"105, 106, 107, 108 Proposed","LED Lamp or Fixture","1LED042","42w LED (including driver wattage)",42]
[null,"105, 106, 107, 108 Proposed","LED Lamp or Fixture","1LED043","43w LED (including driver wattage)",43]
[null,"105, 106, 107, 108 Proposed","LED Lamp or Fixture","1LED044","44w LED (including driver wattage)",44]
[null,"105, 106, 107, 108 Proposed","LED Lamp or Fixture","1LED045","45w LED (including driver wattage)",45]
[null,"105, 106, 107, 108 Proposed","LED Lamp or Fixture","1LED046","46w LED (including driver wattage)",46]
[null,"105, 106, 107, 108 Proposed","LED Lamp or Fixture","1LED047","47w LED (including driver wattage)",47]
[null,"105, 106, 107, 108 Proposed","LED Lamp or Fixture","1LED048","48w LED (including driver wattage)",48]
[null,"105, 106, 107, 108 Proposed","LED Lamp or Fixture","1LED049","49w LED (including driver wattage)",49]
[null,"105, 106, 107, 108 Proposed","LED Lamp or Fixture","1LED050","50w LED (including driver wattage)",50]
[null,"105, 106, 107, 108 Proposed","LED Lamp or Fixture","1LED051","51w LED (including driver wattage)",51]
[null,"105, 106, 107, 108 Proposed","LED Lamp or Fixture","1LED052","52w LED (including driver wattage)",52]
[null,"105, 106, 107, 108 Proposed","LED Lamp or Fixture","1LED053","53w LED (including driver wattage)",53]
[null,"105, 106, 107, 108 Proposed","LED Lamp or Fixture","1LED054","54w LED (including driver wattage)",54]
[null,"105, 106, 107, 108 Proposed","LED Lamp or Fixture","1LED055","55w LED (including driver wattage)",55]
[null,"105, 106, 107, 108 Proposed","LED Lamp or Fixture","1LED056","56w LED (including driver wattage)",56]
[null,"105, 106, 107, 108 Proposed","LED Lamp or Fixture","1LED057","57w LED (including driver wattage)",57]
[null,"105, 106, 107, 108 Proposed","LED Lamp or Fixture","1LED058","58w LED (including driver wattage)",58]
[null,"105, 106, 107, 108 Proposed","LED Lamp or Fixture","1LED059","59w LED (including driver wattage)",59]
[null,"105, 106, 107, 108 Proposed","LED Lamp or Fixture","1LED060","60w LED (including driver wattage)",60]
[null,"109, 110, 111 Proposed","LED Lamp or Fixture","1LED015","15w LED (including driver wattage)",15]
[null,"109, 110, 111 Proposed","LED Lamp or Fixture","1LED016","16w LED (including driver wattage)",16]
[null,"109, 110, 111 Proposed","LED Lamp or Fixture","1LED017","17w LED (including driver wattage)",17]
[null,"109, 110, 111 Proposed","LED Lamp or Fixture","1LED018","18w LED (including driver wattage)",18]
[null,"109, 110, 111 Proposed","LED Lamp or Fixture","1LED019","19w LED (including driver wattage)",19]
[null,"109, 110, 111 Proposed","LED Lamp or Fixture","1LED020","20w LED (including driver wattage)",20]
[null,"109, 110, 111 Proposed","LED Lamp or Fixture","1LED021","21w LED (including driver wattage)",21]
[null,"109, 110, 111 Proposed","LED Lamp or Fixture","1LED022","22w LED (including driver wattage)",22]
[null,"109, 110, 111 Proposed","LED Lamp or Fixture","1LED023","23w LED (including driver wattage)",23]
[null,"109, 110, 111 Proposed","LED Lamp or Fixture","1LED024","24w LED (including driver wattage)",24]
[null,"109, 110, 111 Proposed","LED Lamp or Fixture","1LED025","25w LED (including driver wattage)",25]
[null,"109, 110, 111 Proposed","LED Lamp or Fixture","1LED026","26w LED (including driver wattage)",26]
[null,"109, 110, 111 Proposed","LED Lamp or Fixture","1LED027","27w LED (including driver wattage)",27]
[null,"109, 110, 111 Proposed","LED Lamp or Fixture","1LED028","28w LED (including driver wattage)",28]
[null,"109, 110, 111 Proposed","LED Lamp or Fixture","1LED029","29w LED (including driver wattage)",29]
[null,"109, 110, 111 Proposed","LED Lamp or Fixture","1LED030","30w LED (including driver wattage)",30]
[null,"109, 110, 111 Proposed","LED Lamp or Fixture","1LED031","31w LED (including driver wattage)",31]
[null,"109, 110, 111 Proposed","LED Lamp or Fixture","1LED032","32w LED (including driver wattage)",32]
[null,"109, 110, 111 Proposed","LED Lamp or Fixture","1LED033","33w LED (including driver wattage)",33]
[null,"109, 110, 111 Proposed","LED Lamp or Fixture","1LED034","34w LED (including driver wattage)",34]
[null,"109, 110, 111 Proposed","LED Lamp or Fixture","1LED035","35w LED (including driver wattage)",35]
[null,"109, 110, 111 Proposed","LED Lamp or Fixture","1LED036","36w LED (including driver wattage)",36]
[null,"109, 110, 111 Proposed","LED Lamp or Fixture","1LED037","37w LED (including driver wattage)",37]
[null,"109, 110, 111 Proposed","LED Lamp or Fixture","1LED038","38w LED (including driver wattage)",38]
[null,"109, 110, 111 Proposed","LED Lamp or Fixture","1LED039","39w LED (including driver wattage)",39]
[null,"109, 110, 111 Proposed","LED Lamp or Fixture","1LED040","40w LED (including driver wattage)",40]
[null,"109, 110, 111 Proposed","LED Lamp or Fixture","1LED041","41w LED (including driver wattage)",41]
[null,"109, 110, 111 Proposed","LED Lamp or Fixture","1LED042","42w LED (including driver wattage)",42]
[null,"109, 110, 111 Proposed","LED Lamp or Fixture","1LED043","43w LED (including driver wattage)",43]
[null,"109, 110, 111 Proposed","LED Lamp or Fixture","1LED044","44w LED (including driver wattage)",44]
[null,"109, 110, 111 Proposed","LED Lamp or Fixture","1LED045","45w LED (including driver wattage)",45]
[null,"109, 110, 111 Proposed","LED Lamp or Fixture","1LED046","46w LED (including driver wattage)",46]
[null,"109, 110, 111 Proposed","LED Lamp or Fixture","1LED047","47w LED (including driver wattage)",47]
[null,"109, 110, 111 Proposed","LED Lamp or Fixture","1LED048","48w LED (including driver wattage)",48]
[null,"109, 110, 111 Proposed","LED Lamp or Fixture","1LED049","49w LED (including driver wattage)",49]
[null,"109, 110, 111 Proposed","LED Lamp or Fixture","1LED050","50w LED (including driver wattage)",50]
[null,"109, 110, 111 Proposed","LED Lamp or Fixture","1LED051","51w LED (including driver wattage)",51]
[null,"109, 110, 111 Proposed","LED Lamp or Fixture","1LED052","52w LED (including driver wattage)",52]
[null,"109, 110, 111 Proposed","LED Lamp or Fixture","1LED053","53w LED (including driver wattage)",53]
[null,"109, 110, 111 Proposed","LED Lamp or Fixture","1LED054","54w LED (including driver wattage)",54]
[null,"109, 110, 111 Proposed","LED Lamp or Fixture","1LED055","55w LED (including driver wattage)",55]
[null,"109, 110, 111 Proposed","LED Lamp or Fixture","1LED056","56w LED (including driver wattage)",56]
[null,"109, 110, 111 Proposed","LED Lamp or Fixture","1LED057","57w LED (including driver wattage)",57]
[null,"109, 110, 111 Proposed","LED Lamp or Fixture","1LED058","58w LED (including driver wattage)",58]
[null,"109, 110, 111 Proposed","LED Lamp or Fixture","1LED059","59w LED (including driver wattage)",59]
[null,"109, 110, 111 Proposed","LED Lamp or Fixture","1LED060","60w LED (including driver wattage)",60]
[null,"109, 110, 111 Proposed","LED Lamp or Fixture","1LED061","61w LED (including driver wattage)",61]
[null,"109, 110, 111 Proposed","LED Lamp or Fixture","1LED062","62w LED (including driver wattage)",62]
[null,"109, 110, 111 Proposed","LED Lamp or Fixture","1LED063","63w LED (including driver wattage)",63]
[null,"109, 110, 111 Proposed","LED Lamp or Fixture","1LED064","64w LED (including driver wattage)",64]
[null,"109, 110, 111 Proposed","LED Lamp or Fixture","1LED065","65w LED (including driver wattage)",65]
[null,"109, 110, 111 Proposed","LED Lamp or Fixture","1LED066","66w LED (including driver wattage)",66]
[null,"109, 110, 111 Proposed","LED Lamp or Fixture","1LED067","67w LED (including driver wattage)",67]
[null,"109, 110, 111 Proposed","LED Lamp or Fixture","1LED068","68w LED (including driver wattage)",68]
[null,"109, 110, 111 Proposed","LED Lamp or Fixture","1LED069","69w LED (including driver wattage)",69]
[null,"109, 110, 111 Proposed","LED Lamp or Fixture","1LED070","70w LED (including driver wattage)",70]
[null,"109, 110, 111 Proposed","LED Lamp or Fixture","1LED071","71w LED (including driver wattage)",71]
[null,"109, 110, 111 Proposed","LED Lamp or Fixture","1LED072","72w LED (including driver wattage)",72]
[null,"109, 110, 111 Proposed","LED Lamp or Fixture","1LED073","73w LED (including driver wattage)",73]
[null,"109, 110, 111 Proposed","LED Lamp or Fixture","1LED074","74w LED (including driver wattage)",74]
[null,"109, 110, 111 Proposed","LED Lamp or Fixture","1LED075","75w LED (including driver wattage)",75]
[null,"109, 110, 111 Proposed","LED Lamp or Fixture","1LED076","76w LED (including driver wattage)",76]
[null,"109, 110, 111 Proposed","LED Lamp or Fixture","1LED077","77w LED (including driver wattage)",77]
[null,"109, 110, 111 Proposed","LED Lamp or Fixture","1LED078","78w LED (including driver wattage)",78]
[null,"109, 110, 111 Proposed","LED Lamp or Fixture","1LED079","79w LED (including driver wattage)",79]
[null,"109, 110, 111 Proposed","LED Lamp or Fixture","1LED080","80w LED (including driver wattage)",80]
[null,"109, 110, 111 Proposed","LED Lamp or Fixture","1LED081","81w LED (including driver wattage)",81]
[null,"109, 110, 111 Proposed","LED Lamp or Fixture","1LED082","82w LED (including driver wattage)",82]
[null,"109, 110, 111 Proposed","LED Lamp or Fixture","1LED083","83w LED (including driver wattage)",83]
[null,"109, 110, 111 Proposed","LED Lamp or Fixture","1LED084","84w LED (including driver wattage)",84]
[null,"109, 110, 111 Proposed","LED Lamp or Fixture","1LED085","85w LED (including driver wattage)",85]
[null,"109, 110, 111 Proposed","LED Lamp or Fixture","1LED086","86w LED (including driver wattage)",86]
[null,"109, 110, 111 Proposed","LED Lamp or Fixture","1LED087","87w LED (including driver wattage)",87]
[null,"109, 110, 111 Proposed","LED Lamp or Fixture","1LED088","88w LED (including driver wattage)",88]
[null,"109, 110, 111 Proposed","LED Lamp or Fixture","1LED089","89w LED (including driver wattage)",89]
[null,"109, 110, 111 Proposed","LED Lamp or Fixture","1LED090","90w LED (including driver wattage)",90]
[null,"109, 110, 111 Proposed","LED Lamp or Fixture","1LED091","91w LED (including driver wattage)",91]
[null,"109, 110, 111 Proposed","LED Lamp or Fixture","1LED092","92w LED (including driver wattage)",92]
[null,"109, 110, 111 Proposed","LED Lamp or Fixture","1LED093","93w LED (including driver wattage)",93]
[null,"109, 110, 111 Proposed","LED Lamp or Fixture","1LED094","94w LED (including driver wattage)",94]
[null,"109, 110, 111 Proposed","LED Lamp or Fixture","1LED095","95w LED (including driver wattage)",95]
[null,"109, 110, 111 Proposed","LED Lamp or Fixture","1LED096","96w LED (including driver wattage)",96]
[null,"109, 110, 111 Proposed","LED Lamp or Fixture","1LED097","97w LED (including driver wattage)",97]
[null,"109, 110, 111 Proposed","LED Lamp or Fixture","1LED098","98w LED (including driver wattage)",98]
[null,"109, 110, 111 Proposed","LED Lamp or Fixture","1LED099","99w LED (including driver wattage)",99]
[null,"109, 110, 111 Proposed","LED Lamp or Fixture","1LED100","100w LED (including driver wattage)",100]
[null,"109, 110, 111 Proposed","LED Lamp or Fixture","1LED101","101w LED (including driver wattage)",101]
[null,"109, 110, 111 Proposed","LED Lamp or Fixture","1LED102","102w LED (including driver wattage)",102]
[null,"109, 110, 111 Proposed","LED Lamp or Fixture","1LED103","103w LED (including driver wattage)",103]
[null,"109, 110, 111 Proposed","LED Lamp or Fixture","1LED104","104w LED (including driver wattage)",104]
[null,"109, 110, 111 Proposed","LED Lamp or Fixture","1LED105","105w LED (including driver wattage)",105]
[null,"109, 110, 111 Proposed","LED Lamp or Fixture","1LED106","106w LED (including driver wattage)",106]
[null,"109, 110, 111 Proposed","LED Lamp or Fixture","1LED107","107w LED (including driver wattage)",107]
[null,"109, 110, 111 Proposed","LED Lamp or Fixture","1LED108","108w LED (including driver wattage)",108]
[null,"109, 110, 111 Proposed","LED Lamp or Fixture","1LED109","109w LED (including driver wattage)",109]
[null,"109, 110, 111 Proposed","LED Lamp or Fixture","1LED110","110w LED (including driver wattage)",110]
[null,"109, 110, 111 Proposed","LED Lamp or Fixture","1LED111","111w LED (including driver wattage)",111]
[null,"109, 110, 111 Proposed","LED Lamp or Fixture","1LED112","112w LED (including driver wattage)",112]
[null,"109, 110, 111 Proposed","LED Lamp or Fixture","1LED113","113w LED (including driver wattage)",113]
[null,"109, 110, 111 Proposed","LED Lamp or Fixture","1LED114","114w LED (including driver wattage)",114]
[null,"109, 110, 111 Proposed","LED Lamp or Fixture","1LED115","115w LED (including driver wattage)",115]
[null,"109, 110, 111 Proposed","LED Lamp or Fixture","1LED116","116w LED (including driver wattage)",116]
[null,"109, 110, 111 Proposed","LED Lamp or Fixture","1LED117","117w LED (including driver wattage)",117]
[null,"109, 110, 111 Proposed","LED Lamp or Fixture","1LED118","118w LED (including driver wattage)",118]
[null,"109, 110, 111 Proposed","LED Lamp or Fixture","1LED119","119w LED (including driver wattage)",119]
[null,"109, 110, 111 Proposed","LED Lamp or Fixture","1LED120","120w LED (including driver wattage)",120]
[null,"109, 110, 111 Proposed","LED Lamp or Fixture","1LED121","121w LED (including driver wattage)",121]
[null,"109, 110, 111 Proposed","LED Lamp or Fixture","1LED122","122w LED (including driver wattage)",122]
[null,"109, 110, 111 Proposed","LED Lamp or Fixture","1LED123","123w LED (including driver wattage)",123]
[null,"109, 110, 111 Proposed","LED Lamp or Fixture","1LED124","124w LED (including driver wattage)",124]
[null,"109, 110, 111 Proposed","LED Lamp or Fixture","1LED125","125w LED (including driver wattage)",125]
[null,"109, 110, 111 Proposed","LED Lamp or Fixture","1LED126","126w LED (including driver wattage)",126]
[null,"109, 110, 111 Proposed","LED Lamp or Fixture","1LED127","127w LED (including driver wattage)",127]
[null,"109, 110, 111 Proposed","LED Lamp or Fixture","1LED128","128w LED (including driver wattage)",128]
[null,"109, 110, 111 Proposed","LED Lamp or Fixture","1LED129","129w LED (including driver wattage)",129]
[null,"109, 110, 111 Proposed","LED Lamp or Fixture","1LED130","130w LED (including driver wattage)",130]
[null,"109, 110, 111 Proposed","LED Lamp or Fixture","1LED131","131w LED (including driver wattage)",131]
[null,"109, 110, 111 Proposed","LED Lamp or Fixture","1LED132","132w LED (including driver wattage)",132]
[null,"109, 110, 111 Proposed","LED Lamp or Fixture","1LED133","133w LED (including driver wattage)",133]
[null,"109, 110, 111 Proposed","LED Lamp or Fixture","1LED134","134w LED (including driver wattage)",134]
[null,"109, 110, 111 Proposed","LED Lamp or Fixture","1LED135","135w LED (including driver wattage)",135]
[null,"109, 110, 111 Proposed","LED Lamp or Fixture","1LED136","136w LED (including driver wattage)",136]
[null,"109, 110, 111 Proposed","LED Lamp or Fixture","1LED137","137w LED (including driver wattage)",137]
[null,"109, 110, 111 Proposed","LED Lamp or Fixture","1LED138","138w LED (including driver wattage)",138]
[null,"109, 110, 111 Proposed","LED Lamp or Fixture","1LED139","139w LED (including driver wattage)",139]
[null,"109, 110, 111 Proposed","LED Lamp or Fixture","1LED140","140w LED (including driver wattage)",140]
[null,"109, 110, 111 Proposed","LED Lamp or Fixture","1LED141","141w LED (including driver wattage)",141]
[null,"109, 110, 111 Proposed","LED Lamp or Fixture","1LED142","142w LED (including driver wattage)",142]
[null,"109, 110, 111 Proposed","LED Lamp or Fixture","1LED143","143w LED (including driver wattage)",143]
[null,"109, 110, 111 Proposed","LED Lamp or Fixture","1LED144","144w LED (including driver wattage)",144]
[null,"109, 110, 111 Proposed","LED Lamp or Fixture","1LED145","145w LED (including driver wattage)",145]
[null,"109, 110, 111 Proposed","LED Lamp or Fixture","1LED146","146w LED (including driver wattage)",146]
[null,"109, 110, 111 Proposed","LED Lamp or Fixture","1LED147","147w LED (including driver wattage)",147]
[null,"109, 110, 111 Proposed","LED Lamp or Fixture","1LED148","148w LED (including driver wattage)",148]
[null,"109, 110, 111 Proposed","LED Lamp or Fixture","1LED149","149w LED (including driver wattage)",149]
[null,"109, 110, 111 Proposed","LED Lamp or Fixture","1LED150","150w LED (including driver wattage)",150]
[null,"109, 110, 111 Proposed","LED Lamp or Fixture","1LED151","151w LED (including driver wattage)",151]
[null,"109, 110, 111 Proposed","LED Lamp or Fixture","1LED152","152w LED (including driver wattage)",152]
[null,"109, 110, 111 Proposed","LED Lamp or Fixture","1LED153","153w LED (including driver wattage)",153]
[null,"109, 110, 111 Proposed","LED Lamp or Fixture","1LED154","154w LED (including driver wattage)",154]
[null,"109, 110, 111 Proposed","LED Lamp or Fixture","1LED155","155w LED (including driver wattage)",155]
[null,"109, 110, 111 Proposed","LED Lamp or Fixture","1LED156","156w LED (including driver wattage)",156]
[null,"109, 110, 111 Proposed","LED Lamp or Fixture","1LED157","157w LED (including driver wattage)",157]
[null,"109, 110, 111 Proposed","LED Lamp or Fixture","1LED158","158w LED (including driver wattage)",158]
[null,"109, 110, 111 Proposed","LED Lamp or Fixture","1LED159","159w LED (including driver wattage)",159]
[null,"109, 110, 111 Proposed","LED Lamp or Fixture","1LED160","160w LED (including driver wattage)",160]
[null,"109, 110, 111 Proposed","LED Lamp or Fixture","1LED161","161w LED (including driver wattage)",161]
[null,"109, 110, 111 Proposed","LED Lamp or Fixture","1LED162","162w LED (including driver wattage)",162]
[null,"109, 110, 111 Proposed","LED Lamp or Fixture","1LED163","163w LED (including driver wattage)",163]
[null,"109, 110, 111 Proposed","LED Lamp or Fixture","1LED164","164w LED (including driver wattage)",164]
[null,"109, 110, 111 Proposed","LED Lamp or Fixture","1LED165","165w LED (including driver wattage)",165]
[null,"109, 110, 111 Proposed","LED Lamp or Fixture","1LED166","166w LED (including driver wattage)",166]
[null,"109, 110, 111 Proposed","LED Lamp or Fixture","1LED167","167w LED (including driver wattage)",167]
[null,"109, 110, 111 Proposed","LED Lamp or Fixture","1LED168","168w LED (including driver wattage)",168]
[null,"109, 110, 111 Proposed","LED Lamp or Fixture","1LED169","169w LED (including driver wattage)",169]
[null,"109, 110, 111 Proposed","LED Lamp or Fixture","1LED170","170w LED (including driver wattage)",170]
[null,"109, 110, 111 Proposed","LED Lamp or Fixture","1LED171","171w LED (including driver wattage)",171]
[null,"109, 110, 111 Proposed","LED Lamp or Fixture","1LED172","172w LED (including driver wattage)",172]
[null,"109, 110, 111 Proposed","LED Lamp or Fixture","1LED173","173w LED (including driver wattage)",173]
[null,"109, 110, 111 Proposed","LED Lamp or Fixture","1LED174","174w LED (including driver wattage)",174]
[null,"109, 110, 111 Proposed","LED Lamp or Fixture","1LED175","175w LED (including driver wattage)",175]
[null,"109, 110, 111 Proposed","LED Lamp or Fixture","1LED176","176w LED (including driver wattage)",176]
[null,"109, 110, 111 Proposed","LED Lamp or Fixture","1LED177","177w LED (including driver wattage)",177]
[null,"109, 110, 111 Proposed","LED Lamp or Fixture","1LED178","178w LED (including driver wattage)",178]
[null,"109, 110, 111 Proposed","LED Lamp or Fixture","1LED179","179w LED (including driver wattage)",179]
[null,"109, 110, 111 Proposed","LED Lamp or Fixture","1LED180","180w LED (including driver wattage)",180]
[null,"109, 110, 111 Proposed","LED Lamp or Fixture","1LED181","181w LED (including driver wattage)",181]
[null,"109, 110, 111 Proposed","LED Lamp or Fixture","1LED182","182w LED (including driver wattage)",182]
[null,"109, 110, 111 Proposed","LED Lamp or Fixture","1LED183","183w LED (including driver wattage)",183]
[null,"109, 110, 111 Proposed","LED Lamp or Fixture","1LED184","184w LED (including driver wattage)",184]
[null,"109, 110, 111 Proposed","LED Lamp or Fixture","1LED185","185w LED (including driver wattage)",185]
[null,"109, 110, 111 Proposed","LED Lamp or Fixture","1LED186","186w LED (including driver wattage)",186]
[null,"109, 110, 111 Proposed","LED Lamp or Fixture","1LED187","187w LED (including driver wattage)",187]
[null,"109, 110, 111 Proposed","LED Lamp or Fixture","1LED188","188w LED (including driver wattage)",188]
[null,"109, 110, 111 Proposed","LED Lamp or Fixture","1LED189","189w LED (including driver wattage)",189]
[null,"109, 110, 111 Proposed","LED Lamp or Fixture","1LED190","190w LED (including driver wattage)",190]
[null,"109, 110, 111 Proposed","LED Lamp or Fixture","1LED191","191w LED (including driver wattage)",191]
[null,"109, 110, 111 Proposed","LED Lamp or Fixture","1LED192","192w LED (including driver wattage)",192]
[null,"109, 110, 111 Proposed","LED Lamp or Fixture","1LED193","193w LED (including driver wattage)",193]
[null,"109, 110, 111 Proposed","LED Lamp or Fixture","1LED194","194w LED (including driver wattage)",194]
[null,"109, 110, 111 Proposed","LED Lamp or Fixture","1LED195","195w LED (including driver wattage)",195]
[null,"109, 110, 111 Proposed","LED Lamp or Fixture","1LED196","196w LED (including driver wattage)",196]
[null,"109, 110, 111 Proposed","LED Lamp or Fixture","1LED197","197w LED (including driver wattage)",197]
[null,"109, 110, 111 Proposed","LED Lamp or Fixture","1LED198","198w LED (including driver wattage)",198]
[null,"109, 110, 111 Proposed","LED Lamp or Fixture","1LED199","199w LED (including driver wattage)",199]
[null,"109, 110, 111 Proposed","LED Lamp or Fixture","1LED200","200w LED (including driver wattage)",200]
[null,"109, 110, 111 Proposed","LED Lamp or Fixture","1LED201","201w LED (including driver wattage)",201]
[null,"109, 110, 111 Proposed","LED Lamp or Fixture","1LED202","202w LED (including driver wattage)",202]
[null,"109, 110, 111 Proposed","LED Lamp or Fixture","1LED203","203w LED (including driver wattage)",203]
[null,"109, 110, 111 Proposed","LED Lamp or Fixture","1LED204","204w LED (including driver wattage)",204]
[null,"109, 110, 111 Proposed","LED Lamp or Fixture","1LED205","205w LED (including driver wattage)",205]
[null,"109, 110, 111 Proposed","LED Lamp or Fixture","1LED206","206w LED (including driver wattage)",206]
[null,"109, 110, 111 Proposed","LED Lamp or Fixture","1LED207","207w LED (including driver wattage)",207]
[null,"109, 110, 111 Proposed","LED Lamp or Fixture","1LED208","208w LED (including driver wattage)",208]
[null,"109, 110, 111 Proposed","LED Lamp or Fixture","1LED209","209w LED (including driver wattage)",209]
[null,"109, 110, 111 Proposed","LED Lamp or Fixture","1LED210","210w LED (including driver wattage)",210]
[null,"109, 110, 111 Proposed","LED Lamp or Fixture","1LED211","211w LED (including driver wattage)",211]
[null,"109, 110, 111 Proposed","LED Lamp or Fixture","1LED212","212w LED (including driver wattage)",212]
[null,"109, 110, 111 Proposed","LED Lamp or Fixture","1LED213","213w LED (including driver wattage)",213]
[null,"109, 110, 111 Proposed","LED Lamp or Fixture","1LED214","214w LED (including driver wattage)",214]
[null,"109, 110, 111 Proposed","LED Lamp or Fixture","1LED215","215w LED (including driver wattage)",215]
[null,"109, 110, 111 Proposed","LED Lamp or Fixture","1LED216","216w LED (including driver wattage)",216]
[null,"109, 110, 111 Proposed","LED Lamp or Fixture","1LED217","217w LED (including driver wattage)",217]
[null,"109, 110, 111 Proposed","LED Lamp or Fixture","1LED218","218w LED (including driver wattage)",218]
[null,"109, 110, 111 Proposed","LED Lamp or Fixture","1LED219","219w LED (including driver wattage)",219]
[null,"109, 110, 111 Proposed","LED Lamp or Fixture","1LED220","220w LED (including driver wattage)",220]
[null,"109, 110, 111 Proposed","LED Lamp or Fixture","1LED221","221w LED (including driver wattage)",221]
[null,"109, 110, 111 Proposed","LED Lamp or Fixture","1LED222","222w LED (including driver wattage)",222]
[null,"109, 110, 111 Proposed","LED Lamp or Fixture","1LED223","223w LED (including driver wattage)",223]
[null,"109, 110, 111 Proposed","LED Lamp or Fixture","1LED224","224w LED (including driver wattage)",224]
[null,"109, 110, 111 Proposed","LED Lamp or Fixture","1LED225","225w LED (including driver wattage)",225]
[null,"109, 110, 111 Proposed","LED Lamp or Fixture","1LED226","226w LED (including driver wattage)",226]
[null,"109, 110, 111 Proposed","LED Lamp or Fixture","1LED227","227w LED (including driver wattage)",227]
[null,"109, 110, 111 Proposed","LED Lamp or Fixture","1LED228","228w LED (including driver wattage)",228]
[null,"109, 110, 111 Proposed","LED Lamp or Fixture","1LED229","229w LED (including driver wattage)",229]
[null,"109, 110, 111 Proposed","LED Lamp or Fixture","1LED230","230w LED (including driver wattage)",230]
[null,"109, 110, 111 Proposed","LED Lamp or Fixture","1LED231","231w LED (including driver wattage)",231]
[null,"109, 110, 111 Proposed","LED Lamp or Fixture","1LED232","232w LED (including driver wattage)",232]
[null,"109, 110, 111 Proposed","LED Lamp or Fixture","1LED233","233w LED (including driver wattage)",233]
[null,"109, 110, 111 Proposed","LED Lamp or Fixture","1LED234","234w LED (including driver wattage)",234]
[null,"109, 110, 111 Proposed","LED Lamp or Fixture","1LED235","235w LED (including driver wattage)",235]
[null,"109, 110, 111 Proposed","LED Lamp or Fixture","1LED236","236w LED (including driver wattage)",236]
[null,"109, 110, 111 Proposed","LED Lamp or Fixture","1LED237","237w LED (including driver wattage)",237]
[null,"109, 110, 111 Proposed","LED Lamp or Fixture","1LED238","238w LED (including driver wattage)",238]
[null,"109, 110, 111 Proposed","LED Lamp or Fixture","1LED239","239w LED (including driver wattage)",239]
[null,"109, 110, 111 Proposed","LED Lamp or Fixture","1LED240","240w LED (including driver wattage)",240]
[null,"109, 110, 111 Proposed","LED Lamp or Fixture","1LED241","241w LED (including driver wattage)",241]
[null,"109, 110, 111 Proposed","LED Lamp or Fixture","1LED242","242w LED (including driver wattage)",242]
[null,"109, 110, 111 Proposed","LED Lamp or Fixture","1LED243","243w LED (including driver wattage)",243]
[null,"109, 110, 111 Proposed","LED Lamp or Fixture","1LED244","244w LED (including driver wattage)",244]
[null,"109, 110, 111 Proposed","LED Lamp or Fixture","1LED245","245w LED (including driver wattage)",245]
[null,"109, 110, 111 Proposed","LED Lamp or Fixture","1LED246","246w LED (including driver wattage)",246]
[null,"109, 110, 111 Proposed","LED Lamp or Fixture","1LED247","247w LED (including driver wattage)",247]
[null,"109, 110, 111 Proposed","LED Lamp or Fixture","1LED248","248w LED (including driver wattage)",248]
[null,"109, 110, 111 Proposed","LED Lamp or Fixture","1LED249","249w LED (including driver wattage)",249]
[null,"109, 110, 111 Proposed","LED Lamp or Fixture","1LED250","250w LED (including driver wattage)",250]
[null,"109, 110, 111 Proposed","LED Lamp or Fixture","1LED251","251w LED (including driver wattage)",251]
[null,"109, 110, 111 Proposed","LED Lamp or Fixture","1LED252","252w LED (including driver wattage)",252]
[null,"109, 110, 111 Proposed","LED Lamp or Fixture","1LED253","253w LED (including driver wattage)",253]
[null,"109, 110, 111 Proposed","LED Lamp or Fixture","1LED254","254w LED (including driver wattage)",254]
[null,"109, 110, 111 Proposed","LED Lamp or Fixture","1LED255","255w LED (including driver wattage)",255]
[null,"109, 110, 111 Proposed","LED Lamp or Fixture","1LED256","256w LED (including driver wattage)",256]
[null,"109, 110, 111 Proposed","LED Lamp or Fixture","1LED257","257w LED (including driver wattage)",257]
[null,"109, 110, 111 Proposed","LED Lamp or Fixture","1LED258","258w LED (including driver wattage)",258]
[null,"109, 110, 111 Proposed","LED Lamp or Fixture","1LED259","259w LED (including driver wattage)",259]
[null,"109, 110, 111 Proposed","LED Lamp or Fixture","1LED260","260w LED (including driver wattage)",260]
[null,"109, 110, 111 Proposed","LED Lamp or Fixture","1LED261","261w LED (including driver wattage)",261]
[null,"109, 110, 111 Proposed","LED Lamp or Fixture","1LED262","262w LED (including driver wattage)",262]
[null,"109, 110, 111 Proposed","LED Lamp or Fixture","1LED263","263w LED (including driver wattage)",263]
[null,"109, 110, 111 Proposed","LED Lamp or Fixture","1LED264","264w LED (including driver wattage)",264]
[null,"109, 110, 111 Proposed","LED Lamp or Fixture","1LED265","265w LED (including driver wattage)",265]
[null,"109, 110, 111 Proposed","LED Lamp or Fixture","1LED266","266w LED (including driver wattage)",266]
[null,"109, 110, 111 Proposed","LED Lamp or Fixture","1LED267","267w LED (including driver wattage)",267]
[null,"109, 110, 111 Proposed","LED Lamp or Fixture","1LED268","268w LED (including driver wattage)",268]
[null,"109, 110, 111 Proposed","LED Lamp or Fixture","1LED269","269w LED (including driver wattage)",269]
[null,"109, 110, 111 Proposed","LED Lamp or Fixture","1LED270","270w LED (including driver wattage)",270]
[null,"109, 110, 111 Proposed","LED Lamp or Fixture","1LED271","271w LED (including driver wattage)",271]
[null,"109, 110, 111 Proposed","LED Lamp or Fixture","1LED272","272w LED (including driver wattage)",272]
[null,"109, 110, 111 Proposed","LED Lamp or Fixture","1LED273","273w LED (including driver wattage)",273]
[null,"109, 110, 111 Proposed","LED Lamp or Fixture","1LED274","274w LED (including driver wattage)",274]
[null,"109, 110, 111 Proposed","LED Lamp or Fixture","1LED275","275w LED (including driver wattage)",275]
[null,"109, 110, 111 Proposed","LED Lamp or Fixture","1LED276","276w LED (including driver wattage)",276]
[null,"109, 110, 111 Proposed","LED Lamp or Fixture","1LED277","277w LED (including driver wattage)",277]
[null,"109, 110, 111 Proposed","LED Lamp or Fixture","1LED278","278w LED (including driver wattage)",278]
[null,"109, 110, 111 Proposed","LED Lamp or Fixture","1LED279","279w LED (including driver wattage)",279]
[null,"109, 110, 111 Proposed","LED Lamp or Fixture","1LED280","280w LED (including driver wattage)",280]
[null,"109, 110, 111 Proposed","LED Lamp or Fixture","1LED281","281w LED (including driver wattage)",281]
[null,"109, 110, 111 Proposed","LED Lamp or Fixture","1LED282","282w LED (including driver wattage)",282]
[null,"109, 110, 111 Proposed","LED Lamp or Fixture","1LED283","283w LED (including driver wattage)",283]
[null,"109, 110, 111 Proposed","LED Lamp or Fixture","1LED284","284w LED (including driver wattage)",284]
[null,"109, 110, 111 Proposed","LED Lamp or Fixture","1LED285","285w LED (including driver wattage)",285]
[null,"109, 110, 111 Proposed","LED Lamp or Fixture","1LED286","286w LED (including driver wattage)",286]
[null,"109, 110, 111 Proposed","LED Lamp or Fixture","1LED287","287w LED (including driver wattage)",287]
[null,"109, 110, 111 Proposed","LED Lamp or Fixture","1LED288","288w LED (including driver wattage)",288]
[null,"109, 110, 111 Proposed","LED Lamp or Fixture","1LED289","289w LED (including driver wattage)",289]
[null,"109, 110, 111 Proposed","LED Lamp or Fixture","1LED290","290w LED (including driver wattage)",290]
[null,"109, 110, 111 Proposed","LED Lamp or Fixture","1LED291","291w LED (including driver wattage)",291]
[null,"109, 110, 111 Proposed","LED Lamp or Fixture","1LED292","292w LED (including driver wattage)",292]
[null,"109, 110, 111 Proposed","LED Lamp or Fixture","1LED293","293w LED (including driver wattage)",293]
[null,"109, 110, 111 Proposed","LED Lamp or Fixture","1LED294","294w LED (including driver wattage)",294]
[null,"109, 110, 111 Proposed","LED Lamp or Fixture","1LED295","295w LED (including driver wattage)",295]
[null,"109, 110, 111 Proposed","LED Lamp or Fixture","1LED296","296w LED (including driver wattage)",296]
[null,"109, 110, 111 Proposed","LED Lamp or Fixture","1LED297","297w LED (including driver wattage)",297]
[null,"109, 110, 111 Proposed","LED Lamp or Fixture","1LED298","298w LED (including driver wattage)",298]
[null,"109, 110, 111 Proposed","LED Lamp or Fixture","1LED299","299w LED (including driver wattage)",299]
[null,"109, 110, 111 Proposed","LED Lamp or Fixture","1LED300","300w LED (including driver wattage)",300]
[null,"109, 110, 111 Proposed","LED Lamp or Fixture","1LED301","301w LED (including Driver Wattage)",301]
[null,"109, 110, 111 Proposed","LED Lamp or Fixture","1LED302","302w LED (including Driver Wattage)",302]
[null,"109, 110, 111 Proposed","LED Lamp or Fixture","1LED303","303w LED (including Driver Wattage)",303]
[null,"109, 110, 111 Proposed","LED Lamp or Fixture","1LED304","304w LED (including Driver Wattage)",304]
[null,"109, 110, 111 Proposed","LED Lamp or Fixture","1LED305","305w LED (including Driver Wattage)",305]
[null,"109, 110, 111 Proposed","LED Lamp or Fixture","1LED306","306w LED (including Driver Wattage)",306]
[null,"109, 110, 111 Proposed","LED Lamp or Fixture","1LED307","307w LED (including Driver Wattage)",307]
[null,"109, 110, 111 Proposed","LED Lamp or Fixture","1LED308","308w LED (including Driver Wattage)",308]
[null,"109, 110, 111 Proposed","LED Lamp or Fixture","1LED309","309w LED (including Driver Wattage)",309]
[null,"109, 110, 111 Proposed","LED Lamp or Fixture","1LED310","310w LED (including Driver Wattage)",310]
[null,"109, 110, 111 Proposed","LED Lamp or Fixture","1LED311","311w LED (including Driver Wattage)",311]
[null,"109, 110, 111 Proposed","LED Lamp or Fixture","1LED312","312w LED (including Driver Wattage)",312]
[null,"109, 110, 111 Proposed","LED Lamp or Fixture","1LED313","313w LED (including Driver Wattage)",313]
[null,"109, 110, 111 Proposed","LED Lamp or Fixture","1LED314","314w LED (including Driver Wattage)",314]
[null,"109, 110, 111 Proposed","LED Lamp or Fixture","1LED315","315w LED (including Driver Wattage)",315]
[null,"109, 110, 111 Proposed","LED Lamp or Fixture","1LED316","316w LED (including Driver Wattage)",316]
[null,"109, 110, 111 Proposed","LED Lamp or Fixture","1LED317","317w LED (including Driver Wattage)",317]
[null,"109, 110, 111 Proposed","LED Lamp or Fixture","1LED318","318w LED (including Driver Wattage)",318]
[null,"109, 110, 111 Proposed","LED Lamp or Fixture","1LED319","319w LED (including Driver Wattage)",319]
[null,"109, 110, 111 Proposed","LED Lamp or Fixture","1LED320","320w LED (including Driver Wattage)",320]
[null,"109, 110, 111 Proposed","LED Lamp or Fixture","1LED321","321w LED (including Driver Wattage)",321]
[null,"109, 110, 111 Proposed","LED Lamp or Fixture","1LED322","322w LED (including Driver Wattage)",322]
[null,"109, 110, 111 Proposed","LED Lamp or Fixture","1LED323","323w LED (including Driver Wattage)",323]
[null,"109, 110, 111 Proposed","LED Lamp or Fixture","1LED324","324w LED (including Driver Wattage)",324]
[null,"109, 110, 111 Proposed","LED Lamp or Fixture","1LED325","325w LED (including Driver Wattage)",325]
[null,"109, 110, 111 Proposed","LED Lamp or Fixture","1LED326","326w LED (including Driver Wattage)",326]
[null,"109, 110, 111 Proposed","LED Lamp or Fixture","1LED327","327w LED (including Driver Wattage)",327]
[null,"109, 110, 111 Proposed","LED Lamp or Fixture","1LED328","328w LED (including Driver Wattage)",328]
[null,"109, 110, 111 Proposed","LED Lamp or Fixture","1LED329","329w LED (including Driver Wattage)",329]
[null,"109, 110, 111 Proposed","LED Lamp or Fixture","1LED330","330w LED (including Driver Wattage)",330]
[null,"109, 110, 111 Proposed","LED Lamp or Fixture","1LED331","331w LED (including Driver Wattage)",331]
[null,"109, 110, 111 Proposed","LED Lamp or Fixture","1LED332","332w LED (including Driver Wattage)",332]
[null,"109, 110, 111 Proposed","LED Lamp or Fixture","1LED333","333w LED (including Driver Wattage)",333]
[null,"109, 110, 111 Proposed","LED Lamp or Fixture","1LED334","334w LED (including Driver Wattage)",334]
[null,"109, 110, 111 Proposed","LED Lamp or Fixture","1LED335","335w LED (including Driver Wattage)",335]
[null,"109, 110, 111 Proposed","LED Lamp or Fixture","1LED336","336w LED (including Driver Wattage)",336]
[null,"109, 110, 111 Proposed","LED Lamp or Fixture","1LED337","337w LED (including Driver Wattage)",337]
[null,"109, 110, 111 Proposed","LED Lamp or Fixture","1LED338","338w LED (including Driver Wattage)",338]
[null,"109, 110, 111 Proposed","LED Lamp or Fixture","1LED339","339w LED (including Driver Wattage)",339]
[null,"109, 110, 111 Proposed","LED Lamp or Fixture","1LED340","340w LED (including Driver Wattage)",340]
[null,"109, 110, 111 Proposed","LED Lamp or Fixture","1LED341","341w LED (including Driver Wattage)",341]
[null,"109, 110, 111 Proposed","LED Lamp or Fixture","1LED342","342w LED (including Driver Wattage)",342]
[null,"109, 110, 111 Proposed","LED Lamp or Fixture","1LED343","343w LED (including Driver Wattage)",343]
[null,"109, 110, 111 Proposed","LED Lamp or Fixture","1LED344","344w LED (including Driver Wattage)",344]
[null,"109, 110, 111 Proposed","LED Lamp or Fixture","1LED345","345w LED (including Driver Wattage)",345]
[null,"109, 110, 111 Proposed","LED Lamp or Fixture","1LED346","346w LED (including Driver Wattage)",346]
[null,"109, 110, 111 Proposed","LED Lamp or Fixture","1LED347","347w LED (including Driver Wattage)",347]
[null,"109, 110, 111 Proposed","LED Lamp or Fixture","1LED348","348w LED (including Driver Wattage)",348]
[null,"109, 110, 111 Proposed","LED Lamp or Fixture","1LED349","349w LED (including Driver Wattage)",349]
[null,"109, 110, 111 Proposed","LED Lamp or Fixture","1LED350","350w LED (including Driver Wattage)",350]
[null,"109, 110, 111 Proposed","LED Lamp or Fixture","1LED351","351w LED (including Driver Wattage)",351]
[null,"109, 110, 111 Proposed","LED Lamp or Fixture","1LED352","352w LED (including Driver Wattage)",352]
[null,"109, 110, 111 Proposed","LED Lamp or Fixture","1LED353","353w LED (including Driver Wattage)",353]
[null,"109, 110, 111 Proposed","LED Lamp or Fixture","1LED354","354w LED (including Driver Wattage)",354]
[null,"109, 110, 111 Proposed","LED Lamp or Fixture","1LED355","355w LED (including Driver Wattage)",355]
[null,"109, 110, 111 Proposed","LED Lamp or Fixture","1LED356","356w LED (including Driver Wattage)",356]
[null,"109, 110, 111 Proposed","LED Lamp or Fixture","1LED357","357w LED (including Driver Wattage)",357]
[null,"109, 110, 111 Proposed","LED Lamp or Fixture","1LED358","358w LED (including Driver Wattage)",358]
[null,"109, 110, 111 Proposed","LED Lamp or Fixture","1LED359","359w LED (including Driver Wattage)",359]
[null,"109, 110, 111 Proposed","LED Lamp or Fixture","1LED360","360w LED (including Driver Wattage)",360]
[null,"109, 110, 111 Proposed","LED Lamp or Fixture","1LED361","361w LED (including Driver Wattage)",361]
[null,"109, 110, 111 Proposed","LED Lamp or Fixture","1LED362","362w LED (including Driver Wattage)",362]
[null,"109, 110, 111 Proposed","LED Lamp or Fixture","1LED363","363w LED (including Driver Wattage)",363]
[null,"109, 110, 111 Proposed","LED Lamp or Fixture","1LED364","364w LED (including Driver Wattage)",364]
[null,"109, 110, 111 Proposed","LED Lamp or Fixture","1LED365","365w LED (including Driver Wattage)",365]
[null,"109, 110, 111 Proposed","LED Lamp or Fixture","1LED366","366w LED (including Driver Wattage)",366]
[null,"109, 110, 111 Proposed","LED Lamp or Fixture","1LED367","367w LED (including Driver Wattage)",367]
[null,"109, 110, 111 Proposed","LED Lamp or Fixture","1LED368","368w LED (including Driver Wattage)",368]
[null,"109, 110, 111 Proposed","LED Lamp or Fixture","1LED369","369w LED (including Driver Wattage)",369]
[null,"109, 110, 111 Proposed","LED Lamp or Fixture","1LED370","370w LED (including Driver Wattage)",370]
[null,"109, 110, 111 Proposed","LED Lamp or Fixture","1LED371","371w LED (including Driver Wattage)",371]
[null,"109, 110, 111 Proposed","LED Lamp or Fixture","1LED372","372w LED (including Driver Wattage)",372]
[null,"109, 110, 111 Proposed","LED Lamp or Fixture","1LED373","373w LED (including Driver Wattage)",373]
[null,"109, 110, 111 Proposed","LED Lamp or Fixture","1LED374","374w LED (including Driver Wattage)",374]
[null,"109, 110, 111 Proposed","LED Lamp or Fixture","1LED375","375w LED (including Driver Wattage)",375]
[null,"109, 110, 111 Proposed","LED Lamp or Fixture","1LED376","376w LED (including Driver Wattage)",376]
[null,"109, 110, 111 Proposed","LED Lamp or Fixture","1LED377","377w LED (including Driver Wattage)",377]
[null,"109, 110, 111 Proposed","LED Lamp or Fixture","1LED378","378w LED (including Driver Wattage)",378]
[null,"109, 110, 111 Proposed","LED Lamp or Fixture","1LED379","379w LED (including Driver Wattage)",379]
[null,"109, 110, 111 Proposed","LED Lamp or Fixture","1LED380","380w LED (including Driver Wattage)",380]
[null,"109, 110, 111 Proposed","LED Lamp or Fixture","1LED381","381w LED (including Driver Wattage)",381]
[null,"109, 110, 111 Proposed","LED Lamp or Fixture","1LED382","382w LED (including Driver Wattage)",382]
[null,"109, 110, 111 Proposed","LED Lamp or Fixture","1LED383","383w LED (including Driver Wattage)",383]
[null,"109, 110, 111 Proposed","LED Lamp or Fixture","1LED384","384w LED (including Driver Wattage)",384]
[null,"109, 110, 111 Proposed","LED Lamp or Fixture","1LED385","385w LED (including Driver Wattage)",385]
[null,"109, 110, 111 Proposed","LED Lamp or Fixture","1LED386","386w LED (including Driver Wattage)",386]
[null,"109, 110, 111 Proposed","LED Lamp or Fixture","1LED387","387w LED (including Driver Wattage)",387]
[null,"109, 110, 111 Proposed","LED Lamp or Fixture","1LED388","388w LED (including Driver Wattage)",388]
[null,"109, 110, 111 Proposed","LED Lamp or Fixture","1LED389","389w LED (including Driver Wattage)",389]
[null,"109, 110, 111 Proposed","LED Lamp or Fixture","1LED390","390w LED (including Driver Wattage)",390]
[null,"109, 110, 111 Proposed","LED Lamp or Fixture","1LED391","391w LED (including Driver Wattage)",391]
[null,"109, 110, 111 Proposed","LED Lamp or Fixture","1LED392","392w LED (including Driver Wattage)",392]
[null,"109, 110, 111 Proposed","LED Lamp or Fixture","1LED393","393w LED (including Driver Wattage)",393]
[null,"109, 110, 111 Proposed","LED Lamp or Fixture","1LED394","394w LED (including Driver Wattage)",394]
[null,"109, 110, 111 Proposed","LED Lamp or Fixture","1LED395","395w LED (including Driver Wattage)",395]
[null,"109, 110, 111 Proposed","LED Lamp or Fixture","1LED396","396w LED (including Driver Wattage)",396]
[null,"109, 110, 111 Proposed","LED Lamp or Fixture","1LED397","397w LED (including Driver Wattage)",397]
[null,"109, 110, 111 Proposed","LED Lamp or Fixture","1LED398","398w LED (including Driver Wattage)",398]
[null,"109, 110, 111 Proposed","LED Lamp or Fixture","1LED399","399w LED (including Driver Wattage)",399]
[null,"109, 110, 111 Proposed","LED Lamp or Fixture","1LED400","400w LED (including Driver Wattage)",400]
[null,"109, 110, 111 Proposed","LED Lamp or Fixture","1LED401","401w LED (including Driver Wattage)",401]
[null,"109, 110, 111 Proposed","LED Lamp or Fixture","1LED402","402w LED (including Driver Wattage)",402]
[null,"109, 110, 111 Proposed","LED Lamp or Fixture","1LED403","403w LED (including Driver Wattage)",403]
[null,"109, 110, 111 Proposed","LED Lamp or Fixture","1LED404","404w LED (including Driver Wattage)",404]
[null,"109, 110, 111 Proposed","LED Lamp or Fixture","1LED405","405w LED (including Driver Wattage)",405]
[null,"109, 110, 111 Proposed","LED Lamp or Fixture","1LED406","406w LED (including Driver Wattage)",406]
[null,"109, 110, 111 Proposed","LED Lamp or Fixture","1LED407","407w LED (including Driver Wattage)",407]
[null,"109, 110, 111 Proposed","LED Lamp or Fixture","1LED408","408w LED (including Driver Wattage)",408]
[null,"109, 110, 111 Proposed","LED Lamp or Fixture","1LED409","409w LED (including Driver Wattage)",409]
[null,"109, 110, 111 Proposed","LED Lamp or Fixture","1LED410","410w LED (including Driver Wattage)",410]
[null,"109, 110, 111 Proposed","LED Lamp or Fixture","1LED411","411w LED (including Driver Wattage)",411]
[null,"109, 110, 111 Proposed","LED Lamp or Fixture","1LED412","412w LED (including Driver Wattage)",412]
[null,"109, 110, 111 Proposed","LED Lamp or Fixture","1LED413","413w LED (including Driver Wattage)",413]
[null,"109, 110, 111 Proposed","LED Lamp or Fixture","1LED414","414w LED (including Driver Wattage)",414]
[null,"109, 110, 111 Proposed","LED Lamp or Fixture","1LED415","415w LED (including Driver Wattage)",415]
[null,"109, 110, 111 Proposed","LED Lamp or Fixture","1LED416","416w LED (including Driver Wattage)",416]
[null,"109, 110, 111 Proposed","LED Lamp or Fixture","1LED417","417w LED (including Driver Wattage)",417]
[null,"109, 110, 111 Proposed","LED Lamp or Fixture","1LED418","418w LED (including Driver Wattage)",418]
[null,"109, 110, 111 Proposed","LED Lamp or Fixture","1LED419","419w LED (including Driver Wattage)",419]
[null,"109, 110, 111 Proposed","LED Lamp or Fixture","1LED420","420w LED (including Driver Wattage)",420]
[null,"109, 110, 111 Proposed","LED Lamp or Fixture","1LED421","421w LED (including Driver Wattage)",421]
[null,"109, 110, 111 Proposed","LED Lamp or Fixture","1LED422","422w LED (including Driver Wattage)",422]
[null,"109, 110, 111 Proposed","LED Lamp or Fixture","1LED423","423w LED (including Driver Wattage)",423]
[null,"109, 110, 111 Proposed","LED Lamp or Fixture","1LED424","424w LED (including Driver Wattage)",424]
[null,"109, 110, 111 Proposed","LED Lamp or Fixture","1LED425","425w LED (including Driver Wattage)",425]
[null,"109, 110, 111 Proposed","LED Lamp or Fixture","1LED426","426w LED (including Driver Wattage)",426]
[null,"109, 110, 111 Proposed","LED Lamp or Fixture","1LED427","427w LED (including Driver Wattage)",427]
[null,"109, 110, 111 Proposed","LED Lamp or Fixture","1LED428","428w LED (including Driver Wattage)",428]
[null,"109, 110, 111 Proposed","LED Lamp or Fixture","1LED429","429w LED (including Driver Wattage)",429]
[null,"109, 110, 111 Proposed","LED Lamp or Fixture","1LED430","430w LED (including Driver Wattage)",430]
[null,"109, 110, 111 Proposed","LED Lamp or Fixture","1LED431","431w LED (including Driver Wattage)",431]
[null,"109, 110, 111 Proposed","LED Lamp or Fixture","1LED432","432w LED (including Driver Wattage)",432]
[null,"109, 110, 111 Proposed","LED Lamp or Fixture","1LED433","433w LED (including Driver Wattage)",433]
[null,"109, 110, 111 Proposed","LED Lamp or Fixture","1LED434","434w LED (including Driver Wattage)",434]
[null,"109, 110, 111 Proposed","LED Lamp or Fixture","1LED435","435w LED (including Driver Wattage)",435]
[null,"109, 110, 111 Proposed","LED Lamp or Fixture","1LED436","436w LED (including Driver Wattage)",436]
[null,"109, 110, 111 Proposed","LED Lamp or Fixture","1LED437","437w LED (including Driver Wattage)",437]
[null,"109, 110, 111 Proposed","LED Lamp or Fixture","1LED438","438w LED (including Driver Wattage)",438]
[null,"109, 110, 111 Proposed","LED Lamp or Fixture","1LED439","439w LED (including Driver Wattage)",439]
[null,"109, 110, 111 Proposed","LED Lamp or Fixture","1LED440","440w LED (including Driver Wattage)",440]
[null,"109, 110, 111 Proposed","LED Lamp or Fixture","1LED441","441w LED (including Driver Wattage)",441]
[null,"109, 110, 111 Proposed","LED Lamp or Fixture","1LED442","442w LED (including Driver Wattage)",442]
[null,"109, 110, 111 Proposed","LED Lamp or Fixture","1LED443","443w LED (including Driver Wattage)",443]
[null,"109, 110, 111 Proposed","LED Lamp or Fixture","1LED444","444w LED (including Driver Wattage)",444]
[null,"109, 110, 111 Proposed","LED Lamp or Fixture","1LED445","445w LED (including Driver Wattage)",445]
[null,"109, 110, 111 Proposed","LED Lamp or Fixture","1LED446","446w LED (including Driver Wattage)",446]
[null,"109, 110, 111 Proposed","LED Lamp or Fixture","1LED447","447w LED (including Driver Wattage)",447]
[null,"109, 110, 111 Proposed","LED Lamp or Fixture","1LED448","448w LED (including Driver Wattage)",448]
[null,"109, 110, 111 Proposed","LED Lamp or Fixture","1LED449","449w LED (including Driver Wattage)",449]
[null,"109, 110, 111 Proposed","LED Lamp or Fixture","1LED450","450w LED (including Driver Wattage)",450]
[null,"109, 110, 111 Proposed","LED Lamp or Fixture","1LED451","451w LED (including Driver Wattage)",451]
[null,"109, 110, 111 Proposed","LED Lamp or Fixture","1LED452","452w LED (including Driver Wattage)",452]
[null,"109, 110, 111 Proposed","LED Lamp or Fixture","1LED453","453w LED (including Driver Wattage)",453]
[null,"109, 110, 111 Proposed","LED Lamp or Fixture","1LED454","454w LED (including Driver Wattage)",454]
[null,"109, 110, 111 Proposed","LED Lamp or Fixture","1LED455","455w LED (including Driver Wattage)",455]
[null,"109, 110, 111 Proposed","LED Lamp or Fixture","1LED456","456w LED (including Driver Wattage)",456]
[null,"109, 110, 111 Proposed","LED Lamp or Fixture","1LED457","457w LED (including Driver Wattage)",457]
[null,"109, 110, 111 Proposed","LED Lamp or Fixture","1LED458","458w LED (including Driver Wattage)",458]
[null,"109, 110, 111 Proposed","LED Lamp or Fixture","1LED459","459w LED (including Driver Wattage)",459]
[null,"109, 110, 111 Proposed","LED Lamp or Fixture","1LED460","460w LED (including Driver Wattage)",460]
[null,"109, 110, 111 Proposed","LED Lamp or Fixture","1LED461","461w LED (including Driver Wattage)",461]
[null,"109, 110, 111 Proposed","LED Lamp or Fixture","1LED462","462w LED (including Driver Wattage)",462]
[null,"109, 110, 111 Proposed","LED Lamp or Fixture","1LED463","463w LED (including Driver Wattage)",463]
[null,"109, 110, 111 Proposed","LED Lamp or Fixture","1LED464","464w LED (including Driver Wattage)",464]
[null,"109, 110, 111 Proposed","LED Lamp or Fixture","1LED465","465w LED (including Driver Wattage)",465]
[null,"109, 110, 111 Proposed","LED Lamp or Fixture","1LED466","466w LED (including Driver Wattage)",466]
[null,"109, 110, 111 Proposed","LED Lamp or Fixture","1LED467","467w LED (including Driver Wattage)",467]
[null,"109, 110, 111 Proposed","LED Lamp or Fixture","1LED468","468w LED (including Driver Wattage)",468]
[null,"109, 110, 111 Proposed","LED Lamp or Fixture","1LED469","469w LED (including Driver Wattage)",469]
[null,"109, 110, 111 Proposed","LED Lamp or Fixture","1LED470","470w LED (including Driver Wattage)",470]
[null,"109, 110, 111 Proposed","LED Lamp or Fixture","1LED471","471w LED (including Driver Wattage)",471]
[null,"109, 110, 111 Proposed","LED Lamp or Fixture","1LED472","472w LED (including Driver Wattage)",472]
[null,"109, 110, 111 Proposed","LED Lamp or Fixture","1LED473","473w LED (including Driver Wattage)",473]
[null,"109, 110, 111 Proposed","LED Lamp or Fixture","1LED474","474w LED (including Driver Wattage)",474]
[null,"109, 110, 111 Proposed","LED Lamp or Fixture","1LED475","475w LED (including Driver Wattage)",475]
[null,"109, 110, 111 Proposed","LED Lamp or Fixture","1LED476","476w LED (including Driver Wattage)",476]
[null,"109, 110, 111 Proposed","LED Lamp or Fixture","1LED477","477w LED (including Driver Wattage)",477]
[null,"109, 110, 111 Proposed","LED Lamp or Fixture","1LED478","478w LED (including Driver Wattage)",478]
[null,"109, 110, 111 Proposed","LED Lamp or Fixture","1LED479","479w LED (including Driver Wattage)",479]
[null,"109, 110, 111 Proposed","LED Lamp or Fixture","1LED480","480w LED (including Driver Wattage)",480]
[null,"109, 110, 111 Proposed","LED Lamp or Fixture","1LED481","481w LED (including Driver Wattage)",481]
[null,"109, 110, 111 Proposed","LED Lamp or Fixture","1LED482","482w LED (including Driver Wattage)",482]
[null,"109, 110, 111 Proposed","LED Lamp or Fixture","1LED483","483w LED (including Driver Wattage)",483]
[null,"109, 110, 111 Proposed","LED Lamp or Fixture","1LED484","484w LED (including Driver Wattage)",484]
[null,"109, 110, 111 Proposed","LED Lamp or Fixture","1LED485","485w LED (including Driver Wattage)",485]
[null,"109, 110, 111 Proposed","LED Lamp or Fixture","1LED486","486w LED (including Driver Wattage)",486]
[null,"109, 110, 111 Proposed","LED Lamp or Fixture","1LED487","487w LED (including Driver Wattage)",487]
[null,"109, 110, 111 Proposed","LED Lamp or Fixture","1LED488","488w LED (including Driver Wattage)",488]
[null,"109, 110, 111 Proposed","LED Lamp or Fixture","1LED489","489w LED (including Driver Wattage)",489]
[null,"109, 110, 111 Proposed","LED Lamp or Fixture","1LED490","490w LED (including Driver Wattage)",490]
[null,"109, 110, 111 Proposed","LED Lamp or Fixture","1LED491","491w LED (including Driver Wattage)",491]
[null,"109, 110, 111 Proposed","LED Lamp or Fixture","1LED492","492w LED (including Driver Wattage)",492]
[null,"109, 110, 111 Proposed","LED Lamp or Fixture","1LED493","493w LED (including Driver Wattage)",493]
[null,"109, 110, 111 Proposed","LED Lamp or Fixture","1LED494","494w LED (including Driver Wattage)",494]
[null,"109, 110, 111 Proposed","LED Lamp or Fixture","1LED495","495w LED (including Driver Wattage)",495]
[null,"109, 110, 111 Proposed","LED Lamp or Fixture","1LED496","496w LED (including Driver Wattage)",496]
[null,"109, 110, 111 Proposed","LED Lamp or Fixture","1LED497","497w LED (including Driver Wattage)",497]
[null,"109, 110, 111 Proposed","LED Lamp or Fixture","1LED498","498w LED (including Driver Wattage)",498]
[null,"109, 110, 111 Proposed","LED Lamp or Fixture","1LED499","499w LED (including Driver Wattage)",499]
[null,"109, 110, 111 Proposed","LED Lamp or Fixture","1LED500","500w LED (including Driver Wattage)",500]
[null,"105, 106, 108 Existing","Incandescent Lamps","1I0015"," 15W INC  ",15]
[null,"105, 106, 108 Existing","Incandescent Lamps","1I0020"," 20W INC  ",20]
[null,"105, 106, 108 Existing","Incandescent Lamps","1I0025"," 25W INC  ",25]
[null,"105, 106, 108 Existing","Incandescent Lamps","1I0034"," 34W INC  ",34]
[null,"105, 106, 108 Existing","Incandescent Lamps","1I0036"," 36W INC  ",36]
[null,"105, 106, 108 Existing","Incandescent Lamps","1I0040"," 40W INC  ",29]
[null,"105, 106, 108 Existing","Incandescent Lamps","1I0042"," 42W INC  ",29]
[null,"105, 106, 108 Existing","Incandescent Lamps","1I0045"," 45W INC  ",29]
[null,"105, 106, 108 Existing","Incandescent Lamps","1I0050"," 50W INC  ",43]
[null,"105, 106, 108 Existing","Incandescent Lamps","1I0052"," 52W INC  ",43]
[null,"105, 106, 108 Existing","Incandescent Lamps","1I0054"," 54W INC  ",43]
[null,"105, 106, 108 Existing","Incandescent Lamps","1I0055"," 55W INC  ",43]
[null,"105, 106, 108 Existing","Incandescent Lamps","1I0060"," 60W INC  ",43]
[null,"105, 106, 108 Existing","Incandescent Lamps","1I0065"," 65W INC  ",53]
[null,"105, 106, 108 Existing","Incandescent Lamps","1I0067"," 67W INC  ",53]
[null,"105, 106, 108 Existing","Incandescent Lamps","1I0069"," 69W INC  ",53]
[null,"105, 106, 108 Existing","Incandescent Lamps","1I0072"," 72W INC  ",53]
[null,"105, 106, 108 Existing","Incandescent Lamps","1I0075"," 75W INC  ",53]
[null,"105, 106, 108 Existing","Incandescent Lamps","1I0080"," 80W INC  Reflector",72]
[null,"105, 106, 108 Existing","Incandescent Lamps","1I0085"," 85W INC  Reflector",85]
[null,"105, 106, 108 Existing","Incandescent Lamps","1I0090"," 90W INC  Reflector",90]
[null,"105, 106, 108 Existing","Incandescent Lamps","1I0093"," 93W INC  ",72]
[null,"105, 106, 108 Existing","Incandescent Lamps","1I0100"," 100W INC  ",72]
[null,"105, 106, 108 Existing","Compact Fluorescents","1C0005S"," 5W COMPACT HW  ",7]
[null,"105, 106, 108 Existing","Compact Fluorescents","1C0007S"," 7W COMPACT HW  ",9]
[null,"105, 106, 108 Existing","Compact Fluorescents","1C0009S"," 9W COMPACT HW  ",11]
[null,"105, 106, 108 Existing","Compact Fluorescents","1C0011S"," 11W COMPACT HW  ",13]
[null,"105, 106, 108 Existing","Compact Fluorescents","1C0013S"," 13W COMPACT HW  ",15]
[null,"105, 106, 108 Existing","Compact Fluorescents","1C0018E"," 18W COMPACT HW ELIG  ",20]
[null,"105, 106, 108 Existing","Compact Fluorescents","1C0018S"," 18W COMPACT HW  ",20]
[null,"105, 106, 108 Existing","Compact Fluorescents","1C0022S"," 22W COMPACT HW  ",24]
[null,"105, 106, 108 Existing","Compact Fluorescents","1C0023E"," 1/23W COMPACT HW ELIG  ",25]
[null,"105, 106, 108 Existing","Compact Fluorescents","1C0026E"," 26W COMPACT HW ELIG  ",28]
[null,"105, 106, 108 Existing","Compact Fluorescents","1C0026S"," 26W COMPACT HW  ",28]
[null,"105, 106, 108 Existing","Compact Fluorescents","1C0028S"," 28W COMPACT HW  ",30]
[null,"105, 106, 108 Existing","Compact Fluorescents","1C0032S"," 32W CIRCLINE HW  ",34]
[null,"105, 106, 108 Existing","Compact Fluorescents","1C0042E"," 1/42W COMPACT HW ELIG",48]
[null,"105, 106, 108 Existing","Compact Fluorescents","1C0044S","44W CIRCLINE HW  ",46]
[null,"105, 106, 108 Existing","Compact Fluorescents","1C0057E"," 1/57W COMPACT HW ELIG",65]
[null,"105, 106, 108 Existing","Compact Fluorescents","1C2232S"," 22/32W CIRCLINE HW ",58]
[null,"105, 106, 108 Existing","Compact Fluorescents","1C2D10E"," 10W 2D COMPACT HW ELIG  ",12]
[null,"105, 106, 108 Existing","Compact Fluorescents","1C2D16E"," 16W 2D COMPACT HW ELIG  ",18]
[null,"105, 106, 108 Existing","Compact Fluorescents","1C2D21E"," 21W 2D COMPACT HW ELIG  ",22]
[null,"105, 106, 108 Existing","Compact Fluorescents","1C2D28E"," 28W 2D COMPACT HW ELIG  ",28]
[null,"105, 106, 108 Existing","Compact Fluorescents","1C2D38E"," 38W 2D COMP. HW ELIG  ",36]
[null,"105, 106, 108 Existing","Compact Fluorescents","1C3240S"," 32/40W CIRCLINE HW  ",80]
[null,"105, 106, 108 Existing","Compact Fluorescents","2C0005S"," 2/5W COMPACT HW  ",14]
[null,"105, 106, 108 Existing","Compact Fluorescents","2C0007S"," 2/7W COMPACT HW  ",18]
[null,"105, 106, 108 Existing","Compact Fluorescents","2C0009S"," 2/9W COMPACT HW  ",22]
[null,"105, 106, 108 Existing","Compact Fluorescents","2C0011S"," 2/11W COMPACT HW  ",26]
[null,"105, 106, 108 Existing","Compact Fluorescents","2C0013E"," 2/13W COMPACT HW ELIG  ",28]
[null,"105, 106, 108 Existing","Compact Fluorescents","2C0013S"," 2/13W COMPACT HW  ",30]
[null,"105, 106, 108 Existing","Compact Fluorescents","2C0018E"," 2/18W COMP. HW ELIG  ",40]
[null,"105, 106, 108 Existing","Compact Fluorescents","2C0026E"," 2/26W COMP. HW ELIG  ",54]
[null,"105, 106, 108 Existing","Compact Fluorescents","2C0032E"," 2'/32W COMPACT HW ELIG  ",68]
[null,"105, 106, 108 Existing","Compact Fluorescents","2C0042E"," 2/42W COMPACT HW ELIG  ",100]
[null,"105, 106, 108 Existing","Compact Fluorescents","3C0009S"," 3/9W COMPACT HW  ",33]
[null,"105, 106, 108 Existing","Compact Fluorescents","3C0013S"," 3/13W COMPACT HW  ",45]
[null,"105, 106, 108 Existing","Compact Fluorescents","3C0018E"," 3'/18W COMPACT HW ELIG  ",60]
[null,"105, 106, 108 Existing","Compact Fluorescents","3C0026E"," 3/26W COMPACT HW ELIG  ",82]
[null,"105, 106, 108 Existing","Compact Fluorescents","3C0032E"," 3/32W COMPACT HW ELIG  ",114]
[null,"105, 106, 108 Existing","Compact Fluorescents","3C0042E"," 3/42W COMPACT HW ELIG  ",141]
[null,"105, 106, 108 Existing","Compact Fluorescents","4C0018E"," 4/18W COMPACT HW ELIG  ",80]
[null,"105, 106, 108 Existing","Compact Fluorescents","4C0026E"," 4/26W COMPACT HW ELIG  ",108]
[null,"105, 106, 108 Existing","Compact Fluorescents","4C0032E"," 4/32W COMPACT HW ELIG  ",152]
[null,"105, 106, 108 Existing","Compact Fluorescents","4C0042E"," 4/42W COMPACT HW ELIG  ",188]
[null,"105, 106, 108 Existing","Compact Fluorescents","6C0026E"," 6/26W COMPACT HW ELIG  ",162]
[null,"105, 106, 108 Existing","Compact Fluorescents","6C0032E"," 6/32W COMPACT HW ELIG  ",228]
[null,"105, 106, 108 Existing","Compact Fluorescents","6C0042E"," 6/42W COMPACT HW ELIG  ",282]
[null,"105, 106, 108 Existing","Compact Fluorescents","8C0026E"," 8/26W COMPACT HW ELIG  ",216]
[null,"105, 106, 108 Existing","Compact Fluorescents","8C0032E"," 8/32W COMPACT HW ELIG  ",304]
[null,"105, 106, 108 Existing","Compact Fluorescents","8C0042E"," 8/42W COMPACT HW ELIG  ",376]
[null,"105, 106, 108 Existing","Low Voltage Halogen","1R0020"," 20W LV HALOGEN FIXT  ",30]
[null,"105, 106, 108 Existing","Low Voltage Halogen","1R0025"," 25W LV HALOGEN FIXT  ",35]
[null,"105, 106, 108 Existing","Low Voltage Halogen","1R0035"," 35W LV HALOGEN FIXT  ",45]
[null,"105, 106, 108 Existing","Low Voltage Halogen","1R0042"," 42W LV HALOGEN FIXT  ",52]
[null,"105, 106, 108 Existing","Low Voltage Halogen","1R0050"," 50W LV HALOGEN FIXT  ",60]
[null,"105, 106, 108 Existing","Low Voltage Halogen","1R0065"," 65W LV HALOGEN FIXT  ",75]
[null,"105, 106, 108 Existing","Low Voltage Halogen","1R0075"," 75W LV HALOGEN FIXT  ",85]
[null,"105, 106, 108 Existing","MH Track Lighting","1MH0035E"," 35W MH SPOT  ",44]
[null,"105, 106, 108 Existing","MH Track Lighting","1MH0070E"," 70W MH SPOT  ",80]
[null,"105, 106, 108 Existing","MH Track Lighting","1MH0100E"," 100W MH SPOT  ",111]
[null,"105, 106, 108 Existing","Halogen/Quartz Lamps","1T0035"," 35W HALOGEN LAMP  ",35]
[null,"105, 106, 108 Existing","Halogen/Quartz Lamps","1T0040"," 40W HALOGEN LAMP  ",40]
[null,"105, 106, 108 Existing","Halogen/Quartz Lamps","1T0042"," 42W HALOGEN LAMP  ",42]
[null,"105, 106, 108 Existing","Halogen/Quartz Lamps","1T0045"," 45W HALOGEN LAMP  ",45]
[null,"105, 106, 108 Existing","Halogen/Quartz Lamps","1T0050"," 50W HALOGEN LAMP  ",50]
[null,"105, 106, 108 Existing","Halogen/Quartz Lamps","1T0052"," 52W HALOGEN LAMP  ",52]
[null,"105, 106, 108 Existing","Halogen/Quartz Lamps","1T0055"," 55W HALOGEN LAMP  ",55]
[null,"105, 106, 108 Existing","Halogen/Quartz Lamps","1T0060"," 60W HALOGEN LAMP  ",60]
[null,"105, 106, 108 Existing","Halogen/Quartz Lamps","1T0072"," 72W HALOGEN LAMP  ",72]
[null,"105, 106, 108 Existing","Halogen/Quartz Lamps","1T0075"," 75W HALOGEN LAMP  ",75]
[null,"105, 106, 108 Existing","Halogen/Quartz Lamps","1T0090"," 90W HALOGEN LAMP  ",90]
[null,"105, 106, 108 Existing","Halogen/Quartz Lamps","1T0100"," 100W HALOGEN LAMP  ",100]
[null,"105, 106, 108 Existing","Halogen/Quartz Lamps","1T0150"," 150W HALOGEN LAMP  ",150]
[null,"105, 106, 108 Existing","Halogen/Quartz Lamps","1T0200"," 200W HALOGEN LAMP  ",200]
[null,"107, 109 Existing","Four Foot Fluorescent T12 Systems","1F34SSS"," 1L4' EE/STD  ",41]
[null,"107, 109 Existing","Four Foot Fluorescent T12 Systems","2F34SSS"," 2L4' EE/STD  ",74]
[null,"107, 109 Existing","Four Foot Fluorescent T12 Systems","1F34SSE"," 1L4' EE/Elect  ",32]
[null,"107, 109 Existing","Four Foot Fluorescent T12 Systems","2F34SSE"," 2L4' EE/Elect  ",60]
[null,"107, 109 Existing","Four Foot Fluorescent T12 Systems","1F34SSS"," 1L4' EE/STD  ",41]
[null,"107, 109 Existing","Four Foot Fluorescent T12 Systems","2F34SSS"," 2L4' EE/STD  ",74]
[null,"107, 109 Existing","Four Foot Fluorescent T8 Systems","1F32SSS"," 1L4' EE/STD  ",30]
[null,"107, 109 Existing","Four Foot Fluorescent T8 Systems","2F32SSS"," 2L4' EE/STD  ",60]
[null,"107, 109 Existing","Four Foot Fluorescent T12 Systems","3F34SSS"," 3L4' EE/STD  ",115]
[null,"107, 109 Existing","Four Foot Fluorescent T12 Systems","4F34SSS","4L4' EE/STD  ",148]
[null,"107, 109 Existing","Four Foot Fluorescent T12 Systems","3F34SSE"," 3L4' EE/Elect  ",92]
[null,"107, 109 Existing","Four Foot Fluorescent T12 Systems","4F34SSE","4L4' EE/Elect  ",120]
[null,"107, 109 Existing","Four Foot Fluorescent T12 Systems","3F34SSS"," 3L4' EE/STD  ",115]
[null,"107, 109 Existing","Four Foot Fluorescent T12 Systems","4F34SSS","4L4' EE/STD  ",148]
[null,"107, 109 Existing","Four Foot Fluorescent T8 Systems","3F32SSS"," 3L4' EE/STD  ",88]
[null,"107, 109 Existing","Four Foot Fluorescent T8 Systems","4F32SSS","4L4' EE/STD  ",112]
[null,"107, 109 Existing","Three Foot Fluorescent Systems","1F30SEM"," 1L3' EE/EEMAG  ",38]
[null,"107, 109 Existing","Three Foot Fluorescent Systems","1F30SES"," 1L3' EE/STD  ",42]
[null,"107, 109 Existing","Three Foot Fluorescent Systems","1F30SSS"," 1L3' STD/STD  ",46]
[null,"107, 109 Existing","Three Foot Fluorescent Systems","2F30SEE"," 2L3' EE/ELIG  ",49]
[null,"107, 109 Existing","Three Foot Fluorescent Systems","2F30SEM"," 2L3' EE/EEMAG  ",66]
[null,"107, 109 Existing","Three Foot Fluorescent Systems","2F30SES"," 2L3' EE/STD  ",73]
[null,"107, 109 Existing","Three Foot Fluorescent Systems","2F30SSS"," 2L3' STD/STD  ",80]
[null,"107, 109 Existing","Three Foot Fluorescent Systems","3F30SES"," 3L3' EE/STD  ",127]
[null,"107, 109 Existing","Three Foot Fluorescent Systems","3F30SSS"," 3L3' STD/STD  ",140]
[null,"107, 109 Existing","Three Foot Fluorescent Systems","4F30SEE"," 4L3' EE/ELIG  ",98]
[null,"107, 109 Existing","Three Foot Fluorescent Systems","4F30SEM"," 4L3' EE/EEMAG  ",132]
[null,"107, 109 Existing","Three Foot Fluorescent Systems","4F30SES"," 4L3' EE/STD  ",146]
[null,"107, 109 Existing","Three Foot Fluorescent Systems","4F30SSS"," 4L3' STD/STD  ",160]
[null,"107, 109 Existing","Two Foot Fluorescent Systems","1F20SSS"," F20T12/HPF(1)  ",32]
[null,"107, 109 Existing","Two Foot Fluorescent Systems","2F20SSS"," F20T12/HPF(2)  ",56]
[null,"107, 109 Existing","Two Foot Fluorescent Systems","3F20SSS"," F20T12/HPF(3)  ",78]
[null,"107, 109 Existing","Two Foot Fluorescent Systems","4F20SSS"," F20T12/HPF(4)  ",104]
[null,"107, 109 Existing","Eight Foot T12 Systems","2F96SEM"," 2L8' EE/EEMAG  ",123]
[null,"107, 109 Existing","Eight Foot T12 Systems","2F96SES"," 2L8' EE/STD  ",138]
[null,"107, 109 Existing","Eight Foot T12 Systems","1F96SSE","1L8' EE/STD",83]
[null,"107, 109 Existing","Eight Foot T8 Systems","2F59SSE"," 2L8' T8/ELIG  ",109]
[null,"107, 109 Existing","Eight Foot T8 Systems","2F59SSL"," 2L8' T8/ELIG LOW PWR  ",100]
[null,"107, 109 Existing","Eight Foot T8 Systems","1F59SSE","1L8' T8/ELIG",60]
[null,"107, 109 Existing","Eight Foot T12 HO Systems","2F96HEM"," 2L8' HO/EE/EEMAG  ",207]
[null,"107, 109 Existing","Eight Foot T12 HO Systems","2F96HES"," 2L8' HO/EE/STD  ",227]
[null,"107, 109 Existing","Eight Foot T12 HO Systems","1F96HES","1L8' HO/EE/STD",125]
[null,"107, 109 Existing","Eight Foot T12 VHO Systems","2F96VES","2L8' VHO/EE/STD",390]
[null,"107, 109 Existing","Eight Foot T12 VHO Systems","2F96VSS","2L8' VHO/STD/STD",450]
[null,"107, 109 Existing","Eight Foot T12 VHO Systems","1F96VES","1L8' VHO/EE/STD",200]
[null,"107, 109 Existing","Eight Foot T12 VHO Systems","1F96VSS","1L8' VHO/STD/STD",230]
[null,"107, 109 Existing","Eight Foot T8 HO Systems","2F80SSE"," 2L8' T8 HO/ELIG  ",160]
[null,"107, 109 Existing","Eight Foot T8 HO Systems","1F80SSE","1L8' T8 HO/ELIG",85]
[null,"107, 109 Existing","T8 Reduced Wattage","1F25EEH"," 1L4' 25W T8EE/EELE HBF  ",30]
[null,"107, 109 Existing","T8 Reduced Wattage","1F25EEE"," 1L4' 25W T8EE/ELEE  ",22]
[null,"107, 109 Existing","T8 Reduced Wattage","1F25EEL"," 1L4' 25W T8EE/ELEE LBF ",20]
[null,"107, 109 Existing","T8 Reduced Wattage","2F25EEH"," 2L4' 25WT8EE/EELE HBF ",57]
[null,"107, 109 Existing","T8 Reduced Wattage","2F25EEE"," 2L4' 25W T8EE/ELEE  ",43]
[null,"107, 109 Existing","T8 Reduced Wattage","2F25EEL"," 2L4' 25W T8EE/ELEE LBF ",37]
[null,"107, 109 Existing","T8 Reduced Wattage","1F28EEH"," 1L4' 28W T8EE/EELE HBF  ",33]
[null,"107, 109 Existing","T8 Reduced Wattage","1F28EEE"," 1L4' 28W T8EE/ELEE  ",24]
[null,"107, 109 Existing","T8 Reduced Wattage","1F28EEL"," 1L4' 28W T8EE/ELEE LBF ",22]
[null,"107, 109 Existing","T8 Reduced Wattage","2F28EEH"," 2L4' 28WT8EE/EELE HBF  ",65]
[null,"107, 109 Existing","T8 Reduced Wattage","2F28EEE"," 2L4' 28W T8EE/ELEE  ",49]
[null,"107, 109 Existing","T8 Reduced Wattage","2F28EEL"," 2L4' 28W T8EE/ELEE LBF ",42]
[null,"107, 109 Existing","T8 Reduced Wattage","3F25EEH"," 3L4' 25W T8EE/EELE HBF  ",86]
[null,"107, 109 Existing","T8 Reduced Wattage","3F25EEE"," 3L4' 25W T8EE/ELEE  ",66]
[null,"107, 109 Existing","T8 Reduced Wattage","3F25EEL"," 3L4' 25W T8EE/ELEE LBF  ",57]
[null,"107, 109 Existing","T8 Reduced Wattage","4F25EEH"," 4L4' 25W T8EE/EELE HBF ",112]
[null,"107, 109 Existing","T8 Reduced Wattage","4F25EEE"," 4L4' 25W T8EE/ELEE  ",86]
[null,"107, 109 Existing","T8 Reduced Wattage","4F25EEL"," 4L4' 25W T8EE/ELEE LBF ",75]
[null,"107, 109 Existing","T8 Reduced Wattage","3F28EEH"," 3L4' 28W T8EE/EELE HBF  ",100]
[null,"107, 109 Existing","T8 Reduced Wattage","3F28EEE"," 3L4' 28W T8EE/ELEE  ",73]
[null,"107, 109 Existing","T8 Reduced Wattage","3F28EEL"," 3L4' 28W T8EE/ELEE LBF",64]
[null,"107, 109 Existing","T8 Reduced Wattage","4F28EEH"," 4L4' 28W T8EE/EELE HBF  ",126]
[null,"107, 109 Existing","T8 Reduced Wattage","4F28EEE"," 4L4' 28W T8EE/ELEE  ",94]
[null,"107, 109 Existing","T8 Reduced Wattage","4F28EEL"," 4L4' 28W T8EE/ELEE LBF",83]
[null,"107, 109 Existing","Four Foot Fluorescent T8 Systems","1F32SHH","1L4' T8/ELIG HIGH LUMEN HBF",30]
[null,"107, 109 Existing","Four Foot Fluorescent T8 Systems","1F32SHL"," 1L4 T8/ELIG HIGH LUMEN LBF  ",26]
[null,"107, 109 Existing","Four Foot Fluorescent T8 Systems","2F32SHH"," 2L4' T8/ELIG HIGH LUMEN HBF  ",78]
[null,"107, 109 Existing","Four Foot Fluorescent T8 Systems","2F32SHL"," 2L4 T8/ELIG HIGH LUMEN LBF  ",52]
[null,"107, 109 Existing","Four Foot Fluorescent T8 Systems","3F32SHH"," 3L4' T8/ELIG HIGH LUMEN HBF  ",112]
[null,"107, 109 Existing","Four Foot Fluorescent T8 Systems","3F32SHL"," 3L4 T8/ELIG HIGH LUMEN LBF  ",76]
[null,"107, 109 Existing","Four Foot Fluorescent T8 Systems","4F32SHH"," 4L4' T8/ELIG HIGH LUMEN HBF ",153]
[null,"107, 109 Existing","Four Foot Fluorescent T8 Systems","4F32SHL"," 4L4 T8/ELIG HIGH LUMEN LBF",98]
[null,"110, 111 Existing","Four Foot F48HO T12 Systems","1F48HES"," 1L4' F48HO/EE/STD  ",80]
[null,"110, 111 Existing","Four Foot F48HO T12 Systems","1F48HSS"," 1L4' F48H0/STD/STD  ",85]
[null,"110, 111 Existing","Four Foot F48HO T12 Systems","2F48HES"," 2L4' F48HO/EE/STD  ",135]
[null,"110, 111 Existing","Four Foot F48HO T12 Systems","2F48HSS"," 2L4' F48H0/STD/STD  ",145]
[null,"110, 111 Existing","Four Foot F48HO T12 Systems","3F48HES"," 3L4' F48HO/EE/STD  ",215]
[null,"110, 111 Existing","Four Foot F48HO T12 Systems","3F48HSS"," 3L4' F48H0/STD/STD  ",230]
[null,"110, 111 Existing","Four Foot F48HO T12 Systems","4F48HES"," 4L4' F48HO/EE/STD  ",270]
[null,"110, 111 Existing","Four Foot F48HO T12 Systems","4F48HSS"," 4L4' F48H0/STD/STD  ",290]
[null,"110, 111 Existing","Four Foot F48VHO T12 Systems","1F48VES"," 1L4' F48VHO/EE/STD  ",123]
[null,"110, 111 Existing","Four Foot F48VHO T12 Systems","1F48VSS"," 1L4' F48VHO/STD/STD  ",138]
[null,"110, 111 Existing","Four Foot F48VHO T12 Systems","2F48VES"," 2L4' F48VHO/EE/STD  ",210]
[null,"110, 111 Existing","Four Foot F48VHO T12 Systems","2F48VSS"," 2L4' F48VHO/STD/STD  ",240]
[null,"110, 111 Existing","Four Foot F48VHO T12 Systems","3F48VES"," 3L4' F48VHO/EE/STD  ",333]
[null,"110, 111 Existing","Four Foot F48VHO T12 Systems","3F48VSS"," 3L4' F48VHO/STD/STD  ",378]
[null,"110, 111 Existing","Four Foot F48VHO T12 Systems","4F48VES"," 4L4' F48VHO/EE/STD  ",420]
[null,"110, 111 Existing","Four Foot F48VHO T12 Systems","4F48VSS"," 4L4' F48VHO/STD/STD  ",480]
[null,"110, 111 Existing","Four Foot Fluorescent T8 Systems","4F32SHH"," 4L4' T8/ELIG HIGH LUMEN HBF ",153]
[null,"110, 111 Existing","Four Foot Fluorescent T8 Systems","3F32SHH"," 3L4' T8/ELIG HIGH LUMEN HBF ",112]
[null,"110, 111 Existing","Four Foot Fluorescent T8 Systems","6F32SHH","6L4' T8/ELIG HIGH LUMEN HBF",234]
[null,"110, 111 Existing","Four Foot Fluorescent T8 Systems","8F32SHH"," 8L4' T8/ELIG HIGH LUMEN HBF",312]
[null,"110, 111 Existing","Four Foot Fluorescent T8 Systems","16F32SHH"," 16L4' T8/ELIG HIGH LUMEN HBF",624]
[null,"110, 111 Existing","Four Foot Fluorescent T8 Systems","12F32SHH"," 12L4' T8/ELIG HIGH LUMEN HBF",442]
[null,"110, 111 Existing","Four Foot Fluorescent T8 Systems","10F32SHH","10L4' T8/ELIG HIGH LUMEN HBF",368]
[null,"110, 111 Existing","T5 Reduce Wattage HO Systems","3F49HSE  ","3L4' T5 HO/ELIG  ",162]
[null,"110, 111 Existing","T5 Reduce Wattage HO Systems","2F49HSE ","2L4' T5 HO/ELIG  ",107]
[null,"110, 111 Existing","T5 Reduce Wattage HO Systems","4F49HSE","4L4' 49W T5 HO",214]
[null,"110, 111 Existing","T5 Reduce Wattage HO Systems","5F49HSE ","5L4' T5 HO/ELIG  ",269]
[null,"110, 111 Existing","T5 Reduce Wattage HO Systems","6F49HSE ","6L 54W T5 HO  ",321]
[null,"110, 111 Existing","T5 Reduce Wattage HO Systems","8F49HSE  ","8L4' T5 HO/ELIG  ",428]
[null,"110, 111 Existing","T5 Reduce Wattage HO Systems","10F49HSE ","10 54W T5 HO  ",535]
[null,"110, 111 Existing","T5 Reduce Wattage HO Systems","12F49HSE ","12L' 54W T5HO  ",642]
[null,"110, 111 Existing","T5HO Systems","3F54HSE"," 3L4' T5 HO/ELIG  ",177]
[null,"110, 111 Existing","T5HO Systems","2F54HSE","2L4' T5 HO/ELIG",117]
[null,"110, 111 Existing","T5HO Systems","4F54HSE","4L 54W T5 HO",234]
[null,"110, 111 Existing","T5HO Systems","5F54HSW","5L 54W T5 HO",294]
[null,"110, 111 Existing","T5HO Systems","6F54HSE"," 6L 54W T5 HO  ",351]
[null,"110, 111 Existing","T5HO Systems","12F54HSE"," 12L' 54W T5HO  ",702]
[null,"110, 111 Existing","T5HO Systems","10F54HSE"," 10L' 54W T5HO  ",585]
[null,"110, 111 Existing","T5HO Systems","8F54HSE"," 8L' 54W T5HO  ",468]
[null,"110, 111 Existing","Eight Foot T12 HO Systems","1F96HES"," 1L8' HO/EE/STD  ",125]
[null,"110, 111 Existing","Eight Foot T12 HO Systems","1F96HSS"," 1L8' HO/STD/STD  ",135]
[null,"110, 111 Existing","Eight Foot T12 HO Systems","2F96HEE"," 2L8' HO/EE/ELIG  ",170]
[null,"110, 111 Existing","Eight Foot T12 HO Systems","2F96HEM"," 2L8' HO/EE/EEMAG  ",207]
[null,"110, 111 Existing","Eight Foot T12 HO Systems","2F96HES"," 2L8' HO/EE/STD  ",227]
[null,"110, 111 Existing","Eight Foot T12 HO Systems","2F96HSE"," 2L8' HO/STD/ELIG  ",195]
[null,"110, 111 Existing","Eight Foot T12 HO Systems","2F96HSM"," 2L8' HO/STD/EEMAG  ",237]
[null,"110, 111 Existing","Eight Foot T12 HO Systems","2F96HSS"," 2L8' HO/STD/STD  ",257]
[null,"110, 111 Existing","Eight Foot T12 HO Systems","3F96HES"," 3L8' HO/EE/STD  ",352]
[null,"110, 111 Existing","Eight Foot T12 HO Systems","3F96HSS"," 3L8' HO/STD/STD  ",392]
[null,"110, 111 Existing","Eight Foot T12 HO Systems","4F96HEE"," 4L8' HO/EE/ELIG  ",340]
[null,"110, 111 Existing","Eight Foot T12 HO Systems","4F96HEM"," 4L8' HO/EE/EEMAG  ",414]
[null,"110, 111 Existing","Eight Foot T12 HO Systems","4F96HES"," 4L8' HO/EE/STD  ",454]
[null,"110, 111 Existing","Eight Foot T12 HO Systems","4F96HSE"," 4L8' HO/STD/ELIG  ",390]
[null,"110, 111 Existing","Eight Foot T12 HO Systems","4F96HSM"," 4L8' HO/STD/EEMAG  ",474]
[null,"110, 111 Existing","Eight Foot T12 HO Systems","4F96HSS"," 4L8' HO/STD/STD  ",514]
[null,"110, 111 Existing","Eight Foot T12 VHO Systems","1F96VES"," 1L8' VHO/EE/STD  ",200]
[null,"110, 111 Existing","Eight Foot T12 VHO Systems","1F96VSS"," 1L8' VHO/STD/STD  ",230]
[null,"110, 111 Existing","Eight Foot T12 VHO Systems","2F96VES"," 2L8' VHO/EE/STD  ",390]
[null,"110, 111 Existing","Eight Foot T12 VHO Systems","2F96VSS"," 2L8' VHO/STD/STD  ",450]
[null,"110, 111 Existing","Eight Foot T12 VHO Systems","3F96VES"," 3L8' VHO/EE/STD  ",590]
[null,"110, 111 Existing","Eight Foot T12 VHO Systems","3F96VSS"," 3L8' VHO/STD/STD  ",680]
[null,"110, 111 Existing","Eight Foot T12 VHO Systems","4F96VES"," 4L8' VHO/EE/STD  ",780]
[null,"110, 111 Existing","Eight Foot T12 VHO Systems","4F96VSS"," 4L8' VHO/STD/STD  ",900]
[null,"110, 111 Existing","Pulse Start MH Lamp/Ballast","1PS0100P"," 100W PSMH CWA  ",128]
[null,"110, 111 Existing","Pulse Start MH Lamp/Ballast","1PS0100R"," 100W PSMH Linear  ",118]
[null,"110, 111 Existing","Pulse Start MH Lamp/Ballast","1PS0150P"," 150W PSMH CWA  ",190]
[null,"110, 111 Existing","Pulse Start MH Lamp/Ballast","1PS0150R"," 150W PSMH Linear  ",172]
[null,"110, 111 Existing","Pulse Start MH Lamp/Ballast","1PS0175P"," 175W PSMH CWA  ",208]
[null,"110, 111 Existing","Pulse Start MH Lamp/Ballast","1PS0175R"," 175W PSMH Linear  ",190]
[null,"110, 111 Existing","Pulse Start MH Lamp/Ballast","1PS0200P"," 200W PSMH CWA  ",232]
[null,"110, 111 Existing","Pulse Start MH Lamp/Ballast","1PS0200R"," 200W PSMH LINEAR  ",218]
[null,"110, 111 Existing","Pulse Start MH Lamp/Ballast","1PS0250P"," 250W PSMH CWA  ",288]
[null,"110, 111 Existing","Pulse Start MH Lamp/Ballast","1PS0250R"," 250W PSMH LINEAR  ",265]
[null,"110, 111 Existing","Pulse Start MH Lamp/Ballast","1PS0300P"," 300W PSMH CWA  ",342]
[null,"110, 111 Existing","Pulse Start MH Lamp/Ballast","1PS0300R"," 300W PSMH Linear  ",324]
[null,"110, 111 Existing","Pulse Start MH Lamp/Ballast","1PS0320P"," 320W PSMH CWA  ",365]
[null,"110, 111 Existing","Pulse Start MH Lamp/Ballast","1PS0320R"," 320W PSMH LINEAR  ",345]
[null,"110, 111 Existing","Pulse Start MH Lamp/Ballast","1PS0350P"," 350W PSMH CWA  ",400]
[null,"110, 111 Existing","Pulse Start MH Lamp/Ballast","1PS0350R"," 350W PSMH LINEAR  ",375]
[null,"110, 111 Existing","Pulse Start MH Lamp/Ballast","1PS0400P"," 400W PSMH CWA  ",455]
[null,"110, 111 Existing","Pulse Start MH Lamp/Ballast","1PS0400R"," 400W PSMH LINEAR  ",430]
[null,"110, 111 Existing","Pulse Start MH Lamp/Ballast","1PS0450P"," 450W PSMH CWA  ",508]
[null,"110, 111 Existing","Pulse Start MH Lamp/Ballast","1PS0450R"," 450W PSMH LINEAR  ",480]
[null,"110, 111 Existing","Pulse Start MH Lamp/Ballast","1PS0750P"," 750W PSMH CWA  ",815]
[null,"110, 111 Existing","Pulse Start MH Lamp/Ballast","1PS0750R"," 750W PSMH Linear  ",805]
[null,"110, 111 Existing","Pulse Start MH Lamp/Ballast","1PS1000P"," 1000W PSMH CWA  ",1080]
[null,"110, 111 Existing","High Pressure Sodium","1HPS0035S"," 35W HPS  ",45]
[null,"110, 111 Existing","High Pressure Sodium","1HPS0050S"," 50W HPS  ",65]
[null,"110, 111 Existing","High Pressure Sodium","1HPS0070S"," 70W HPS  ",90]
[null,"110, 111 Existing","High Pressure Sodium","1HPS0100S"," 100W HPS  ",130]
[null,"110, 111 Existing","High Pressure Sodium","1HPS0150S"," 150W HPS  ",190]
[null,"110, 111 Existing","High Pressure Sodium","1HPS0200S"," 200W HPS  ",240]
[null,"110, 111 Existing","High Pressure Sodium","1HPS0225S"," 225W HPS  ",275]
[null,"110, 111 Existing","High Pressure Sodium","1HPS0250S"," 250W HPS  ",295]
[null,"110, 111 Existing","High Pressure Sodium","1HPS0310S"," 310W HPS  ",350]
[null,"110, 111 Existing","High Pressure Sodium","1HPS0360S"," 360W HPS  ",435]
[null,"110, 111 Existing","High Pressure Sodium","1HPS0400S"," 400W HPS  ",460]
[null,"110, 111 Existing","High Pressure Sodium","1HPS0600S"," 600W HPS  ",675]
[null,"110, 111 Existing","High Pressure Sodium","1HPS0750S"," 750W HPS  ",835]
[null,"110, 111 Existing","High Pressure Sodium","1HPS1000S"," 1000W HPS  ",1085]
[null,"110, 111 Existing","Mercury Vapor","1MV0075S"," 75W MERCURY  ",95]
[null,"110, 111 Existing","Mercury Vapor","1MV0100S"," 100W MERCURY  ",120]
[null,"110, 111 Existing","Mercury Vapor","1MV0175S"," 175W MERCURY  ",205]
[null,"110, 111 Existing","Mercury Vapor","1MV0250S"," 250W MERCURY  ",290]
[null,"110, 111 Existing","Mercury Vapor","1MV0400S"," 400W MERCURY  ",455]
[null,"110, 111 Existing","Mercury Vapor","1MV0700S"," 700W MERCURY  ",775]
[null,"110, 111 Existing","Mercury Vapor","1MV1000S"," 1000W MERCURY  ",1075]
[null,"110, 111 Existing","Mercury Vapor","2MV0400S"," 2/400W MERCURY  ",880]
[null,"110, 111 Existing","Metal Halide","1MH0100S"," 100W METAL HALIDE  ",120]
[null,"110, 111 Existing","Metal Halide","1MH0150S"," 150W METAL HALIDE  ",190]
[null,"110, 111 Existing","Metal Halide","1MH0175S"," 175W METAL HALIDE  ",205]
[null,"110, 111 Existing","Metal Halide","1MH0250S"," 250W METAL HALIDE  ",295]
[null,"110, 111 Existing","Metal Halide","1MH0360S"," 360W METAL HALIDE  ",430]
[null,"110, 111 Existing","Metal Halide","1MH0400S"," 400W METAL HALIDE  ",455]
[null,"110, 111 Existing","Metal Halide","1MH0750S"," 750W METAL HALIDE  ",825]
[null,"110, 111 Existing","Metal Halide","1MH1000S"," 1000W METAL HALIDE  ",1075]
[null,"110, 111 Existing","Metal Halide","1MH1500S"," 1500W METAL HALIDE  ",1615]
[null,"110, 111 Existing","Metal Halide","1MH1800S"," 1800W METAL HALIDE  ",1875]
[null,"110, 111 Existing","Halogen/Quartz Lamps","1T0150"," 150W HALOGEN LAMP  ",150]
[null,"110, 111 Existing","Halogen/Quartz Lamps","1T0200"," 200W HALOGEN LAMP  ",200]
[null,"110, 111 Existing","Halogen/Quartz Lamps","1T0250"," 250W HALOGEN LAMP  ",250]
[null,"110, 111 Existing","Halogen/Quartz Lamps","1T0300"," 300W HALOGEN LAMP  ",300]
[null,"110, 111 Existing","Halogen/Quartz Lamps","1T0350"," 350W HALOGEN LAMP  ",350]
[null,"110, 111 Existing","Halogen/Quartz Lamps","1T0400"," 400W HALOGEN LAMP  ",400]
[null,"110, 111 Existing","Halogen/Quartz Lamps","1T0425"," 425W HALOGEN LAMP  ",425]
[null,"110, 111 Existing","Halogen/Quartz Lamps","1T0500"," 500W HALOGEN LAMP  ",500]
[null,"110, 111 Existing","Halogen/Quartz Lamps","1T0750"," 750W HALOGEN LAMP  ",750]
[null,"110, 111 Existing","Halogen/Quartz Lamps","1T0900"," 900W HALOGEN LAMP  ",900]
[null,"110, 111 Existing","Halogen/Quartz Lamps","1T1000"," 1000W HALOGEN LAMP  ",1000]
[null,"110, 111 Existing","Halogen/Quartz Lamps","1T1200"," 1200W HALOGEN LAMP  ",1200]
[null,"110, 111 Existing","Halogen/Quartz Lamps","1T1500"," 1500W HALOGEN LAMP  ",1500]
[null,null,null,null,null,{"$f":"\"Version # \"&'Version Tracking'!C4","v":"Version # 10.2"}]

{"sheet":"Validation","index":14,"n_rows":491,"n_cols":86,"rows_kept":491,"cut":false,"hidden":true,"merged":[]}
[null,null,null,"Retrofit Lighting $/w reduced incentive",0.35]
[null,null,null,null,null,null,null,null,null,null,null,null,null,null,null,null,null,null,null,null,null,null,null,null,null,1,2,3,4,5,6,7,8,9,10,11,12,13,14,15,16,17,18,19,20,21,22]
[]
["LtgBldgType & LtgBldgTypeData",null,null,{"$f":"COUNTA(D6:D17)","v":12},{"$f":"COUNTA(E6:E17)","v":12},{"$f":"COUNTA(F6:F14)","v":1},1,1,1,1,1,{"$f":"COUNTA(L6:L14)","v":1},1,1,1,{"$f":"COUNTA(P6:P13)","v":1},{"$f":"COUNTA(Q6:Q13)","v":1},null,null,null,null,null,null,null,null,{"$f":"COUNTA(Z6:Z125)","v":63},{"$f":"COUNTA(AA6:AA125)","v":38},65,77,23,54,15,23,60,96,60,96,60,80,60,96,{"$f":"COUNTA(AP6:AP500)","v":286},80,{"$f":"COUNTA(AR6:AR500)","v":486},{"$f":"COUNTA(AS6:AS200)","v":131},{"$f":"COUNTA(AT6:AT500)","v":486},108,7,4,{"$f":"COUNTA(AX6:AX300)","v":25},47,{"$f":"COUNTA(AZ6:AZ304)","v":34},{"$f":"COUNTA(BA6:BA53)","v":48},{"$f":"COUNTA(BB6:BB300)","v":295},{"$f":"COUNTA(BC6:BC305)","v":101},{"$f":"COUNTA(BD19:BD313)","v":286},{"$f":"COUNTA(BE6:BE333)","v":75},{"$f":"COUNTA(BF6:BF300)","v":256},{"$f":"COUNTA(BG6:BG300)","v":54},256,{"$f":"COUNTA(BI6:BI300)","v":16},201,{"$f":"COUNTA(BK6:BK286)","v":18},286,{"$f":"COUNTA(BM6:BM274)","v":69},286,{"$f":"COUNTA(BO6:BO270)","v":66},201,{"$f":"COUNTA(BQ6:BQ295)","v":32},2,1,110,5,68,59,49,{"$f":"COUNTA(BY6:BY300)","v":0}]
["Lighting Building Type","HOU","CF","Measure Type",null,"Lamp and Ballast Retrofits","New Fluorescent Fixtures","New High Bay Fluorescent Fixtures","CFL Downlight Fixtures","LED Screw-in Replacement Lamps","LED pin-based Replacement Lamp","Linear LED lamps replacing T8 or T12","LED Downlight or Pendant Fixture","LED Troffer or Panel Fixture","LED High Bays","LED Exterior Fixtures","LED Exit Signs",null,"Control Parameters by Measure Code",null,null,null,null,null,null,"101 Proposed","101 Existing","102 Proposed","102 Existing","103 Proposed","103 Existing","104 Proposed","104 Existing","105 Proposed","105 Existing","106 Proposed","106 Existing","107 Proposed","107 Existing","108 Proposed","108 Existing","109 Proposed","109 Existing","110 Proposed","110 Existing","111 Proposed","111 Existing","90C Proposed","90C Existing","91C Proposed","91C Existing","91E Proposed","91E Existing","92 Proposed","92 Existing","94A Proposed","94A Existing","94B Proposed","94B Existing","94C Proposed","94C Existing","94D Proposed","94D Existing","95A Proposed","95A Existing","95B Proposed","95B Existing","95C Proposed","95C Existing","95 Proposed","95 Existing","T12 Existing","T8 Existing","HID Existing","Incen Existing","CFL Existing",null,null,"Lamp and Ballast Retrofits","101 Proposed","Lamp and Ballast Retrofits",null,"4’ HPT8 Retrofit: 1-2 Lamps",{"$f":"CE5=CA5","v":false},null,"10A"]
["Education: College, University, K-12 with summer session",3577,0.69,"Lamp and Ballast Retrofits","Lamp and Ballast Retrofits",101,102,103,104,105,106,107,108,109,110,111,"90C",null,"Measure Code","Description","Minimum Watts","Assumed % Savings","CF","Incentive",null,"1F32SSE","1F34SSS","1F32SSE","2F96HEM","4F32SHH","1F96HES","1C0013S","1HPS0050S","1LED001","1I0015","1LED001","1I0015","1LED001","1F34SSS","1LED001","1I0015","1LED015","1F34SSS","1LED015","1F48HES","1LED015","1F48HES","1E0002","1I0020","1E0002","1I0015","1LED002","1F34SSS","1LED001","1I0015","1LED002","1F20SSS","1LED045","1F96HES","1LED045","1PS0300P","1LED100","1HPS0600S","1LED015","1F48HES","1LED015","2F96HEE","1LED100","1HPS0600S","1Cooler","1RefrigBase","1F96HES","1F59SSE","1PS0100P","1I0015","1C0005S",null,null,"New Fluorescent Fixtures","102 Proposed","New Fluorescent Fixtures",null,"4’ HPT8 Retrofit: 3-4 Lamps",{"$f":"CE6=CA6","v":false},null,"10B"]
["Education: K-12 without summer session",2777,0.47,"New Fluorescent Fixtures","New Fluorescent Fixtures",null,null,null,null,null,null,null,null,null,null,null,null,null,"80A","Occupancy Control: Wall Switch Replacement",40,0.3,0.15,15,null,"1F32SHH","2F34SSS","1F32SHH","2F96HES","3F32SHH","1F96HSS","1C0018E","1HPS0070S","1LED002","1I0020","1LED002","1I0020","1LED002","2F34SSS","1LED002","1I0020","1LED016","2F34SSS","1LED016","1F48HSS","1LED016","1F48HSS","1E0003","1I0040","1E0003","1I0020","1LED003","2F34SSS","1LED002","1I0020","1LED003","1F30SEM","1LED046","1F96HSS","1LED046","1PS0300R","1LED101","1MV0700S","1LED016","1F48HSS","1LED016","2F96HEM","1LED101","1MV0700S","1Freezer",null,"1F96HSS","1F80SSE","1PS0100R","1I0020","1C0007S",null,null,"New High Bay Fluorescent Fixtures","103 Proposed","New High Bay Fluorescent Fixtures",null,"4’ Reduced-Wattage T8 Retrofit: 1-2 Lamps",{"$f":"CE7=CA5","v":false},null,"10C"]
["Food Service: 24 hour supermarket/retail",6900,0.95,"New High Bay Fluorescent Fixtures","New High Bay Fluorescent Fixtures",null,null,null,null,null,null,null,null,null,null,null,null,null,"80B","Occupancy Control: Ceiling / Wall Mount",119,0.3,0.15,35,null,"1F32SHL","1F34SSE","1F32SHL","1F96HES","6F32SHH","2F96HEE","1C0026E","1HPS0100S","1LED003","1I0025","1LED003","1I0025","1LED003","1F34SSE","1LED003","1I0025","1LED017","1F34SSE","1LED017","2F48HES","1LED017","2F48HES","1E0005","1C0009S","1E0005","1I0025","1LED004","1F34SSE","1LED003","1I0025","1LED004","1F30SES","1LED047","2F96HEE","1LED047","1HPS0310S","1LED102","1T0750","1LED017","2F48HES","1LED017","2F96HES","1LED102","1PS0750P",null,null,"2F96HEE","2F59SSE","1PS0150P","1I0025","1C0009S",null,null,"CFL Downlight Fixtures","104 Proposed","CFL Downlight Fixtures",null,"4’ Reduced-Wattage T8 Retrofit: 3-4 Lamps",false,null,"10D"]
["Food Service: Fast food",6188,0.81,"CFL Downlight Fixtures","CFL Downlight Fixtures",null,null,null,null,null,null,null,null,null,null,null,null,null,"80C","Occupancy Control: \nFixture Mounted/High Bay",40,0.3,0.15,15,null,"2F32SSE","2F34SSE","2F32SSE","2F96SEM","8F32SHH","2F96HEM","1C0032E","1HPS0150S","1LED004","1I0034","1LED004","1I0034","1LED004","2F34SSE","1LED004","1I0034","1LED018","2F34SSE","1LED018","2F48HSS","1LED018","2F48HSS","1E0005C","1C0018E","1E0005C","1I0034","1LED005","2F34SSE","1LED004","1I0034","1LED005","1F30SSS","1LED048","2F96HEM","1LED048","1HPS0360S","1LED103","1T0900","1LED018","2F48HSS","1LED018","2F96HSE","1LED103","1PS0750R",null,null,"2F96HEM","2F59SSL","1PS0150R","1I0034","1C0011S",null,null,"LED Screw-in Replacement Lamps","105 Proposed","LED Screw-in Replacement Lamps",null,"3’ T8 Retrofit: 1-4 Lamps",false,null,"10E"]
["Food Service: Non-24 hour supermarket/retail",4706,0.95,"LED Screw-in Replacement Lamps","LED Screw-in Replacement Lamps",null,null,null,null,null,null,null,null,null,null,null,null,null,"80E","Daylight Control/Harvesting (On/Off)",119,0.3,0.15,35,null,"2F32SHH","3F34SSS","2F32SHH","2F96SES","16F32SHH","2F96HES","1C0042E","1HPS0175S","1LED005","1I0036","1LED005","1I0036","1LED005","1F34SSS","1LED005","1I0036","1LED019","1F34SSS","1LED019","3F48HES","1LED019","3F48HES","1E0008",null,"1E0008","1I0036","1LED006","1F34SSS","1LED005","1I0036","1LED006","1F32SSS","1LED049","2F96HES","1LED049","1PS0320P","1LED104","1T1000","1LED019","3F48HES","1LED019","2F96HSM","1LED104","1PS1000P",null,null,"2F96HES","2F80SSE","1PS0175P","1I0036","1C0013S",null,null,"LED pin-based Replacement Lamp","106 Proposed","LED pin-based Replacement Lamp",null,"2’ T8 Retrofit: 1-4 Lamps",false,null,"10F"]
["Food Service: Sit-down restaurant",4368,0.81,"LED pin-based Replacement Lamp","LED pin-based Replacement Lamp",null,null,null,null,null,null,null,null,null,null,null,null,null,"80F","LED Refrigerated Case Lighting Controls",0,0.43,0.95,5,null,"2F32SHL","4F34SSS","2F32SHL","1F96SSE","12F32SHH","2F96HSE","2C0013E","1HPS0200S","1LED006","1I0040","1LED006","1I0040","1LED006","2F34SSS","1LED006","1I0040","1LED020","2F34SSS","1LED020","3F48HSS","1LED020","3F48HSS","1E0015",null,"1E0015","1I0040","1LED007","2F34SSS","1LED006","1I0040","1LED007","1F32SSS","1LED050","2F96HSE","1LED050","1PS0320R","1LED105","1T1200","1LED020","3F48HSS","1LED020","2F96HSS","1LED105","1HPS0035S",null,null,"2F96HSE",null,"1PS0175R","1I0040","1C0018E",null,null,"Linear LED lamps replacing T8 or T12","107 Proposed","Linear LED lamps replacing T8 or T12",null,"New Commodity-Grade Fixture w/ 4' HPT8 or T5/T5HO: 1-2 Lamps",false,null,"20A"]
["Health Care: In Patient",5730,0.78,"Linear LED lamps replacing T8 or T12","Linear LED lamps replacing T8 or T12",null,null,null,null,null,null,null,null,null,null,null,null,null,null,null,null,null,null,null,null,"3F32SSE","3F34SSE","3F32SSE","2F96SEM","10F32SHH","2F96HSM","2C0013S","1HPS0225S","1LED007","1I0042","1LED007","1I0042","1LED007","1F32SSS","1LED007","1I0042","1LED021","1F32SSS","1LED021","4F48HES","1LED021","4F48HES","1E0105",null,"1E0105","1I0042","1LED008","1F32SSS","1LED007","1I0042","1LED008","1F34SSE","1LED051","2F96HSM","1LED051","1PS0350P","1LED106","1T1500","1LED021","4F48HES","1LED021","3F96HES","1LED106","1HPS0050S",null,null,"2F96HSM",null,"1PS0200P","1I0042","1C0018S",null,null,"LED Downlight or Pendant Fixture","108 Proposed","LED Downlight or Pendant Fixture",null,"New Commodity-Grade Fixture w/ 4’ HPT8 or T5/T5HO: 3-4 Lamps",false,null,"20B"]
["Health Care: Out Patient",3386,0.77,"LED Downlight or Pendant Fixture","LED Downlight or Pendant Fixture",null,null,null,null,null,null,null,null,null,null,null,null,null,null,null,null,null,null,null,null,"3F32SHH","4F34SSE","3F32SHH","2F96SES","3F49HSE  ","2F96HSS","2C0018E","1HPS0250S","1LED008","1I0045","1LED008","1I0045","1LED008","2F32SSS","1LED008","1I0045","1LED022","2F32SSS","1LED022","4F48HSS","1LED022","4F48HSS",null,null,"1LED008","1I0045","1LED009","2F32SSS","1LED008","1I0045","1LED009","1F34SSE","1LED052","2F96HSS","1LED052","1PS0350R","1LED107","1PS0750P","1LED022","4F48HSS","1LED022","3F96HSS","1LED107","1HPS0070S",null,null,"2F96HSS",null,"1PS0200R","1I0045","1C0022S",null,null,"LED Troffer or Panel Fixture","109 Proposed","LED Troffer or Panel Fixture",null,"New Commodity-Grade Fixture w/ 3’ T8 or T5/T5HO: 1-4 Lamps",false,null,"20C"]
["Lodging: Common areas",6630,0.82,"LED Troffer or Panel Fixture","LED Troffer or Panel Fixture",null,null,null,null,null,null,null,null,null,null,null,null,null,null,null,null,null,null,null,null,"3F32SHL","1F32SSS","3F32SHL","2F96VES","2F49HSE ","3F96HES","2C0026E","1I0060","1LED009","1I0050","1LED009","1I0050","1LED009","3F34SSS","1LED009","1I0050","1LED023","3F34SSS","1LED023","1F48VES","1LED023","1F48VES",null,null,"1LED009","1I0050","1LED010","3F34SSS","1LED009","1I0050","1LED010","1F34SSS","1LED053","3F96HES","1LED053","1MH0360S","1LED108","1PS0750R","1LED023","1F48VES","1LED023","4F96HEE","1LED108","1HPS0100S",null,null,"3F96HES",null,"1PS0250P","1I0050","1C0023E",null,null,"LED High Bays","110 Proposed","LED High Bays",null,"New Commodity-Grade Fixture w/ 2' T8 or T5/T5HO: 1-4 Lamps",{"$f":"CE14=CA9","v":false},null,"20D"]
["Lodging: Rooms",3055,0.25,"LED High Bays","LED High Bays",null,null,null,null,null,null,null,null,null,null,null,null,null,null,null,null,null,null,null,null,"4F32SSE","2F32SSS","4F32SSE","2F96VSS","4F49HSE","3F96HSS","2C0032E","1I0075","1LED010","1I0052","1LED010","1I0052","1LED010","4F34SSS","1LED010","1I0052","1LED024","4F34SSS","1LED024","1F48VSS","1LED024","1F48VSS",null,null,"1LED010","1I0052","1LED011","4F34SSS","1LED010","1I0052","1LED011","1F34SSS","1LED054","3F96HSS","1LED054","1MH0400S","1LED109","1PS1000P","1LED024","1F48VSS","1LED024","4F96HEM","1LED109","1HPS0150S",null,null,"3F96HSS",null,"1PS0250R","1I0052","1C0026E",null,null,"LED Exterior Fixtures","111 Proposed","LED Exterior Fixtures",null,"New High Efficiency Advanced Fixture w/ 4' HPT8 or T5/T5HO: 1 Lamp",{"$f":"CE15=CA10","v":false},null,"40A"]
["Manufacturing",5740,0.73,"LED Exterior Fixtures","LED Exterior Fixtures",null,null,null,null,null,null,null,null,null,null,null,null,null,null,null,null,null,null,null,null,"4F32SHH","3F32SSS","4F32SHH","1F96VES","5F49HSE ","4F96HEE","2C0042E","1I0100","1LED011","1I0054","1LED011","1I0054","1LED011","3F34SSE","1LED011","1I0054","1LED025","3F34SSE","1LED025","2F48VES","1LED025","2F48VES",null,null,"1LED011","1I0054","1LED012","3F34SSE","1LED011","1I0054","1LED012","1F34SSS","1LED055","4F96HEE","1LED055","1MV0400S","1LED110","1HPS0750S","1LED025","2F48VES","1LED025","4F96HES","1LED110","1HPS0200S",null,null,"4F96HEE",null,"1PS0300P","1I0054","1C0026S",null,null,"LED Exit Signs","90C Proposed","LED Exit Signs",null,"New High Efficiency Advanced Fixture w/ 4' HPT8 or T5/T5HO: 2 Lamp",{"$f":"CE16=CA11","v":false},null,"40B"]
["Miscellaneous/Other",4352,0.74,"LED Exit Signs","LED Exit Signs",10,"LED Exit Signs minimum watts reduced",null,null,null,null,null,null,null,null,null,null,null,null,null,null,null,null,null,null,"4F32SHL","4F32SSS","4F32SHL","1F96VSS","6F49HSE ","4F96HEM","3C0018E","1I0120","1LED012","1I0055","1LED012","1I0055","1LED012","4F34SSE","1LED012","1I0055","1LED026","4F34SSE","1LED026","2F48VSS","1LED026","2F48VSS",null,null,"1LED012","1I0055","1LED013","4F34SSE","1LED012","1I0055","1LED013","1F34SSS","1LED056","4F96HEM","1LED056","1HPS0400S","1LED111","1HPS1000S","1LED026","2F48VSS","1LED026","4F96HSE","1LED111","1HPS0225S",null,null,"4F96HEM",null,"1PS0300R","1I0055","1C0028S",null,null,"Standard Fluorescent","107 Existing","Standard Fluorescent",null,"New Fluorescent High Bay Fixture w/ 4’ T5HO: 2-3 Lamps",{"$f":"CE17=CA12","v":false},null,"60A"]
["Multifamily housing: Common areas",4772,0.87,"Min Watts Lookup",null,null,null,null,null,null,null,null,null,null,null,null,null,null,null,null,null,null,null,null,null,"1F25EEH","1F30SEM","1F32SSE","2F80SSE","8F49HSE  ","4F96HES","3C0026E","1I0125","1LED013","1I0060","1LED013","1I0060","1LED013","3F34SSS","1LED013","1I0060","1LED027","3F34SSS","1LED027","3F48VES","1LED027","3F48VES",null,null,"1LED013","1I0060","1LED014","3F34SSS","1LED013","1I0060","1LED014","2F20SSS","1LED057","4F96HES","1LED057","1T0350","1LED112","1MV0700S","1LED027","3F48VES","1LED027","4F96HSM","1LED112","1HPS0250S",null,null,"4F96HES",null,"1PS0320P","1I0060","1C0032S",null,null,"Standard T12 Fluorescent","T12 Existing","Standard T12 Fluorescent",null,"New Fluorescent High Bay Fixture w/ 4’ T5HO: 3-4 Lamps",{"$f":"CE18=CA13","v":false},null,"60B"]
["Nursing Home",4271,0.78,"Measure Code Retrofit Lighting Tabulation",null,null,null,null,{"$f":"E1","v":0.35},null,null,null,null,null,null,null,null,null,null,null,null,null,null,null,null,"1F25EEE","1F30SES","1F32SHL","1F80SSE","10F49HSE ","4F96HSE","3C0032E","1I0135","1LED014","1I0065","1LED014","1I0065","1LED014","4F34SSS","1LED014","1I0065","1LED028","4F34SSS","1LED028","3F48VSS","1LED028","3F48VSS",null,null,"1LED014","1I0065","1LED015","4F34SSS","1LED014","1I0065","1LED015","2F30SEE","1LED058","4F96HSE","1LED058","1T0400","1LED113","1MV1000S","1LED028","3F48VSS","1LED028","4F96HSS","1LED113","1HPS0310S",null,null,"4F96HSE",null,"1PS0320R","1I0065","1C0042E",null,null,"8' T8 Fluorescent","T8 Existing","8' T8 Fluorescent",null,"New Fluorescent High Bay Fixture w/ 4’ T5HO: 5-6 Lamps",{"$f":"CE19=CA19","v":false},null,"60C"]
["Office",3737,0.77,"Measure Code ","Pre retrofit total watts","Post retrofit Total Watts","Wattage Reduction","Percentage Reduction","incentive",null,null,null,null,null,null,null,null,null,null,null,null,null,null,null,null,"1F25EEL","1F30SSS","2F32SSE","2F59SSE","12F49HSE ","4F96HSM","3C0042E","1I0150","1LED015","1I0067","1LED015","1I0067","1LED015","3F32SSS","1LED015","1I0067","1LED029","3F32SSS","1LED029","4F48VES","1LED029","4F48VES",null,null,"1LED015","1I0067","1LED016","3F32SSS","1LED015","1I0067","1LED016","2F30SEM","1LED059","4F96HSM","1LED059","1T0425","1LED114","1MH0750S","1LED029","4F48VES","1LED029","4F48VES","1LED114","1HPS0360S",null,null,"4F96HSM",null,"1PS0350P","1I0067","1C0044S",null,null,"Standard HID","HID Existing","Standard HID",null,"New Fluorescent High Bay Fixture w/ 4’ T5HO: 6-12 Lamps",{"$f":"CE20=CA20","v":false},null,"60D"]
["Outdoor/Exterior: 24/7 operation",8766,1,101,{"$f":"SUMIF('Input - Retrofit Lighting'!$G$25:$G$224,Validation!D21,'Input - Retrofit Lighting'!$AF$25:$AF$224)","v":0},{"$f":"SUMIF('Input - Retrofit Lighting'!$G$25:$G$224,Validation!D21,'Input - Retrofit Lighting'!$AC$25:$AC$224)","v":0},{"$f":"E21-F21","v":0},{"$f":"IFERROR(G21/E21,0)","v":0},{"$f":"I$19*G21","v":0},null,null,null,null,null,null,null,null,null,null,null,null,null,null,null,null,"2F25EEH","2F30SEE","2F32SHH","2F59SSL","3F54HSE","4F96HSS",null,"1I0200","1LED016","1I0069","1LED016","1I0069","1LED016","4F32SSS","1LED016","1I0069","1LED030","4F32SSS","1LED030","4F48VSS","1LED030","4F48VSS",null,null,"1LED016","1I0069","1LED017","4F32SSS","1LED016","1I0069","1LED017","2F30SES","1LED060","4F96HSS","1LED060","1T0500","1LED115","1MH1000S","1LED030","4F48VSS","1LED030","4F48VSS","1LED115","1HPS0400S",null,null,"4F96HSS",null,"1PS0350R","1I0069","1C0057E",null,null,"Incandescent and Halogen","Incan Existing","Incandescent and Halogen",null,"New Fluorescent High Bay Fixture w/ 4’ HPT8: 3-4 Lamps",{"$f":"CE21=CA21","v":false},null,"61A"]
["Outdoor/Exterior: Manual, timer, or photocell controlled",3681,0.28000000000000003,102,{"$f":"SUMIF('Input - Retrofit Lighting'!$G$25:$G$224,Validation!D22,'Input - Retrofit Lighting'!$AF$25:$AF$224)","v":0},{"$f":"SUMIF('Input - Retrofit Lighting'!$G$25:$G$224,Validation!D22,'Input - Retrofit Lighting'!$AC$25:$AC$224)","v":0},0,{"$f":"IFERROR(G22/E22,0)","v":0},{"$f":"I$19*G22","v":0},null,null,null,null,null,null,null,null,null,null,null,null,null,null,null,null,"2F25EEE","2F30SEM","2F32SHL","1F59SSE","2F54HSE","1F96VES",null,"1I0300","1LED017","1I0072","1LED017","1I0072","1LED017","1F30SEM","1LED017","1I0072","1LED031","1F30SEM","1LED031","1F96HES","1LED031","1F96HES",null,null,"1LED017","1I0072","1LED018","1F30SEM","1LED017","1I0072","1LED018","2F30SSS","1LED061","1F96VES","1LED061",null,"1LED116","1MH1500S","1LED031","1F96HES","1LED031","1F96HES","1LED116","1HPS0600S",null,null,"1F96SEE",null,"1PS0400P","1I0072","1C2232S",null,null,"CFLs","CFL Existing","CFLs",null,"New Fluorescent High Bay Fixture w/ 4’ HPT8: 4-6 Lamps",{"$f":"CE22=CA22","v":false},null,"61B"]
["Parking Structure",7884,1,103,{"$f":"SUMIF('Input - Retrofit Lighting'!$G$25:$G$224,Validation!D23,'Input - Retrofit Lighting'!$AF$25:$AF$224)","v":0},{"$f":"SUMIF('Input - Retrofit Lighting'!$G$25:$G$224,Validation!D23,'Input - Retrofit Lighting'!$AC$25:$AC$224)","v":0},0,0,0,null,null,null,null,null,null,null,null,null,null,null,null,null,null,null,null,"2F25EEL","2F30SES","1F49HSE","1F34SSS","4F54HSE","1F96VSS",null,"1MH0050S","1LED018","1I0075","1LED018","1I0075","1LED018","1F30SES","1LED018","1I0075","1LED032","1F30SES","1LED032","1F96HSS","1LED032","1F96HSS",null,null,"1LED018","1I0075","1LED019","1F30SES","1LED018","1I0075","1LED019","2F32SSS","1LED062","1F96VSS","1LED062",null,"1LED117","1MH1800S","1LED032","1F96HSS","1LED032","1F96HSS","1LED117","1HPS0750S",null,null,"1F96SES",null,"1PS0400R","1I0075","1C2D10E",null,null,null,null,null,null,"New Fluorescent High Bay Fixture w/ 4’ HPT8: 8 Lamps",{"$f":"CE23=CA23","v":false},null,"61C"]
["Public Assembly",2638,0.56000000000000005,104,{"$f":"SUMIF('Input - Retrofit Lighting'!$G$25:$G$224,Validation!D24,'Input - Retrofit Lighting'!$AF$25:$AF$224)","v":0},{"$f":"SUMIF('Input - Retrofit Lighting'!$G$25:$G$224,Validation!D24,'Input - Retrofit Lighting'!$AC$25:$AC$224)","v":0},0,0,0,null,null,null,null,null,null,null,null,null,null,null,null,null,null,null,null,"1F28EEH","2F30SSS","2F49HSE ","2F34SSS","5F54HSW","2F96VES",null,"1MH0070S","1LED019","1I0080","1LED019","1I0080","1LED019","1F30SSS","1LED019","1I0080","1LED033","1F30SSS","1LED033","2F96HEE","1LED033","2F96HEE",null,null,"1LED019","1I0080","1LED020","1F30SSS","1LED019","1I0080","1LED020","2F32SSS","1LED063","2F96VES","1LED063",null,"1LED118",null,"1LED033","2F96HEE","1LED033","2F96HEE","1LED118","1HPS1000S",null,null,"1F96SSE",null,"1PS0450P","1I0080","1C2D16E",null,null,null,null,null,null,"New Fluorescent High Bay Fixture w/ 4’ HPT8: 8-16 Lamps (Double Fixture)",{"$f":"CE24=CA25","v":false},null,"61D"]
["Public Order and Safety",3472,0.75,105,{"$f":"SUMIF('Input - Retrofit Lighting'!$G$25:$G$224,Validation!D25,'Input - Retrofit Lighting'!$AF$25:$AF$224)","v":0},{"$f":"SUMIF('Input - Retrofit Lighting'!$G$25:$G$224,Validation!D25,'Input - Retrofit Lighting'!$AC$25:$AC$224)","v":0},0,0,0,null,null,null,null,null,null,null,null,null,null,null,null,null,null,null,null,"1F28EEE","3F30SES","3F49HSE  ","3F40SSS","6F54HSE","2F96VSS",null,"1MH0100S","1LED020","1I0085","1LED020","1I0085","1LED020","2F30SEE","1LED020","1I0085","1LED034","2F30SEE","1LED034","2F96HEM","1LED034","2F96HEM",null,null,"1LED020","1I0085","1LED021","2F30SEE","1LED020","1I0085","1LED021","2F34SSE","1LED064","2F96VSS","1LED064",null,"1LED119",null,"1LED034","2F96HEM","1LED034","2F96HEM","1LED119","1MV0700S",null,null,"1F96SSS",null,"1PS0450R","1I0085","1C2D21E",null,null,null,null,null,null,"Pulse Start Metal Halide Retrofit: 320W",{"$f":"CE25=CA26","v":false},null,"65A"]
["Religious Worship",1824,0.53,106,{"$f":"SUMIF('Input - Retrofit Lighting'!$G$25:$G$224,Validation!D26,'Input - Retrofit Lighting'!$AF$25:$AF$224)","v":0},{"$f":"SUMIF('Input - Retrofit Lighting'!$G$25:$G$224,Validation!D26,'Input - Retrofit Lighting'!$AC$25:$AC$224)","v":0},0,0,0,null,null,null,null,null,null,null,null,null,null,null,null,null,null,null,null,"1F28EEL","3F30SSS","4F49HSE  ","4F40SSS","12F54HSE","3F96VES",null,"1MH0150S","1LED021","1I0090","1LED021","1I0090","1LED021","2F30SEM","1LED021","1I0090","1LED035","2F30SEM","1LED035","2F96HES","1LED035","2F96HES",null,null,"1LED021","1I0090","1LED022","2F30SEM","1LED021","1I0090","1LED022","2F34SSE","1LED065","3F96VES","1LED065",null,"1LED120",null,"1LED035","2F96HES","1LED035","2F96HES","1LED120","1MV1000S",null,null,"2F96SEE",null,"1PS0750P","1I0090","1C2D28E",null,null,null,null,null,null,"Pulse Start Metal Halide Retrofit: 750W",{"$f":"CE26=CA27","v":false},null,"65B"]
["Retail: Mall",4813,0.93,107,{"$f":"SUMIF('Input - Retrofit Lighting'!$G$25:$G$224,Validation!D27,'Input - Retrofit Lighting'!$AF$25:$AF$224)","v":0},{"$f":"SUMIF('Input - Retrofit Lighting'!$G$25:$G$224,Validation!D27,'Input - Retrofit Lighting'!$AC$25:$AC$224)","v":0},0,0,0,null,null,null,null,null,null,null,null,null,null,null,null,null,null,null,null,"2F28EEH","4F30SEE","1F28SSE","2F34SSS","10F54HSE","3F96VSS",null,"1MH0175S","1LED022","1I0093","1LED022","1I0093","1LED022","2F30SES","1LED022","1I0093","1LED036","2F30SES","1LED036","2F96HSE","1LED036","2F96HSE",null,null,"1LED022","1I0093","1LED023","2F30SES","1LED022","1I0093","1LED023","2F34SSS","1LED066","3F96VSS","1LED066",null,"1LED121",null,"1LED036","2F96HSE","1LED036","2F96HSE","1LED121","2MV0400S",null,null,"2F96SEM",null,"1PS0750R","1I0093","1C2D38E",null,null,null,null,null,null,"New Hardwired CFL Downlight, Surface, Pendant or Wallpack: 1 Lamp",{"$f":"CE27=CA27","v":false},null,"70A"]
["Retail: Non enclosed mall",3668,0.9,108,{"$f":"SUMIF('Input - Retrofit Lighting'!$G$25:$G$224,Validation!D28,'Input - Retrofit Lighting'!$AF$25:$AF$224)","v":0},{"$f":"SUMIF('Input - Retrofit Lighting'!$G$25:$G$224,Validation!D28,'Input - Retrofit Lighting'!$AC$25:$AC$224)","v":0},0,0,0,null,null,null,null,null,null,null,null,null,null,null,null,null,null,null,null,"2F28EEE","4F30SEM","2F28SSE","3F34SSS","8F54HSE","4F96VES",null,"1MH0250S","1LED023","1I0100","1LED023","1I0100","1LED023","2F30SSS","1LED023","1I0100","1LED037","2F30SSS","1LED037","2F96HSM","1LED037","2F96HSM",null,null,"1LED023","1I0100","1LED024","2F30SSS","1LED023","1I0100","1LED024","2F34SSS","1LED067","4F96VES","1LED067",null,"1LED122",null,"1LED037","2F96HSM","1LED037","2F96HSM","1LED122","1MH0100S",null,null,"2F96SES",null,"1PS1000P","1I0100","1C3240S",null,null,null,null,null,null,"New Hardwired CFL Downlight, Surface, Pendant or Wallpack: 2 Lamp",{"$f":"CE28=CA28","v":false},null,"70B"]
["Service: Non food",3406,0.9,109,{"$f":"SUMIF('Input - Retrofit Lighting'!$G$25:$G$224,Validation!D29,'Input - Retrofit Lighting'!$AF$25:$AF$224)","v":0},{"$f":"SUMIF('Input - Retrofit Lighting'!$G$25:$G$224,Validation!D29,'Input - Retrofit Lighting'!$AC$25:$AC$224)","v":0},0,0,0,null,null,null,null,null,null,null,null,null,null,null,null,null,null,null,null,"2F28EEL","4F30SES","1F21SSE","4F34SSS",null,"4F96VSS",null,null,"1LED024","1C0005S","1LED024","1C0005S","1LED024","3F30SES","1LED024","1C0005S","1LED038","3F30SES","1LED038","2F96HSS","1LED038","2F96HSS",null,null,"1LED024","1R0020","1LED025","3F30SES","1LED024","1I0120","1LED025","2F34SSS","1LED068","4F96VSS","1LED068",null,"1LED123",null,"1LED038","2F96HSS","1LED038","2F96HSS","1LED123","1MH0750S",null,null,"2F96SSE",null,"1HPS0035S","1I0120","2C0005S",null,null,null,null,null,null,"New Hardwired CFL Downlight, Surface, Pendant or Wallpack: 3 Lamp",false,null,"70C"]
["Warehouse: Non refrigerated",3501,0.77,110,{"$f":"SUMIF('Input - Retrofit Lighting'!$G$25:$G$224,Validation!D30,'Input - Retrofit Lighting'!$AF$25:$AF$224)","v":0},{"$f":"SUMIF('Input - Retrofit Lighting'!$G$25:$G$224,Validation!D30,'Input - Retrofit Lighting'!$AC$25:$AC$224)","v":0},0,0,0,null,null,null,null,null,null,null,null,null,null,null,null,null,null,null,null,"3F25EEH","4F30SSS","2F21SSE","1F32SSS",null,"1HPS0250S",null,null,"1LED025","1C0007S","1LED025","1C0007S","1LED025","3F30SSS","1LED025","1C0007S","1LED039","3F30SSS","1LED039","3F96HES","1LED039","3F96HES",null,null,"1LED025","1R0025","1LED026","3F30SSS","1LED025","1I0125","1LED026","2F34SSS","1LED069","1PS0100P","1LED069",null,"1LED124",null,"1LED039","3F96HES","1LED039","3F96HES","1LED124","1MH1000S",null,null,"2F96SSM",null,"1HPS0050S","1I0125","2C0007S",null,null,null,null,null,null,"Screw-in CFL",false,null,"71A"]
["Warehouse: Refrigerated",3798,0.84,111,{"$f":"SUMIF('Input - Retrofit Lighting'!$G$25:$G$224,Validation!D31,'Input - Retrofit Lighting'!$AF$25:$AF$224)","v":0},{"$f":"SUMIF('Input - Retrofit Lighting'!$G$25:$G$224,Validation!D31,'Input - Retrofit Lighting'!$AC$25:$AC$224)","v":0},0,0,0,null,null,null,null,null,null,null,null,null,null,null,null,null,null,null,null,"3F25EEE","1F20SSS","1F54HSE","2F32SSS",null,"1HPS0150S",null,null,"1LED026","1C0009S","1LED026","1C0009S","1LED026","4F30SEE","1LED026","1C0009S","1LED040","4F30SEE","1LED040","3F96HSS","1LED040","3F96HSS",null,null,null,"1R0035","1LED027","4F30SEE","1LED026","1I0135","1LED027","2F59SSE","1LED070","1PS0100R","1LED070",null,"1LED125",null,"1LED040","3F96HSS","1LED040","3F96HSS","1LED125","1MH1500S",null,null,"2F96SSS",null,"1HPS0070S","1I0135","2C0009S",null,null,null,null,null,null,"4’ T12: 1-2 Lamps",false,"10A"]
["Exit Signs",8766,1,"Total Project",{"$f":"SUM(E21:E31)","v":0},{"$f":"SUM(F21:F31)","v":0},{"$f":"E32-F32","v":0},{"$f":"IFERROR(G32/E32,0)","v":0},{"$f":"I$19*G32","v":0},null,null,null,null,null,null,null,null,null,null,null,null,null,null,null,null,"3F25EEL","2F20SSS","2F54HSE","3F32SSS",null,"1HPS0400S",null,null,"1LED027","1C0011S","1LED027","1C0011S","1LED027","4F30SEM","1LED027","1C0011S","1LED041","4F30SEM","1LED041","4F96HEE","1LED041","4F96HEE",null,null,null,"1R0042","1LED028","4F30SEM","1LED027","1I0150","1LED028","2F59SSL","1LED071","1PS0150P","1LED071",null,"1LED126",null,"1LED041","4F96HEE","1LED041","4F96HEE","1LED126","1MH1800S",null,null,"3F96SES",null,"1HPS0100S","1I0150","2C0011S",null,null,null,null,null,null,"4’ T12: 3-4 Lamps",false,"10B"]
[null,null,null,null,null,null,null,null,{"$f":"SUM(I21:I31)-I32","v":0},null,null,null,null,null,null,null,null,null,null,null,null,null,null,null,null,"4F25EEH","3F20SSS","3F54HSE","4F32SSS",null,"1HPS0310S",null,null,"1LED028","1C0013S","1LED028","1C0013S","1LED028","4F30SES","1LED028","1C0013S","1LED042","4F30SES","1LED042","4F96HEM","1LED042","4F96HEM",null,null,null,"1R0050","1LED029","4F30SES","1LED028","1I0200","1LED029","2F80SSE","1LED072","1PS0150R","1LED072",null,"1LED127",null,"1LED042","4F96HEM","1LED042","4F96HEM","1LED127","1T0750",null,null,"3F96SSS",null,"1HPS0150S","1I0200","2C0013E",null,null,null,null,null,null,"4’ T12 or Standard T8: 1-2 Lamps",{"$f":"CE33=CA33","v":false},"10C"]
["ClgHtgType & ClgHtgTypeData",null,null,null,null,null,null,null,null,null,null,null,null,null,null,null,null,null,null,null,null,null,null,null,null,"4F25EEE","4F20SSS","4F54HSE","2F32SSS",null,"1HPS0360S",null,null,"1LED029","1C0018E","1LED029","1C0018E","1LED029","4F30SSS","1LED029","1C0018E","1LED043","4F30SSS","1LED043","4F96HES","1LED043","4F96HES",null,null,null,"1R0065","1LED030","4F30SSS","1LED029","1R0020","1LED030","2F96HEM","1LED073","1PS0175P","1LED073",null,"1LED128",null,"1LED043","4F96HES","1LED043","4F96HES","1LED128","1T0900",null,null,"4F96SEE",null,"1HPS0200S","1I0300","2C0013S",null,null,null,null,null,null,"4’ T12 or Standard T8: 3-4 Lamps",null,"10D"]
["Cooling / Heating Type","WHFD","WHFE",null,null,null,null,null,null,null,null,null,null,null,null,null,null,null,null,null,null,null,null,null,null,"4F25EEL","3F30SSS","1F39HSE","3F32SSS",null,"1HPS01000S",null,null,"1LED030","1C0018S","1LED030","1C0018S","1LED030","1F20SSS","1LED030","1C0018S","1LED044","1F20SSS","1LED044","4F96HSE","1LED044","4F96HSE",null,null,null,"1R0075","1LED031","1F20SSS","1LED030","1R0025","1LED031","2F96HES","1LED074","1PS0175R","1LED074",null,"1LED129",null,"1LED044","4F96HSE","1LED044","4F96HSE","1LED129","1T1000",null,null,"4F96SEM",null,"1HPS0225S","1I0448","2C0018E",null,null,null,null,null,null,"3’ T12: 1-4 Lamps",null,"10E"]
["No A/C / Gas",1,1,null,null,null,null,null,null,null,null,null,null,null,null,null,null,null,null,null,null,null,null,null,null,"3F28EEH","4F30SEE","2F39HSE","4F32SSS",null,"1HPS0600S",null,null,"1LED031","1C0022S","1LED031","1C0022S","1LED031","2F20SSS","1LED031","1C0022S","1LED045","2F20SSS","1LED045","4F96HSM","1LED045","4F96HSM",null,null,null,"1MH0035E","1LED032","2F20SSS","1LED031","1R0035","1LED032","2F96VES","1LED075","1PS0200P","1LED075",null,"1LED130",null,"1LED045","4F96HSM","1LED045","4F96HSM","1LED130","1T1200",null,null,"4F96SES",null,"1HPS0250S","1I0500","2C0026E",null,null,null,null,null,null,"2’ T12: 1-4 Lamps",null,"10F"]
["No A/C / Electric Resistance",1,0.78,null,null,null,null,null,null,null,null,null,null,null,null,null,null,null,null,null,null,null,null,null,null,"3F28EEE","4F30SEM","1F25EEH","1T0050",null,"1HPS0750S",null,null,"1LED032","1C0023E","1LED032","1C0023E","1LED032","3F20SSS","1LED032","1C0023E","1LED046","3F20SSS","1LED046","4F96HSS","1LED046","4F96HSS",null,null,null,"1MH0070E","1LED033","3F20SSS","1LED032","1R0042","1LED033","2F96VSS","1LED076","1PS0200R","1LED076",null,"1LED131",null,"1LED046","4F96HSS","1LED046","4F96HSS","1LED131","1T1500",null,null,"4F96SSE",null,"1HPS0310S","1I0750","2C0032E",null,null,null,null,null,null,"8’ T12HO/VHO or T8HO: 2 Lamps",null,"15A"]
["No A/C / Unknown",1,0.89,null,null,null,null,null,null,null,null,null,null,null,null,null,null,null,null,null,null,null,null,null,null,"3F28EEL","4F30SES","1F25EEE","1T0052",null,"1HPS1000S",null,null,"1LED033","1C0026E","1LED033","1C0026E","1LED033","4F20SSS","1LED033","1C0026E","1LED047","4F20SSS","1LED047","1F96VES","1LED047","1F96VES",null,null,null,"1MH0100E","1LED034","4F20SSS","1LED033","1R0050","1LED034","3F20SSS","1LED077","1PS0250P","1LED077",null,"1LED132",null,"1LED047","1F96VES","1LED047","1F96VES","1LED132",null,null,null,"4F96SSM",null,"1HPS0360S","1I1000","2C0042E",null,null,null,null,null,null,"8’ T12 or T8 Slimline: 2 Lamps",null,"15B"]
["A/C / Gas",1.2,1.0900000000000001,null,null,null,null,null,null,null,null,null,null,null,null,null,null,null,null,null,null,null,null,null,null,"4F28EEH","4F30SSS","1F25EEL","1T0055",null,"1MV0250S",null,null,"1LED034","1C0026S","1LED034","1C0026S","1LED034","2F96SEM","1LED034","1C0026S","1LED048","2F96SEM","1LED048","1F96VSS","1LED048","1F96VSS",null,null,null,"1T0035","1LED035","2F96SEM","1LED034","1R0065","1LED035","3F30SES","1LED078","1PS0250R","1LED078",null,"1LED133",null,"1LED048","1F96VSS","1LED048","1F96VSS","1LED133",null,null,null,"4F96SSS",null,"1HPS0400S","1I1500","3C0009S",null,null,null,null,null,null,"4’ T12 or Standard T8: 3-4 Lamps",null,"15C"]
["A/C / Electric Resistance",1.2,0.87,null,null,null,null,null,null,null,null,null,null,null,null,null,null,null,null,null,null,null,null,null,null,"4F28EEE","1F20SSS","2F25EEH","1T0060",null,"1MV0175S",null,null,"1LED035","1C0028S","1LED035","1C0028S","1LED035","2F96SES","1LED035","1C0028S","1LED049","2F96SES","1LED049","2F96VES","1LED049","2F96VES",null,null,null,"1T0040",null,"2F96SES","1LED035","1R0075","1LED036","3F30SSS","1LED079","1PS0300P","1LED079",null,"1LED134",null,"1LED049","2F96VES","1LED049","2F96VES","1LED134",null,null,null,"1F59SSE",null,"1HPS0600S","1T0035","3C0013S",null,null,null,null,null,null,"4’ T12 or Standard T8: 2-3 Lamps",null,"15D"]
["A/C / Heat Pump",1.2,1.02,null,null,null,null,null,null,null,null,null,null,null,null,null,null,null,null,null,null,null,null,null,null,"4F28EEL","2F20SSS","2F25EEE","1T0072",null,"1MV0400S",null,null,"1LED036","1C0032S","1LED036","1C0032S","1LED036","1F96SSE","1LED036","1C0032S","1LED050","1F96SSE","1LED050","2F96VSS","1LED050","2F96VSS",null,null,null,"1T0042",null,"1F96SSE","1LED036","1MH0035E","1LED037","3F32SSS","1LED080","1PS0300R","1LED080",null,"1LED135",null,"1LED050","2F96VSS","1LED050","2F96VSS","1LED135",null,null,null,"1F80SSE",null,"1HPS0750S","1T0040","3C0018E",null,null,null,null,null,null,"4’ T12 or T8 U-Bend: 2 Lamps",null,"15E"]
["A/C / Unknown",1.2,0.98,null,null,null,null,null,null,null,null,null,null,null,null,null,null,null,null,null,null,null,null,null,null,"1F25SSE","3F20SSS","2F25EEL","1T0075",null,"1MV1000S",null,null,"1LED037","1C0042E","1LED037","1C0042E","1LED037","2F59SSE","1LED037","1C0042E","1LED051","2F59SSE","1LED051","3F96VES","1LED051","3F96VES",null,null,null,"1T0045",null,"2F59SSE","1LED037","1MH0070E","1LED038","3F32SSS","1LED081","1MH0100S","1LED081",null,"1LED136",null,"1LED051","3F96VES","1LED051","3F96VES","1LED136",null,null,null,"2F59SSE",null,"1HPS1000S","1T0042","3C0026E",null,null,null,null,null,null,"T12, Standard T8, Incandescent or Low-Wattage HID (50-150W)",null,"20A"]
["Med. Temp. Refrigerated Space",1.25,1.25,null,null,null,null,null,null,null,null,null,null,null,null,null,null,null,null,null,null,null,null,null,null,"2F25SSE","4F20SSS","1F28EEH","1T0090",null,"1MV0700S",null,null,"1LED038","1C0044S","1LED038","1C0044S","1LED038","2F59SSL","1LED038","1C0044S","1LED052","2F59SSL","1LED052","3F96VSS","1LED052","3F96VSS",null,null,null,"1T0050",null,"2F59SSL","1LED038","1MH0100E","1LED039","3F34SSE","1LED082","1MH0150S","1LED082",null,"1LED137",null,"1LED052","3F96VSS","1LED052","3F96VSS","1LED137",null,null,null,"2F59SSL",null,"1LPS0035S","1T0045","3C0032E",null,null,null,null,null,null,"T12, Standard T8, Incandescent or Low-Wattage HID (50-150W)",null,"20B"]
["Low Temp. Freezer Space",1.3,1.3,null,null,null,null,null,null,null,null,null,null,null,null,null,null,null,null,null,null,null,null,null,null,"3F25SSE",null,"1F28EEE","1T0100",null,"1MH0250S",null,null,"1LED039","1C0057E","1LED039","1C0057E","1LED039","1F59SSE","1LED039","1C0057E","1LED053","1F59SSE","1LED053","4F96VES","1LED053","4F96VES",null,null,null,"1T0052",null,"1F59SSE","1LED039","1T0035","1LED040","3F34SSE","1LED083","1MH0175S","1LED083",null,"1LED138",null,"1LED053","4F96VES","1LED053","4F96VES","1LED138",null,null,null,"2F80SSE",null,"1LPS0055S","1T0050","3C0042E",null,null,null,null,null,null,"T12, Standard T8 or Incandescent",null,"20C"]
[null,null,null,null,null,null,null,null,null,null,null,null,null,null,null,null,null,null,null,null,null,null,null,null,null,"4F25SSE",null,"1F28EEL","1T0150",null,"1MH0175S",null,null,"1LED040","1C2232S","1LED040","1C2232S","1LED040","2F96HEM","1LED040","1C2232S","1LED054","2F96HEM","1LED054","4F96VSS","1LED054","4F96VSS",null,null,null,"1T0055",null,"2F96HEM","1LED040","1T0040","1LED041","3F34SSS","1LED084","1MH0250S","1LED084",null,"1LED139",null,"1LED054","4F96VSS","1LED054","4F96VSS","1LED139",null,null,null,"1F96VES",null,"1LPS0090S","1T0052","4C0018E",null,null,null,null,null,null,"T12, Standard T8 or Incandescent",null,"20D"]
[null,null,null,null,null,null,null,null,null,null,null,null,null,null,null,null,null,null,null,null,null,null,null,null,null,"1F17SSE",null,"2F28EEH","1HPS0050S",null,"1MH0150S",null,null,"1LED041","1C2D10E","1LED041","1C2D10E","1LED041","2F96HES","1LED041","1C2D10E","1LED055","2F96HES","1LED055","1PS0100P","1LED055","1PS0100P",null,null,null,"1T0060",null,"2F96HES","1LED041","1T0042","1LED042","3F34SSS","1LED085","1HPS0035S","1LED085",null,"1LED140",null,"1LED055","1PS0100P","1LED055","1PS0100P","1LED140",null,null,null,"1F96VSS",null,"1LPS0135S","1T0055","4C0026E",null,null,null,null,null,null,"4' T12 or Standard T8: 2-4 Lamps",null,"40A"]
[null,null,null,null,null,null,null,null,null,null,null,null,null,null,null,null,null,null,null,null,null,null,null,null,null,"1F17SSL",null,"2F28EEE","1HPS0070S",null,"1MH0400S",null,null,"1LED042","1C2D16E","1LED042","1C2D16E","1LED042","1F96HES","1LED042","1C2D16E","1LED056","1F96HES","1LED056","1PS0100R","1LED056","1PS0100R",null,null,null,"1T0072",null,"1F96HES","1LED042","1T0045","1LED043","3F34SSS","1LED086","1HPS0050S","1LED086",null,"1LED141",null,"1LED056","1PS0100R","1LED056","1PS0100R","1LED141",null,null,null,"2F96VES",null,"1LPS0180S","1T0060","4C0032E",null,null,null,null,null,null,"4' T12 or Standard T8: 3-4 Lamps",null,"40B"]
[null,null,null,null,null,null,null,null,null,null,null,null,null,null,null,null,null,null,null,null,null,null,null,null,null,"2F17SSE",null,"2F28EEL","1HPS0100S",null,"1MH0360S",null,null,"1LED043","1C2D21E","1LED043","1C2D21E","1LED043","2F96VES","1LED043","1C2D21E","1LED057","2F96VES","1LED057","1PS0150P","1LED057","1PS0150P",null,null,null,"1T0075",null,"2F96VES","1LED043","1T0050","1LED044","3F34SSS","1LED087","1HPS0070S","1LED087",null,"1LED142",null,"1LED057","1PS0150P","1LED057","1PS0150P","1LED142",null,null,null,"2F96VSS",null,"1MH0035E","1T0072","4C0042E",null,null,null,null,null,null,"150 - 250W HID High Bay or 8' T12 lamps",null,"60A"]
[null,null,null,null,null,null,null,null,null,null,null,null,null,null,null,null,null,null,null,null,null,null,null,null,null,"2F17SSL",null,"3F25EEH","1HPS0150S",null,"1MH01000S",null,null,"1LED044","1C2D28E","1LED044","1C2D28E","1LED044","2F96VSS","1LED044","1C2D28E","1LED058","2F96VSS","1LED058","1PS0150R","1LED058","1PS0150R",null,null,null,"1T0090",null,"2F96VSS","1LED044","1T0052","1LED045","4F20SSS","1LED088","1HPS0100S","1LED088",null,"1LED143",null,"1LED058","1PS0150R","1LED058","1PS0150R","1LED143",null,null,null,"3F96VES",null,"1MH0070E","1T0075","6C0026E",null,null,null,null,null,null,"320 - 400W HID High Bay or 8' T12 lamps",null,"60B"]
[null,null,null,null,null,null,null,null,null,null,null,null,null,null,null,null,null,null,null,null,null,null,null,null,null,"3F17SSE",null,"3F25EEE","1HPS0050S",null,"1MH0750S",null,null,"1LED045","1C2D38E","1LED045","1C2D38E","1LED045","1F96VES","1LED045","1C2D38E","1LED059","1F96VES","1LED059","1PS0175P","1LED059","1PS0175P",null,null,null,"1T0100",null,"1F96VES","1LED045","1T0055","1LED046","4F30SEE","1LED089","1HPS0150S","1LED089",null,"1LED144",null,"1LED059","1PS0175P","1LED059","1PS0175P","1LED144",null,null,null,"3F96VSS",null,"1MH0100E","1T0090","6C0032E",null,null,null,null,null,null,"320 - 400W HID High Bay or 8' T12 lamps",null,"60C"]
[null,null,null,null,null,null,null,null,null,null,null,null,null,null,null,null,null,null,null,null,null,null,null,null,null,"3F17SSL",null,"3F25EEL","1HPS0070S",null,"1MH1000S",null,null,"1LED046","1C3240S","1LED046","1C3240S","1LED046","1F96VSS","1LED046","1C3240S","1LED060","1F96VSS","1LED060","1PS0175R","1LED060","1PS0175R",null,null,null,"1T0150",null,"1F96VSS","1LED046","1T0060","1LED047","4F30SEM","1LED090","1HPS0200S","1LED090",null,"1LED145",null,"1LED060","1PS0175R","1LED060","1PS0175R","1LED145",null,null,null,"4F96VES",null,"1MV0040S","1T0100","6C0042E",null,null,null,null,null,null,"750 - 1,000W HID High Bay or 8' T12 lamps",null,"60D"]
[null,null,null,null,null,null,null,null,null,null,null,null,null,null,null,null,null,null,null,null,null,null,null,null,null,"4F17SSE",null,"4F25EEH","1HPS0100S",null,"PS0300P",null,null,"1LED047","2C0005S","1LED047","2C0005S","1LED047","2F80SSE","1LED047","2C0005S","1LED061","2F80SSE","1LED061","1PS0200P","1LED061","1PS0200P",null,null,null,"1T0200",null,"2F80SSE","1LED047","1T0072","1LED048","4F30SES","1LED091","1HPS0225S","1LED091",null,"1LED146",null,"1LED061","1PS0200P","1LED061","1PS0200P","1LED146",null,null,null,"4F96VSS",null,"1MV0050S","1T0150","8C0026E",null,null,null,null,null,null,"150 - 250W HID High Bay or 8' T12 lamps",null,"61A"]
[null,null,null,null,null,null,null,null,null,null,null,null,null,null,null,null,null,null,null,null,null,null,null,null,null,"4F17SSL",null,"4F25EEE","1HPS0150S",null,"PS0320P",null,null,"1LED048","2C0007S","1LED048","2C0007S","1LED048","1F80SSE","1LED048","2C0007S","1LED062","1F80SSE","1LED062","1PS0200R","1LED062","1PS0200R",null,null,null,null,null,"1F80SSE","1LED048","1T0075","1LED049","4F30SSS","1LED092","1HPS0250S","1LED092",null,"1LED147",null,"1LED062","1PS0200R","1LED062","1PS0200R","1LED147",null,null,null,"1F40HSE",null,"1MV0075S","1T0200","8C0032E",null,null,null,null,null,null,"320 - 400W HID High Bay or 8' T12 lamps",null,"61B"]
[null,null,null,null,null,null,null,null,null,null,null,null,null,null,null,null,null,null,null,null,null,null,null,null,null,"2F17SSH",null,"4F25EEL","1I0060",null,"PS0350P",null,null,"1LED049","2C0009S","1LED049","2C0009S","1LED049","1F25EEH","1LED049","2C0009S","1LED063","1F25EEH","1LED063","1PS0250P","1LED063","1PS0250P",null,null,null,null,null,null,"1LED049","1T0090","1LED050","4F32SSS","1LED093","1HPS0310S","1LED093",null,"1LED148",null,"1LED063","1PS0250P","1LED063","1PS0250P","1LED148",null,null,null,"1F60HSM",null,"1MV0100S","1T0250","8C0042E",null,null,null,null,null,null,"320 - 400W HID High Bay or 8' T12 lamps",null,"61C"]
[null,null,null,null,null,null,null,null,null,null,null,null,null,null,null,null,null,null,null,null,null,null,null,null,null,"2F25SSE",null,"3F28EEH","1I0075",null,"PS0750P",null,null,"1LED050","2C0011S","1LED050","2C0011S","1LED050","1F25EEE","1LED050","2C0011S","1LED064","1F25EEE","1LED064","1PS0250R","1LED064","1PS0250R",null,null,null,null,null,null,"1LED050","1T0100","1LED051","4F32SSS","1LED094","1HPS0360S","1LED094",null,"1LED149",null,"1LED064","1PS0250R","1LED064","1PS0250R","1LED149",null,null,null,"2F40HSE",null,"1MV0175S","1T0300",null,null,null,null,null,null,null,"750 - 1,000W HID High Bay or 8' T12 lamps",null,"61D"]
[null,null,null,null,null,null,null,null,null,null,null,null,null,null,null,null,null,null,null,null,null,null,null,null,null,"3F25SSE",null,"3F28EEE","1I0100",null,"1PS0320P",null,null,"1LED051","2C0013E","1LED051","2C0013E","1LED051","1F25EEL","1LED051","2C0013E","1LED065","1F25EEL","1LED065","1PS0300P","1LED065","1PS0300P",null,null,null,null,null,null,"1LED051","1T0150","1LED052","4F34SSE","1LED095","1HPS0400S","1LED095",null,"1LED150",null,"1LED065","1PS0300P","1LED065","1PS0300P","1LED150",null,null,null,"2F40TSE",null,"1MV0250S","1T0350",null,null,null,null,null,null,null,"400W HID, Interior or Exterior",null,"65A"]
[null,null,null,null,null,null,null,null,null,null,null,null,null,null,null,null,null,null,null,null,null,null,null,null,null,"4F25SSE",null,"3F28EEL","1I0120",null,"1PS0320R",null,null,"1LED052","2C0013S","1LED052","2C0013S","1LED052","2F25EEH","1LED052","2C0013S","1LED066","2F25EEH","1LED066","1PS0300R","1LED066","1PS0300R",null,null,null,null,null,null,"1LED052","1T0200","1LED053","4F34SSE","1LED096","1HPS0600S","1LED096",null,"1LED151",null,"1LED066","1PS0300R","1LED066","1PS0300R","1LED151",null,null,null,"2F60HSM",null,"1MV0400S","1T0400",null,null,null,null,null,null,null,"1,000W HID, Interior or Exterior",null,"65B"]
[null,null,null,null,null,null,null,null,null,null,null,null,null,null,null,null,null,null,null,null,null,null,null,null,null,"1F17SSE",null,"4F28EEH","1I0125",null,"1PS0750P",null,null,"1LED053","2C0018E","1LED053","2C0018E","1LED053","2F25EEE","1LED053","2C0018E","1LED067","2F25EEE","1LED067","1PS0320P","1LED067","1PS0320P",null,null,null,null,null,null,"1LED053","1C0005S","1LED054","4F34SSS","1LED097","1HPS0750S","1LED097",null,"1LED152",null,"1LED067","1HPS0035S","1LED067","1PS0320P","1LED152",null,null,null,"3F40TSE",null,"1MV0700S","1T0425",null,null,null,null,null,null,null,"Incandescent (>60W) or Low-Wattage HID (50-150W)",null,"70A"]
[null,null,null,null,null,null,null,null,null,null,null,null,null,null,null,null,null,null,null,null,null,null,null,null,null,"1F17SSL",null,"4F28EEE","1I0135",null,"1PS0750R",null,null,"1LED054","2C0026E","1LED054","2C0026E","1LED054","2F25EEL","1LED054","2C0026E","1LED068","2F25EEL","1LED068","1PS0320R","1LED068","1PS0320R",null,null,null,null,null,null,"1LED054","1C0007S","1LED055","4F34SSS","1LED098","1HPS1000S","1LED098",null,"1LED153",null,"1LED068","1HPS0050S","1LED068","1PS0320R","1LED153",null,null,null,"1F48SES",null,"1MV1000S","1T0500",null,null,null,null,null,null,null,"Incandescent (>100W) or Low-Wattage HID (50-150W)",null,"70B"]
[null,null,null,null,null,null,null,null,null,null,null,null,null,null,null,null,null,null,null,null,null,null,null,null,null,"2F17SSE",null,"4F28EEL","1I0150",null,null,null,null,"1LED055","2C0032E","1LED055","2C0032E","1LED055","1F28EEH","1LED055","2C0032E","1LED069","1F28EEH","1LED069","1PS0350P","1LED069","1PS0350P",null,null,null,null,null,null,"1LED055","1C0009S","1LED056","4F34SSS","1LED099",null,"1LED099",null,"1LED154",null,"1LED069","1HPS0070S","1LED069","1PS0350P","1LED154",null,null,null,"1F48SSS",null,"2MV0400S","1T0750",null,null,null,null,null,null,null,"High-Wattage Incandescent (>150W) or Medium-Wattage HID (175 - 250W)",null,"70C"]
[null,null,null,null,null,null,null,null,null,null,null,null,null,null,null,null,null,null,null,null,null,null,null,null,null,"2F17SSL",null,"1F25SSE","1MH0032S",null,null,null,null,"1LED056","2C0042E","1LED056","2C0042E","1LED056","1F28EEE","1LED056","2C0042E","1LED070","1F28EEE","1LED070","1PS0350R","1LED070","1PS0350R",null,null,null,null,null,null,"1LED056","1C0011S","1LED057","4F34SSS","1LED100",null,"1LED100",null,"1LED155",null,"1LED070","1HPS0100S","1LED070","1PS0350R","1LED155",null,null,null,"2F48SES",null,"1MH0032S","1T0900",null,null,null,null,null,null,null,"Incandescent",null,"71A"]
[null,null,null,null,null,null,null,null,null,null,null,null,null,null,null,null,null,null,null,null,null,null,null,null,null,"3F17SSE",null,"2F25SSE","1MH0050S",null,null,null,null,"1LED057","3C0009S","1LED057","3C0009S","1LED057","1F28EEL","1LED057","3C0009S","1LED071","1F28EEL","1LED071","1PS0400P","1LED071","1PS0400P",null,null,null,null,null,null,"1LED057","1C0013S","1LED058","2F96SEM","1LED101",null,"1LED101",null,"1LED156",null,"1LED071","1HPS0150S","1LED071","1PS0400P","1LED156",null,null,null,"2F48SSS",null,"1MH0050S","1T1000",null,null,null,null,null,null,null,"Incandescent: 2x20W or Similar",null,"90A"]
[null,null,null,null,null,null,null,null,null,null,null,null,null,null,null,null,null,null,null,null,null,null,null,null,null,"3F17SSL",null,"3F25SSE","1MH0070S",null,null,null,null,"1LED058","3C0013S","1LED058","3C0013S","1LED058","2F28EEH","1LED058","3C0013S","1LED072","2F28EEH","1LED072","1PS0400R","1LED072","1PS0400R",null,null,null,null,null,null,"1LED058","1C0018E","1LED059","2F96SES","1LED102",null,"1LED102",null,"1LED157",null,"1LED072","1HPS0200S","1LED072","1PS0400R","1LED157",null,null,null,"3F48SES",null,"1MH0070S","1T1200",null,null,null,null,null,null,null,"Fluorescent / CFL: 2x9W or Similar",null,"90B"]
[null,null,null,null,null,null,null,null,null,null,null,null,null,null,null,null,null,null,null,null,null,null,null,null,null,"4F17SSE",null,"4F25SSE","1MH0100S",null,null,null,null,"1LED059","3C0018E","1LED059","3C0018E","1LED059","2F28EEE","1LED059","3C0018E","1LED073","2F28EEE","1LED073","1PS0450P","1LED073","1PS0450P",null,null,null,null,null,null,"1LED059","1C0018S","1LED060","1F96SSE","1LED103",null,"1LED103",null,"1LED158",null,"1LED073","1HPS0225S","1LED073","1PS0450P","1LED158",null,null,null,"3F48SSS",null,"1MH0100S","1T1500"]
[null,null,null,null,null,null,null,null,null,null,null,null,null,null,null,null,null,null,null,null,null,null,null,null,null,"4F17SSL",null,"1F17SSE","1MH0150S",null,null,null,null,"1LED060","3C0026E","1LED060","3C0026E","1LED060","2F28EEL","1LED060","3C0026E","1LED074","2F28EEL","1LED074","1PS0450R","1LED074","1PS0450R",null,null,null,null,null,null,"1LED060","1C0022S","1LED061","2F59SSE","1LED104",null,"1LED104",null,"1LED159",null,"1LED074","1HPS0250S","1LED074","1PS0450R","1LED159",null,null,null,"4F48SES",null,"1MH0150S"]
[null,null,null,null,null,null,null,null,null,null,null,null,null,null,null,null,null,null,null,null,null,null,null,null,null,"2F17SSE",null,"2F17SSE","1MH0100S",null,null,null,null,null,"3C0032E",null,"3C0032E",null,"3F25EEH",null,"3C0032E","1LED075","3F25EEH","1LED075","1PS0750P","1LED075","1PS0750P",null,null,null,null,null,null,"1LED061","1C0023E","1LED062","2F59SSL","1LED105",null,"1LED105",null,"1LED160",null,"1LED075","1HPS0310S","1LED075","1MV0400S","1LED160",null,null,null,"4F48SSS",null,"1MH0175S"]
[null,null,null,null,null,null,null,null,null,null,null,null,null,null,null,null,null,null,null,null,null,null,null,null,null,"2F17SSH",null,"2F17SSL","1MH0150S",null,null,null,null,null,"3C0042E",null,"3C0042E",null,"3F25EEE",null,"3C0042E","1LED076","3F25EEE","1LED076","1PS0750R","1LED076","1PS0750R",null,null,null,null,null,null,"1LED062","1C0026E","1LED063","1F59SSE","1LED106",null,"1LED106",null,"1LED161",null,"1LED076","1MV0075S","1LED076","2MV0400S","1LED161",null,null,null,"1F48HES",null,"1MH0250S"]
[null,null,null,null,null,null,null,null,null,null,null,null,null,null,null,null,null,null,null,null,null,null,null,null,null,"2F17SSL",null,"3F17SSE","1F30SEM",null,null,null,null,null,"4C0018E",null,"4C0018E",null,"3F25EEL",null,"4C0018E","1LED077","3F25EEL","1LED077","1PS1000P","1LED077","1PS1000P",null,null,null,null,null,null,"1LED063","1C0026S","1LED064","2F96HEM","1LED107",null,"1LED107",null,"1LED162",null,"1LED077","1MV0100S","1LED077","1MH0250S","1LED162",null,null,null,"1F48HSS",null,"1MH0360S"]
[null,null,null,null,null,null,null,null,null,null,null,null,null,null,null,null,null,null,null,null,null,null,null,null,null,null,null,"3F17SSL","1F30SES",null,null,null,null,null,"4C0026E",null,"4C0026E",null,"4F25EEH",null,"4C0026E","1LED078","4F25EEH","1LED078","1HPS0035S","1LED078","1HPS0035S",null,null,null,null,null,null,"1LED064","1C0028S","1LED065","2F96HES","1LED108",null,"1LED108",null,"1LED163",null,"1LED078","1MV0175S","1LED078","1MH0360S","1LED163",null,null,null,"2F48HES",null,"1MH0400S"]
[null,null,null,null,null,null,null,null,null,null,null,null,null,null,null,null,null,null,null,null,null,null,null,null,null,null,null,"4F17SSE","1F30SSS",null,null,null,null,null,"4C0032E",null,"4C0032E",null,"4F25EEE",null,"4C0032E","1LED079","4F25EEE","1LED079","1HPS0050S","1LED079","1HPS0050S",null,null,null,null,null,null,"1LED065","1C0032S","1LED066","1F96HES","1LED109",null,"1LED109",null,"1LED164",null,"1LED079","1MV0250S","1LED079","1MH0400S","1LED164",null,null,null,"2F48HSS",null,"1MH0750S"]
[null,null,null,null,null,null,null,null,null,null,null,null,null,null,null,null,null,null,null,null,null,null,null,null,null,null,null,null,"2F30SEE",null,null,null,null,null,"4C0042E",null,"4C0042E",null,"4F25EEL",null,"4C0042E","1LED080","4F25EEL","1LED080","1HPS0070S","1LED080","1HPS0070S",null,null,null,null,null,null,"1LED066","1C0042E","1LED067","2F96VES","1LED110",null,"1LED110",null,"1LED165",null,"1LED080","1MH0100S","1LED080","1T0500","1LED165",null,null,null,"3F48HES",null,"1MH1000S"]
[null,null,null,null,null,null,null,null,null,null,null,null,null,null,null,null,null,null,null,null,null,null,null,null,null,null,null,null,"2F30SEM",null,null,null,null,null,"6C0026E",null,"6C0026E",null,"3F28EEH",null,"6C0026E","1LED081","3F28EEH","1LED081","1HPS0100S","1LED081","1HPS0100S",null,null,null,null,null,null,"1LED067","1C0044S","1LED068","2F96VSS","1LED111",null,"1LED111",null,"1LED166",null,"1LED081","1MH0150S","1LED081",null,"1LED166",null,null,null,"3F48HSS",null,"1MH1500S"]
[null,null,null,null,null,null,null,null,null,null,null,null,null,null,null,null,null,null,null,null,null,null,null,null,null,null,null,null,"2F30SES",null,null,null,null,null,"6C0032E",null,"6C0032E",null,"3F28EEE",null,"6C0032E","1LED082","3F28EEE","1LED082","1HPS0150S","1LED082","1HPS0150S",null,null,null,null,null,null,"1LED068","1C0057E","1LED069","1F96VES","1LED112",null,"1LED112",null,"1LED167",null,"1LED082","1MH0175S","1LED082",null,"1LED167",null,null,null,"4F48HES",null,"1MH1800S"]
[null,null,null,null,null,null,null,null,null,null,null,null,null,null,null,null,null,null,null,null,null,null,null,null,null,null,null,null,"2F30SSS",null,null,null,null,null,"6C0042E",null,"6C0042E",null,"3F28EEL",null,"6C0042E","1LED083","3F28EEL","1LED083","1HPS0200S","1LED083","1HPS0200S",null,null,null,null,null,null,"1LED069","1C2232S","1LED070","1F96VSS","1LED113",null,"1LED113",null,"1LED168",null,"1LED083","1MH0250S","1LED083",null,"1LED168",null,null,null,"4F48HSS"]
[null,null,null,null,null,null,null,null,null,null,null,null,null,null,null,null,null,null,null,null,null,null,null,null,null,null,null,null,"3F30SES",null,null,null,null,null,"8C0026E",null,"8C0026E",null,"4F28EEH",null,"8C0026E","1LED084","4F28EEH","1LED084","1HPS0225S","1LED084","1HPS0225S",null,null,null,null,null,null,"1LED070","1C2D10E","1LED071","2F80SSE","1LED114",null,"1LED114",null,"1LED169",null,"1LED084",null,"1LED084",null,"1LED169",null,null,null,"1F48VES"]
[null,null,null,null,null,null,null,null,null,null,null,null,null,null,null,null,null,null,null,null,null,null,null,null,null,null,null,null,"3F30SSS",null,null,null,null,null,"8C0032E",null,"8C0032E",null,"4F28EEE",null,"8C0032E","1LED085","4F28EEE","1LED085","1HPS0250S","1LED085","1HPS0250S",null,null,null,null,null,null,"1LED071","1C2D16E","1LED072","1F80SSE","1LED115",null,"1LED115",null,"1LED170",null,"1LED085",null,"1LED085",null,"1LED170",null,null,null,"1F48VSS"]
[null,null,null,null,null,null,null,null,null,null,null,null,null,null,null,null,null,null,null,null,null,null,null,null,null,null,null,null,"1F20SSS",null,null,null,null,null,"8C0042E",null,"8C0042E",null,"4F28EEL",null,"8C0042E","1LED086","4F28EEL","1LED086","1HPS0310S","1LED086","1HPS0310S",null,null,null,null,null,null,"1LED072","1C2D21E","1LED073","3F96VES","1LED116",null,"1LED116",null,"1LED171",null,"1LED086",null,"1LED086",null,"1LED171",null,null,null,"2F48VES"]
[null,null,null,null,null,null,null,null,null,null,null,null,null,null,null,null,null,null,null,null,null,null,null,null,null,null,null,null,"2F20SSS",null,null,null,null,null,"1R0020",null,"1R0020",null,"1F32SHH",null,"1R0020","1LED087","1F32SHH","1LED087","1HPS0360S","1LED087","1HPS0360S",null,null,null,null,null,null,"1LED073","1C2D28E","1LED074","3F96VSS","1LED117",null,"1LED117",null,"1LED172",null,"1LED087",null,"1LED087",null,"1LED172",null,null,null,"2F48VSS"]
[null,null,null,null,null,null,null,null,null,null,null,null,null,null,null,null,null,null,null,null,null,null,null,null,null,null,null,null,"2F24HSS",null,null,null,null,null,"1R0025",null,"1R0025",null,"1F32SHL",null,"1R0025","1LED088","1F32SHL","1LED088","1HPS0400S","1LED088","1HPS0400S",null,null,null,null,null,null,"1LED074","1C2D38E","1LED075","4F96VES","1LED118",null,"1LED118",null,"1LED173",null,"1LED088",null,"1LED088",null,"1LED173",null,null,null,"3F48VES"]
[null,null,null,null,null,null,null,null,null,null,null,null,null,null,null,null,null,null,null,null,null,null,null,null,null,null,null,null,"3F20SSS",null,null,null,null,null,"1R0035",null,"1R0035",null,"2F32SHH",null,"1R0035","1LED089","2F32SHH","1LED089","1HPS0600S","1LED089","1HPS0600S",null,null,null,null,null,null,"1LED075","1C3240S","1LED076","4F96VSS","1LED119",null,"1LED119",null,"1LED174",null,"1LED089",null,"1LED089",null,"1LED174",null,null,null,"3F48VSS"]
[null,null,null,null,null,null,null,null,null,null,null,null,null,null,null,null,null,null,null,null,null,null,null,null,null,null,null,null,"3F24HSE",null,null,null,null,null,"1R0042",null,"1R0042",null,"2F32SHL",null,"1R0042","1LED090","2F32SHL","1LED090","1HPS0750S","1LED090","1HPS0750S",null,null,null,null,null,null,"1LED076","2C0005S","1LED077",null,"1LED120",null,"1LED120",null,"1LED175",null,"1LED090",null,"1LED090",null,"1LED175",null,null,null,"4F48VES"]
[null,null,null,null,null,null,null,null,null,null,null,null,null,null,null,null,null,null,null,null,null,null,null,null,null,null,null,null,"4F20SSS",null,null,null,null,null,"1R0050",null,"1R0050",null,"3F32SHH",null,"1R0050","1LED091","3F32SHH","1LED091","1HPS1000S","1LED091","1HPS1000S",null,null,null,null,null,null,"1LED077","2C0007S","1LED078",null,"1LED121",null,"1LED121",null,"1LED176",null,"1LED091",null,"1LED091",null,"1LED176",null,null,null,"4F48VSS"]
[null,null,null,null,null,null,null,null,null,null,null,null,null,null,null,null,null,null,null,null,null,null,null,null,null,null,null,null,null,null,null,null,null,null,"1R0065",null,"1R0065",null,"3F32SHL",null,"1R0065","1LED092","3F32SHL","1LED092","1MV0075S","1LED092","1MV0075S",null,null,null,null,null,null,"1LED078","2C0009S","1LED079",null,"1LED122",null,"1LED122",null,"1LED177",null,"1LED092",null,"1LED092",null,"1LED177",null,null,null,"1F40SEE"]
[null,null,null,null,null,null,null,null,null,null,null,null,null,null,null,null,null,null,null,null,null,null,null,null,null,null,null,null,null,null,null,null,null,null,"1R0075",null,"1R0075",null,"4F32SHH",null,"1R0075","1LED093","4F32SHH","1LED093","1MV0100S","1LED093","1MV0100S",null,null,null,null,null,null,"1LED079","2C0011S","1LED080",null,"1LED123",null,"1LED123",null,"1LED178",null,"1LED093",null,"1LED093",null,"1LED178",null,null,null,"1F40SEM"]
[null,null,null,null,null,null,null,null,null,null,null,null,null,null,null,null,null,null,null,null,null,null,null,null,null,null,null,null,null,null,null,null,null,null,"1MH0035E",null,"1MH0035E",null,"4F32SHL",null,"1MH0035E","1LED094","4F32SHL","1LED094","1MV0175S","1LED094","1MV0175S",null,null,null,null,null,null,"1LED080","2C0013E","1LED081",null,"1LED124",null,"1LED124",null,"1LED179",null,"1LED094",null,"1LED094",null,"1LED179",null,null,null,"1F40SES"]
[null,null,null,null,null,null,null,null,null,null,null,null,null,null,null,null,null,null,null,null,null,null,null,null,null,null,null,null,null,null,null,null,null,null,"1MH0070E",null,"1MH0070E",null,null,null,"1MH0070E","1LED095",null,"1LED095","1MV0250S","1LED095","1MV0250S",null,null,null,null,null,null,"1LED081","2C0013S","1LED082",null,"1LED125",null,"1LED125",null,"1LED180",null,"1LED095",null,"1LED095",null,"1LED180",null,null,null,"1F40SSE"]
[null,null,null,null,null,null,null,null,null,null,null,null,null,null,null,null,null,null,null,null,null,null,null,null,null,null,null,null,null,null,null,null,null,null,"1MH0100E",null,"1MH0100E",null,null,null,"1MH0100E","1LED096",null,"1LED096","1MV0400S","1LED096","1MV0400S",null,null,null,null,null,null,"1LED082","2C0018E","1LED083",null,"1LED126",null,"1LED126",null,"1LED181",null,"1LED096",null,"1LED096",null,"1LED181",null,null,null,"1F40SSM"]
[null,null,null,null,null,null,null,null,null,null,null,null,null,null,null,null,null,null,null,null,null,null,null,null,null,null,null,null,null,null,null,null,null,null,"1T0035",null,"1T0035",null,null,null,"1T0035","1LED097",null,"1LED097","1MV0700S","1LED097","1MV0700S",null,null,null,null,null,null,"1LED083","2C0026E","1LED084",null,"1LED127",null,"1LED127",null,"1LED182",null,"1LED097",null,"1LED097",null,"1LED182",null,null,null,"1F40SSS"]
[null,null,null,null,null,null,null,null,null,null,null,null,null,null,null,null,null,null,null,null,null,null,null,null,null,null,null,null,null,null,null,null,null,null,"1T0040",null,"1T0040",null,null,null,"1T0040","1LED098",null,"1LED098","1MV1000S","1LED098","1MV1000S",null,null,null,null,null,null,"1LED084","2C0032E","1LED085",null,"1LED128",null,"1LED128",null,"1LED183",null,"1LED098",null,"1LED098",null,"1LED183",null,null,null,"2F40SEE"]
[null,null,null,null,null,null,null,null,null,null,null,null,null,null,null,null,null,null,null,null,null,null,null,null,null,null,null,null,null,null,null,null,null,null,"1T0042",null,"1T0042",null,null,null,"1T0042","1LED099",null,"1LED099","2MV0400S","1LED099","2MV0400S",null,null,null,null,null,null,"1LED085","2C0042E","1LED086",null,"1LED129",null,"1LED129",null,"1LED184",null,"1LED099",null,"1LED099",null,"1LED184",null,null,null,"2F40SEM"]
[null,null,null,null,null,null,null,null,null,null,null,null,null,null,null,null,null,null,null,null,null,null,null,null,null,null,null,null,null,null,null,null,null,null,"1T0045",null,"1T0045",null,null,null,"1T0045","1LED100",null,"1LED100","1MH0100S","1LED100","1MH0100S",null,null,null,null,null,null,"1LED086","3C0009S","1LED087",null,"1LED130",null,"1LED130",null,"1LED185",null,"1LED100",null,"1LED100",null,"1LED185",null,null,null,"2F40SES"]
[null,null,null,null,null,null,null,null,null,null,null,null,null,null,null,null,null,null,null,null,null,null,null,null,null,null,null,null,null,null,null,null,null,null,"1T0050",null,"1T0050",null,null,null,"1T0050","1LED101",null,"1LED101","1MH0150S","1LED101","1MH0150S",null,null,null,null,null,null,"1LED087","3C0013S","1LED088",null,"1LED131",null,"1LED131",null,"1LED186",null,"1LED101",null,"1LED101",null,"1LED186",null,null,null,"2F40SSE"]
[null,null,null,null,null,null,null,null,null,null,null,null,null,null,null,null,null,null,null,null,null,null,null,null,null,null,null,null,null,null,null,null,null,null,"1T0052",null,"1T0052",null,null,null,"1T0052","1LED102",null,"1LED102","1MH0175S","1LED102","1MH0175S",null,null,null,null,null,null,"1LED088","3C0018E","1LED089",null,"1LED132",null,"1LED132",null,"1LED187",null,"1LED102",null,"1LED102",null,"1LED187",null,null,null,"2F40SSM"]
[null,null,null,null,null,null,null,null,null,null,null,null,null,null,null,null,null,null,null,null,null,null,null,null,null,null,null,null,null,null,null,null,null,null,"1T0055",null,"1T0055",null,null,null,"1T0055","1LED103",null,"1LED103","1MH0250S","1LED103","1MH0250S",null,null,null,null,null,null,"1LED089","3C0026E","1LED090",null,"1LED133",null,"1LED133",null,"1LED188",null,"1LED103",null,"1LED103",null,"1LED188",null,null,null,"2F40SSS"]
[null,null,null,null,null,null,null,null,null,null,null,null,null,null,null,null,null,null,null,null,null,null,null,null,null,null,null,null,null,null,null,null,null,null,"1T0060",null,"1T0060",null,null,null,"1T0060","1LED104",null,"1LED104","1MH0360S","1LED104","1MH0360S",null,null,null,null,null,null,"1LED090","3C0032E","1LED091",null,"1LED134",null,"1LED134",null,"1LED189",null,"1LED104",null,"1LED104",null,"1LED189",null,null,null,"3F40SEE"]
[null,null,null,null,null,null,null,null,null,null,null,null,null,null,null,null,null,null,null,null,null,null,null,null,null,null,null,null,null,null,null,null,null,null,"1T0072",null,"1T0072",null,null,null,"1T0072","1LED105",null,"1LED105","1MH0400S","1LED105","1MH0400S",null,null,null,null,null,null,"1LED091","3C0042E","1LED092",null,"1LED135",null,"1LED135",null,"1LED190",null,"1LED105",null,"1LED105",null,"1LED190",null,null,null,"3F40SEM"]
[null,null,null,null,null,null,null,null,null,null,null,null,null,null,null,null,null,null,null,null,null,null,null,null,null,null,null,null,null,null,null,null,null,null,"1T0075",null,"1T0075",null,null,null,"1T0075","1LED106",null,"1LED106","1MH0750S","1LED106","1MH0750S",null,null,null,null,null,null,"1LED092","4C0018E","1LED093",null,"1LED136",null,"1LED136",null,"1LED191",null,"1LED106",null,"1LED106",null,"1LED191",null,null,null,"3F40SES"]
[null,null,null,null,null,null,null,null,null,null,null,null,null,null,null,null,null,null,null,null,null,null,null,null,null,null,null,null,null,null,null,null,null,null,"1T0090",null,"1T0090",null,null,null,"1T0090","1LED107",null,"1LED107","1MH1000S","1LED107","1MH1000S",null,null,null,null,null,null,"1LED093","4C0026E","1LED094",null,"1LED137",null,"1LED137",null,"1LED192",null,"1LED107",null,"1LED107",null,"1LED192",null,null,null,"3F40SSE"]
[null,null,null,null,null,null,null,null,null,null,null,null,null,null,null,null,null,null,null,null,null,null,null,null,null,null,null,null,null,null,null,null,null,null,"1T0100",null,"1T0100",null,null,null,"1T0100","1LED108",null,"1LED108","1MH1500S","1LED108","1MH1500S",null,null,null,null,null,null,"1LED094","4C0032E","1LED095",null,"1LED138",null,"1LED138",null,"1LED193",null,"1LED108",null,"1LED108",null,"1LED193",null,null,null,"3F40SSM"]
[null,null,null,null,null,null,null,null,null,null,null,null,null,null,null,null,null,null,null,null,null,null,null,null,null,null,null,null,null,null,null,null,null,null,"1T0150",null,"1T0150",null,null,null,"1T0150","1LED109",null,"1LED109","1MH1800S","1LED109","1MH1800S",null,null,null,null,null,null,"1LED095","4C0042E","1LED096",null,"1LED139",null,"1LED139",null,"1LED194",null,"1LED109",null,"1LED109",null,"1LED194",null,null,null,"3F40SSS"]
[null,null,null,null,null,null,null,null,null,null,null,null,null,null,null,null,null,null,null,null,null,null,null,null,null,null,null,null,null,null,null,null,null,null,"1T0200",null,"1T0200",null,null,null,"1T0200","1LED110",null,"1LED110","1T0150","1LED110","1T0150",null,null,null,null,null,null,"1LED096","6C0026E","1LED097",null,"1LED140",null,"1LED140",null,"1LED195",null,"1LED110",null,"1LED110",null,"1LED195",null,null,null,"4F40SEE"]
[null,null,null,null,null,null,null,null,null,null,null,null,null,null,null,null,null,null,null,null,null,null,null,null,null,null,null,null,null,null,null,null,null,null,null,null,null,null,null,null,null,"1LED111",null,"1LED111","1T0200","1LED111","1T0200",null,null,null,null,null,null,"1LED097","6C0032E","1LED098",null,"1LED141",null,"1LED141",null,"1LED196",null,"1LED111",null,"1LED111",null,"1LED196",null,null,null,"4F40SEM"]
[null,null,null,null,null,null,null,null,null,null,null,null,null,null,null,null,null,null,null,null,null,null,null,null,null,null,null,null,null,null,null,null,null,null,null,null,null,null,null,null,null,"1LED112",null,"1LED112","1T0250","1LED112","1T0250",null,null,null,null,null,null,"1LED098","6C0042E","1LED099",null,"1LED142",null,"1LED142",null,"1LED197",null,"1LED112",null,"1LED112",null,"1LED197",null,null,null,"4F40SES"]
[null,null,null,null,null,null,null,null,null,null,null,null,null,null,null,null,null,null,null,null,null,null,null,null,null,null,null,null,null,null,null,null,null,null,null,null,null,null,null,null,null,"1LED113",null,"1LED113","1T0300","1LED113","1T0300",null,null,null,null,null,null,"1LED099","8C0026E","1LED100",null,"1LED143",null,"1LED143",null,"1LED198",null,"1LED113",null,"1LED113",null,"1LED198",null,null,null,"4F40SSE"]
[null,null,null,null,null,null,null,null,null,null,null,null,null,null,null,null,null,null,null,null,null,null,null,null,null,null,null,null,null,null,null,null,null,null,null,null,null,null,null,null,null,"1LED114",null,"1LED114","1T0350","1LED114","1T0350",null,null,null,null,null,null,"1LED100","8C0032E","1LED101",null,"1LED144",null,"1LED144",null,"1LED199",null,"1LED114",null,"1LED114",null,"1LED199",null,null,null,"4F40SSM"]
[null,null,null,null,null,null,null,null,null,null,null,null,null,null,null,null,null,null,null,null,null,null,null,null,null,null,null,null,null,null,null,null,null,null,null,null,null,null,null,null,null,"1LED115",null,"1LED115","1T0400","1LED115","1T0400",null,null,null,null,null,null,"1LED101","8C0042E","1LED102",null,"1LED145",null,"1LED145",null,"1LED200",null,"1LED115",null,"1LED115",null,"1LED200",null,null,null,"4F40SSS"]
[null,null,null,null,null,null,null,null,null,null,null,null,null,null,null,null,null,null,null,null,null,null,null,null,null,null,null,null,null,null,null,null,null,null,null,null,null,null,null,null,null,"1LED116",null,"1LED116","1T0425","1LED116","1T0425",null,null,null,null,null,null,"1LED102",null,"1LED103",null,"1LED146",null,"1LED146",null,"1LED201",null,"1LED116",null,"1LED116",null,"1LED201",null,null,null,"6F40SSS"]
[null,null,null,null,null,null,null,null,null,null,null,null,null,null,null,null,null,null,null,null,null,null,null,null,null,null,null,null,null,null,null,null,null,null,null,null,null,null,null,null,null,"1LED117",null,"1LED117","1T0500","1LED117","1T0500",null,null,null,null,null,null,"1LED103",null,"1LED104",null,"1LED147",null,"1LED147",null,"1LED202",null,"1LED117",null,"1LED117",null,"1LED202",null,null,null,"1F72HSS"]
[null,null,null,null,null,null,null,null,null,null,null,null,null,null,null,null,null,null,null,null,null,null,null,null,null,null,null,null,null,null,null,null,null,null,null,null,null,null,null,null,null,"1LED118",null,"1LED118","1T0750","1LED118","1T0750",null,null,null,null,null,null,"1LED104",null,"1LED105",null,"1LED148",null,"1LED148",null,"1LED203",null,"1LED118",null,"1LED118",null,"1LED203",null,null,null,"1F72SSM"]
[null,null,null,null,null,null,null,null,null,null,null,null,null,null,null,null,null,null,null,null,null,null,null,null,null,null,null,null,null,null,null,null,null,null,null,null,null,null,null,null,null,"1LED119",null,"1LED119","1T0900","1LED119","1T0900",null,null,null,null,null,null,"1LED105",null,"1LED106",null,"1LED149",null,"1LED149",null,"1LED204",null,"1LED119",null,"1LED119",null,"1LED204",null,null,null,"1F72SSS"]
[null,null,null,null,null,null,null,null,null,null,null,null,null,null,null,null,null,null,null,null,null,null,null,null,null,null,null,null,null,null,null,null,null,null,null,null,null,null,null,null,null,"1LED120",null,"1LED120","1T1000","1LED120","1T1000",null,null,null,null,null,null,"1LED106",null,"1LED107",null,"1LED150",null,"1LED150",null,"1LED205",null,"1LED120",null,"1LED120",null,"1LED205",null,null,null,"2F72HSE"]
[null,null,null,null,null,null,null,null,null,null,null,null,null,null,null,null,null,null,null,null,null,null,null,null,null,null,null,null,null,null,null,null,null,null,null,null,null,null,null,null,null,"1LED121",null,"1LED121","1T1200","1LED121","1T1200",null,null,null,null,null,null,"1LED107",null,"1LED108",null,"1LED151",null,"1LED151",null,"1LED206",null,"1LED121",null,"1LED121",null,"1LED206",null,null,null,"2F72HSM"]
[null,null,null,null,null,null,null,null,null,null,null,null,null,null,null,null,null,null,null,null,null,null,null,null,null,null,null,null,null,null,null,null,null,null,null,null,null,null,null,null,null,"1LED122",null,"1LED122","1T1500","1LED122","1T1500",null,null,null,null,null,null,"1LED108",null,"1LED109",null,"1LED152",null,"1LED152",null,"1LED207",null,"1LED122",null,"1LED122",null,"1LED207",null,null,null,"2F72HSS"]
[null,null,null,null,null,null,null,null,null,null,null,null,null,null,null,null,null,null,null,null,null,null,null,null,null,null,null,null,null,null,null,null,null,null,null,null,null,null,null,null,null,"1LED123",null,"1LED123","4F32SHH","1LED123",null,null,null,null,null,null,null,"1LED109",null,"1LED110",null,"1LED153",null,"1LED153",null,"1LED208",null,"1LED123",null,"1LED123",null,"1LED208",null,null,null,"2F72SSM"]
[null,null,null,null,null,null,null,null,null,null,null,null,null,null,null,null,null,null,null,null,null,null,null,null,null,null,null,null,null,null,null,null,null,null,null,null,null,null,null,null,null,"1LED124",null,"1LED124","3F32SHH","1LED124",null,null,null,null,null,null,null,"1LED110",null,"1LED111",null,"1LED154",null,"1LED154",null,"1LED209",null,"1LED124",null,"1LED124",null,"1LED209",null,null,null,"2F72SSS"]
[null,null,null,null,null,null,null,null,null,null,null,null,null,null,null,null,null,null,null,null,null,null,null,null,null,null,null,null,null,null,null,null,null,null,null,null,null,null,null,null,null,"1LED125",null,"1LED125","6F32SHH","1LED125",null,null,null,null,null,null,null,"1LED111",null,"1LED112",null,"1LED155",null,"1LED155",null,"1LED210",null,"1LED125",null,"1LED125",null,"1LED210"]
[null,null,null,null,null,null,null,null,null,null,null,null,null,null,null,null,null,null,null,null,null,null,null,null,null,null,null,null,null,null,null,null,null,null,null,null,null,null,null,null,null,"1LED126",null,"1LED126","8F32SHH","1LED126",null,null,null,null,null,null,null,"1LED112",null,"1LED113",null,"1LED156",null,"1LED156",null,"1LED211",null,"1LED126",null,"1LED126",null,"1LED211"]
[null,null,null,null,null,null,null,null,null,null,null,null,null,null,null,null,null,null,null,null,null,null,null,null,null,null,null,null,null,null,null,null,null,null,null,null,null,null,null,null,null,"1LED127",null,"1LED127","16F32SHH","1LED127",null,null,null,null,null,null,null,"1LED113",null,"1LED114",null,"1LED157",null,"1LED157",null,"1LED212",null,"1LED127",null,"1LED127",null,"1LED212"]
[null,null,null,null,null,null,null,null,null,null,null,null,null,null,null,null,null,null,null,null,null,null,null,null,null,null,null,null,null,null,null,null,null,null,null,null,null,null,null,null,null,"1LED128",null,"1LED128","12F32SHH","1LED128",null,null,null,null,null,null,null,"1LED114",null,"1LED115",null,"1LED158",null,"1LED158",null,"1LED213",null,"1LED128",null,"1LED128",null,"1LED213"]
[null,null,null,null,null,null,null,null,null,null,null,null,null,null,null,null,null,null,null,null,null,null,null,null,null,null,null,null,null,null,null,null,null,null,null,null,null,null,null,null,null,"1LED129",null,"1LED129","10F32SHH","1LED129",null,null,null,null,null,null,null,"1LED115",null,"1LED116",null,"1LED159",null,"1LED159",null,"1LED214",null,"1LED129",null,"1LED129",null,"1LED214"]
[null,null,null,null,null,null,null,null,null,null,null,null,null,null,null,null,null,null,null,null,null,null,null,null,null,null,null,null,null,null,null,null,null,null,null,null,null,null,null,null,null,"1LED130",null,"1LED130","3F49HSE  ","1LED130",null,null,null,null,null,null,null,"1LED116",null,"1LED117",null,"1LED160",null,"1LED160",null,"1LED215",null,"1LED130",null,"1LED130",null,"1LED215"]
[null,null,null,null,null,null,null,null,null,null,null,null,null,null,null,null,null,null,null,null,null,null,null,null,null,null,null,null,null,null,null,null,null,null,null,null,null,null,null,null,null,"1LED131",null,"1LED131","2F49HSE ","1LED131",null,null,null,null,null,null,null,"1LED117",null,"1LED118",null,"1LED161",null,"1LED161",null,"1LED216",null,"1LED131",null,"1LED131",null,"1LED216"]
[null,null,null,null,null,null,null,null,null,null,null,null,null,null,null,null,null,null,null,null,null,null,null,null,null,null,null,null,null,null,null,null,null,null,null,null,null,null,null,null,null,"1LED132",null,"1LED132","4F49HSE","1LED132",null,null,null,null,null,null,null,"1LED118",null,"1LED119",null,"1LED162",null,"1LED162",null,"1LED217",null,"1LED132",null,"1LED132",null,"1LED217"]
[null,null,null,null,null,null,null,null,null,null,null,null,null,null,null,null,null,null,null,null,null,null,null,null,null,null,null,null,null,null,null,null,null,null,null,null,null,null,null,null,null,"1LED133",null,"1LED133","5F49HSE ","1LED133",null,null,null,null,null,null,null,"1LED119",null,"1LED120",null,"1LED163",null,"1LED163",null,"1LED218",null,"1LED133",null,"1LED133",null,"1LED218"]
[null,null,null,null,null,null,null,null,null,null,null,null,null,null,null,null,null,null,null,null,null,null,null,null,null,null,null,null,null,null,null,null,null,null,null,null,null,null,null,null,null,"1LED134",null,"1LED134","6F49HSE ","1LED134",null,null,null,null,null,null,null,"1LED120",null,"1LED121",null,"1LED164",null,"1LED164",null,"1LED219",null,"1LED134",null,"1LED134",null,"1LED219"]
[null,null,null,null,null,null,null,null,null,null,null,null,null,null,null,null,null,null,null,null,null,null,null,null,null,null,null,null,null,null,null,null,null,null,null,null,null,null,null,null,null,"1LED135",null,"1LED135","8F49HSE  ","1LED135",null,null,null,null,null,null,null,"1LED121",null,"1LED122",null,"1LED165",null,"1LED165",null,"1LED220",null,"1LED135",null,"1LED135",null,"1LED220"]
[null,null,null,null,null,null,null,null,null,null,null,null,null,null,null,null,null,null,null,null,null,null,null,null,null,null,null,null,null,null,null,null,null,null,null,null,null,null,null,null,null,"1LED136",null,"1LED136","10F49HSE ","1LED136",null,null,null,null,null,null,null,"1LED122",null,"1LED123",null,"1LED166",null,"1LED166",null,"1LED221",null,"1LED136",null,"1LED136",null,"1LED221"]
[null,null,null,null,null,null,null,null,null,null,null,null,null,null,null,null,null,null,null,null,null,null,null,null,null,null,null,null,null,null,null,null,null,null,null,null,null,null,null,null,null,"1LED137",null,"1LED137","12F49HSE ","1LED137",null,null,null,null,null,null,null,"1LED123",null,"1LED124",null,"1LED167",null,"1LED167",null,"1LED222",null,"1LED137",null,"1LED137",null,"1LED222"]
[null,null,null,null,null,null,null,null,null,null,null,null,null,null,null,null,null,null,null,null,null,null,null,null,null,null,null,null,null,null,null,null,null,null,null,null,null,null,null,null,null,"1LED138",null,"1LED138","3F54HSE","1LED138",null,null,null,null,null,null,null,"1LED124",null,"1LED125",null,"1LED168",null,"1LED168",null,"1LED223",null,"1LED138",null,"1LED138",null,"1LED223"]
[null,null,null,null,null,null,null,null,null,null,null,null,null,null,null,null,null,null,null,null,null,null,null,null,null,null,null,null,null,null,null,null,null,null,null,null,null,null,null,null,null,"1LED139",null,"1LED139","2F54HSE","1LED139",null,null,null,null,null,null,null,"1LED125",null,"1LED126",null,"1LED169",null,"1LED169",null,"1LED224",null,"1LED139",null,"1LED139",null,"1LED224"]
[null,null,null,null,null,null,null,null,null,null,null,null,null,null,null,null,null,null,null,null,null,null,null,null,null,null,null,null,null,null,null,null,null,null,null,null,null,null,null,null,null,"1LED140",null,"1LED140","4F54HSE","1LED140",null,null,null,null,null,null,null,"1LED126",null,"1LED127",null,"1LED170",null,"1LED170",null,"1LED225",null,"1LED140",null,"1LED140",null,"1LED225"]
[null,null,null,null,null,null,null,null,null,null,null,null,null,null,null,null,null,null,null,null,null,null,null,null,null,null,null,null,null,null,null,null,null,null,null,null,null,null,null,null,null,"1LED141",null,"1LED141","5F54HSW","1LED141",null,null,null,null,null,null,null,"1LED127",null,"1LED128",null,"1LED171",null,"1LED171",null,"1LED226",null,"1LED141",null,"1LED141",null,"1LED226"]
[null,null,null,null,null,null,null,null,null,null,null,null,null,null,null,null,null,null,null,null,null,null,null,null,null,null,null,null,null,null,null,null,null,null,null,null,null,null,null,null,null,"1LED142",null,"1LED142","6F54HSE","1LED142",null,null,null,null,null,null,null,"1LED128",null,"1LED129",null,"1LED172",null,"1LED172",null,"1LED227",null,"1LED142",null,"1LED142",null,"1LED227"]
[null,null,null,null,null,null,null,null,null,null,null,null,null,null,null,null,null,null,null,null,null,null,null,null,null,null,null,null,null,null,null,null,null,null,null,null,null,null,null,null,null,"1LED143",null,"1LED143","12F54HSE","1LED143",null,null,null,null,null,null,null,"1LED129",null,"1LED130",null,"1LED173",null,"1LED173",null,"1LED228",null,"1LED143",null,"1LED143",null,"1LED228"]
[null,null,null,null,null,null,null,null,null,null,null,null,null,null,null,null,null,null,null,null,null,null,null,null,null,null,null,null,null,null,null,null,null,null,null,null,null,null,null,null,null,"1LED144",null,"1LED144","10F54HSE","1LED144",null,null,null,null,null,null,null,"1LED130",null,"1LED131",null,"1LED174",null,"1LED174",null,"1LED229",null,"1LED144",null,"1LED144",null,"1LED229"]
[null,null,null,null,null,null,null,null,null,null,null,null,null,null,null,null,null,null,null,null,null,null,null,null,null,null,null,null,null,null,null,null,null,null,null,null,null,null,null,null,null,"1LED145",null,"1LED145","8F54HSE","1LED145",null,null,null,null,null,null,null,"1LED131",null,"1LED132",null,"1LED175",null,"1LED175",null,"1LED230",null,"1LED145",null,"1LED145",null,"1LED230"]
[null,null,null,null,null,null,null,null,null,null,null,null,null,null,null,null,null,null,null,null,null,null,null,null,null,null,null,null,null,null,null,null,null,null,null,null,null,null,null,null,null,"1LED146",null,"1LED146",null,"1LED146",null,null,null,null,null,null,null,"1LED132",null,"1LED133",null,"1LED176",null,"1LED176",null,"1LED231",null,"1LED146",null,"1LED146",null,"1LED231"]
[null,null,null,null,null,null,null,null,null,null,null,null,null,null,null,null,null,null,null,null,null,null,null,null,null,null,null,null,null,null,null,null,null,null,null,null,null,null,null,null,null,"1LED147",null,"1LED147",null,"1LED147",null,null,null,null,null,null,null,"1LED133",null,"1LED134",null,"1LED177",null,"1LED177",null,"1LED232",null,"1LED147",null,"1LED147",null,"1LED232"]
[null,null,null,null,null,null,null,null,null,null,null,null,null,null,null,null,null,null,null,null,null,null,null,null,null,null,null,null,null,null,null,null,null,null,null,null,null,null,null,null,null,"1LED148",null,"1LED148",null,"1LED148",null,null,null,null,null,null,null,"1LED134",null,"1LED135",null,"1LED178",null,"1LED178",null,"1LED233",null,"1LED148",null,"1LED148",null,"1LED233"]
[null,null,null,null,null,null,null,null,null,null,null,null,null,null,null,null,null,null,null,null,null,null,null,null,null,null,null,null,null,null,null,null,null,null,null,null,null,null,null,null,null,"1LED149",null,"1LED149",null,"1LED149",null,null,null,null,null,null,null,"1LED135",null,"1LED136",null,"1LED179",null,"1LED179",null,"1LED234",null,"1LED149",null,"1LED149",null,"1LED234"]
[null,null,null,null,null,null,null,null,null,null,null,null,null,null,null,null,null,null,null,null,null,null,null,null,null,null,null,null,null,null,null,null,null,null,null,null,null,null,null,null,null,"1LED150",null,"1LED150",null,"1LED150",null,null,null,null,null,null,null,"1LED136",null,"1LED137",null,"1LED180",null,"1LED180",null,"1LED235",null,"1LED150",null,"1LED150",null,"1LED235"]
[null,null,null,null,null,null,null,null,null,null,null,null,null,null,null,null,null,null,null,null,null,null,null,null,null,null,null,null,null,null,null,null,null,null,null,null,null,null,null,null,null,"1LED151",null,"1LED151",null,"1LED151",null,null,null,null,null,null,null,"1LED137",null,"1LED138",null,"1LED181",null,"1LED181",null,"1LED236",null,"1LED151",null,"1LED151",null,"1LED236"]
[null,null,null,null,null,null,null,null,null,null,null,null,null,null,null,null,null,null,null,null,null,null,null,null,null,null,null,null,null,null,null,null,null,null,null,null,null,null,null,null,null,"1LED152",null,"1LED152",null,"1LED152",null,null,null,null,null,null,null,"1LED138",null,"1LED139",null,"1LED182",null,"1LED182",null,"1LED237",null,"1LED152",null,"1LED152",null,"1LED237"]
[null,null,null,null,null,null,null,null,null,null,null,null,null,null,null,null,null,null,null,null,null,null,null,null,null,null,null,null,null,null,null,null,null,null,null,null,null,null,null,null,null,"1LED153",null,"1LED153",null,"1LED153",null,null,null,null,null,null,null,"1LED139",null,"1LED140",null,"1LED183",null,"1LED183",null,"1LED238",null,"1LED153",null,"1LED153",null,"1LED238"]
[null,null,null,null,null,null,null,null,null,null,null,null,null,null,null,null,null,null,null,null,null,null,null,null,null,null,null,null,null,null,null,null,null,null,null,null,null,null,null,null,null,"1LED154",null,"1LED154",null,"1LED154",null,null,null,null,null,null,null,"1LED140",null,"1LED141",null,"1LED184",null,"1LED184",null,"1LED239",null,"1LED154",null,"1LED154",null,"1LED239"]
[null,null,null,null,null,null,null,null,null,null,null,null,null,null,null,null,null,null,null,null,null,null,null,null,null,null,null,null,null,null,null,null,null,null,null,null,null,null,null,null,null,"1LED155",null,"1LED155",null,"1LED155",null,null,null,null,null,null,null,"1LED141",null,"1LED142",null,"1LED185",null,"1LED185",null,"1LED240",null,"1LED155",null,"1LED155",null,"1LED240"]
[null,null,null,null,null,null,null,null,null,null,null,null,null,null,null,null,null,null,null,null,null,null,null,null,null,null,null,null,null,null,null,null,null,null,null,null,null,null,null,null,null,"1LED156",null,"1LED156",null,"1LED156",null,null,null,null,null,null,null,"1LED142",null,"1LED143",null,"1LED186",null,"1LED186",null,"1LED241",null,"1LED156",null,"1LED156",null,"1LED241"]
[null,null,null,null,null,null,null,null,null,null,null,null,null,null,null,null,null,null,null,null,null,null,null,null,null,null,null,null,null,null,null,null,null,null,null,null,null,null,null,null,null,"1LED157",null,"1LED157",null,"1LED157",null,null,null,null,null,null,null,"1LED143",null,"1LED144",null,"1LED187",null,"1LED187",null,"1LED242",null,"1LED157",null,"1LED157",null,"1LED242"]
[null,null,null,null,null,null,null,null,null,null,null,null,null,null,null,null,null,null,null,null,null,null,null,null,null,null,null,null,null,null,null,null,null,null,null,null,null,null,null,null,null,"1LED158",null,"1LED158",null,"1LED158",null,null,null,null,null,null,null,"1LED144",null,"1LED145",null,"1LED188",null,"1LED188",null,"1LED243",null,"1LED158",null,"1LED158",null,"1LED243"]
[null,null,null,null,null,null,null,null,null,null,null,null,null,null,null,null,null,null,null,null,null,null,null,null,null,null,null,null,null,null,null,null,null,null,null,null,null,null,null,null,null,"1LED159",null,"1LED159",null,"1LED159",null,null,null,null,null,null,null,"1LED145",null,"1LED146",null,"1LED189",null,"1LED189",null,"1LED244",null,"1LED159",null,"1LED159",null,"1LED244"]
[null,null,null,null,null,null,null,null,null,null,null,null,null,null,null,null,null,null,null,null,null,null,null,null,null,null,null,null,null,null,null,null,null,null,null,null,null,null,null,null,null,"1LED160",null,"1LED160",null,"1LED160",null,null,null,null,null,null,null,"1LED146",null,"1LED147",null,"1LED190",null,"1LED190",null,"1LED245",null,"1LED160",null,"1LED160",null,"1LED245"]
[null,null,null,null,null,null,null,null,null,null,null,null,null,null,null,null,null,null,null,null,null,null,null,null,null,null,null,null,null,null,null,null,null,null,null,null,null,null,null,null,null,"1LED161",null,"1LED161",null,"1LED161",null,null,null,null,null,null,null,"1LED147",null,"1LED148",null,"1LED191",null,"1LED191",null,"1LED246",null,"1LED161",null,"1LED161",null,"1LED246"]
[null,null,null,null,null,null,null,null,null,null,null,null,null,null,null,null,null,null,null,null,null,null,null,null,null,null,null,null,null,null,null,null,null,null,null,null,null,null,null,null,null,"1LED162",null,"1LED162",null,"1LED162",null,null,null,null,null,null,null,"1LED148",null,"1LED149",null,"1LED192",null,"1LED192",null,"1LED247",null,"1LED162",null,"1LED162",null,"1LED247"]
[null,null,null,null,null,null,null,null,null,null,null,null,null,null,null,null,null,null,null,null,null,null,null,null,null,null,null,null,null,null,null,null,null,null,null,null,null,null,null,null,null,"1LED163",null,"1LED163",null,"1LED163",null,null,null,null,null,null,null,"1LED149",null,"1LED150",null,"1LED193",null,"1LED193",null,"1LED248",null,"1LED163",null,"1LED163",null,"1LED248"]
[null,null,null,null,null,null,null,null,null,null,null,null,null,null,null,null,null,null,null,null,null,null,null,null,null,null,null,null,null,null,null,null,null,null,null,null,null,null,null,null,null,"1LED164",null,"1LED164",null,"1LED164",null,null,null,null,null,null,null,"1LED150",null,"1LED151",null,"1LED194",null,"1LED194",null,"1LED249",null,"1LED164",null,"1LED164",null,"1LED249"]
[null,null,null,null,null,null,null,null,null,null,null,null,null,null,null,null,null,null,null,null,null,null,null,null,null,null,null,null,null,null,null,null,null,null,null,null,null,null,null,null,null,"1LED165",null,"1LED165",null,"1LED165",null,null,null,null,null,null,null,"1LED151",null,"1LED152",null,"1LED195",null,"1LED195",null,"1LED250",null,"1LED165",null,"1LED165",null,"1LED250"]
[null,null,null,null,null,null,null,null,null,null,null,null,null,null,null,null,null,null,null,null,null,null,null,null,null,null,null,null,null,null,null,null,null,null,null,null,null,null,null,null,null,"1LED166",null,"1LED166",null,"1LED166",null,null,null,null,null,null,null,"1LED152",null,"1LED153",null,"1LED196",null,"1LED196",null,"1LED251",null,"1LED166",null,"1LED166",null,"1LED251"]
[null,null,null,null,null,null,null,null,null,null,null,null,null,null,null,null,null,null,null,null,null,null,null,null,null,null,null,null,null,null,null,null,null,null,null,null,null,null,null,null,null,"1LED167",null,"1LED167",null,"1LED167",null,null,null,null,null,null,null,"1LED153",null,"1LED154",null,"1LED197",null,"1LED197",null,"1LED252",null,"1LED167",null,"1LED167",null,"1LED252"]
[null,null,null,null,null,null,null,null,null,null,null,null,null,null,null,null,null,null,null,null,null,null,null,null,null,null,null,null,null,null,null,null,null,null,null,null,null,null,null,null,null,"1LED168",null,"1LED168",null,"1LED168",null,null,null,null,null,null,null,"1LED154",null,"1LED155",null,"1LED198",null,"1LED198",null,"1LED253",null,"1LED168",null,"1LED168",null,"1LED253"]
[null,null,null,null,null,null,null,null,null,null,null,null,null,null,null,null,null,null,null,null,null,null,null,null,null,null,null,null,null,null,null,null,null,null,null,null,null,null,null,null,null,"1LED169",null,"1LED169",null,"1LED169",null,null,null,null,null,null,null,"1LED155",null,"1LED156",null,"1LED199",null,"1LED199",null,"1LED254",null,"1LED169",null,"1LED169",null,"1LED254"]
[null,null,null,null,null,null,null,null,null,null,null,null,null,null,null,null,null,null,null,null,null,null,null,null,null,null,null,null,null,null,null,null,null,null,null,null,null,null,null,null,null,"1LED170",null,"1LED170",null,"1LED170",null,null,null,null,null,null,null,"1LED156",null,"1LED157",null,"1LED200",null,"1LED200",null,"1LED255",null,"1LED170",null,"1LED170",null,"1LED255"]
[null,null,null,null,null,null,null,null,null,null,null,null,null,null,null,null,null,null,null,null,null,null,null,null,null,null,null,null,null,null,null,null,null,null,null,null,null,null,null,null,null,"1LED171",null,"1LED171",null,"1LED171",null,null,null,null,null,null,null,"1LED157",null,"1LED158",null,"1LED201",null,"1LED201",null,"1LED256",null,"1LED171",null,"1LED171",null,"1LED256"]
[null,null,null,null,null,null,null,null,null,null,null,null,null,null,null,null,null,null,null,null,null,null,null,null,null,null,null,null,null,null,null,null,null,null,null,null,null,null,null,null,null,"1LED172",null,"1LED172",null,"1LED172",null,null,null,null,null,null,null,"1LED158",null,"1LED159",null,"1LED202",null,"1LED202",null,"1LED257",null,"1LED172",null,"1LED172",null,"1LED257"]
[null,null,null,null,null,null,null,null,null,null,null,null,null,null,null,null,null,null,null,null,null,null,null,null,null,null,null,null,null,null,null,null,null,null,null,null,null,null,null,null,null,"1LED173",null,"1LED173",null,"1LED173",null,null,null,null,null,null,null,"1LED159",null,"1LED160",null,"1LED203",null,"1LED203",null,"1LED258",null,"1LED173",null,"1LED173",null,"1LED258"]
[null,null,null,null,null,null,null,null,null,null,null,null,null,null,null,null,null,null,null,null,null,null,null,null,null,null,null,null,null,null,null,null,null,null,null,null,null,null,null,null,null,"1LED174",null,"1LED174",null,"1LED174",null,null,null,null,null,null,null,"1LED160",null,"1LED161",null,"1LED204",null,"1LED204",null,"1LED259",null,"1LED174",null,"1LED174",null,"1LED259"]
[null,null,null,null,null,null,null,null,null,null,null,null,null,null,null,null,null,null,null,null,null,null,null,null,null,null,null,null,null,null,null,null,null,null,null,null,null,null,null,null,null,"1LED175",null,"1LED175",null,"1LED175",null,null,null,null,null,null,null,"1LED161",null,"1LED162",null,"1LED205",null,"1LED205",null,"1LED260",null,"1LED175",null,"1LED175",null,"1LED260"]
[null,null,null,null,null,null,null,null,null,null,null,null,null,null,null,null,null,null,null,null,null,null,null,null,null,null,null,null,null,null,null,null,null,null,null,null,null,null,null,null,null,"1LED176",null,"1LED176",null,"1LED176",null,null,null,null,null,null,null,"1LED162",null,"1LED163",null,"1LED206",null,"1LED206",null,"1LED261",null,"1LED176",null,"1LED176",null,"1LED261"]
[null,null,null,null,null,null,null,null,null,null,null,null,null,null,null,null,null,null,null,null,null,null,null,null,null,null,null,null,null,null,null,null,null,null,null,null,null,null,null,null,null,"1LED177",null,"1LED177",null,"1LED177",null,null,null,null,null,null,null,"1LED163",null,"1LED164",null,"1LED207",null,"1LED207",null,"1LED262",null,"1LED177",null,"1LED177",null,"1LED262"]
[null,null,null,null,null,null,null,null,null,null,null,null,null,null,null,null,null,null,null,null,null,null,null,null,null,null,null,null,null,null,null,null,null,null,null,null,null,null,null,null,null,"1LED178",null,"1LED178",null,"1LED178",null,null,null,null,null,null,null,"1LED164",null,"1LED165",null,"1LED208",null,"1LED208",null,"1LED263",null,"1LED178",null,"1LED178",null,"1LED263"]
[null,null,null,null,null,null,null,null,null,null,null,null,null,null,null,null,null,null,null,null,null,null,null,null,null,null,null,null,null,null,null,null,null,null,null,null,null,null,null,null,null,"1LED179",null,"1LED179",null,"1LED179",null,null,null,null,null,null,null,"1LED165",null,"1LED166",null,"1LED209",null,"1LED209",null,"1LED264",null,"1LED179",null,"1LED179",null,"1LED264"]
[null,null,null,null,null,null,null,null,null,null,null,null,null,null,null,null,null,null,null,null,null,null,null,null,null,null,null,null,null,null,null,null,null,null,null,null,null,null,null,null,null,"1LED180",null,"1LED180",null,"1LED180",null,null,null,null,null,null,null,"1LED166",null,"1LED167",null,"1LED210",null,"1LED210",null,"1LED265",null,"1LED180",null,"1LED180",null,"1LED265"]
[null,null,null,null,null,null,null,null,null,null,null,null,null,null,null,null,null,null,null,null,null,null,null,null,null,null,null,null,null,null,null,null,null,null,null,null,null,null,null,null,null,"1LED181",null,"1LED181",null,"1LED181",null,null,null,null,null,null,null,"1LED167",null,"1LED168",null,"1LED211",null,"1LED211",null,"1LED266",null,"1LED181",null,"1LED181",null,"1LED266"]
[null,null,null,null,null,null,null,null,null,null,null,null,null,null,null,null,null,null,null,null,null,null,null,null,null,null,null,null,null,null,null,null,null,null,null,null,null,null,null,null,null,"1LED182",null,"1LED182",null,"1LED182",null,null,null,null,null,null,null,"1LED168",null,"1LED169",null,"1LED212",null,"1LED212",null,"1LED267",null,"1LED182",null,"1LED182",null,"1LED267"]
[null,null,null,null,null,null,null,null,null,null,null,null,null,null,null,null,null,null,null,null,null,null,null,null,null,null,null,null,null,null,null,null,null,null,null,null,null,null,null,null,null,"1LED183",null,"1LED183",null,"1LED183",null,null,null,null,null,null,null,"1LED169",null,"1LED170",null,"1LED213",null,"1LED213",null,"1LED268",null,"1LED183",null,"1LED183",null,"1LED268"]
[null,null,null,null,null,null,null,null,null,null,null,null,null,null,null,null,null,null,null,null,null,null,null,null,null,null,null,null,null,null,null,null,null,null,null,null,null,null,null,null,null,"1LED184",null,"1LED184",null,"1LED184",null,null,null,null,null,null,null,"1LED170",null,"1LED171",null,"1LED214",null,"1LED214",null,"1LED269",null,"1LED184",null,"1LED184",null,"1LED269"]
[null,null,null,null,null,null,null,null,null,null,null,null,null,null,null,null,null,null,null,null,null,null,null,null,null,null,null,null,null,null,null,null,null,null,null,null,null,null,null,null,null,"1LED185",null,"1LED185",null,"1LED185",null,null,null,null,null,null,null,"1LED171",null,"1LED172",null,"1LED215",null,"1LED215",null,"1LED270",null,"1LED185",null,"1LED185",null,"1LED270"]
[null,null,null,null,null,null,null,null,null,null,null,null,null,null,null,null,null,null,null,null,null,null,null,null,null,null,null,null,null,null,null,null,null,null,null,null,null,null,null,null,null,"1LED186",null,"1LED186",null,"1LED186",null,null,null,null,null,null,null,"1LED172",null,"1LED173",null,"1LED216",null,"1LED216",null,"1LED271",null,"1LED186",null,"1LED186",null,"1LED271"]
[null,null,null,null,null,null,null,null,null,null,null,null,null,null,null,null,null,null,null,null,null,null,null,null,null,null,null,null,null,null,null,null,null,null,null,null,null,null,null,null,null,"1LED187",null,"1LED187",null,"1LED187",null,null,null,null,null,null,null,"1LED173",null,"1LED174",null,"1LED217",null,"1LED217",null,"1LED272",null,"1LED187",null,"1LED187",null,"1LED272"]
[null,null,null,null,null,null,null,null,null,null,null,null,null,null,null,null,null,null,null,null,null,null,null,null,null,null,null,null,null,null,null,null,null,null,null,null,null,null,null,null,null,"1LED188",null,"1LED188",null,"1LED188",null,null,null,null,null,null,null,"1LED174",null,"1LED175",null,"1LED218",null,"1LED218",null,"1LED273",null,"1LED188",null,"1LED188",null,"1LED273"]
[null,null,null,null,null,null,null,null,null,null,null,null,null,null,null,null,null,null,null,null,null,null,null,null,null,null,null,null,null,null,null,null,null,null,null,null,null,null,null,null,null,"1LED189",null,"1LED189",null,"1LED189",null,null,null,null,null,null,null,"1LED175",null,"1LED176",null,"1LED219",null,"1LED219",null,"1LED274",null,"1LED189",null,"1LED189",null,"1LED274"]
[null,null,null,null,null,null,null,null,null,null,null,null,null,null,null,null,null,null,null,null,null,null,null,null,null,null,null,null,null,null,null,null,null,null,null,null,null,null,null,null,null,"1LED190",null,"1LED190",null,"1LED190",null,null,null,null,null,null,null,"1LED176",null,"1LED177",null,"1LED220",null,"1LED220",null,"1LED275",null,"1LED190",null,"1LED190",null,"1LED275"]
[null,null,null,null,null,null,null,null,null,null,null,null,null,null,null,null,null,null,null,null,null,null,null,null,null,null,null,null,null,null,null,null,null,null,null,null,null,null,null,null,null,"1LED191",null,"1LED191",null,"1LED191",null,null,null,null,null,null,null,"1LED177",null,"1LED178",null,"1LED221",null,"1LED221",null,"1LED276",null,"1LED191",null,"1LED191",null,"1LED276"]
[null,null,null,null,null,null,null,null,null,null,null,null,null,null,null,null,null,null,null,null,null,null,null,null,null,null,null,null,null,null,null,null,null,null,null,null,null,null,null,null,null,"1LED192",null,"1LED192",null,"1LED192",null,null,null,null,null,null,null,"1LED178",null,"1LED179",null,"1LED222",null,"1LED222",null,"1LED277",null,"1LED192",null,"1LED192",null,"1LED277"]
[null,null,null,null,null,null,null,null,null,null,null,null,null,null,null,null,null,null,null,null,null,null,null,null,null,null,null,null,null,null,null,null,null,null,null,null,null,null,null,null,null,"1LED193",null,"1LED193",null,"1LED193",null,null,null,null,null,null,null,"1LED179",null,"1LED180",null,"1LED223",null,"1LED223",null,"1LED278",null,"1LED193",null,"1LED193",null,"1LED278"]
[null,null,null,null,null,null,null,null,null,null,null,null,null,null,null,null,null,null,null,null,null,null,null,null,null,null,null,null,null,null,null,null,null,null,null,null,null,null,null,null,null,"1LED194",null,"1LED194",null,"1LED194",null,null,null,null,null,null,null,"1LED180",null,"1LED181",null,"1LED224",null,"1LED224",null,"1LED279",null,"1LED194",null,"1LED194",null,"1LED279"]
[null,null,null,null,null,null,null,null,null,null,null,null,null,null,null,null,null,null,null,null,null,null,null,null,null,null,null,null,null,null,null,null,null,null,null,null,null,null,null,null,null,"1LED195",null,"1LED195",null,"1LED195",null,null,null,null,null,null,null,"1LED181",null,"1LED182",null,"1LED225",null,"1LED225",null,"1LED280",null,"1LED195",null,"1LED195",null,"1LED280"]
[null,null,null,null,null,null,null,null,null,null,null,null,null,null,null,null,null,null,null,null,null,null,null,null,null,null,null,null,null,null,null,null,null,null,null,null,null,null,null,null,null,"1LED196",null,"1LED196",null,"1LED196",null,null,null,null,null,null,null,"1LED182",null,"1LED183",null,"1LED226",null,"1LED226",null,"1LED281",null,"1LED196",null,"1LED196",null,"1LED281"]
[null,null,null,null,null,null,null,null,null,null,null,null,null,null,null,null,null,null,null,null,null,null,null,null,null,null,null,null,null,null,null,null,null,null,null,null,null,null,null,null,null,"1LED197",null,"1LED197",null,"1LED197",null,null,null,null,null,null,null,"1LED183",null,"1LED184",null,"1LED227",null,"1LED227",null,"1LED282",null,"1LED197",null,"1LED197",null,"1LED282"]
[null,null,null,null,null,null,null,null,null,null,null,null,null,null,null,null,null,null,null,null,null,null,null,null,null,null,null,null,null,null,null,null,null,null,null,null,null,null,null,null,null,"1LED198",null,"1LED198",null,"1LED198",null,null,null,null,null,null,null,"1LED184",null,"1LED185",null,"1LED228",null,"1LED228",null,"1LED283",null,"1LED198",null,"1LED198",null,"1LED283"]
[null,null,null,null,null,null,null,null,null,null,null,null,null,null,null,null,null,null,null,null,null,null,null,null,null,null,null,null,null,null,null,null,null,null,null,null,null,null,null,null,null,"1LED199",null,"1LED199",null,"1LED199",null,null,null,null,null,null,null,"1LED185",null,"1LED186",null,"1LED229",null,"1LED229",null,"1LED284",null,"1LED199",null,"1LED199",null,"1LED284"]
[null,null,null,null,null,null,null,null,null,null,null,null,null,null,null,null,null,null,null,null,null,null,null,null,null,null,null,null,null,null,null,null,null,null,null,null,null,null,null,null,null,"1LED200",null,"1LED200",null,"1LED200",null,null,null,null,null,null,null,"1LED186",null,"1LED187",null,"1LED230",null,"1LED230",null,"1LED285",null,"1LED200",null,"1LED200",null,"1LED285"]
[null,null,null,null,null,null,null,null,null,null,null,null,null,null,null,null,null,null,null,null,null,null,null,null,null,null,null,null,null,null,null,null,null,null,null,null,null,null,null,null,null,"1LED201",null,"1LED201",null,"1LED201",null,null,null,null,null,null,null,"1LED187",null,"1LED188",null,"1LED231",null,"1LED231",null,"1LED286",null,"1LED201",null,"1LED201",null,"1LED286"]
[null,null,null,null,null,null,null,null,null,null,null,null,null,null,null,null,null,null,null,null,null,null,null,null,null,null,null,null,null,null,null,null,null,null,null,null,null,null,null,null,null,"1LED202",null,"1LED202",null,"1LED202",null,null,null,null,null,null,null,"1LED188",null,"1LED189",null,"1LED232",null,"1LED232",null,"1LED287",null,"1LED202",null,"1LED202",null,"1LED287"]
[null,null,null,null,null,null,null,null,null,null,null,null,null,null,null,null,null,null,null,null,null,null,null,null,null,null,null,null,null,null,null,null,null,null,null,null,null,null,null,null,null,"1LED203",null,"1LED203",null,"1LED203",null,null,null,null,null,null,null,"1LED189",null,"1LED190",null,"1LED233",null,"1LED233",null,"1LED288",null,"1LED203",null,"1LED203",null,"1LED288"]
[null,null,null,null,null,null,null,null,null,null,null,null,null,null,null,null,null,null,null,null,null,null,null,null,null,null,null,null,null,null,null,null,null,null,null,null,null,null,null,null,null,"1LED204",null,"1LED204",null,"1LED204",null,null,null,null,null,null,null,"1LED190",null,"1LED191",null,"1LED234",null,"1LED234",null,"1LED289",null,"1LED204",null,"1LED204",null,"1LED289"]
[null,null,null,null,null,null,null,null,null,null,null,null,null,null,null,null,null,null,null,null,null,null,null,null,null,null,null,null,null,null,null,null,null,null,null,null,null,null,null,null,null,"1LED205",null,"1LED205",null,"1LED205",null,null,null,null,null,null,null,"1LED191",null,"1LED192",null,"1LED235",null,"1LED235",null,"1LED290",null,"1LED205",null,"1LED205",null,"1LED290"]
[null,null,null,null,null,null,null,null,null,null,null,null,null,null,null,null,null,null,null,null,null,null,null,null,null,null,null,null,null,null,null,null,null,null,null,null,null,null,null,null,null,"1LED206",null,"1LED206",null,"1LED206",null,null,null,null,null,null,null,"1LED192",null,"1LED193",null,"1LED236",null,"1LED236",null,"1LED291",null,"1LED206",null,"1LED206",null,"1LED291"]
[null,null,null,null,null,null,null,null,null,null,null,null,null,null,null,null,null,null,null,null,null,null,null,null,null,null,null,null,null,null,null,null,null,null,null,null,null,null,null,null,null,"1LED207",null,"1LED207",null,"1LED207",null,null,null,null,null,null,null,"1LED193",null,"1LED194",null,"1LED237",null,"1LED237",null,"1LED292",null,"1LED207",null,"1LED207",null,"1LED292"]
[null,null,null,null,null,null,null,null,null,null,null,null,null,null,null,null,null,null,null,null,null,null,null,null,null,null,null,null,null,null,null,null,null,null,null,null,null,null,null,null,null,"1LED208",null,"1LED208",null,"1LED208",null,null,null,null,null,null,null,"1LED194",null,"1LED195",null,"1LED238",null,"1LED238",null,"1LED293",null,"1LED208",null,"1LED208",null,"1LED293"]
[null,null,null,null,null,null,null,null,null,null,null,null,null,null,null,null,null,null,null,null,null,null,null,null,null,null,null,null,null,null,null,null,null,null,null,null,null,null,null,null,null,"1LED209",null,"1LED209",null,"1LED209",null,null,null,null,null,null,null,"1LED195",null,"1LED196",null,"1LED239",null,"1LED239",null,"1LED294",null,"1LED209",null,"1LED209",null,"1LED294"]
[null,null,null,null,null,null,null,null,null,null,null,null,null,null,null,null,null,null,null,null,null,null,null,null,null,null,null,null,null,null,null,null,null,null,null,null,null,null,null,null,null,"1LED210",null,"1LED210",null,"1LED210",null,null,null,null,null,null,null,"1LED196",null,"1LED197",null,"1LED240",null,"1LED240",null,"1LED295",null,"1LED210",null,"1LED210",null,"1LED295"]
[null,null,null,null,null,null,null,null,null,null,null,null,null,null,null,null,null,null,null,null,null,null,null,null,null,null,null,null,null,null,null,null,null,null,null,null,null,null,null,null,null,"1LED211",null,"1LED211",null,"1LED211",null,null,null,null,null,null,null,"1LED197",null,"1LED198",null,"1LED241",null,"1LED241",null,"1LED296",null,"1LED211",null,"1LED211",null,"1LED296"]
[null,null,null,null,null,null,null,null,null,null,null,null,null,null,null,null,null,null,null,null,null,null,null,null,null,null,null,null,null,null,null,null,null,null,null,null,null,null,null,null,null,"1LED212",null,"1LED212",null,"1LED212",null,null,null,null,null,null,null,"1LED198",null,"1LED199",null,"1LED242",null,"1LED242",null,"1LED297",null,"1LED212",null,"1LED212",null,"1LED297"]
[null,null,null,null,null,null,null,null,null,null,null,null,null,null,null,null,null,null,null,null,null,null,null,null,null,null,null,null,null,null,null,null,null,null,null,null,null,null,null,null,null,"1LED213",null,"1LED213",null,"1LED213",null,null,null,null,null,null,null,"1LED199",null,"1LED200",null,"1LED243",null,"1LED243",null,"1LED298",null,"1LED213",null,"1LED213",null,"1LED298"]
[null,null,null,null,null,null,null,null,null,null,null,null,null,null,null,null,null,null,null,null,null,null,null,null,null,null,null,null,null,null,null,null,null,null,null,null,null,null,null,null,null,"1LED214",null,"1LED214",null,"1LED214",null,null,null,null,null,null,null,"1LED200",null,"1LED201",null,"1LED244",null,"1LED244",null,"1LED299",null,"1LED214",null,"1LED214",null,"1LED299"]
[null,null,null,null,null,null,null,null,null,null,null,null,null,null,null,null,null,null,null,null,null,null,null,null,null,null,null,null,null,null,null,null,null,null,null,null,null,null,null,null,null,"1LED215",null,"1LED215",null,"1LED215",null,null,null,null,null,null,null,"1LED201",null,"1LED202",null,"1LED245",null,"1LED245",null,"1LED300",null,"1LED215",null,"1LED215",null,"1LED300"]
[null,null,null,null,null,null,null,null,null,null,null,null,null,null,null,null,null,null,null,null,null,null,null,null,null,null,null,null,null,null,null,null,null,null,null,null,null,null,null,null,null,"1LED216",null,"1LED216",null,"1LED216",null,null,null,null,null,null,null,"1LED202",null,"1LED203",null,"1LED246",null,"1LED246",null,null,null,"1LED216",null,"1LED216"]
[null,null,null,null,null,null,null,null,null,null,null,null,null,null,null,null,null,null,null,null,null,null,null,null,null,null,null,null,null,null,null,null,null,null,null,null,null,null,null,null,null,"1LED217",null,"1LED217",null,"1LED217",null,null,null,null,null,null,null,"1LED203",null,"1LED204",null,"1LED247",null,"1LED247",null,null,null,"1LED217",null,"1LED217"]
[null,null,null,null,null,null,null,null,null,null,null,null,null,null,null,null,null,null,null,null,null,null,null,null,null,null,null,null,null,null,null,null,null,null,null,null,null,null,null,null,null,"1LED218",null,"1LED218",null,"1LED218",null,null,null,null,null,null,null,"1LED204",null,"1LED205",null,"1LED248",null,"1LED248",null,null,null,"1LED218",null,"1LED218"]
[null,null,null,null,null,null,null,null,null,null,null,null,null,null,null,null,null,null,null,null,null,null,null,null,null,null,null,null,null,null,null,null,null,null,null,null,null,null,null,null,null,"1LED219",null,"1LED219",null,"1LED219",null,null,null,null,null,null,null,"1LED205",null,"1LED206",null,"1LED249",null,"1LED249",null,null,null,"1LED219",null,"1LED219"]
[null,null,null,null,null,null,null,null,null,null,null,null,null,null,null,null,null,null,null,null,null,null,null,null,null,null,null,null,null,null,null,null,null,null,null,null,null,null,null,null,null,"1LED220",null,"1LED220",null,"1LED220",null,null,null,null,null,null,null,"1LED206",null,"1LED207",null,"1LED250",null,"1LED250",null,null,null,"1LED220",null,"1LED220"]
[null,null,null,null,null,null,null,null,null,null,null,null,null,null,null,null,null,null,null,null,null,null,null,null,null,null,null,null,null,null,null,null,null,null,null,null,null,null,null,null,null,"1LED221",null,"1LED221",null,"1LED221",null,null,null,null,null,null,null,"1LED207",null,"1LED208",null,"1LED251",null,"1LED251",null,null,null,"1LED221",null,"1LED221"]
[null,null,null,null,null,null,null,null,null,null,null,null,null,null,null,null,null,null,null,null,null,null,null,null,null,null,null,null,null,null,null,null,null,null,null,null,null,null,null,null,null,"1LED222",null,"1LED222",null,"1LED222",null,null,null,null,null,null,null,"1LED208",null,"1LED209",null,"1LED252",null,"1LED252",null,null,null,"1LED222",null,"1LED222"]
[null,null,null,null,null,null,null,null,null,null,null,null,null,null,null,null,null,null,null,null,null,null,null,null,null,null,null,null,null,null,null,null,null,null,null,null,null,null,null,null,null,"1LED223",null,"1LED223",null,"1LED223",null,null,null,null,null,null,null,"1LED209",null,"1LED210",null,"1LED253",null,"1LED253",null,null,null,"1LED223",null,"1LED223"]
[null,null,null,null,null,null,null,null,null,null,null,null,null,null,null,null,null,null,null,null,null,null,null,null,null,null,null,null,null,null,null,null,null,null,null,null,null,null,null,null,null,"1LED224",null,"1LED224",null,"1LED224",null,null,null,null,null,null,null,"1LED210",null,"1LED211",null,"1LED254",null,"1LED254",null,null,null,"1LED224",null,"1LED224"]
[null,null,null,null,null,null,null,null,null,null,null,null,null,null,null,null,null,null,null,null,null,null,null,null,null,null,null,null,null,null,null,null,null,null,null,null,null,null,null,null,null,"1LED225",null,"1LED225",null,"1LED225",null,null,null,null,null,null,null,"1LED211",null,"1LED212",null,"1LED255",null,"1LED255",null,null,null,"1LED225",null,"1LED225"]
[null,null,null,null,null,null,null,null,null,null,null,null,null,null,null,null,null,null,null,null,null,null,null,null,null,null,null,null,null,null,null,null,null,null,null,null,null,null,null,null,null,"1LED226",null,"1LED226",null,"1LED226",null,null,null,null,null,null,null,"1LED212",null,"1LED213",null,"1LED256",null,"1LED256",null,null,null,"1LED226",null,"1LED226"]
[null,null,null,null,null,null,null,null,null,null,null,null,null,null,null,null,null,null,null,null,null,null,null,null,null,null,null,null,null,null,null,null,null,null,null,null,null,null,null,null,null,"1LED227",null,"1LED227",null,"1LED227",null,null,null,null,null,null,null,"1LED213",null,"1LED214",null,"1LED257",null,"1LED257",null,null,null,"1LED227",null,"1LED227"]
[null,null,null,null,null,null,null,null,null,null,null,null,null,null,null,null,null,null,null,null,null,null,null,null,null,null,null,null,null,null,null,null,null,null,null,null,null,null,null,null,null,"1LED228",null,"1LED228",null,"1LED228",null,null,null,null,null,null,null,"1LED214",null,"1LED215",null,"1LED258",null,"1LED258",null,null,null,"1LED228",null,"1LED228"]
[null,null,null,null,null,null,null,null,null,null,null,null,null,null,null,null,null,null,null,null,null,null,null,null,null,null,null,null,null,null,null,null,null,null,null,null,null,null,null,null,null,"1LED229",null,"1LED229",null,"1LED229",null,null,null,null,null,null,null,"1LED215",null,"1LED216",null,"1LED259",null,"1LED259",null,null,null,"1LED229",null,"1LED229"]
[null,null,null,null,null,null,null,null,null,null,null,null,null,null,null,null,null,null,null,null,null,null,null,null,null,null,null,null,null,null,null,null,null,null,null,null,null,null,null,null,null,"1LED230",null,"1LED230",null,"1LED230",null,null,null,null,null,null,null,"1LED216",null,"1LED217",null,"1LED260",null,"1LED260",null,null,null,"1LED230",null,"1LED230"]
[null,null,null,null,null,null,null,null,null,null,null,null,null,null,null,null,null,null,null,null,null,null,null,null,null,null,null,null,null,null,null,null,null,null,null,null,null,null,null,null,null,"1LED231",null,"1LED231",null,"1LED231",null,null,null,null,null,null,null,"1LED217",null,"1LED218",null,"1LED261",null,"1LED261",null,null,null,"1LED231",null,"1LED231"]
[null,null,null,null,null,null,null,null,null,null,null,null,null,null,null,null,null,null,null,null,null,null,null,null,null,null,null,null,null,null,null,null,null,null,null,null,null,null,null,null,null,"1LED232",null,"1LED232",null,"1LED232",null,null,null,null,null,null,null,"1LED218",null,"1LED219",null,"1LED262",null,"1LED262",null,null,null,"1LED232",null,"1LED232"]
[null,null,null,null,null,null,null,null,null,null,null,null,null,null,null,null,null,null,null,null,null,null,null,null,null,null,null,null,null,null,null,null,null,null,null,null,null,null,null,null,null,"1LED233",null,"1LED233",null,"1LED233",null,null,null,null,null,null,null,"1LED219",null,"1LED220",null,"1LED263",null,"1LED263",null,null,null,"1LED233",null,"1LED233"]
[null,null,null,null,null,null,null,null,null,null,null,null,null,null,null,null,null,null,null,null,null,null,null,null,null,null,null,null,null,null,null,null,null,null,null,null,null,null,null,null,null,"1LED234",null,"1LED234",null,"1LED234",null,null,null,null,null,null,null,"1LED220",null,"1LED221",null,"1LED264",null,"1LED264",null,null,null,"1LED234",null,"1LED234"]
[null,null,null,null,null,null,null,null,null,null,null,null,null,null,null,null,null,null,null,null,null,null,null,null,null,null,null,null,null,null,null,null,null,null,null,null,null,null,null,null,null,"1LED235",null,"1LED235",null,"1LED235",null,null,null,null,null,null,null,"1LED221",null,"1LED222",null,"1LED265",null,"1LED265",null,null,null,"1LED235",null,"1LED235"]
[null,null,null,null,null,null,null,null,null,null,null,null,null,null,null,null,null,null,null,null,null,null,null,null,null,null,null,null,null,null,null,null,null,null,null,null,null,null,null,null,null,"1LED236",null,"1LED236",null,"1LED236",null,null,null,null,null,null,null,"1LED222",null,"1LED223",null,"1LED266",null,"1LED266",null,null,null,"1LED236",null,"1LED236"]
[null,null,null,null,null,null,null,null,null,null,null,null,null,null,null,null,null,null,null,null,null,null,null,null,null,null,null,null,null,null,null,null,null,null,null,null,null,null,null,null,null,"1LED237",null,"1LED237",null,"1LED237",null,null,null,null,null,null,null,"1LED223",null,"1LED224",null,"1LED267",null,"1LED267",null,null,null,"1LED237",null,"1LED237"]
[null,null,null,null,null,null,null,null,null,null,null,null,null,null,null,null,null,null,null,null,null,null,null,null,null,null,null,null,null,null,null,null,null,null,null,null,null,null,null,null,null,"1LED238",null,"1LED238",null,"1LED238",null,null,null,null,null,null,null,"1LED224",null,"1LED225",null,"1LED268",null,"1LED268",null,null,null,"1LED238",null,"1LED238"]
[null,null,null,null,null,null,null,null,null,null,null,null,null,null,null,null,null,null,null,null,null,null,null,null,null,null,null,null,null,null,null,null,null,null,null,null,null,null,null,null,null,"1LED239",null,"1LED239",null,"1LED239",null,null,null,null,null,null,null,"1LED225",null,"1LED226",null,"1LED269",null,"1LED269",null,null,null,"1LED239",null,"1LED239"]
[null,null,null,null,null,null,null,null,null,null,null,null,null,null,null,null,null,null,null,null,null,null,null,null,null,null,null,null,null,null,null,null,null,null,null,null,null,null,null,null,null,"1LED240",null,"1LED240",null,"1LED240",null,null,null,null,null,null,null,"1LED226",null,"1LED227",null,"1LED270",null,"1LED270",null,null,null,"1LED240",null,"1LED240"]
[null,null,null,null,null,null,null,null,null,null,null,null,null,null,null,null,null,null,null,null,null,null,null,null,null,null,null,null,null,null,null,null,null,null,null,null,null,null,null,null,null,"1LED241",null,"1LED241",null,"1LED241",null,null,null,null,null,null,null,"1LED227",null,"1LED228",null,"1LED271",null,"1LED271",null,null,null,"1LED241",null,"1LED241"]
[null,null,null,null,null,null,null,null,null,null,null,null,null,null,null,null,null,null,null,null,null,null,null,null,null,null,null,null,null,null,null,null,null,null,null,null,null,null,null,null,null,"1LED242",null,"1LED242",null,"1LED242",null,null,null,null,null,null,null,"1LED228",null,"1LED229",null,"1LED272",null,"1LED272",null,null,null,"1LED242",null,"1LED242"]
[null,null,null,null,null,null,null,null,null,null,null,null,null,null,null,null,null,null,null,null,null,null,null,null,null,null,null,null,null,null,null,null,null,null,null,null,null,null,null,null,null,"1LED243",null,"1LED243",null,"1LED243",null,null,null,null,null,null,null,"1LED229",null,"1LED230",null,"1LED273",null,"1LED273",null,null,null,"1LED243",null,"1LED243"]
[null,null,null,null,null,null,null,null,null,null,null,null,null,null,null,null,null,null,null,null,null,null,null,null,null,null,null,null,null,null,null,null,null,null,null,null,null,null,null,null,null,"1LED244",null,"1LED244",null,"1LED244",null,null,null,null,null,null,null,"1LED230",null,"1LED231",null,"1LED274",null,"1LED274",null,null,null,"1LED244",null,"1LED244"]
[null,null,null,null,null,null,null,null,null,null,null,null,null,null,null,null,null,null,null,null,null,null,null,null,null,null,null,null,null,null,null,null,null,null,null,null,null,null,null,null,null,"1LED245",null,"1LED245",null,"1LED245",null,null,null,null,null,null,null,"1LED231",null,"1LED232",null,"1LED275",null,"1LED275",null,null,null,"1LED245",null,"1LED245"]
[null,null,null,null,null,null,null,null,null,null,null,null,null,null,null,null,null,null,null,null,null,null,null,null,null,null,null,null,null,null,null,null,null,null,null,null,null,null,null,null,null,"1LED246",null,"1LED246",null,"1LED246",null,null,null,null,null,null,null,"1LED232",null,"1LED233",null,"1LED276",null,"1LED276",null,null,null,"1LED246",null,"1LED246"]
[null,null,null,null,null,null,null,null,null,null,null,null,null,null,null,null,null,null,null,null,null,null,null,null,null,null,null,null,null,null,null,null,null,null,null,null,null,null,null,null,null,"1LED247",null,"1LED247",null,"1LED247",null,null,null,null,null,null,null,"1LED233",null,"1LED234",null,"1LED277",null,"1LED277",null,null,null,"1LED247",null,"1LED247"]
[null,null,null,null,null,null,null,null,null,null,null,null,null,null,null,null,null,null,null,null,null,null,null,null,null,null,null,null,null,null,null,null,null,null,null,null,null,null,null,null,null,"1LED248",null,"1LED248",null,"1LED248",null,null,null,null,null,null,null,"1LED234",null,"1LED235",null,"1LED278",null,"1LED278",null,null,null,"1LED248",null,"1LED248"]
[null,null,null,null,null,null,null,null,null,null,null,null,null,null,null,null,null,null,null,null,null,null,null,null,null,null,null,null,null,null,null,null,null,null,null,null,null,null,null,null,null,"1LED249",null,"1LED249",null,"1LED249",null,null,null,null,null,null,null,"1LED235",null,"1LED236",null,"1LED279",null,"1LED279",null,null,null,"1LED249",null,"1LED249"]
[null,null,null,null,null,null,null,null,null,null,null,null,null,null,null,null,null,null,null,null,null,null,null,null,null,null,null,null,null,null,null,null,null,null,null,null,null,null,null,null,null,"1LED250",null,"1LED250",null,"1LED250",null,null,null,null,null,null,null,"1LED236",null,"1LED237",null,"1LED280",null,"1LED280",null,null,null,"1LED250",null,"1LED250"]
[null,null,null,null,null,null,null,null,null,null,null,null,null,null,null,null,null,null,null,null,null,null,null,null,null,null,null,null,null,null,null,null,null,null,null,null,null,null,null,null,null,"1LED251",null,"1LED251",null,"1LED251",null,null,null,null,null,null,null,"1LED237",null,"1LED238",null,"1LED281",null,"1LED281",null,null,null,"1LED251",null,"1LED251"]
[null,null,null,null,null,null,null,null,null,null,null,null,null,null,null,null,null,null,null,null,null,null,null,null,null,null,null,null,null,null,null,null,null,null,null,null,null,null,null,null,null,"1LED252",null,"1LED252",null,"1LED252",null,null,null,null,null,null,null,"1LED238",null,"1LED239",null,"1LED282",null,"1LED282",null,null,null,"1LED252",null,"1LED252"]
[null,null,null,null,null,null,null,null,null,null,null,null,null,null,null,null,null,null,null,null,null,null,null,null,null,null,null,null,null,null,null,null,null,null,null,null,null,null,null,null,null,"1LED253",null,"1LED253",null,"1LED253",null,null,null,null,null,null,null,"1LED239",null,"1LED240",null,"1LED283",null,"1LED283",null,null,null,"1LED253",null,"1LED253"]
[null,null,null,null,null,null,null,null,null,null,null,null,null,null,null,null,null,null,null,null,null,null,null,null,null,null,null,null,null,null,null,null,null,null,null,null,null,null,null,null,null,"1LED254",null,"1LED254",null,"1LED254",null,null,null,null,null,null,null,"1LED240",null,"1LED241",null,"1LED284",null,"1LED284",null,null,null,"1LED254",null,"1LED254"]
[null,null,null,null,null,null,null,null,null,null,null,null,null,null,null,null,null,null,null,null,null,null,null,null,null,null,null,null,null,null,null,null,null,null,null,null,null,null,null,null,null,"1LED255",null,"1LED255",null,"1LED255",null,null,null,null,null,null,null,"1LED241",null,"1LED242",null,"1LED285",null,"1LED285",null,null,null,"1LED255",null,"1LED255"]
[null,null,null,null,null,null,null,null,null,null,null,null,null,null,null,null,null,null,null,null,null,null,null,null,null,null,null,null,null,null,null,null,null,null,null,null,null,null,null,null,null,"1LED256",null,"1LED256",null,"1LED256",null,null,null,null,null,null,null,"1LED242",null,"1LED243",null,"1LED286",null,"1LED286",null,null,null,"1LED256",null,"1LED256"]
[null,null,null,null,null,null,null,null,null,null,null,null,null,null,null,null,null,null,null,null,null,null,null,null,null,null,null,null,null,null,null,null,null,null,null,null,null,null,null,null,null,"1LED257",null,"1LED257",null,"1LED257",null,null,null,null,null,null,null,"1LED243",null,"1LED244",null,"1LED287",null,"1LED287",null,null,null,"1LED257",null,"1LED257"]
[null,null,null,null,null,null,null,null,null,null,null,null,null,null,null,null,null,null,null,null,null,null,null,null,null,null,null,null,null,null,null,null,null,null,null,null,null,null,null,null,null,"1LED258",null,"1LED258",null,"1LED258",null,null,null,null,null,null,null,"1LED244",null,"1LED245",null,"1LED288",null,"1LED288",null,null,null,"1LED258",null,"1LED258"]
[null,null,null,null,null,null,null,null,null,null,null,null,null,null,null,null,null,null,null,null,null,null,null,null,null,null,null,null,null,null,null,null,null,null,null,null,null,null,null,null,null,"1LED259",null,"1LED259",null,"1LED259",null,null,null,null,null,null,null,"1LED245",null,"1LED246",null,"1LED289",null,"1LED289",null,null,null,"1LED259",null,"1LED259"]
[null,null,null,null,null,null,null,null,null,null,null,null,null,null,null,null,null,null,null,null,null,null,null,null,null,null,null,null,null,null,null,null,null,null,null,null,null,null,null,null,null,"1LED260",null,"1LED260",null,"1LED260",null,null,null,null,null,null,null,"1LED246",null,"1LED247",null,"1LED290",null,"1LED290",null,null,null,"1LED260",null,"1LED260"]
[null,null,null,null,null,null,null,null,null,null,null,null,null,null,null,null,null,null,null,null,null,null,null,null,null,null,null,null,null,null,null,null,null,null,null,null,null,null,null,null,null,"1LED261",null,"1LED261",null,"1LED261",null,null,null,null,null,null,null,"1LED247",null,"1LED248",null,"1LED291",null,"1LED291",null,null,null,"1LED261",null,"1LED261"]
[null,null,null,null,null,null,null,null,null,null,null,null,null,null,null,null,null,null,null,null,null,null,null,null,null,null,null,null,null,null,null,null,null,null,null,null,null,null,null,null,null,"1LED262",null,"1LED262",null,"1LED262",null,null,null,null,null,null,null,"1LED248",null,"1LED249",null,"1LED292",null,"1LED292",null,null,null,"1LED262",null,"1LED262"]
[null,null,null,null,null,null,null,null,null,null,null,null,null,null,null,null,null,null,null,null,null,null,null,null,null,null,null,null,null,null,null,null,null,null,null,null,null,null,null,null,null,"1LED263",null,"1LED263",null,"1LED263",null,null,null,null,null,null,null,"1LED249",null,"1LED250",null,"1LED293",null,"1LED293",null,null,null,"1LED263",null,"1LED263"]
[null,null,null,null,null,null,null,null,null,null,null,null,null,null,null,null,null,null,null,null,null,null,null,null,null,null,null,null,null,null,null,null,null,null,null,null,null,null,null,null,null,"1LED264",null,"1LED264",null,"1LED264",null,null,null,null,null,null,null,"1LED250",null,"1LED251",null,"1LED294",null,"1LED294",null,null,null,"1LED264",null,"1LED264"]
[null,null,null,null,null,null,null,null,null,null,null,null,null,null,null,null,null,null,null,null,null,null,null,null,null,null,null,null,null,null,null,null,null,null,null,null,null,null,null,null,null,"1LED265",null,"1LED265",null,"1LED265",null,null,null,null,null,null,null,"1LED251",null,"1LED252",null,"1LED295",null,"1LED295",null,null,null,"1LED265",null,"1LED265"]
[null,null,null,null,null,null,null,null,null,null,null,null,null,null,null,null,null,null,null,null,null,null,null,null,null,null,null,null,null,null,null,null,null,null,null,null,null,null,null,null,null,"1LED266",null,"1LED266",null,"1LED266",null,null,null,null,null,null,null,"1LED252",null,"1LED253",null,"1LED296",null,"1LED296",null,null,null,"1LED266",null,"1LED266"]
[null,null,null,null,null,null,null,null,null,null,null,null,null,null,null,null,null,null,null,null,null,null,null,null,null,null,null,null,null,null,null,null,null,null,null,null,null,null,null,null,null,"1LED267",null,"1LED267",null,"1LED267",null,null,null,null,null,null,null,"1LED253",null,"1LED254",null,"1LED297",null,"1LED297",null,null,null,"1LED267",null,"1LED267"]
[null,null,null,null,null,null,null,null,null,null,null,null,null,null,null,null,null,null,null,null,null,null,null,null,null,null,null,null,null,null,null,null,null,null,null,null,null,null,null,null,null,"1LED268",null,"1LED268",null,"1LED268",null,null,null,null,null,null,null,"1LED254",null,"1LED255",null,"1LED298",null,"1LED298",null,null,null,"1LED268",null,"1LED268"]
[null,null,null,null,null,null,null,null,null,null,null,null,null,null,null,null,null,null,null,null,null,null,null,null,null,null,null,null,null,null,null,null,null,null,null,null,null,null,null,null,null,"1LED269",null,"1LED269",null,"1LED269",null,null,null,null,null,null,null,"1LED255",null,"1LED256",null,"1LED299",null,"1LED299",null,null,null,"1LED269",null,"1LED269"]
[null,null,null,null,null,null,null,null,null,null,null,null,null,null,null,null,null,null,null,null,null,null,null,null,null,null,null,null,null,null,null,null,null,null,null,null,null,null,null,null,null,"1LED270",null,"1LED270",null,"1LED270",null,null,null,null,null,null,null,"1LED256",null,"1LED257",null,"1LED300",null,"1LED300",null,null,null,"1LED270",null,"1LED270"]
[null,null,null,null,null,null,null,null,null,null,null,null,null,null,null,null,null,null,null,null,null,null,null,null,null,null,null,null,null,null,null,null,null,null,null,null,null,null,null,null,null,"1LED271",null,"1LED271",null,"1LED271",null,null,null,null,null,null,null,"1LED257",null,"1LED258",null,null,null,null,null,null,null,"1LED271",null,"1LED271"]
[null,null,null,null,null,null,null,null,null,null,null,null,null,null,null,null,null,null,null,null,null,null,null,null,null,null,null,null,null,null,null,null,null,null,null,null,null,null,null,null,null,"1LED272",null,"1LED272",null,"1LED272",null,null,null,null,null,null,null,"1LED258",null,"1LED259",null,null,null,null,null,null,null,"1LED272",null,"1LED272"]
[null,null,null,null,null,null,null,null,null,null,null,null,null,null,null,null,null,null,null,null,null,null,null,null,null,null,null,null,null,null,null,null,null,null,null,null,null,null,null,null,null,"1LED273",null,"1LED273",null,"1LED273",null,null,null,null,null,null,null,"1LED259",null,"1LED260",null,null,null,null,null,null,null,"1LED273",null,"1LED273"]
[null,null,null,null,null,null,null,null,null,null,null,null,null,null,null,null,null,null,null,null,null,null,null,null,null,null,null,null,null,null,null,null,null,null,null,null,null,null,null,null,null,"1LED274",null,"1LED274",null,"1LED274",null,null,null,null,null,null,null,"1LED260",null,"1LED261",null,null,null,null,null,null,null,"1LED274",null,"1LED274"]
[null,null,null,null,null,null,null,null,null,null,null,null,null,null,null,null,null,null,null,null,null,null,null,null,null,null,null,null,null,null,null,null,null,null,null,null,null,null,null,null,null,"1LED275",null,"1LED275",null,"1LED275",null,null,null,null,null,null,null,"1LED261",null,"1LED262",null,null,null,null,null,null,null,"1LED275",null,"1LED275"]
[null,null,null,null,null,null,null,null,null,null,null,null,null,null,null,null,null,null,null,null,null,null,null,null,null,null,null,null,null,null,null,null,null,null,null,null,null,null,null,null,null,"1LED276",null,"1LED276",null,"1LED276",null,null,null,null,null,null,null,"1LED262",null,"1LED263",null,null,null,null,null,null,null,"1LED276",null,"1LED276"]
[null,null,null,null,null,null,null,null,null,null,null,null,null,null,null,null,null,null,null,null,null,null,null,null,null,null,null,null,null,null,null,null,null,null,null,null,null,null,null,null,null,"1LED277",null,"1LED277",null,"1LED277",null,null,null,null,null,null,null,"1LED263",null,"1LED264",null,null,null,null,null,null,null,"1LED277",null,"1LED277"]
[null,null,null,null,null,null,null,null,null,null,null,null,null,null,null,null,null,null,null,null,null,null,null,null,null,null,null,null,null,null,null,null,null,null,null,null,null,null,null,null,null,"1LED278",null,"1LED278",null,"1LED278",null,null,null,null,null,null,null,"1LED264",null,"1LED265",null,null,null,null,null,null,null,"1LED278",null,"1LED278"]
[null,null,null,null,null,null,null,null,null,null,null,null,null,null,null,null,null,null,null,null,null,null,null,null,null,null,null,null,null,null,null,null,null,null,null,null,null,null,null,null,null,"1LED279",null,"1LED279",null,"1LED279",null,null,null,null,null,null,null,"1LED265",null,"1LED266",null,null,null,null,null,null,null,"1LED279",null,"1LED279"]
[null,null,null,null,null,null,null,null,null,null,null,null,null,null,null,null,null,null,null,null,null,null,null,null,null,null,null,null,null,null,null,null,null,null,null,null,null,null,null,null,null,"1LED280",null,"1LED280",null,"1LED280",null,null,null,null,null,null,null,"1LED266",null,"1LED267",null,null,null,null,null,null,null,"1LED280",null,"1LED280"]
[null,null,null,null,null,null,null,null,null,null,null,null,null,null,null,null,null,null,null,null,null,null,null,null,null,null,null,null,null,null,null,null,null,null,null,null,null,null,null,null,null,"1LED281",null,"1LED281",null,"1LED281",null,null,null,null,null,null,null,"1LED267",null,"1LED268",null,null,null,null,null,null,null,"1LED281",null,"1LED281"]
[null,null,null,null,null,null,null,null,null,null,null,null,null,null,null,null,null,null,null,null,null,null,null,null,null,null,null,null,null,null,null,null,null,null,null,null,null,null,null,null,null,"1LED282",null,"1LED282",null,"1LED282",null,null,null,null,null,null,null,"1LED268",null,"1LED269",null,null,null,null,null,null,null,"1LED282",null,"1LED282"]
[null,null,null,null,null,null,null,null,null,null,null,null,null,null,null,null,null,null,null,null,null,null,null,null,null,null,null,null,null,null,null,null,null,null,null,null,null,null,null,null,null,"1LED283",null,"1LED283",null,"1LED283",null,null,null,null,null,null,null,"1LED269",null,"1LED270",null,null,null,null,null,null,null,"1LED283",null,"1LED283"]
[null,null,null,null,null,null,null,null,null,null,null,null,null,null,null,null,null,null,null,null,null,null,null,null,null,null,null,null,null,null,null,null,null,null,null,null,null,null,null,null,null,"1LED284",null,"1LED284",null,"1LED284",null,null,null,null,null,null,null,"1LED270",null,"1LED271",null,null,null,null,null,null,null,"1LED284",null,"1LED284"]
[null,null,null,null,null,null,null,null,null,null,null,null,null,null,null,null,null,null,null,null,null,null,null,null,null,null,null,null,null,null,null,null,null,null,null,null,null,null,null,null,null,"1LED285",null,"1LED285",null,"1LED285",null,null,null,null,null,null,null,"1LED271",null,"1LED272",null,null,null,null,null,null,null,"1LED285",null,"1LED285"]
[null,null,null,null,null,null,null,null,null,null,null,null,null,null,null,null,null,null,null,null,null,null,null,null,null,null,null,null,null,null,null,null,null,null,null,null,null,null,null,null,null,"1LED286",null,"1LED286",null,"1LED286",null,null,null,null,null,null,null,"1LED272",null,"1LED273",null,null,null,null,null,null,null,"1LED286",null,"1LED286"]
[null,null,null,null,null,null,null,null,null,null,null,null,null,null,null,null,null,null,null,null,null,null,null,null,null,null,null,null,null,null,null,null,null,null,null,null,null,null,null,null,null,"1LED287",null,"1LED287",null,"1LED287",null,null,null,null,null,null,null,"1LED273",null,"1LED274",null,null,null,null,null,null,null,"1LED287",null,"1LED287"]
[null,null,null,null,null,null,null,null,null,null,null,null,null,null,null,null,null,null,null,null,null,null,null,null,null,null,null,null,null,null,null,null,null,null,null,null,null,null,null,null,null,"1LED288",null,"1LED288",null,"1LED288",null,null,null,null,null,null,null,"1LED274",null,"1LED275",null,null,null,null,null,null,null,"1LED288",null,"1LED288"]
[null,null,null,null,null,null,null,null,null,null,null,null,null,null,null,null,null,null,null,null,null,null,null,null,null,null,null,null,null,null,null,null,null,null,null,null,null,null,null,null,null,"1LED289",null,"1LED289",null,"1LED289",null,null,null,null,null,null,null,"1LED275",null,"1LED276",null,null,null,null,null,null,null,"1LED289",null,"1LED289"]
[null,null,null,null,null,null,null,null,null,null,null,null,null,null,null,null,null,null,null,null,null,null,null,null,null,null,null,null,null,null,null,null,null,null,null,null,null,null,null,null,null,"1LED290",null,"1LED290",null,"1LED290",null,null,null,null,null,null,null,"1LED276",null,"1LED277",null,null,null,null,null,null,null,"1LED290",null,"1LED290"]
[null,null,null,null,null,null,null,null,null,null,null,null,null,null,null,null,null,null,null,null,null,null,null,null,null,null,null,null,null,null,null,null,null,null,null,null,null,null,null,null,null,"1LED291",null,"1LED291",null,"1LED291",null,null,null,null,null,null,null,"1LED277",null,"1LED278",null,null,null,null,null,null,null,"1LED291",null,"1LED291"]
[null,null,null,null,null,null,null,null,null,null,null,null,null,null,null,null,null,null,null,null,null,null,null,null,null,null,null,null,null,null,null,null,null,null,null,null,null,null,null,null,null,"1LED292",null,"1LED292",null,"1LED292",null,null,null,null,null,null,null,"1LED278",null,"1LED279",null,null,null,null,null,null,null,"1LED292",null,"1LED292"]
[null,null,null,null,null,null,null,null,null,null,null,null,null,null,null,null,null,null,null,null,null,null,null,null,null,null,null,null,null,null,null,null,null,null,null,null,null,null,null,null,null,"1LED293",null,"1LED293",null,"1LED293",null,null,null,null,null,null,null,"1LED279",null,"1LED280",null,null,null,null,null,null,null,"1LED293",null,"1LED293"]
[null,null,null,null,null,null,null,null,null,null,null,null,null,null,null,null,null,null,null,null,null,null,null,null,null,null,null,null,null,null,null,null,null,null,null,null,null,null,null,null,null,"1LED294",null,"1LED294",null,"1LED294",null,null,null,null,null,null,null,"1LED280",null,"1LED281",null,null,null,null,null,null,null,"1LED294",null,"1LED294"]
[null,null,null,null,null,null,null,null,null,null,null,null,null,null,null,null,null,null,null,null,null,null,null,null,null,null,null,null,null,null,null,null,null,null,null,null,null,null,null,null,null,"1LED295",null,"1LED295",null,"1LED295",null,null,null,null,null,null,null,"1LED281",null,"1LED282",null,null,null,null,null,null,null,"1LED295",null,"1LED295"]
[null,null,null,null,null,null,null,null,null,null,null,null,null,null,null,null,null,null,null,null,null,null,null,null,null,null,null,null,null,null,null,null,null,null,null,null,null,null,null,null,null,"1LED296",null,"1LED296",null,"1LED296",null,null,null,null,null,null,null,"1LED282",null,"1LED283",null,null,null,null,null,null,null,"1LED296",null,"1LED296"]
[null,null,null,null,null,null,null,null,null,null,null,null,null,null,null,null,null,null,null,null,null,null,null,null,null,null,null,null,null,null,null,null,null,null,null,null,null,null,null,null,null,"1LED297",null,"1LED297",null,"1LED297",null,null,null,null,null,null,null,"1LED283",null,"1LED284",null,null,null,null,null,null,null,"1LED297",null,"1LED297"]
[null,null,null,null,null,null,null,null,null,null,null,null,null,null,null,null,null,null,null,null,null,null,null,null,null,null,null,null,null,null,null,null,null,null,null,null,null,null,null,null,null,"1LED298",null,"1LED298",null,"1LED298",null,null,null,null,null,null,null,"1LED284",null,"1LED285",null,null,null,null,null,null,null,"1LED298",null,"1LED298"]
[null,null,null,null,null,null,null,null,null,null,null,null,null,null,null,null,null,null,null,null,null,null,null,null,null,null,null,null,null,null,null,null,null,null,null,null,null,null,null,null,null,"1LED299",null,"1LED299",null,"1LED299",null,null,null,null,null,null,null,"1LED285",null,"1LED286",null,null,null,null,null,null,null,"1LED299",null,"1LED299"]
[null,null,null,null,null,null,null,null,null,null,null,null,null,null,null,null,null,null,null,null,null,null,null,null,null,null,null,null,null,null,null,null,null,null,null,null,null,null,null,null,null,"1LED300",null,"1LED300",null,"1LED300",null,null,null,null,null,null,null,"1LED286",null,"1LED287",null,null,null,null,null,null,null,"1LED300",null,"1LED300"]
[null,null,null,null,null,null,null,null,null,null,null,null,null,null,null,null,null,null,null,null,null,null,null,null,null,null,null,null,null,null,null,null,null,null,null,null,null,null,null,null,null,null,null,"1LED301",null,"1LED301",null,null,null,null,null,null,null,"1LED287",null,"1LED288"]
[null,null,null,null,null,null,null,null,null,null,null,null,null,null,null,null,null,null,null,null,null,null,null,null,null,null,null,null,null,null,null,null,null,null,null,null,null,null,null,null,null,null,null,"1LED302",null,"1LED302",null,null,null,null,null,null,null,"1LED288",null,"1LED289"]
[null,null,null,null,null,null,null,null,null,null,null,null,null,null,null,null,null,null,null,null,null,null,null,null,null,null,null,null,null,null,null,null,null,null,null,null,null,null,null,null,null,null,null,"1LED303",null,"1LED303",null,null,null,null,null,null,null,"1LED289",null,"1LED290"]
[null,null,null,null,null,null,null,null,null,null,null,null,null,null,null,null,null,null,null,null,null,null,null,null,null,null,null,null,null,null,null,null,null,null,null,null,null,null,null,null,null,null,null,"1LED304",null,"1LED304",null,null,null,null,null,null,null,"1LED290",null,"1LED291"]
[null,null,null,null,null,null,null,null,null,null,null,null,null,null,null,null,null,null,null,null,null,null,null,null,null,null,null,null,null,null,null,null,null,null,null,null,null,null,null,null,null,null,null,"1LED305",null,"1LED305",null,null,null,null,null,null,null,"1LED291",null,"1LED292"]
[null,null,null,null,null,null,null,null,null,null,null,null,null,null,null,null,null,null,null,null,null,null,null,null,null,null,null,null,null,null,null,null,null,null,null,null,null,null,null,null,null,null,null,"1LED306",null,"1LED306",null,null,null,null,null,null,null,"1LED292",null,"1LED293"]
[null,null,null,null,null,null,null,null,null,null,null,null,null,null,null,null,null,null,null,null,null,null,null,null,null,null,null,null,null,null,null,null,null,null,null,null,null,null,null,null,null,null,null,"1LED307",null,"1LED307",null,null,null,null,null,null,null,"1LED293",null,"1LED294"]
[null,null,null,null,null,null,null,null,null,null,null,null,null,null,null,null,null,null,null,null,null,null,null,null,null,null,null,null,null,null,null,null,null,null,null,null,null,null,null,null,null,null,null,"1LED308",null,"1LED308",null,null,null,null,null,null,null,"1LED294",null,"1LED295"]
[null,null,null,null,null,null,null,null,null,null,null,null,null,null,null,null,null,null,null,null,null,null,null,null,null,null,null,null,null,null,null,null,null,null,null,null,null,null,null,null,null,null,null,"1LED309",null,"1LED309",null,null,null,null,null,null,null,"1LED295",null,"1LED296"]
[null,null,null,null,null,null,null,null,null,null,null,null,null,null,null,null,null,null,null,null,null,null,null,null,null,null,null,null,null,null,null,null,null,null,null,null,null,null,null,null,null,null,null,"1LED310",null,"1LED310",null,null,null,null,null,null,null,"1LED296",null,"1LED297"]
[null,null,null,null,null,null,null,null,null,null,null,null,null,null,null,null,null,null,null,null,null,null,null,null,null,null,null,null,null,null,null,null,null,null,null,null,null,null,null,null,null,null,null,"1LED311",null,"1LED311",null,null,null,null,null,null,null,"1LED297",null,"1LED298"]
[null,null,null,null,null,null,null,null,null,null,null,null,null,null,null,null,null,null,null,null,null,null,null,null,null,null,null,null,null,null,null,null,null,null,null,null,null,null,null,null,null,null,null,"1LED312",null,"1LED312",null,null,null,null,null,null,null,"1LED298",null,"1LED299"]
[null,null,null,null,null,null,null,null,null,null,null,null,null,null,null,null,null,null,null,null,null,null,null,null,null,null,null,null,null,null,null,null,null,null,null,null,null,null,null,null,null,null,null,"1LED313",null,"1LED313",null,null,null,null,null,null,null,"1LED299",null,"1LED300"]
[null,null,null,null,null,null,null,null,null,null,null,null,null,null,null,null,null,null,null,null,null,null,null,null,null,null,null,null,null,null,null,null,null,null,null,null,null,null,null,null,null,null,null,"1LED314",null,"1LED314",null,null,null,null,null,null,null,"1LED300"]
[null,null,null,null,null,null,null,null,null,null,null,null,null,null,null,null,null,null,null,null,null,null,null,null,null,null,null,null,null,null,null,null,null,null,null,null,null,null,null,null,null,null,null,"1LED315",null,"1LED315"]
[null,null,null,null,null,null,null,null,null,null,null,null,null,null,null,null,null,null,null,null,null,null,null,null,null,null,null,null,null,null,null,null,null,null,null,null,null,null,null,null,null,null,null,"1LED316",null,"1LED316"]
[null,null,null,null,null,null,null,null,null,null,null,null,null,null,null,null,null,null,null,null,null,null,null,null,null,null,null,null,null,null,null,null,null,null,null,null,null,null,null,null,null,null,null,"1LED317",null,"1LED317"]
[null,null,null,null,null,null,null,null,null,null,null,null,null,null,null,null,null,null,null,null,null,null,null,null,null,null,null,null,null,null,null,null,null,null,null,null,null,null,null,null,null,null,null,"1LED318",null,"1LED318"]
[null,null,null,null,null,null,null,null,null,null,null,null,null,null,null,null,null,null,null,null,null,null,null,null,null,null,null,null,null,null,null,null,null,null,null,null,null,null,null,null,null,null,null,"1LED319",null,"1LED319"]
[null,null,null,null,null,null,null,null,null,null,null,null,null,null,null,null,null,null,null,null,null,null,null,null,null,null,null,null,null,null,null,null,null,null,null,null,null,null,null,null,null,null,null,"1LED320",null,"1LED320"]
[null,null,null,null,null,null,null,null,null,null,null,null,null,null,null,null,null,null,null,null,null,null,null,null,null,null,null,null,null,null,null,null,null,null,null,null,null,null,null,null,null,null,null,"1LED321",null,"1LED321"]
[null,null,null,null,null,null,null,null,null,null,null,null,null,null,null,null,null,null,null,null,null,null,null,null,null,null,null,null,null,null,null,null,null,null,null,null,null,null,null,null,null,null,null,"1LED322",null,"1LED322"]
[null,null,null,null,null,null,null,null,null,null,null,null,null,null,null,null,null,null,null,null,null,null,null,null,null,null,null,null,null,null,null,null,null,null,null,null,null,null,null,null,null,null,null,"1LED323",null,"1LED323"]
[null,null,null,null,null,null,null,null,null,null,null,null,null,null,null,null,null,null,null,null,null,null,null,null,null,null,null,null,null,null,null,null,null,null,null,null,null,null,null,null,null,null,null,"1LED324",null,"1LED324"]
[null,null,null,null,null,null,null,null,null,null,null,null,null,null,null,null,null,null,null,null,null,null,null,null,null,null,null,null,null,null,null,null,null,null,null,null,null,null,null,null,null,null,null,"1LED325",null,"1LED325"]
[null,null,null,null,null,null,null,null,null,null,null,null,null,null,null,null,null,null,null,null,null,null,null,null,null,null,null,null,null,null,null,null,null,null,null,null,null,null,null,null,null,null,null,"1LED326",null,"1LED326"]
[null,null,null,null,null,null,null,null,null,null,null,null,null,null,null,null,null,null,null,null,null,null,null,null,null,null,null,null,null,null,null,null,null,null,null,null,null,null,null,null,null,null,null,"1LED327",null,"1LED327"]
[null,null,null,null,null,null,null,null,null,null,null,null,null,null,null,null,null,null,null,null,null,null,null,null,null,null,null,null,null,null,null,null,null,null,null,null,null,null,null,null,null,null,null,"1LED328",null,"1LED328"]
[null,null,null,null,null,null,null,null,null,null,null,null,null,null,null,null,null,null,null,null,null,null,null,null,null,null,null,null,null,null,null,null,null,null,null,null,null,null,null,null,null,null,null,"1LED329",null,"1LED329"]
[null,null,null,null,null,null,null,null,null,null,null,null,null,null,null,null,null,null,null,null,null,null,null,null,null,null,null,null,null,null,null,null,null,null,null,null,null,null,null,null,null,null,null,"1LED330",null,"1LED330"]
[null,null,null,null,null,null,null,null,null,null,null,null,null,null,null,null,null,null,null,null,null,null,null,null,null,null,null,null,null,null,null,null,null,null,null,null,null,null,null,null,null,null,null,"1LED331",null,"1LED331"]
[null,null,null,null,null,null,null,null,null,null,null,null,null,null,null,null,null,null,null,null,null,null,null,null,null,null,null,null,null,null,null,null,null,null,null,null,null,null,null,null,null,null,null,"1LED332",null,"1LED332"]
[null,null,null,null,null,null,null,null,null,null,null,null,null,null,null,null,null,null,null,null,null,null,null,null,null,null,null,null,null,null,null,null,null,null,null,null,null,null,null,null,null,null,null,"1LED333",null,"1LED333"]
[null,null,null,null,null,null,null,null,null,null,null,null,null,null,null,null,null,null,null,null,null,null,null,null,null,null,null,null,null,null,null,null,null,null,null,null,null,null,null,null,null,null,null,"1LED334",null,"1LED334"]
[null,null,null,null,null,null,null,null,null,null,null,null,null,null,null,null,null,null,null,null,null,null,null,null,null,null,null,null,null,null,null,null,null,null,null,null,null,null,null,null,null,null,null,"1LED335",null,"1LED335"]
[null,null,null,null,null,null,null,null,null,null,null,null,null,null,null,null,null,null,null,null,null,null,null,null,null,null,null,null,null,null,null,null,null,null,null,null,null,null,null,null,null,null,null,"1LED336",null,"1LED336"]
[null,null,null,null,null,null,null,null,null,null,null,null,null,null,null,null,null,null,null,null,null,null,null,null,null,null,null,null,null,null,null,null,null,null,null,null,null,null,null,null,null,null,null,"1LED337",null,"1LED337"]
[null,null,null,null,null,null,null,null,null,null,null,null,null,null,null,null,null,null,null,null,null,null,null,null,null,null,null,null,null,null,null,null,null,null,null,null,null,null,null,null,null,null,null,"1LED338",null,"1LED338"]
[null,null,null,null,null,null,null,null,null,null,null,null,null,null,null,null,null,null,null,null,null,null,null,null,null,null,null,null,null,null,null,null,null,null,null,null,null,null,null,null,null,null,null,"1LED339",null,"1LED339"]
[null,null,null,null,null,null,null,null,null,null,null,null,null,null,null,null,null,null,null,null,null,null,null,null,null,null,null,null,null,null,null,null,null,null,null,null,null,null,null,null,null,null,null,"1LED340",null,"1LED340"]
[null,null,null,null,null,null,null,null,null,null,null,null,null,null,null,null,null,null,null,null,null,null,null,null,null,null,null,null,null,null,null,null,null,null,null,null,null,null,null,null,null,null,null,"1LED341",null,"1LED341"]
[null,null,null,null,null,null,null,null,null,null,null,null,null,null,null,null,null,null,null,null,null,null,null,null,null,null,null,null,null,null,null,null,null,null,null,null,null,null,null,null,null,null,null,"1LED342",null,"1LED342"]
[null,null,null,null,null,null,null,null,null,null,null,null,null,null,null,null,null,null,null,null,null,null,null,null,null,null,null,null,null,null,null,null,null,null,null,null,null,null,null,null,null,null,null,"1LED343",null,"1LED343"]
[null,null,null,null,null,null,null,null,null,null,null,null,null,null,null,null,null,null,null,null,null,null,null,null,null,null,null,null,null,null,null,null,null,null,null,null,null,null,null,null,null,null,null,"1LED344",null,"1LED344"]
[null,null,null,null,null,null,null,null,null,null,null,null,null,null,null,null,null,null,null,null,null,null,null,null,null,null,null,null,null,null,null,null,null,null,null,null,null,null,null,null,null,null,null,"1LED345",null,"1LED345"]
[null,null,null,null,null,null,null,null,null,null,null,null,null,null,null,null,null,null,null,null,null,null,null,null,null,null,null,null,null,null,null,null,null,null,null,null,null,null,null,null,null,null,null,"1LED346",null,"1LED346"]
[null,null,null,null,null,null,null,null,null,null,null,null,null,null,null,null,null,null,null,null,null,null,null,null,null,null,null,null,null,null,null,null,null,null,null,null,null,null,null,null,null,null,null,"1LED347",null,"1LED347"]
[null,null,null,null,null,null,null,null,null,null,null,null,null,null,null,null,null,null,null,null,null,null,null,null,null,null,null,null,null,null,null,null,null,null,null,null,null,null,null,null,null,null,null,"1LED348",null,"1LED348"]
[null,null,null,null,null,null,null,null,null,null,null,null,null,null,null,null,null,null,null,null,null,null,null,null,null,null,null,null,null,null,null,null,null,null,null,null,null,null,null,null,null,null,null,"1LED349",null,"1LED349"]
[null,null,null,null,null,null,null,null,null,null,null,null,null,null,null,null,null,null,null,null,null,null,null,null,null,null,null,null,null,null,null,null,null,null,null,null,null,null,null,null,null,null,null,"1LED350",null,"1LED350"]
[null,null,null,null,null,null,null,null,null,null,null,null,null,null,null,null,null,null,null,null,null,null,null,null,null,null,null,null,null,null,null,null,null,null,null,null,null,null,null,null,null,null,null,"1LED351",null,"1LED351"]
[null,null,null,null,null,null,null,null,null,null,null,null,null,null,null,null,null,null,null,null,null,null,null,null,null,null,null,null,null,null,null,null,null,null,null,null,null,null,null,null,null,null,null,"1LED352",null,"1LED352"]
[null,null,null,null,null,null,null,null,null,null,null,null,null,null,null,null,null,null,null,null,null,null,null,null,null,null,null,null,null,null,null,null,null,null,null,null,null,null,null,null,null,null,null,"1LED353",null,"1LED353"]
[null,null,null,null,null,null,null,null,null,null,null,null,null,null,null,null,null,null,null,null,null,null,null,null,null,null,null,null,null,null,null,null,null,null,null,null,null,null,null,null,null,null,null,"1LED354",null,"1LED354"]
[null,null,null,null,null,null,null,null,null,null,null,null,null,null,null,null,null,null,null,null,null,null,null,null,null,null,null,null,null,null,null,null,null,null,null,null,null,null,null,null,null,null,null,"1LED355",null,"1LED355"]
[null,null,null,null,null,null,null,null,null,null,null,null,null,null,null,null,null,null,null,null,null,null,null,null,null,null,null,null,null,null,null,null,null,null,null,null,null,null,null,null,null,null,null,"1LED356",null,"1LED356"]
[null,null,null,null,null,null,null,null,null,null,null,null,null,null,null,null,null,null,null,null,null,null,null,null,null,null,null,null,null,null,null,null,null,null,null,null,null,null,null,null,null,null,null,"1LED357",null,"1LED357"]
[null,null,null,null,null,null,null,null,null,null,null,null,null,null,null,null,null,null,null,null,null,null,null,null,null,null,null,null,null,null,null,null,null,null,null,null,null,null,null,null,null,null,null,"1LED358",null,"1LED358"]
[null,null,null,null,null,null,null,null,null,null,null,null,null,null,null,null,null,null,null,null,null,null,null,null,null,null,null,null,null,null,null,null,null,null,null,null,null,null,null,null,null,null,null,"1LED359",null,"1LED359"]
[null,null,null,null,null,null,null,null,null,null,null,null,null,null,null,null,null,null,null,null,null,null,null,null,null,null,null,null,null,null,null,null,null,null,null,null,null,null,null,null,null,null,null,"1LED360",null,"1LED360"]
[null,null,null,null,null,null,null,null,null,null,null,null,null,null,null,null,null,null,null,null,null,null,null,null,null,null,null,null,null,null,null,null,null,null,null,null,null,null,null,null,null,null,null,"1LED361",null,"1LED361"]
[null,null,null,null,null,null,null,null,null,null,null,null,null,null,null,null,null,null,null,null,null,null,null,null,null,null,null,null,null,null,null,null,null,null,null,null,null,null,null,null,null,null,null,"1LED362",null,"1LED362"]
[null,null,null,null,null,null,null,null,null,null,null,null,null,null,null,null,null,null,null,null,null,null,null,null,null,null,null,null,null,null,null,null,null,null,null,null,null,null,null,null,null,null,null,"1LED363",null,"1LED363"]
[null,null,null,null,null,null,null,null,null,null,null,null,null,null,null,null,null,null,null,null,null,null,null,null,null,null,null,null,null,null,null,null,null,null,null,null,null,null,null,null,null,null,null,"1LED364",null,"1LED364"]
[null,null,null,null,null,null,null,null,null,null,null,null,null,null,null,null,null,null,null,null,null,null,null,null,null,null,null,null,null,null,null,null,null,null,null,null,null,null,null,null,null,null,null,"1LED365",null,"1LED365"]
[null,null,null,null,null,null,null,null,null,null,null,null,null,null,null,null,null,null,null,null,null,null,null,null,null,null,null,null,null,null,null,null,null,null,null,null,null,null,null,null,null,null,null,"1LED366",null,"1LED366"]
[null,null,null,null,null,null,null,null,null,null,null,null,null,null,null,null,null,null,null,null,null,null,null,null,null,null,null,null,null,null,null,null,null,null,null,null,null,null,null,null,null,null,null,"1LED367",null,"1LED367"]
[null,null,null,null,null,null,null,null,null,null,null,null,null,null,null,null,null,null,null,null,null,null,null,null,null,null,null,null,null,null,null,null,null,null,null,null,null,null,null,null,null,null,null,"1LED368",null,"1LED368"]
[null,null,null,null,null,null,null,null,null,null,null,null,null,null,null,null,null,null,null,null,null,null,null,null,null,null,null,null,null,null,null,null,null,null,null,null,null,null,null,null,null,null,null,"1LED369",null,"1LED369"]
[null,null,null,null,null,null,null,null,null,null,null,null,null,null,null,null,null,null,null,null,null,null,null,null,null,null,null,null,null,null,null,null,null,null,null,null,null,null,null,null,null,null,null,"1LED370",null,"1LED370"]
[null,null,null,null,null,null,null,null,null,null,null,null,null,null,null,null,null,null,null,null,null,null,null,null,null,null,null,null,null,null,null,null,null,null,null,null,null,null,null,null,null,null,null,"1LED371",null,"1LED371"]
[null,null,null,null,null,null,null,null,null,null,null,null,null,null,null,null,null,null,null,null,null,null,null,null,null,null,null,null,null,null,null,null,null,null,null,null,null,null,null,null,null,null,null,"1LED372",null,"1LED372"]
[null,null,null,null,null,null,null,null,null,null,null,null,null,null,null,null,null,null,null,null,null,null,null,null,null,null,null,null,null,null,null,null,null,null,null,null,null,null,null,null,null,null,null,"1LED373",null,"1LED373"]
[null,null,null,null,null,null,null,null,null,null,null,null,null,null,null,null,null,null,null,null,null,null,null,null,null,null,null,null,null,null,null,null,null,null,null,null,null,null,null,null,null,null,null,"1LED374",null,"1LED374"]
[null,null,null,null,null,null,null,null,null,null,null,null,null,null,null,null,null,null,null,null,null,null,null,null,null,null,null,null,null,null,null,null,null,null,null,null,null,null,null,null,null,null,null,"1LED375",null,"1LED375"]
[null,null,null,null,null,null,null,null,null,null,null,null,null,null,null,null,null,null,null,null,null,null,null,null,null,null,null,null,null,null,null,null,null,null,null,null,null,null,null,null,null,null,null,"1LED376",null,"1LED376"]
[null,null,null,null,null,null,null,null,null,null,null,null,null,null,null,null,null,null,null,null,null,null,null,null,null,null,null,null,null,null,null,null,null,null,null,null,null,null,null,null,null,null,null,"1LED377",null,"1LED377"]
[null,null,null,null,null,null,null,null,null,null,null,null,null,null,null,null,null,null,null,null,null,null,null,null,null,null,null,null,null,null,null,null,null,null,null,null,null,null,null,null,null,null,null,"1LED378",null,"1LED378"]
[null,null,null,null,null,null,null,null,null,null,null,null,null,null,null,null,null,null,null,null,null,null,null,null,null,null,null,null,null,null,null,null,null,null,null,null,null,null,null,null,null,null,null,"1LED379",null,"1LED379"]
[null,null,null,null,null,null,null,null,null,null,null,null,null,null,null,null,null,null,null,null,null,null,null,null,null,null,null,null,null,null,null,null,null,null,null,null,null,null,null,null,null,null,null,"1LED380",null,"1LED380"]
[null,null,null,null,null,null,null,null,null,null,null,null,null,null,null,null,null,null,null,null,null,null,null,null,null,null,null,null,null,null,null,null,null,null,null,null,null,null,null,null,null,null,null,"1LED381",null,"1LED381"]
[null,null,null,null,null,null,null,null,null,null,null,null,null,null,null,null,null,null,null,null,null,null,null,null,null,null,null,null,null,null,null,null,null,null,null,null,null,null,null,null,null,null,null,"1LED382",null,"1LED382"]
[null,null,null,null,null,null,null,null,null,null,null,null,null,null,null,null,null,null,null,null,null,null,null,null,null,null,null,null,null,null,null,null,null,null,null,null,null,null,null,null,null,null,null,"1LED383",null,"1LED383"]
[null,null,null,null,null,null,null,null,null,null,null,null,null,null,null,null,null,null,null,null,null,null,null,null,null,null,null,null,null,null,null,null,null,null,null,null,null,null,null,null,null,null,null,"1LED384",null,"1LED384"]
[null,null,null,null,null,null,null,null,null,null,null,null,null,null,null,null,null,null,null,null,null,null,null,null,null,null,null,null,null,null,null,null,null,null,null,null,null,null,null,null,null,null,null,"1LED385",null,"1LED385"]
[null,null,null,null,null,null,null,null,null,null,null,null,null,null,null,null,null,null,null,null,null,null,null,null,null,null,null,null,null,null,null,null,null,null,null,null,null,null,null,null,null,null,null,"1LED386",null,"1LED386"]
[null,null,null,null,null,null,null,null,null,null,null,null,null,null,null,null,null,null,null,null,null,null,null,null,null,null,null,null,null,null,null,null,null,null,null,null,null,null,null,null,null,null,null,"1LED387",null,"1LED387"]
[null,null,null,null,null,null,null,null,null,null,null,null,null,null,null,null,null,null,null,null,null,null,null,null,null,null,null,null,null,null,null,null,null,null,null,null,null,null,null,null,null,null,null,"1LED388",null,"1LED388"]
[null,null,null,null,null,null,null,null,null,null,null,null,null,null,null,null,null,null,null,null,null,null,null,null,null,null,null,null,null,null,null,null,null,null,null,null,null,null,null,null,null,null,null,"1LED389",null,"1LED389"]
[null,null,null,null,null,null,null,null,null,null,null,null,null,null,null,null,null,null,null,null,null,null,null,null,null,null,null,null,null,null,null,null,null,null,null,null,null,null,null,null,null,null,null,"1LED390",null,"1LED390"]
[null,null,null,null,null,null,null,null,null,null,null,null,null,null,null,null,null,null,null,null,null,null,null,null,null,null,null,null,null,null,null,null,null,null,null,null,null,null,null,null,null,null,null,"1LED391",null,"1LED391"]
[null,null,null,null,null,null,null,null,null,null,null,null,null,null,null,null,null,null,null,null,null,null,null,null,null,null,null,null,null,null,null,null,null,null,null,null,null,null,null,null,null,null,null,"1LED392",null,"1LED392"]
[null,null,null,null,null,null,null,null,null,null,null,null,null,null,null,null,null,null,null,null,null,null,null,null,null,null,null,null,null,null,null,null,null,null,null,null,null,null,null,null,null,null,null,"1LED393",null,"1LED393"]
[null,null,null,null,null,null,null,null,null,null,null,null,null,null,null,null,null,null,null,null,null,null,null,null,null,null,null,null,null,null,null,null,null,null,null,null,null,null,null,null,null,null,null,"1LED394",null,"1LED394"]
[null,null,null,null,null,null,null,null,null,null,null,null,null,null,null,null,null,null,null,null,null,null,null,null,null,null,null,null,null,null,null,null,null,null,null,null,null,null,null,null,null,null,null,"1LED395",null,"1LED395"]
[null,null,null,null,null,null,null,null,null,null,null,null,null,null,null,null,null,null,null,null,null,null,null,null,null,null,null,null,null,null,null,null,null,null,null,null,null,null,null,null,null,null,null,"1LED396",null,"1LED396"]
[null,null,null,null,null,null,null,null,null,null,null,null,null,null,null,null,null,null,null,null,null,null,null,null,null,null,null,null,null,null,null,null,null,null,null,null,null,null,null,null,null,null,null,"1LED397",null,"1LED397"]
[null,null,null,null,null,null,null,null,null,null,null,null,null,null,null,null,null,null,null,null,null,null,null,null,null,null,null,null,null,null,null,null,null,null,null,null,null,null,null,null,null,null,null,"1LED398",null,"1LED398"]
[null,null,null,null,null,null,null,null,null,null,null,null,null,null,null,null,null,null,null,null,null,null,null,null,null,null,null,null,null,null,null,null,null,null,null,null,null,null,null,null,null,null,null,"1LED399",null,"1LED399"]
[null,null,null,null,null,null,null,null,null,null,null,null,null,null,null,null,null,null,null,null,null,null,null,null,null,null,null,null,null,null,null,null,null,null,null,null,null,null,null,null,null,null,null,"1LED400",null,"1LED400"]
[null,null,null,null,null,null,null,null,null,null,null,null,null,null,null,null,null,null,null,null,null,null,null,null,null,null,null,null,null,null,null,null,null,null,null,null,null,null,null,null,null,null,null,"1LED401",null,"1LED401"]
[null,null,null,null,null,null,null,null,null,null,null,null,null,null,null,null,null,null,null,null,null,null,null,null,null,null,null,null,null,null,null,null,null,null,null,null,null,null,null,null,null,null,null,"1LED402",null,"1LED402"]
[null,null,null,null,null,null,null,null,null,null,null,null,null,null,null,null,null,null,null,null,null,null,null,null,null,null,null,null,null,null,null,null,null,null,null,null,null,null,null,null,null,null,null,"1LED403",null,"1LED403"]
[null,null,null,null,null,null,null,null,null,null,null,null,null,null,null,null,null,null,null,null,null,null,null,null,null,null,null,null,null,null,null,null,null,null,null,null,null,null,null,null,null,null,null,"1LED404",null,"1LED404"]
[null,null,null,null,null,null,null,null,null,null,null,null,null,null,null,null,null,null,null,null,null,null,null,null,null,null,null,null,null,null,null,null,null,null,null,null,null,null,null,null,null,null,null,"1LED405",null,"1LED405"]
[null,null,null,null,null,null,null,null,null,null,null,null,null,null,null,null,null,null,null,null,null,null,null,null,null,null,null,null,null,null,null,null,null,null,null,null,null,null,null,null,null,null,null,"1LED406",null,"1LED406"]
[null,null,null,null,null,null,null,null,null,null,null,null,null,null,null,null,null,null,null,null,null,null,null,null,null,null,null,null,null,null,null,null,null,null,null,null,null,null,null,null,null,null,null,"1LED407",null,"1LED407"]
[null,null,null,null,null,null,null,null,null,null,null,null,null,null,null,null,null,null,null,null,null,null,null,null,null,null,null,null,null,null,null,null,null,null,null,null,null,null,null,null,null,null,null,"1LED408",null,"1LED408"]
[null,null,null,null,null,null,null,null,null,null,null,null,null,null,null,null,null,null,null,null,null,null,null,null,null,null,null,null,null,null,null,null,null,null,null,null,null,null,null,null,null,null,null,"1LED409",null,"1LED409"]
[null,null,null,null,null,null,null,null,null,null,null,null,null,null,null,null,null,null,null,null,null,null,null,null,null,null,null,null,null,null,null,null,null,null,null,null,null,null,null,null,null,null,null,"1LED410",null,"1LED410"]
[null,null,null,null,null,null,null,null,null,null,null,null,null,null,null,null,null,null,null,null,null,null,null,null,null,null,null,null,null,null,null,null,null,null,null,null,null,null,null,null,null,null,null,"1LED411",null,"1LED411"]
[null,null,null,null,null,null,null,null,null,null,null,null,null,null,null,null,null,null,null,null,null,null,null,null,null,null,null,null,null,null,null,null,null,null,null,null,null,null,null,null,null,null,null,"1LED412",null,"1LED412"]
[null,null,null,null,null,null,null,null,null,null,null,null,null,null,null,null,null,null,null,null,null,null,null,null,null,null,null,null,null,null,null,null,null,null,null,null,null,null,null,null,null,null,null,"1LED413",null,"1LED413"]
[null,null,null,null,null,null,null,null,null,null,null,null,null,null,null,null,null,null,null,null,null,null,null,null,null,null,null,null,null,null,null,null,null,null,null,null,null,null,null,null,null,null,null,"1LED414",null,"1LED414"]
[null,null,null,null,null,null,null,null,null,null,null,null,null,null,null,null,null,null,null,null,null,null,null,null,null,null,null,null,null,null,null,null,null,null,null,null,null,null,null,null,null,null,null,"1LED415",null,"1LED415"]
[null,null,null,null,null,null,null,null,null,null,null,null,null,null,null,null,null,null,null,null,null,null,null,null,null,null,null,null,null,null,null,null,null,null,null,null,null,null,null,null,null,null,null,"1LED416",null,"1LED416"]
[null,null,null,null,null,null,null,null,null,null,null,null,null,null,null,null,null,null,null,null,null,null,null,null,null,null,null,null,null,null,null,null,null,null,null,null,null,null,null,null,null,null,null,"1LED417",null,"1LED417"]
[null,null,null,null,null,null,null,null,null,null,null,null,null,null,null,null,null,null,null,null,null,null,null,null,null,null,null,null,null,null,null,null,null,null,null,null,null,null,null,null,null,null,null,"1LED418",null,"1LED418"]
[null,null,null,null,null,null,null,null,null,null,null,null,null,null,null,null,null,null,null,null,null,null,null,null,null,null,null,null,null,null,null,null,null,null,null,null,null,null,null,null,null,null,null,"1LED419",null,"1LED419"]
[null,null,null,null,null,null,null,null,null,null,null,null,null,null,null,null,null,null,null,null,null,null,null,null,null,null,null,null,null,null,null,null,null,null,null,null,null,null,null,null,null,null,null,"1LED420",null,"1LED420"]
[null,null,null,null,null,null,null,null,null,null,null,null,null,null,null,null,null,null,null,null,null,null,null,null,null,null,null,null,null,null,null,null,null,null,null,null,null,null,null,null,null,null,null,"1LED421",null,"1LED421"]
[null,null,null,null,null,null,null,null,null,null,null,null,null,null,null,null,null,null,null,null,null,null,null,null,null,null,null,null,null,null,null,null,null,null,null,null,null,null,null,null,null,null,null,"1LED422",null,"1LED422"]
[null,null,null,null,null,null,null,null,null,null,null,null,null,null,null,null,null,null,null,null,null,null,null,null,null,null,null,null,null,null,null,null,null,null,null,null,null,null,null,null,null,null,null,"1LED423",null,"1LED423"]
[null,null,null,null,null,null,null,null,null,null,null,null,null,null,null,null,null,null,null,null,null,null,null,null,null,null,null,null,null,null,null,null,null,null,null,null,null,null,null,null,null,null,null,"1LED424",null,"1LED424"]
[null,null,null,null,null,null,null,null,null,null,null,null,null,null,null,null,null,null,null,null,null,null,null,null,null,null,null,null,null,null,null,null,null,null,null,null,null,null,null,null,null,null,null,"1LED425",null,"1LED425"]
[null,null,null,null,null,null,null,null,null,null,null,null,null,null,null,null,null,null,null,null,null,null,null,null,null,null,null,null,null,null,null,null,null,null,null,null,null,null,null,null,null,null,null,"1LED426",null,"1LED426"]
[null,null,null,null,null,null,null,null,null,null,null,null,null,null,null,null,null,null,null,null,null,null,null,null,null,null,null,null,null,null,null,null,null,null,null,null,null,null,null,null,null,null,null,"1LED427",null,"1LED427"]
[null,null,null,null,null,null,null,null,null,null,null,null,null,null,null,null,null,null,null,null,null,null,null,null,null,null,null,null,null,null,null,null,null,null,null,null,null,null,null,null,null,null,null,"1LED428",null,"1LED428"]
[null,null,null,null,null,null,null,null,null,null,null,null,null,null,null,null,null,null,null,null,null,null,null,null,null,null,null,null,null,null,null,null,null,null,null,null,null,null,null,null,null,null,null,"1LED429",null,"1LED429"]
[null,null,null,null,null,null,null,null,null,null,null,null,null,null,null,null,null,null,null,null,null,null,null,null,null,null,null,null,null,null,null,null,null,null,null,null,null,null,null,null,null,null,null,"1LED430",null,"1LED430"]
[null,null,null,null,null,null,null,null,null,null,null,null,null,null,null,null,null,null,null,null,null,null,null,null,null,null,null,null,null,null,null,null,null,null,null,null,null,null,null,null,null,null,null,"1LED431",null,"1LED431"]
[null,null,null,null,null,null,null,null,null,null,null,null,null,null,null,null,null,null,null,null,null,null,null,null,null,null,null,null,null,null,null,null,null,null,null,null,null,null,null,null,null,null,null,"1LED432",null,"1LED432"]
[null,null,null,null,null,null,null,null,null,null,null,null,null,null,null,null,null,null,null,null,null,null,null,null,null,null,null,null,null,null,null,null,null,null,null,null,null,null,null,null,null,null,null,"1LED433",null,"1LED433"]
[null,null,null,null,null,null,null,null,null,null,null,null,null,null,null,null,null,null,null,null,null,null,null,null,null,null,null,null,null,null,null,null,null,null,null,null,null,null,null,null,null,null,null,"1LED434",null,"1LED434"]
[null,null,null,null,null,null,null,null,null,null,null,null,null,null,null,null,null,null,null,null,null,null,null,null,null,null,null,null,null,null,null,null,null,null,null,null,null,null,null,null,null,null,null,"1LED435",null,"1LED435"]
[null,null,null,null,null,null,null,null,null,null,null,null,null,null,null,null,null,null,null,null,null,null,null,null,null,null,null,null,null,null,null,null,null,null,null,null,null,null,null,null,null,null,null,"1LED436",null,"1LED436"]
[null,null,null,null,null,null,null,null,null,null,null,null,null,null,null,null,null,null,null,null,null,null,null,null,null,null,null,null,null,null,null,null,null,null,null,null,null,null,null,null,null,null,null,"1LED437",null,"1LED437"]
[null,null,null,null,null,null,null,null,null,null,null,null,null,null,null,null,null,null,null,null,null,null,null,null,null,null,null,null,null,null,null,null,null,null,null,null,null,null,null,null,null,null,null,"1LED438",null,"1LED438"]
[null,null,null,null,null,null,null,null,null,null,null,null,null,null,null,null,null,null,null,null,null,null,null,null,null,null,null,null,null,null,null,null,null,null,null,null,null,null,null,null,null,null,null,"1LED439",null,"1LED439"]
[null,null,null,null,null,null,null,null,null,null,null,null,null,null,null,null,null,null,null,null,null,null,null,null,null,null,null,null,null,null,null,null,null,null,null,null,null,null,null,null,null,null,null,"1LED440",null,"1LED440"]
[null,null,null,null,null,null,null,null,null,null,null,null,null,null,null,null,null,null,null,null,null,null,null,null,null,null,null,null,null,null,null,null,null,null,null,null,null,null,null,null,null,null,null,"1LED441",null,"1LED441"]
[null,null,null,null,null,null,null,null,null,null,null,null,null,null,null,null,null,null,null,null,null,null,null,null,null,null,null,null,null,null,null,null,null,null,null,null,null,null,null,null,null,null,null,"1LED442",null,"1LED442"]
[null,null,null,null,null,null,null,null,null,null,null,null,null,null,null,null,null,null,null,null,null,null,null,null,null,null,null,null,null,null,null,null,null,null,null,null,null,null,null,null,null,null,null,"1LED443",null,"1LED443"]
[null,null,null,null,null,null,null,null,null,null,null,null,null,null,null,null,null,null,null,null,null,null,null,null,null,null,null,null,null,null,null,null,null,null,null,null,null,null,null,null,null,null,null,"1LED444",null,"1LED444"]
[null,null,null,null,null,null,null,null,null,null,null,null,null,null,null,null,null,null,null,null,null,null,null,null,null,null,null,null,null,null,null,null,null,null,null,null,null,null,null,null,null,null,null,"1LED445",null,"1LED445"]
[null,null,null,null,null,null,null,null,null,null,null,null,null,null,null,null,null,null,null,null,null,null,null,null,null,null,null,null,null,null,null,null,null,null,null,null,null,null,null,null,null,null,null,"1LED446",null,"1LED446"]
[null,null,null,null,null,null,null,null,null,null,null,null,null,null,null,null,null,null,null,null,null,null,null,null,null,null,null,null,null,null,null,null,null,null,null,null,null,null,null,null,null,null,null,"1LED447",null,"1LED447"]
[null,null,null,null,null,null,null,null,null,null,null,null,null,null,null,null,null,null,null,null,null,null,null,null,null,null,null,null,null,null,null,null,null,null,null,null,null,null,null,null,null,null,null,"1LED448",null,"1LED448"]
[null,null,null,null,null,null,null,null,null,null,null,null,null,null,null,null,null,null,null,null,null,null,null,null,null,null,null,null,null,null,null,null,null,null,null,null,null,null,null,null,null,null,null,"1LED449",null,"1LED449"]
[null,null,null,null,null,null,null,null,null,null,null,null,null,null,null,null,null,null,null,null,null,null,null,null,null,null,null,null,null,null,null,null,null,null,null,null,null,null,null,null,null,null,null,"1LED450",null,"1LED450"]
[null,null,null,null,null,null,null,null,null,null,null,null,null,null,null,null,null,null,null,null,null,null,null,null,null,null,null,null,null,null,null,null,null,null,null,null,null,null,null,null,null,null,null,"1LED451",null,"1LED451"]
[null,null,null,null,null,null,null,null,null,null,null,null,null,null,null,null,null,null,null,null,null,null,null,null,null,null,null,null,null,null,null,null,null,null,null,null,null,null,null,null,null,null,null,"1LED452",null,"1LED452"]
[null,null,null,null,null,null,null,null,null,null,null,null,null,null,null,null,null,null,null,null,null,null,null,null,null,null,null,null,null,null,null,null,null,null,null,null,null,null,null,null,null,null,null,"1LED453",null,"1LED453"]
[null,null,null,null,null,null,null,null,null,null,null,null,null,null,null,null,null,null,null,null,null,null,null,null,null,null,null,null,null,null,null,null,null,null,null,null,null,null,null,null,null,null,null,"1LED454",null,"1LED454"]
[null,null,null,null,null,null,null,null,null,null,null,null,null,null,null,null,null,null,null,null,null,null,null,null,null,null,null,null,null,null,null,null,null,null,null,null,null,null,null,null,null,null,null,"1LED455",null,"1LED455"]
[null,null,null,null,null,null,null,null,null,null,null,null,null,null,null,null,null,null,null,null,null,null,null,null,null,null,null,null,null,null,null,null,null,null,null,null,null,null,null,null,null,null,null,"1LED456",null,"1LED456"]
[null,null,null,null,null,null,null,null,null,null,null,null,null,null,null,null,null,null,null,null,null,null,null,null,null,null,null,null,null,null,null,null,null,null,null,null,null,null,null,null,null,null,null,"1LED457",null,"1LED457"]
[null,null,null,null,null,null,null,null,null,null,null,null,null,null,null,null,null,null,null,null,null,null,null,null,null,null,null,null,null,null,null,null,null,null,null,null,null,null,null,null,null,null,null,"1LED458",null,"1LED458"]
[null,null,null,null,null,null,null,null,null,null,null,null,null,null,null,null,null,null,null,null,null,null,null,null,null,null,null,null,null,null,null,null,null,null,null,null,null,null,null,null,null,null,null,"1LED459",null,"1LED459"]
[null,null,null,null,null,null,null,null,null,null,null,null,null,null,null,null,null,null,null,null,null,null,null,null,null,null,null,null,null,null,null,null,null,null,null,null,null,null,null,null,null,null,null,"1LED460",null,"1LED460"]
[null,null,null,null,null,null,null,null,null,null,null,null,null,null,null,null,null,null,null,null,null,null,null,null,null,null,null,null,null,null,null,null,null,null,null,null,null,null,null,null,null,null,null,"1LED461",null,"1LED461"]
[null,null,null,null,null,null,null,null,null,null,null,null,null,null,null,null,null,null,null,null,null,null,null,null,null,null,null,null,null,null,null,null,null,null,null,null,null,null,null,null,null,null,null,"1LED462",null,"1LED462"]
[null,null,null,null,null,null,null,null,null,null,null,null,null,null,null,null,null,null,null,null,null,null,null,null,null,null,null,null,null,null,null,null,null,null,null,null,null,null,null,null,null,null,null,"1LED463",null,"1LED463"]
[null,null,null,null,null,null,null,null,null,null,null,null,null,null,null,null,null,null,null,null,null,null,null,null,null,null,null,null,null,null,null,null,null,null,null,null,null,null,null,null,null,null,null,"1LED464",null,"1LED464"]
[null,null,null,null,null,null,null,null,null,null,null,null,null,null,null,null,null,null,null,null,null,null,null,null,null,null,null,null,null,null,null,null,null,null,null,null,null,null,null,null,null,null,null,"1LED465",null,"1LED465"]
[null,null,null,null,null,null,null,null,null,null,null,null,null,null,null,null,null,null,null,null,null,null,null,null,null,null,null,null,null,null,null,null,null,null,null,null,null,null,null,null,null,null,null,"1LED466",null,"1LED466"]
[null,null,null,null,null,null,null,null,null,null,null,null,null,null,null,null,null,null,null,null,null,null,null,null,null,null,null,null,null,null,null,null,null,null,null,null,null,null,null,null,null,null,null,"1LED467",null,"1LED467"]
[null,null,null,null,null,null,null,null,null,null,null,null,null,null,null,null,null,null,null,null,null,null,null,null,null,null,null,null,null,null,null,null,null,null,null,null,null,null,null,null,null,null,null,"1LED468",null,"1LED468"]
[null,null,null,null,null,null,null,null,null,null,null,null,null,null,null,null,null,null,null,null,null,null,null,null,null,null,null,null,null,null,null,null,null,null,null,null,null,null,null,null,null,null,null,"1LED469",null,"1LED469"]
[null,null,null,null,null,null,null,null,null,null,null,null,null,null,null,null,null,null,null,null,null,null,null,null,null,null,null,null,null,null,null,null,null,null,null,null,null,null,null,null,null,null,null,"1LED470",null,"1LED470"]
[null,null,null,null,null,null,null,null,null,null,null,null,null,null,null,null,null,null,null,null,null,null,null,null,null,null,null,null,null,null,null,null,null,null,null,null,null,null,null,null,null,null,null,"1LED471",null,"1LED471"]
[null,null,null,null,null,null,null,null,null,null,null,null,null,null,null,null,null,null,null,null,null,null,null,null,null,null,null,null,null,null,null,null,null,null,null,null,null,null,null,null,null,null,null,"1LED472",null,"1LED472"]
[null,null,null,null,null,null,null,null,null,null,null,null,null,null,null,null,null,null,null,null,null,null,null,null,null,null,null,null,null,null,null,null,null,null,null,null,null,null,null,null,null,null,null,"1LED473",null,"1LED473"]
[null,null,null,null,null,null,null,null,null,null,null,null,null,null,null,null,null,null,null,null,null,null,null,null,null,null,null,null,null,null,null,null,null,null,null,null,null,null,null,null,null,null,null,"1LED474",null,"1LED474"]
[null,null,null,null,null,null,null,null,null,null,null,null,null,null,null,null,null,null,null,null,null,null,null,null,null,null,null,null,null,null,null,null,null,null,null,null,null,null,null,null,null,null,null,"1LED475",null,"1LED475"]
[null,null,null,null,null,null,null,null,null,null,null,null,null,null,null,null,null,null,null,null,null,null,null,null,null,null,null,null,null,null,null,null,null,null,null,null,null,null,null,null,null,null,null,"1LED476",null,"1LED476"]
[null,null,null,null,null,null,null,null,null,null,null,null,null,null,null,null,null,null,null,null,null,null,null,null,null,null,null,null,null,null,null,null,null,null,null,null,null,null,null,null,null,null,null,"1LED477",null,"1LED477"]
[null,null,null,null,null,null,null,null,null,null,null,null,null,null,null,null,null,null,null,null,null,null,null,null,null,null,null,null,null,null,null,null,null,null,null,null,null,null,null,null,null,null,null,"1LED478",null,"1LED478"]
[null,null,null,null,null,null,null,null,null,null,null,null,null,null,null,null,null,null,null,null,null,null,null,null,null,null,null,null,null,null,null,null,null,null,null,null,null,null,null,null,null,null,null,"1LED479",null,"1LED479"]
[null,null,null,null,null,null,null,null,null,null,null,null,null,null,null,null,null,null,null,null,null,null,null,null,null,null,null,null,null,null,null,null,null,null,null,null,null,null,null,null,null,null,null,"1LED480",null,"1LED480"]
[null,null,null,null,null,null,null,null,null,null,null,null,null,null,null,null,null,null,null,null,null,null,null,null,null,null,null,null,null,null,null,null,null,null,null,null,null,null,null,null,null,null,null,"1LED481",null,"1LED481"]
[null,null,null,null,null,null,null,null,null,null,null,null,null,null,null,null,null,null,null,null,null,null,null,null,null,null,null,null,null,null,null,null,null,null,null,null,null,null,null,null,null,null,null,"1LED482",null,"1LED482"]
[null,null,null,null,null,null,null,null,null,null,null,null,null,null,null,null,null,null,null,null,null,null,null,null,null,null,null,null,null,null,null,null,null,null,null,null,null,null,null,null,null,null,null,"1LED483",null,"1LED483"]
[null,null,null,null,null,null,null,null,null,null,null,null,null,null,null,null,null,null,null,null,null,null,null,null,null,null,null,null,null,null,null,null,null,null,null,null,null,null,null,null,null,null,null,"1LED484",null,"1LED484"]
[null,null,null,null,null,null,null,null,null,null,null,null,null,null,null,null,null,null,null,null,null,null,null,null,null,null,null,null,null,null,null,null,null,null,null,null,null,null,null,null,null,null,null,"1LED485",null,"1LED485"]
[null,null,null,null,null,null,null,null,null,null,null,null,null,null,null,null,null,null,null,null,null,null,null,null,null,null,null,null,null,null,null,null,null,null,null,null,null,null,null,null,null,null,null,"1LED486",null,"1LED486"]
[null,null,null,null,null,null,null,null,null,null,null,null,null,null,null,null,null,null,null,null,null,null,null,null,null,null,null,null,null,null,null,null,null,null,null,null,null,null,null,null,null,null,null,"1LED487",null,"1LED487"]
[null,null,null,null,null,null,null,null,null,null,null,null,null,null,null,null,null,null,null,null,null,null,null,null,null,null,null,null,null,null,null,null,null,null,null,null,null,null,null,null,null,null,null,"1LED488",null,"1LED488"]
[null,null,null,null,null,null,null,null,null,null,null,null,null,null,null,null,null,null,null,null,null,null,null,null,null,null,null,null,null,null,null,null,null,null,null,null,null,null,null,null,null,null,null,"1LED489",null,"1LED489"]
[null,null,null,null,null,null,null,null,null,null,null,null,null,null,null,null,null,null,null,null,null,null,null,null,null,null,null,null,null,null,null,null,null,null,null,null,null,null,null,null,null,null,null,"1LED490",null,"1LED490"]
[null,null,null,null,null,null,null,null,null,null,null,null,null,null,null,null,null,null,null,null,null,null,null,null,null,null,null,null,null,null,null,null,null,null,null,null,null,null,null,null,null,null,null,"1LED491",null,"1LED491"]
[null,null,null,null,null,null,null,null,null,null,null,null,null,null,null,null,null,null,null,null,null,null,null,null,null,null,null,null,null,null,null,null,null,null,null,null,null,null,null,null,null,null,null,"1LED492",null,"1LED492"]
[null,null,null,null,null,null,null,null,null,null,null,null,null,null,null,null,null,null,null,null,null,null,null,null,null,null,null,null,null,null,null,null,null,null,null,null,null,null,null,null,null,null,null,"1LED493",null,"1LED493"]
[null,null,null,null,null,null,null,null,null,null,null,null,null,null,null,null,null,null,null,null,null,null,null,null,null,null,null,null,null,null,null,null,null,null,null,null,null,null,null,null,null,null,null,"1LED494",null,"1LED494"]
[null,null,null,null,null,null,null,null,null,null,null,null,null,null,null,null,null,null,null,null,null,null,null,null,null,null,null,null,null,null,null,null,null,null,null,null,null,null,null,null,null,null,null,"1LED495",null,"1LED495"]
[null,null,null,null,null,null,null,null,null,null,null,null,null,null,null,null,null,null,null,null,null,null,null,null,null,null,null,null,null,null,null,null,null,null,null,null,null,null,null,null,null,null,null,"1LED496",null,"1LED496"]
[null,null,null,null,null,null,null,null,null,null,null,null,null,null,null,null,null,null,null,null,null,null,null,null,null,null,null,null,null,null,null,null,null,null,null,null,null,null,null,null,null,null,null,"1LED497",null,"1LED497"]
[null,null,null,null,null,null,null,null,null,null,null,null,null,null,null,null,null,null,null,null,null,null,null,null,null,null,null,null,null,null,null,null,null,null,null,null,null,null,null,null,null,null,null,"1LED498",null,"1LED498"]
[null,null,null,null,null,null,null,null,null,null,null,null,null,null,null,null,null,null,null,null,null,null,null,null,null,null,null,null,null,null,null,null,null,null,null,null,null,null,null,null,null,null,null,"1LED499",null,"1LED499"]
[null,null,null,null,null,null,null,null,null,null,null,null,null,null,null,null,null,null,null,null,null,null,null,null,null,null,null,null,null,null,null,null,null,null,null,null,null,null,null,null,null,null,null,"1LED500",null,"1LED500"]

{"sheet":"Full Wattage Table","index":15,"n_rows":509,"n_cols":8,"rows_kept":509,"cut":false,"hidden":true,"merged":[[0,1,0,4],[2,1,2,3]]}
[null,"Lighting System Rated Wattage Table"]
[]
[null,"Device Description Abbreviations"]
[null," BX  "," Biax/Twin Tube Lamp  "]
[null," HW  "," Hard Wire Fixture  "]
[null," EEMAG  "," Energy-Efficient Magnetic  "]
[null," EE  "," Energy-Efficient Lamp  "]
[null," ELIG  "," Electronic Ballast  "]
[null," HBF"," High Ballast Factor"]
[null," HPF  "," High Power Factor  "]
[null," HO  "," High Output Lamp  "]
[null," LBF"," Low Ballast Factor"]
[null," STD  "," Standard Ballast or Lamp  "]
[null," VHO  "," Very High Output Lamp  "]
[]
[null,"System Category","Device Code","Device Description","Rated\nWatts","Lookup for Baseline based on Device Type","Fluorescent Length","Baseline Fixtures"]
[null,"Compact Fluorescents","1C0005S"," 5W COMPACT HW  ",7,"Compact Fluorescents",null,"1I0020"]
[null,"Compact Fluorescents","1C0007S"," 7W COMPACT HW  ",9,"Compact Fluorescents",null,"1I0025"]
[null,"Compact Fluorescents","1C0009S"," 9W COMPACT HW  ",11,"Compact Fluorescents",null,"1I0040"]
[null,"Compact Fluorescents","1C0011S"," 11W COMPACT HW  ",13,"Compact Fluorescents",null,"1I0040"]
[null,"Compact Fluorescents","1C0013S"," 13W COMPACT HW  ",15,"Compact Fluorescents",null,"1I0060"]
[null,"Compact Fluorescents","1C0018E"," 18W COMPACT HW ELIG  ",20,"Compact Fluorescents",null,"1I0075"]
[null,"Compact Fluorescents","1C0018S"," 18W COMPACT HW  ",20,"Compact Fluorescents",null,"1I0075"]
[null,"Compact Fluorescents","1C0022S"," 22W COMPACT HW  ",24,"Compact Fluorescents",null,"1I0075"]
[null,"Compact Fluorescents","1C0023E"," 1/23W COMPACT HW ELIG  ",25,"Compact Fluorescents",null,"1I0075"]
[null,"Compact Fluorescents","1C0026E"," 26W COMPACT HW ELIG  ",28,"Compact Fluorescents",null,"1I0100"]
[null,"Compact Fluorescents","1C0026S"," 26W COMPACT HW  ",28,"Compact Fluorescents",null,"1I0100"]
[null,"Compact Fluorescents","1C0028S"," 28W COMPACT HW  ",30,"Compact Fluorescents",null,"1I0100"]
[null,"Compact Fluorescents","1C0032S"," 32W CIRCLINE HW  ",34,"Compact Fluorescents",null,"1I0100"]
[null,"Compact Fluorescents","1C0042E"," 1/42W COMPACT HW ELIG",48,"Compact Fluorescents",null,"1I0125"]
[null,"Compact Fluorescents","1C0044S","44W CIRCLINE HW  ",46,"Compact Fluorescents",null,"1I0150"]
[null,"Compact Fluorescents","1C0057E"," 1/57W COMPACT HW ELIG",65,"Compact Fluorescents",null,"1I0200"]
[null,"Compact Fluorescents","1C2232S"," 22/32W CIRCLINE HW ",58,"Compact Fluorescents",null,"1I0200"]
[null,"Compact Fluorescents","1C2D10E"," 10W 2D COMPACT HW ELIG  ",12,"Compact Fluorescents",null,"1I0040"]
[null,"Compact Fluorescents","1C2D16E"," 16W 2D COMPACT HW ELIG  ",18,"Compact Fluorescents",null,"1I0075"]
[null,"Compact Fluorescents","1C2D21E"," 21W 2D COMPACT HW ELIG  ",22,"Compact Fluorescents",null,"1I0075"]
[null,"Compact Fluorescents","1C2D28E"," 28W 2D COMPACT HW ELIG  ",28,"Compact Fluorescents",null,"1I0100"]
[null,"Compact Fluorescents","1C2D38E"," 38W 2D COMP. HW ELIG  ",36,"Compact Fluorescents",null,"1I0100"]
[null,"Compact Fluorescents","1C3240S"," 32/40W CIRCLINE HW  ",80,"Compact Fluorescents",null,"1I0300"]
[null,"Compact Fluorescents","2C0005S"," 2/5W COMPACT HW  ",14,"Compact Fluorescents",null,"1I0060"]
[null,"Compact Fluorescents","2C0007S"," 2/7W COMPACT HW  ",18,"Compact Fluorescents",null,"1I0075"]
[null,"Compact Fluorescents","2C0009S"," 2/9W COMPACT HW  ",22,"Compact Fluorescents",null,"1I0075"]
[null,"Compact Fluorescents","2C0011S"," 2/11W COMPACT HW  ",26,"Compact Fluorescents",null,"1I0075"]
[null,"Compact Fluorescents","2C0013E"," 2/13W COMPACT HW ELIG  ",28,"Compact Fluorescents",null,"1I0100"]
[null,"Compact Fluorescents","2C0013S"," 2/13W COMPACT HW  ",30,"Compact Fluorescents",null,"1I0100"]
[null,"Compact Fluorescents","2C0018E"," 2/18W COMP. HW ELIG  ",40,"Compact Fluorescents",null,"1I0125"]
[null,"Compact Fluorescents","2C0026E"," 2/26W COMP. HW ELIG  ",54,"Compact Fluorescents",null,"1I0200"]
[null,"Compact Fluorescents","2C0032E"," 2'/32W COMPACT HW ELIG  ",68,"Compact Fluorescents",null,"1I0300"]
[null,"Compact Fluorescents","2C0042E"," 2/42W COMPACT HW ELIG  ",100,"Compact Fluorescents",null,"1I0300"]
[null,"Compact Fluorescents","3C0009S"," 3/9W COMPACT HW  ",33,"Compact Fluorescents",null,"1I0100"]
[null,"Compact Fluorescents","3C0013S"," 3/13W COMPACT HW  ",45,"Compact Fluorescents",null,"1I0125"]
[null,"Compact Fluorescents","3C0018E"," 3'/18W COMPACT HW ELIG  ",60,"Compact Fluorescents",null,"1I0200"]
[null,"Compact Fluorescents","3C0026E"," 3/26W COMPACT HW ELIG  ",82,"Compact Fluorescents",null,"1I0300"]
[null,"Compact Fluorescents","3C0032E"," 3/32W COMPACT HW ELIG  ",114,"Compact Fluorescents"]
[null,"Compact Fluorescents","3C0042E"," 3/42W COMPACT HW ELIG  ",141,"Compact Fluorescents"]
[null,"Compact Fluorescents","4C0018E"," 4/18W COMPACT HW ELIG  ",80,"Compact Fluorescents",null,"1I0300"]
[null,"Compact Fluorescents","4C0026E"," 4/26W COMPACT HW ELIG  ",108,"Compact Fluorescents"]
[null,"Compact Fluorescents","4C0032E"," 4/32W COMPACT HW ELIG  ",152,"Compact Fluorescents"]
[null,"Compact Fluorescents","4C0042E"," 4/42W COMPACT HW ELIG  ",188,"Compact Fluorescents"]
[null,"Compact Fluorescents","6C0026E"," 6/26W COMPACT HW ELIG  ",162,"Compact Fluorescents"]
[null,"Compact Fluorescents","6C0032E"," 6/32W COMPACT HW ELIG  ",228,"Compact Fluorescents"]
[null,"Compact Fluorescents","6C0042E"," 6/42W COMPACT HW ELIG  ",282,"Compact Fluorescents"]
[null,"Compact Fluorescents","8C0026E"," 8/26W COMPACT HW ELIG  ",216,"Compact Fluorescents"]
[null,"Compact Fluorescents","8C0032E"," 8/32W COMPACT HW ELIG  ",304,"Compact Fluorescents"]
[null,"Compact Fluorescents","8C0042E"," 8/42W COMPACT HW ELIG  ",376,"Compact Fluorescents"]
[null,"Eight Foot T12 HO Systems","1F96HES"," 1L8' HO/EE/STD  ",125,"Linear Fluorescent","L8'"]
[null,"Eight Foot T12 HO Systems","1F96HSS"," 1L8' HO/STD/STD  ",135,"Linear Fluorescent","L8'"]
[null,"Eight Foot T12 HO Systems","2F96HEE"," 2L8' HO/EE/ELIG  ",170,"Linear Fluorescent","L8'"]
[null,"Eight Foot T12 HO Systems","2F96HEM"," 2L8' HO/EE/EEMAG  ",207,"Linear Fluorescent","L8'"]
[null,"Eight Foot T12 HO Systems","2F96HES"," 2L8' HO/EE/STD  ",227,"Linear Fluorescent","L8'"]
[null,"Eight Foot T12 HO Systems","2F96HSE"," 2L8' HO/STD/ELIG  ",195,"Linear Fluorescent","L8'"]
[null,"Eight Foot T12 HO Systems","2F96HSM"," 2L8' HO/STD/EEMAG  ",237,"Linear Fluorescent","L8'"]
[null,"Eight Foot T12 HO Systems","2F96HSS"," 2L8' HO/STD/STD  ",257,"Linear Fluorescent","L8'"]
[null,"Eight Foot T12 HO Systems","3F96HES"," 3L8' HO/EE/STD  ",352,"Linear Fluorescent","L8'"]
[null,"Eight Foot T12 HO Systems","3F96HSS"," 3L8' HO/STD/STD  ",392,"Linear Fluorescent","L8'"]
[null,"Eight Foot T12 HO Systems","4F96HEE"," 4L8' HO/EE/ELIG  ",340,"Linear Fluorescent","L8'"]
[null,"Eight Foot T12 HO Systems","4F96HEM"," 4L8' HO/EE/EEMAG  ",414,"Linear Fluorescent","L8'"]
[null,"Eight Foot T12 HO Systems","4F96HES"," 4L8' HO/EE/STD  ",454,"Linear Fluorescent","L8'"]
[null,"Eight Foot T12 HO Systems","4F96HSE"," 4L8' HO/STD/ELIG  ",390,"Linear Fluorescent","L8'"]
[null,"Eight Foot T12 HO Systems","4F96HSM"," 4L8' HO/STD/EEMAG  ",474,"Linear Fluorescent","L8'"]
[null,"Eight Foot T12 HO Systems","4F96HSS"," 4L8' HO/STD/STD  ",514,"Linear Fluorescent","L8'"]
[null,"Eight Foot T12 Systems","1F96SEE"," 1L8' EE/ELIG  ",60,"Linear Fluorescent","L8'"]
[null,"Eight Foot T12 Systems","1F96SES"," 1L8' EE/STD  ",83,"Linear Fluorescent","L8'"]
[null,"Eight Foot T12 Systems","1F96SSE"," 1L8' STD/ELIG  ",70,"Linear Fluorescent","L8'"]
[null,"Eight Foot T12 Systems","1F96SSS"," 1L8' STD/STD  ",100,"Linear Fluorescent","L8'"]
[null,"Eight Foot T12 Systems","2F96SEE"," 2L8' EE/ELIG  ",109,"Linear Fluorescent","L8'"]
[null,"Eight Foot T12 Systems","2F96SEM"," 2L8' EE/EEMAG  ",123,"Linear Fluorescent","L8'"]
[null,"Eight Foot T12 Systems","2F96SES"," 2L8' EE/STD  ",138,"Linear Fluorescent","L8'"]
[null,"Eight Foot T12 Systems","2F96SSE"," 2L8' STD/ELIG  ",134,"Linear Fluorescent","L8'"]
[null,"Eight Foot T12 Systems","2F96SSM"," 2L8' STD/EEMAG  ",158,"Linear Fluorescent","L8'"]
[null,"Eight Foot T12 Systems","2F96SSS"," 2L8' STD/STD  ",173,"Linear Fluorescent","L8'"]
[null,"Eight Foot T12 Systems","3F96SES"," 3L8' EE/STD  ",221,"Linear Fluorescent","L8'"]
[null,"Eight Foot T12 Systems","3F96SSS"," 3L8' STD/STD  ",273,"Linear Fluorescent","L8'"]
[null,"Eight Foot T12 Systems","4F96SEE"," 4L8' EE/ELIG  ",218,"Linear Fluorescent","L8'"]
[null,"Eight Foot T12 Systems","4F96SEM"," 4L8' EE/EEMAG  ",246,"Linear Fluorescent","L8'"]
[null,"Eight Foot T12 Systems","4F96SES"," 4L8' EE/STD  ",276,"Linear Fluorescent","L8'"]
[null,"Eight Foot T12 Systems","4F96SSE"," 4L8' STD/ELIG  ",268,"Linear Fluorescent","L8'"]
[null,"Eight Foot T12 Systems","4F96SSM"," 4L8' STD/EEMAG  ",316,"Linear Fluorescent","L8'"]
[null,"Eight Foot T12 Systems","4F96SSS"," 4L8' STD/STD  ",346,"Linear Fluorescent","L8'"]
[null,"Eight Foot T8 Systems","1F59SSE"," 1L8' T8/ELIG  ",60,"Linear Fluorescent","L8'"]
[null,"Eight Foot T8 Systems","1F80SSE"," 1L8' T8 HO/ELIG  ",85,"Linear Fluorescent","L8'"]
[null,"Eight Foot T8 Systems","2F59SSE"," 2L8' T8/ELIG  ",109,"Linear Fluorescent","L8'"]
[null,"Eight Foot T8 Systems","2F59SSL"," 2L8' T8/ELIG LOW PWR  ",100,"Linear Fluorescent","L8'"]
[null,"Eight Foot T8 Systems","2F80SSE"," 2L8' T8 HO/ELIG  ",160,"Linear Fluorescent","L8'"]
[null,"Eight Foot T12 VHO Systems","1F96VES"," 1L8' VHO/EE/STD  ",200,"Linear Fluorescent","L8'"]
[null,"Eight Foot T12 VHO Systems","1F96VSS"," 1L8' VHO/STD/STD  ",230,"Linear Fluorescent","L8'"]
[null,"Eight Foot T12 VHO Systems","2F96VES"," 2L8' VHO/EE/STD  ",390,"Linear Fluorescent","L8'"]
[null,"Eight Foot T12 VHO Systems","2F96VSS"," 2L8' VHO/STD/STD  ",450,"Linear Fluorescent","L8'"]
[null,"Eight Foot T12 VHO Systems","3F96VES"," 3L8' VHO/EE/STD  ",590,"Linear Fluorescent","L8'"]
[null,"Eight Foot T12 VHO Systems","3F96VSS"," 3L8' VHO/STD/STD  ",680,"Linear Fluorescent","L8'"]
[null,"Eight Foot T12 VHO Systems","4F96VES"," 4L8' VHO/EE/STD  ",780,"Linear Fluorescent","L8'"]
[null,"Eight Foot T12 VHO Systems","4F96VSS"," 4L8' VHO/STD/STD  ",900,"Linear Fluorescent","L8'"]
[null,"Five Foot Systems","1F40HSE"," 1L5' HO/STD/ELIG  ",59,"Linear Fluorescent","L5'"]
[null,"Five Foot Systems","1F60HSM"," 1L5' HO/STD/EEMAG  ",90,"Linear Fluorescent","L5'"]
[null,"Five Foot Systems","2F40HSE"," 2L5' HO/STD/ELIG  ",123,"Linear Fluorescent","L5'"]
[null,"Five Foot Systems","2F40TSE"," 2L5'T8/ELIG  ",68,"Linear Fluorescent","L5'"]
[null,"Five Foot Systems","2F60HSM"," 2L5' HO/STD/EEMAG  ",178,"Linear Fluorescent","L5'"]
[null,"Five Foot Systems","3F40TSE"," 3L5'T8/ELIG  ",106,"Linear Fluorescent","L5'"]
[null,"Four Foot F48 T12 Systems","1F48SES"," 1L4' F48T12EE/STD  ",50,"Linear Fluorescent","L4'"]
[null,"Four Foot F48 T12 Systems","1F48SSS"," 1L4' F48T12/STD  ",60,"Linear Fluorescent","L4'"]
[null,"Four Foot F48 T12 Systems","2F48SES"," 2L4' F48T12EE/STD  ",82,"Linear Fluorescent","L4'"]
[null,"Four Foot F48 T12 Systems","2F48SSS"," 2L4' F48T12/STD  ",102,"Linear Fluorescent","L4'"]
[null,"Four Foot F48 T12 Systems","3F48SES"," 3L4' F48T12EE/STD  ",132,"Linear Fluorescent","L4'"]
[null,"Four Foot F48 T12 Systems","3F48SSS"," 3L4' F48T12/STD  ",162,"Linear Fluorescent","L4'"]
[null,"Four Foot F48 T12 Systems","4F48SES"," 4L4' F48T12EE/STD  ",164,"Linear Fluorescent","L4'"]
[null,"Four Foot F48 T12 Systems","4F48SSS"," 4L4' F48T12/STD  ",204,"Linear Fluorescent","L4'"]
[null,"Four Foot F48HO T12 Systems","1F48HES"," 1L4' F48HO/EE/STD  ",80,"Linear Fluorescent","L4'"]
[null,"Four Foot F48HO T12 Systems","1F48HSS"," 1L4' F48H0/STD/STD  ",85,"Linear Fluorescent","L4'"]
[null,"Four Foot F48HO T12 Systems","2F48HES"," 2L4' F48HO/EE/STD  ",135,"Linear Fluorescent","L4'"]
[null,"Four Foot F48HO T12 Systems","2F48HSS"," 2L4' F48H0/STD/STD  ",145,"Linear Fluorescent","L4'"]
[null,"Four Foot F48HO T12 Systems","3F48HES"," 3L4' F48HO/EE/STD  ",215,"Linear Fluorescent","L4'"]
[null,"Four Foot F48HO T12 Systems","3F48HSS"," 3L4' F48H0/STD/STD  ",230,"Linear Fluorescent","L4'"]
[null,"Four Foot F48HO T12 Systems","4F48HES"," 4L4' F48HO/EE/STD  ",270,"Linear Fluorescent","L4'"]
[null,"Four Foot F48HO T12 Systems","4F48HSS"," 4L4' F48H0/STD/STD  ",290,"Linear Fluorescent","L4'"]
[null,"Four Foot F48VHO T12 Systems","1F48VES"," 1L4' F48VHO/EE/STD  ",123,"Linear Fluorescent","L4'"]
[null,"Four Foot F48VHO T12 Systems","1F48VSS"," 1L4' F48VHO/STD/STD  ",138,"Linear Fluorescent","L4'"]
[null,"Four Foot F48VHO T12 Systems","2F48VES"," 2L4' F48VHO/EE/STD  ",210,"Linear Fluorescent","L4'"]
[null,"Four Foot F48VHO T12 Systems","2F48VSS"," 2L4' F48VHO/STD/STD  ",240,"Linear Fluorescent","L4'"]
[null,"Four Foot F48VHO T12 Systems","3F48VES"," 3L4' F48VHO/EE/STD  ",333,"Linear Fluorescent","L4'"]
[null,"Four Foot F48VHO T12 Systems","3F48VSS"," 3L4' F48VHO/STD/STD  ",378,"Linear Fluorescent","L4'"]
[null,"Four Foot F48VHO T12 Systems","4F48VES"," 4L4' F48VHO/EE/STD  ",420,"Linear Fluorescent","L4'"]
[null,"Four Foot F48VHO T12 Systems","4F48VSS"," 4L4' F48VHO/STD/STD  ",480,"Linear Fluorescent","L4'"]
[null,"Four Foot Fluorescent T12 Systems","1F40SEE"," 1L4' EE/ELIG  ",38,"Linear Fluorescent","L4'"]
[null,"Four Foot Fluorescent T12 Systems","1F40SEM"," 1L4' EE/EEMAG  ",40,"Linear Fluorescent","L4'"]
[null,"Four Foot Fluorescent T12 Systems","1F40SES"," 1L4' EE/STD  ",50,"Linear Fluorescent","L4'"]
[null,"Four Foot Fluorescent T12 Systems","1F40SSE"," 1L4' STD/ELIG  ",46,"Linear Fluorescent","L4'"]
[null,"Four Foot Fluorescent T12 Systems","1F40SSM"," 1L4' STD/EEMAG  ",50,"Linear Fluorescent","L4'"]
[null,"Four Foot Fluorescent T12 Systems","1F40SSS"," 1L4' STD/STD  ",57,"Linear Fluorescent","L4'"]
[null,"Four Foot Fluorescent T12 Systems","2F40SEE"," 2L4' EE/ELIG  ",60,"Linear Fluorescent","L4'"]
[null,"Four Foot Fluorescent T12 Systems","2F40SEM"," 2L4' EE/EEMAG  ",70,"Linear Fluorescent","L4'"]
[null,"Four Foot Fluorescent T12 Systems","2F40SES"," 2L4' EE/STD  ",80,"Linear Fluorescent","L4'"]
[null,"Four Foot Fluorescent T12 Systems","2F40SSE"," 2L4' STD/ELIG  ",72,"Linear Fluorescent","L4'"]
[null,"Four Foot Fluorescent T12 Systems","2F40SSM"," 2L4' STD/EEMAG  ",86,"Linear Fluorescent","L4'"]
[null,"Four Foot Fluorescent T12 Systems","2F40SSS"," 2L4' STD/STD  ",94,"Linear Fluorescent","L4'"]
[null,"Four Foot Fluorescent T12 Systems","3F40SEE"," 3L4' EE/ELIG  ",90,"Linear Fluorescent","L4'"]
[null,"Four Foot Fluorescent T12 Systems","3F40SEM"," 3L4' EE/EEMAG  ",110,"Linear Fluorescent","L4'"]
[null,"Four Foot Fluorescent T12 Systems","3F40SES"," 3L4' EE/STD  ",130,"Linear Fluorescent","L4'"]
[null,"Four Foot Fluorescent T12 Systems","3F40SSE"," 3L4' STD/ELIG  ",110,"Linear Fluorescent","L4'"]
[null,"Four Foot Fluorescent T12 Systems","3F40SSM"," 3L4' STD/EEMAG  ",136,"Linear Fluorescent","L4'"]
[null,"Four Foot Fluorescent T12 Systems","3F40SSS"," 3L4' STD/STD  ",151,"Linear Fluorescent","L4'"]
[null,"Four Foot Fluorescent T12 Systems","4F40SEE"," 4L4' EE/ELIG  ",120,"Linear Fluorescent","L4'"]
[null,"Four Foot Fluorescent T12 Systems","4F40SEM"," 4L4' EE/EEMAG  ",140,"Linear Fluorescent","L4'"]
[null,"Four Foot Fluorescent T12 Systems","4F40SES"," 4L4' EE/STD  ",160,"Linear Fluorescent","L4'"]
[null,"Four Foot Fluorescent T12 Systems","4F40SSE"," 4L4' STD/ELIG  ",144,"Linear Fluorescent","L4'"]
[null,"Four Foot Fluorescent T12 Systems","4F40SSM"," 4L4' STD/EEMAG  ",172,"Linear Fluorescent","L4'"]
[null,"Four Foot Fluorescent T12 Systems","4F40SSS"," 4L4' STD/STD  ",188,"Linear Fluorescent","L4'"]
[null,"Four Foot Fluorescent T12 Systems","6F40SSS"," 6L4' STD/STD  ",282,"Linear Fluorescent","L4'"]
[null,"Four Foot Fluorescent T8 Systems","1F32SSS"," 1L4' T8/ELIG  ",30,"Linear Fluorescent","L4'","1F32SSS"]
[null,"Four Foot Fluorescent T8 Systems","1F32SSE"," 1L4' T8/ELIG  ",28,"Linear Fluorescent","L4'","1F32SSS"]
[null,"Four Foot Fluorescent T8 Systems","1F32SHL"," 1L4 T8/ELIG HIGH LUMEN LBF  ",26,"Linear Fluorescent","L4 ","1F32SSS"]
[null,"Four Foot Fluorescent T8 Systems","1F32SSM"," 1L4' T8/EEMAG  ",37,"Linear Fluorescent","L4'"]
[null,"Four Foot Fluorescent T8 Systems","2F32SSS"," 2L4' T8/ELIG  ",60,"Linear Fluorescent","L4'","2F32SSS"]
[null,"Four Foot Fluorescent T8 Systems","2F32SSE"," 2L4' T8/ELIG  ",55,"Linear Fluorescent","L4'","2F32SSS"]
[null,"Four Foot Fluorescent T8 Systems","2F32SHH"," 2L4' T8/ELIG HIGH LUMEN HBF  ",78,"Linear Fluorescent","L4'","3F32SSS"]
[null,"Four Foot Fluorescent T8 Systems","2F32SHL"," 2L4 T8/ELIG HIGH LUMEN LBF  ",52,"Linear Fluorescent","L4 ","2F32SSS"]
[null,"Four Foot Fluorescent T8 Systems","2F32SSM"," 2L4' T8/EEMAG  ",70,"Linear Fluorescent","L4'"]
[null,"Four Foot Fluorescent T8 Systems","2F31SSS"," 2L4' T8/EELIG 1 5/8\" U",55,"Linear Fluorescent","L4'","2F32SSS"]
[null,"Four Foot Fluorescent T8 Systems","3F31SSS"," 3L4' T8/EELIG 1 5/8\" U",83,"Linear Fluorescent","L4'","3F32SSS"]
[null,"Four Foot Fluorescent T8 Systems","3F32SSS"," 3L4' T8/ELIG  ",88,"Linear Fluorescent","L4'","3F32SSS"]
[null,"Four Foot Fluorescent T8 Systems","3F32SSE"," 3L4' T8/ELIG  ",82,"Linear Fluorescent","L4'","3F32SSS"]
[null,"Four Foot Fluorescent T8 Systems","3F32SHH"," 3L4' T8/ELIG HIGH LUMEN HBF  ",112,"Linear Fluorescent","L4'","4F32SSS"]
[null,"Four Foot Fluorescent T8 Systems","3F32SHL"," 3L4 T8/ELIG HIGH LUMEN LBF  ",76,"Linear Fluorescent","L4 ","3F32SSS"]
[null,"Four Foot Fluorescent T8 Systems","3F32SSM"," 3L4' T8/EEMAG  ",107,"Linear Fluorescent","L4'","3F32SSS"]
[null,"Four Foot Fluorescent T8 Systems","4F32SSS"," 4L4' T8/ELIG  ",112,"Linear Fluorescent","L4'","4F32SSS"]
[null,"Four Foot Fluorescent T8 Systems","4F32SSE"," 4L4' T8/ELIG  ",108,"Linear Fluorescent","L4'","4F32SSS"]
[null,"Four Foot Fluorescent T8 Systems","4F32SHH"," 4L4' T8/ELIG HIGH LUMEN HBF ",153,"Linear Fluorescent","L4'","4F32SHH"]
[null,"Four Foot Fluorescent T8 Systems","4F32SHL"," 4L4 T8/ELIG HIGH LUMEN LBF",98,"Linear Fluorescent","L4 ","4F32SSS"]
[null,"Four Foot Fluorescent T8 Systems","4F32SSM"," 4L4' T8/EEMAG  ",140,"Linear Fluorescent","L4'"]
[null,"Four Foot Fluorescent T8 Systems","5F32SSS"," 5L4' T8/STD  ",148,null,null,"5F32SSS"]
[null,"Four Foot Fluorescent T8 Systems","5F32SSE"," 5L4' T8/ELIG  ",142,"Linear Fluorescent","L4'","5F32SSS"]
[null,"Four Foot Fluorescent T8 Systems","5F32SHH"," 5L4' T8/ELIG HIGH LUMEN HBF  ",190,"Linear Fluorescent","L4'"]
[null,"Four Foot Fluorescent T8 Systems","6F32SSS"," 6L4' T8/STD  ",174,null,null,"6F32SSS"]
[null,"Four Foot Fluorescent T8 Systems","6F32SSE"," 6L4' T8/ELIG  ",168,"Linear Fluorescent","L4'","6F32SSS"]
[null,"Four Foot Fluorescent T8 Systems","6F32SHH","6L4' T8/ELIG HIGH LUMEN HBF",234]
[null,"Four Foot Fluorescent T8 Systems","8F32SHH"," 8L4' T8/ELIG HIGH LUMEN HBF",312,"Linear Fluorescent","L4'"]
[null,"Halogen/Quartz Lamps","1T0035"," 35W HALOGEN LAMP  ",35,"Halogen/Quartz Lamps"]
[null,"Halogen/Quartz Lamps","1T0040"," 40W HALOGEN LAMP  ",40,"Halogen/Quartz Lamps"]
[null,"Halogen/Quartz Lamps","1T0042"," 42W HALOGEN LAMP  ",42,"Halogen/Quartz Lamps"]
[null,"Halogen/Quartz Lamps","1T0045"," 45W HALOGEN LAMP  ",45,"Halogen/Quartz Lamps"]
[null,"Halogen/Quartz Lamps","1T0050"," 50W HALOGEN LAMP  ",50,"Halogen/Quartz Lamps"]
[null,"Halogen/Quartz Lamps","1T0052"," 52W HALOGEN LAMP  ",52,"Halogen/Quartz Lamps"]
[null,"Halogen/Quartz Lamps","1T0055"," 55W HALOGEN LAMP  ",55,"Halogen/Quartz Lamps"]
[null,"Halogen/Quartz Lamps","1T0060"," 60W HALOGEN LAMP  ",60,"Halogen/Quartz Lamps"]
[null,"Halogen/Quartz Lamps","1T0072"," 72W HALOGEN LAMP  ",72,"Halogen/Quartz Lamps"]
[null,"Halogen/Quartz Lamps","1T0075"," 75W HALOGEN LAMP  ",75,"Halogen/Quartz Lamps"]
[null,"Halogen/Quartz Lamps","1T0090"," 90W HALOGEN LAMP  ",90,"Halogen/Quartz Lamps"]
[null,"Halogen/Quartz Lamps","1T0100"," 100W HALOGEN LAMP  ",100,"Halogen/Quartz Lamps"]
[null,"Halogen/Quartz Lamps","1T0150"," 150W HALOGEN LAMP  ",150,"Halogen/Quartz Lamps"]
[null,"Halogen/Quartz Lamps","1T0200"," 200W HALOGEN LAMP  ",200,"Halogen/Quartz Lamps"]
[null,"Halogen/Quartz Lamps","1T0250"," 250W HALOGEN LAMP  ",250,"Halogen/Quartz Lamps"]
[null,"Halogen/Quartz Lamps","1T0300"," 300W HALOGEN LAMP  ",300,"Halogen/Quartz Lamps"]
[null,"Halogen/Quartz Lamps","1T0350"," 350W HALOGEN LAMP  ",350,"Halogen/Quartz Lamps"]
[null,"Halogen/Quartz Lamps","1T0400"," 400W HALOGEN LAMP  ",400,"Halogen/Quartz Lamps"]
[null,"Halogen/Quartz Lamps","1T0425"," 425W HALOGEN LAMP  ",425,"Halogen/Quartz Lamps"]
[null,"Halogen/Quartz Lamps","1T0500"," 500W HALOGEN LAMP  ",500,"Halogen/Quartz Lamps"]
[null,"Halogen/Quartz Lamps","1T0750"," 750W HALOGEN LAMP  ",750,"Halogen/Quartz Lamps"]
[null,"Halogen/Quartz Lamps","1T0900"," 900W HALOGEN LAMP  ",900,"Halogen/Quartz Lamps"]
[null,"Halogen/Quartz Lamps","1T1000"," 1000W HALOGEN LAMP  ",1000,"Halogen/Quartz Lamps"]
[null,"Halogen/Quartz Lamps","1T1200"," 1200W HALOGEN LAMP  ",1200,"Halogen/Quartz Lamps"]
[null,"Halogen/Quartz Lamps","1T1500"," 1500W HALOGEN LAMP  ",1500,"Halogen/Quartz Lamps"]
[null,"Pulse Start MH Lamp/Ballast","1PS0100P"," 100W PSMH CWA  ",128,"Pulse Start MH Lamp/Ballast"]
[null,"Pulse Start MH Lamp/Ballast","1PS0100R"," 100W PSMH Linear  ",118,"Pulse Start MH Lamp/Ballast"]
[null,"Pulse Start MH Lamp/Ballast","1PS0150P"," 150W PSMH CWA  ",190,"Pulse Start MH Lamp/Ballast"]
[null,"Pulse Start MH Lamp/Ballast","1PS0150R"," 150W PSMH Linear  ",172,"Pulse Start MH Lamp/Ballast"]
[null,"Pulse Start MH Lamp/Ballast","1PS0175P"," 175W PSMH CWA  ",208,"Pulse Start MH Lamp/Ballast"]
[null,"Pulse Start MH Lamp/Ballast","1PS0175R"," 175W PSMH Linear  ",190,"Pulse Start MH Lamp/Ballast"]
[null,"Pulse Start MH Lamp/Ballast","1PS0200P"," 200W PSMH CWA  ",232,"Pulse Start MH Lamp/Ballast"]
[null,"Pulse Start MH Lamp/Ballast","1PS0200R"," 200W PSMH LINEAR  ",218,"Pulse Start MH Lamp/Ballast"]
[null,"Pulse Start MH Lamp/Ballast","1PS0250P"," 250W PSMH CWA  ",288,"Pulse Start MH Lamp/Ballast"]
[null,"Pulse Start MH Lamp/Ballast","1PS0250R"," 250W PSMH LINEAR  ",265,"Pulse Start MH Lamp/Ballast"]
[null,"Pulse Start MH Lamp/Ballast","1PS0300P"," 300W PSMH CWA  ",342,"Pulse Start MH Lamp/Ballast"]
[null,"Pulse Start MH Lamp/Ballast","1PS0300R"," 300W PSMH Linear  ",324,"Pulse Start MH Lamp/Ballast"]
[null,"Pulse Start MH Lamp/Ballast","1PS0320P"," 320W PSMH CWA  ",365,"Pulse Start MH Lamp/Ballast"]
[null,"Pulse Start MH Lamp/Ballast","1PS0320R"," 320W PSMH LINEAR  ",345,"Pulse Start MH Lamp/Ballast"]
[null,"Pulse Start MH Lamp/Ballast","1PS0350P"," 350W PSMH CWA  ",400,"Pulse Start MH Lamp/Ballast"]
[null,"Pulse Start MH Lamp/Ballast","1PS0350R"," 350W PSMH LINEAR  ",375,"Pulse Start MH Lamp/Ballast"]
[null,"Pulse Start MH Lamp/Ballast","1PS0400P"," 400W PSMH CWA  ",455,"Pulse Start MH Lamp/Ballast"]
[null,"Pulse Start MH Lamp/Ballast","1PS0400R"," 400W PSMH LINEAR  ",430,"Pulse Start MH Lamp/Ballast"]
[null,"Pulse Start MH Lamp/Ballast","1PS0450P"," 450W PSMH CWA  ",508,"Pulse Start MH Lamp/Ballast"]
[null,"Pulse Start MH Lamp/Ballast","1PS0450R"," 450W PSMH LINEAR  ",480,"Pulse Start MH Lamp/Ballast"]
[null,"Pulse Start MH Lamp/Ballast","1PS0750P"," 750W PSMH CWA  ",815,"Pulse Start MH Lamp/Ballast"]
[null,"Pulse Start MH Lamp/Ballast","1PS0750R"," 750W PSMH Linear  ",805,"Pulse Start MH Lamp/Ballast"]
[null,"Pulse Start MH Lamp/Ballast","1PS1000P"," 1000W PSMH CWA  ",1080,"Pulse Start MH Lamp/Ballast"]
[null,"High Pressure Sodium","1HPS0035S"," 35W HPS  ",45,"High Pressure Sodium"]
[null,"High Pressure Sodium","1HPS0050S"," 50W HPS  ",65,"High Pressure Sodium"]
[null,"High Pressure Sodium","1HPS0070S"," 70W HPS  ",90,"High Pressure Sodium"]
[null,"High Pressure Sodium","1HPS0100S"," 100W HPS  ",130,"High Pressure Sodium"]
[null,"High Pressure Sodium","1HPS0150S"," 150W HPS  ",190,"High Pressure Sodium"]
[null,"High Pressure Sodium","1HPS0200S"," 200W HPS  ",240,"High Pressure Sodium"]
[null,"High Pressure Sodium","1HPS0225S"," 225W HPS  ",275,"High Pressure Sodium"]
[null,"High Pressure Sodium","1HPS0250S"," 250W HPS  ",295,"High Pressure Sodium"]
[null,"High Pressure Sodium","1HPS0310S"," 310W HPS  ",350,"High Pressure Sodium"]
[null,"High Pressure Sodium","1HPS0360S"," 360W HPS  ",435,"High Pressure Sodium"]
[null,"High Pressure Sodium","1HPS0400S"," 400W HPS  ",460,"High Pressure Sodium"]
[null,"High Pressure Sodium","1HPS0600S"," 600W HPS  ",675,"High Pressure Sodium"]
[null,"High Pressure Sodium","1HPS0750S"," 750W HPS  ",835,"High Pressure Sodium"]
[null,"High Pressure Sodium","1HPS1000S"," 1000W HPS  ",1085,"High Pressure Sodium"]
[null,"Incandescent Lamps","1I0015"," 15W INC  ",15,"Incandescent Lamps"]
[null,"Incandescent Lamps","1I0020"," 20W INC  ",20,"Incandescent Lamps"]
[null,"Incandescent Lamps","1I0025"," 25W INC  ",25,"Incandescent Lamps"]
[null,"Incandescent Lamps","1I0034"," 34W INC  ",34,"Incandescent Lamps"]
[null,"Incandescent Lamps","1I0036"," 36W INC  ",36,"Incandescent Lamps"]
[null,"Incandescent Lamps","1I0040"," 40W INC  ",40,"Incandescent Lamps"]
[null,"Incandescent Lamps","1I0042"," 42W INC  ",42,"Incandescent Lamps"]
[null,"Incandescent Lamps","1I0045"," 45W INC  ",45,"Incandescent Lamps"]
[null,"Incandescent Lamps","1I0050"," 50W INC  ",50,"Incandescent Lamps"]
[null,"Incandescent Lamps","1I0052"," 52W INC  ",52,"Incandescent Lamps"]
[null,"Incandescent Lamps","1I0054"," 54W INC  ",54,"Incandescent Lamps"]
[null,"Incandescent Lamps","1I0055"," 55W INC  ",55,"Incandescent Lamps"]
[null,"Incandescent Lamps","1I0060"," 60W INC  ",60,"Incandescent Lamps"]
[null,"Incandescent Lamps","1I0065"," 65W INC  ",65,"Incandescent Lamps"]
[null,"Incandescent Lamps","1I0067"," 67W INC  ",67,"Incandescent Lamps"]
[null,"Incandescent Lamps","1I0069"," 69W INC  ",69,"Incandescent Lamps"]
[null,"Incandescent Lamps","1I0072"," 72W INC  ",72,"Incandescent Lamps"]
[null,"Incandescent Lamps","1I0075"," 75W INC  ",75,"Incandescent Lamps"]
[null,"Incandescent Lamps","1I0080"," 80W INC  ",80,"Incandescent Lamps"]
[null,"Incandescent Lamps","1I0085"," 85W INC  ",85,"Incandescent Lamps"]
[null,"Incandescent Lamps","1I0090"," 90W INC  ",90,"Incandescent Lamps"]
[null,"Incandescent Lamps","1I0093"," 93W INC  ",93,"Incandescent Lamps"]
[null,"Incandescent Lamps","1I0100"," 100W INC  ",100,"Incandescent Lamps"]
[null,"Incandescent Lamps","1I0120"," 120W INC  ",120,"Incandescent Lamps"]
[null,"Incandescent Lamps","1I0125"," 125W INC  ",125,"Incandescent Lamps"]
[null,"Incandescent Lamps","1I0135"," 135W INC  ",135,"Incandescent Lamps"]
[null,"Incandescent Lamps","1I0150"," 150W INC  ",150,"Incandescent Lamps"]
[null,"Incandescent Lamps","1I0200"," 200W INC  ",200,"Incandescent Lamps"]
[null,"Incandescent Lamps","1I0300"," 300W INC  ",300,"Incandescent Lamps"]
[null,"Incandescent Lamps","1I0448"," 448W INC  ",448,"Incandescent Lamps"]
[null,"Incandescent Lamps","1I0500"," 500W INC  ",500,"Incandescent Lamps"]
[null,"Incandescent Lamps","1I0750"," 750W INC  ",750,"Incandescent Lamps"]
[null,"Incandescent Lamps","1I1000"," 1000W INC  ",1000,"Incandescent Lamps"]
[null,"Incandescent Lamps","1I1500"," 1500W INC  ",1500,"Incandescent Lamps"]
[null,"LED Exit Signs","1E0002"," 2.0 WATT LED  ",2,"LED Exit Signs"]
[null,"LED Exit Signs","1E0003"," 3.0 WATT LED  ",3,"LED Exit Signs"]
[null,"LED Exit Signs","1E0005"," 5.0 WLED  ",5,"LED Exit Signs"]
[null,"LED Exit Signs","1E0005C"," 0.5 WATT LED  ",0.5,"LED Exit Signs"]
[null,"LED Exit Signs","1E0008"," 8.0 WLED  ",8,"LED Exit Signs"]
[null,"LED Exit Signs","1E0015"," 1.5 WATT LED  ",1.5,"LED Exit Signs"]
[null,"LED Exit Signs","1E0105"," 10.5 WATT LED  ",10.5,"LED Exit Signs"]
[null," Low Pressure Sodium  ","1LPS0035S"," 35W LPS  ",60," Low Pressure Sodium  "]
[null," Low Pressure Sodium  ","1LPS0055S"," 55W LPS  ",85," Low Pressure Sodium  "]
[null," Low Pressure Sodium  ","1LPS0090S"," 90W LPS  ",130," Low Pressure Sodium  "]
[null," Low Pressure Sodium  ","1LPS0135S"," 135W LPS  ",180," Low Pressure Sodium  "]
[null," Low Pressure Sodium  ","1LPS0180S"," 180W LPS  ",230," Low Pressure Sodium  "]
[null,"Low Voltage Halogen","1R0020"," 20W LV HALOGEN FIXT  ",30,"Low Voltage Halogen"]
[null,"Low Voltage Halogen","1R0025"," 25W LV HALOGEN FIXT  ",35,"Low Voltage Halogen"]
[null,"Low Voltage Halogen","1R0035"," 35W LV HALOGEN FIXT  ",45,"Low Voltage Halogen"]
[null,"Low Voltage Halogen","1R0042"," 42W LV HALOGEN FIXT  ",52,"Low Voltage Halogen"]
[null,"Low Voltage Halogen","1R0050"," 50W LV HALOGEN FIXT  ",60,"Low Voltage Halogen"]
[null,"Low Voltage Halogen","1R0065"," 65W LV HALOGEN FIXT  ",75,"Low Voltage Halogen"]
[null,"Low Voltage Halogen","1R0075"," 75W LV HALOGEN FIXT  ",85,"Low Voltage Halogen"]
[null,"MH Track Lighting","1MH0035E"," 35W MH SPOT  ",44,"MH Track Lighting"]
[null,"MH Track Lighting","1MH0070E"," 70W MH SPOT  ",80,"MH Track Lighting"]
[null,"MH Track Lighting","1MH0100E"," 100W MH SPOT  ",111,"MH Track Lighting"]
[null,"Mercury Vapor","1MV0040S"," 40W MERCURY  ",50,"Mercury Vapor"]
[null,"Mercury Vapor","1MV0050S"," 50W MERCURY  ",75,"Mercury Vapor"]
[null,"Mercury Vapor","1MV0075S"," 75W MERCURY  ",95,"Mercury Vapor"]
[null,"Mercury Vapor","1MV0100S"," 100W MERCURY  ",120,"Mercury Vapor"]
[null,"Mercury Vapor","1MV0175S"," 175W MERCURY  ",205,"Mercury Vapor"]
[null,"Mercury Vapor","1MV0250S"," 250W MERCURY  ",290,"Mercury Vapor"]
[null,"Mercury Vapor","1MV0400S"," 400W MERCURY  ",455,"Mercury Vapor"]
[null,"Mercury Vapor","1MV0700S"," 700W MERCURY  ",775,"Mercury Vapor"]
[null,"Mercury Vapor","1MV1000S"," 1000W MERCURY  ",1075,"Mercury Vapor"]
[null,"Mercury Vapor","2MV0400S"," 2/400W MERCURY  ",880,"Mercury Vapor"]
[null,"Metal Halide","1MH0032S"," 32W METAL HALIDE  ",40,"Metal Halide"]
[null,"Metal Halide","1MH0050S"," 50W METAL HALIDE  ",65,"Metal Halide"]
[null,"Metal Halide","1MH0070S"," 70W METAL HALIDE  ",95,"Metal Halide"]
[null,"Metal Halide","1MH0100S"," 100W METAL HALIDE  ",120,"Metal Halide"]
[null,"Metal Halide","1MH0150S"," 150W METAL HALIDE  ",190,"Metal Halide"]
[null,"Metal Halide","1MH0175S"," 175W METAL HALIDE  ",205,"Metal Halide"]
[null,"Metal Halide","1MH0250S"," 250W METAL HALIDE  ",295,"Metal Halide"]
[null,"Metal Halide","1MH0360S"," 360W METAL HALIDE  ",430,"Metal Halide"]
[null,"Metal Halide","1MH0400S"," 400W METAL HALIDE  ",455,"Metal Halide"]
[null,"Metal Halide","1MH0750S"," 750W METAL HALIDE  ",825,"Metal Halide"]
[null,"Metal Halide","1MH1000S"," 1000W METAL HALIDE  ",1075,"Metal Halide"]
[null,"Metal Halide","1MH1500S"," 1500W METAL HALIDE  ",1615,"Metal Halide"]
[null,"Metal Halide","1MH1800S"," 1800W METAL HALIDE  ",1875,"Metal Halide"]
[null,"Six Foot T12 Systems","1F72HSS"," 1L6' F72HO/STD/STD  ",113,"Linear Fluorescent","L6'"]
[null,"Six Foot T12 Systems","1F72SSM"," 1L6' STD/EEMAG  ",80,"Linear Fluorescent","L6'"]
[null,"Six Foot T12 Systems","1F72SSS"," 1L6' STD/STD  ",95,"Linear Fluorescent","L6'"]
[null,"Six Foot T12 Systems","2F72HSE"," 2L6'T8 HO/ELIG  ",160,"Linear Fluorescent","L6'"]
[null,"Six Foot T12 Systems","2F72HSM"," 2L6' F72HO/STD/EEMAG  ",193,"Linear Fluorescent","L6'"]
[null,"Six Foot T12 Systems","2F72HSS"," 2L6' F72HO/STD  ",195,"Linear Fluorescent","L6'"]
[null,"Six Foot T12 Systems","2F72SSM"," 2L6' STD/EEMAG  ",135,"Linear Fluorescent","L6'"]
[null,"Six Foot T12 Systems","2F72SSS"," 2L6' STD/STD  ",173,"Linear Fluorescent","L6'"]
[null,"T5 Systems","1F21SSE"," 1L3' T5/ELIG  ",27,"Linear Fluorescent","L3'","1F32SSS"]
[null,"T5 Systems","1F28SSE"," 1L4' T5/ELIG  ",32,"Linear Fluorescent","L4'","1F32SSS"]
[null,"T5 Systems","2F21SSE"," 2L3' T5/ELIG  ",52,"Linear Fluorescent","L3'","2F32SSS"]
[null,"T5 Systems","2F28SSE"," 2L4' T5/ELIG  ",63,"Linear Fluorescent","L4'","2F32SSS"]
[null,"T5HO Systems","1F39HSE"," 1L3' T5 HO/ELIG  ",43,"T5HO Systems","L3'","1MH0050S"]
[null,"T5HO Systems","1F54HSE"," 1L4' T5 HO/ELIG  ",59,"T5HO Systems","L4'","1MH0070S"]
[null,"T5HO Systems","2F24HSE"," 2L2' T5 HO/ELIG  ",54,"T5HO Systems","L2'","1MH0070S"]
[null,"T5HO Systems","2F39HSE"," 2L3' T5 HO/ELIG  ",85,"T5HO Systems","L3'","1MH0100S"]
[null,"T5HO Systems","2F54HSE"," 2L4' T5 HO/ELIG  ",117,"T5HO Systems","L4'","1MH0150S"]
[null,"T5HO Systems","3F54HSE"," 3L4' T5 HO/ELIG  ",177,"T5HO Systems","L4'","1MH0175S"]
[null,"T5HO Systems","4F54HSE"," 4L 54W T5 HO  ",234,"T5HO Systems","L4'","1MH0250S"]
[null,"T5HO Systems","5F54HSE"," 5L4' T5 HO/ELIG  ",294,"T5HO Systems","L4'","1MH0360S"]
[null,"T5HO Systems","6F54HSE"," 6L 54W T5 HO  ",351,"T5HO Systems","L4'","1MH0400S"]
[null,"T5HO Systems","8F54HSE"," 8L4' T5 HO/ELIG  ",468,"T5HO Systems","L4'","1MH0750S"]
[null,"T5HO Systems","10F54HSE"," 10 54W T5 HO  ",585,"T5HO Systems","L4'","1MH0750S"]
[null,"T5HO Systems","12F54HSE"," 12L' 54W T5HO  ",702,"T5HO Systems","L4'","1MH1000S"]
[null,"T5 Reduce Wattage HO Systems","1F49HSE","1L4' 49W T5 HO/ELIG  ",49,"T5 Reduce Wattage HO Systems","L4'","1MH0070S"]
[null,"T5 Reduce Wattage HO Systems","2F49HSE ","2L4' 49W T5 HO/ELIG  ",107,"T5 Reduce Wattage HO Systems","L4'","1MH0150S"]
[null,"T5 Reduce Wattage HO Systems","3F49HSE  ","3L4' 49 WT5 HO/ELIG  ",162,"T5 Reduce Wattage HO Systems","L4'","1MH0175S"]
[null,"T5 Reduce Wattage HO Systems","4F49HSE  ","4L4' T5 HO ",214,"T5 Reduce Wattage HO Systems","L4'","1MH0250S"]
[null,"T5 Reduce Wattage HO Systems","5F49HSE ","5L4' T5 HO/ELIG  ",269,"T5 Reduce Wattage HO Systems","L4'","1MH0360S"]
[null,"T5 Reduce Wattage HO Systems","6F49HSE ","6L 54W T5 HO  ",321,"T5 Reduce Wattage HO Systems","L4'","1MH0400S"]
[null,"T5 Reduce Wattage HO Systems","8F49HSE  ","8L4' T5 HO/ELIG  ",428,"T5 Reduce Wattage HO Systems","L4'","1MH0750S"]
[null,"T5 Reduce Wattage HO Systems","10F49HSE ","10 54W T5 HO  ",535,"T5 Reduce Wattage HO Systems","L4'","1MH0750S"]
[null,"T5 Reduce Wattage HO Systems","12F49HSE ","12L' 54W T5HO  ",642,"T5 Reduce Wattage HO Systems","L4'","1MH1000S"]
[null,"T8 Reduced Wattage","1F25EEH"," 1L4' 25W T8EE/EELE HBF  ",30,"Linear Fluorescent","L4'","1F32SSS"]
[null,"T8 Reduced Wattage","1F25EEE"," 1L4' 25W T8EE/ELEE  ",22,"Linear Fluorescent","L4'","1F32SSS"]
[null,"T8 Reduced Wattage","1F25EEL"," 1L4' 25W T8EE/ELEE LBF ",20,"Linear Fluorescent","L4'","1F32SSS"]
[null,"T8 Reduced Wattage","2F25EEH"," 2L4' 25WT8EE/EELE HBF ",86,"Linear Fluorescent","L4'","3F32SSS"]
[null,"T8 Reduced Wattage","2F25EEE"," 2L4' 25W T8EE/ELEE  ",43,"Linear Fluorescent","L4'","2F32SSS"]
[null,"T8 Reduced Wattage","2F25EEL"," 2L4' 25W T8EE/ELEE LBF ",57,"Linear Fluorescent","L4'","2F32SSS"]
[null,"T8 Reduced Wattage","3F25EEH"," 3L4' 25W T8EE/EELE HBF  ",86,"Linear Fluorescent","L4'","3F32SSS"]
[null,"T8 Reduced Wattage","3F25EEE"," 3L4' 25W T8EE/ELEE  ",66,"Linear Fluorescent","L4'","3F32SSS"]
[null,"T8 Reduced Wattage","3F25EEL"," 3L4' 25W T8EE/ELEE LBF  ",57,"Linear Fluorescent","L4'","3F32SSS"]
[null,"T8 Reduced Wattage","4F25EEH"," 4L4' 25W T8EE/EELE HBF ",112,"Linear Fluorescent","L4'","4F32SSS"]
[null,"T8 Reduced Wattage","4F25EEE"," 4L4' 25W T8EE/ELEE  ",86,"Linear Fluorescent","L4'","4F32SSS"]
[null,"T8 Reduced Wattage","4F25EEL"," 4L4' 25W T8EE/ELEE LBF ",75,"Linear Fluorescent","L4'","4F32SSS"]
[null,"T8 Reduced Wattage","1F28EEH"," 1L4' 28W T8EE/EELE HBF  ",33,"Linear Fluorescent","L4'","1F32SSS"]
[null,"T8 Reduced Wattage","1F28EEE"," 1L4' 28W T8EE/ELEE  ",24,"Linear Fluorescent","L4'","1F32SSS"]
[null,"T8 Reduced Wattage","1F28EEL"," 1L4' 28W T8EE/ELEE LBF ",22,"Linear Fluorescent","L4'","1F32SSS"]
[null,"T8 Reduced Wattage","2F28EEH"," 2L4' 28WT8EE/EELE HBF  ",65,"Linear Fluorescent","L4'","3F32SSS"]
[null,"T8 Reduced Wattage","2F28EEE"," 2L4' 28W T8EE/ELEE  ",49,"Linear Fluorescent","L4'","2F32SSS"]
[null,"T8 Reduced Wattage","2F28EEL"," 2L4' 28W T8EE/ELEE LBF ",42,"Linear Fluorescent","L4'","2F32SSS"]
[null,"T8 Reduced Wattage","3F28EEH"," 3L4' 28W T8EE/EELE HBF  ",100,"Linear Fluorescent","L4'","4F32SSS"]
[null,"T8 Reduced Wattage","3F28EEE"," 3L4' 28W T8EE/ELEE  ",73,"Linear Fluorescent","L4'","3F32SSS"]
[null,"T8 Reduced Wattage","3F28EEL"," 3L4' 28W T8EE/ELEE LBF",64,"Linear Fluorescent","L4'","3F32SSS"]
[null,"T8 Reduced Wattage","4F28EEH"," 4L4' 28W T8EE/EELE HBF  ",126,"Linear Fluorescent","L4'","4F32SSS"]
[null,"T8 Reduced Wattage","4F28EEE"," 4L4' 28W T8EE/ELEE  ",94,"Linear Fluorescent","L4'","4F32SSS"]
[null,"T8 Reduced Wattage","4F28EEL"," 4L4' 28W T8EE/ELEE LBF",83,"Linear Fluorescent","L4'","4F32SSS"]
[null,"T8 Reduced Wattage","1F30EEH"," 1L4' 30W T8EE/EELE HBF  ",39,"Linear Fluorescent","L4'","2F32SSS"]
[null,"T8 Reduced Wattage","1F30EEE"," 1L4' 30W T8EE/ELEE  ",29,"Linear Fluorescent","L4'","1F32SSS"]
[null,"T8 Reduced Wattage","1F30EEL"," 1L4' 30W T8EE/ELEE LBF ",25,"Linear Fluorescent","L4'","1F32SSS"]
[null,"T8 Reduced Wattage","2F30EEH"," 2L4' 30WT8EE/EELE HBF  ",72,"Linear Fluorescent","L4'","3F32SSS"]
[null,"T8 Reduced Wattage","2F30EEE"," 2L4' 30W T8EE/ELEE  ",53,"Linear Fluorescent","L4'","2F32SSS"]
[null,"T8 Reduced Wattage","2F30EEL"," 2L4' 30W T8EE/ELEE LBF ",47,"Linear Fluorescent","L4'","2F32SSS"]
[null,"T8 Reduced Wattage","3F30EEH"," 3L4' 30W T8EE/EELE HBF  ",106,"Linear Fluorescent","L4'","3F32SSS"]
[null,"T8 Reduced Wattage","3F30EEE"," 3L4' 30W T8EE/ELEE  ",84,"Linear Fluorescent","L4'","3F32SSS"]
[null,"T8 Reduced Wattage","3F30EEL"," 3L4' 30W T8EE/ELEE LBF ",70,"Linear Fluorescent","L4'","3F32SSS"]
[null,"T8 Reduced Wattage","4F30EEH"," 4L4' 30W T8EE/EELE HBF  ","144","Linear Fluorescent","L4'","4F32SHH"]
[null,"T8 Reduced Wattage","4F30EEE"," 4L4' 30W T8EE/ELEE  ",104,"Linear Fluorescent","L4'","4F32SSS"]
[null,"T8 Reduced Wattage","4F30EEL"," 4L4' 30W T8EE/ELEE LBF ",91,"Linear Fluorescent","L4'"]
[null,"T8 Reduced Wattage","1F32EEH"," 1L4' T8EE/ELEE HBF",38,"Linear Fluorescent","L4'"]
[null,"T8 Reduced Wattage","1F32EEE"," 1L4' T8EE/ELEE  ",28,"Linear Fluorescent","L4'"]
[null,"T8 Reduced Wattage","1F32EEL"," 1L4' T8EE/ELEE LBF ",25,"Linear Fluorescent","L4'"]
[null,"T8 Reduced Wattage","2F32EEH"," 2L4' T8EE/ELEE  HBF  ",73,"Linear Fluorescent","L4'"]
[null,"T8 Reduced Wattage","2F32EEE"," 2L4' T8EE/ELEE  ",53,"Linear Fluorescent","L4'"]
[null,"T8 Reduced Wattage","2F32EEL"," 2L4' T8EE/ELEE LBF ",47,"Linear Fluorescent","L4'"]
[null,"T8 Reduced Wattage","3F32EEH"," 3L4' T8EE/ELEE HBF ",111,"Linear Fluorescent","L4'"]
[null,"T8 Reduced Wattage","3F32EEE"," 3L4' T8EE/ELEE  ",84,"Linear Fluorescent","L4'"]
[null,"T8 Reduced Wattage","3F32EEL"," 3L4' T8EE/ELEE LBF ",73,"Linear Fluorescent","L4'"]
[null,"T8 Reduced Wattage","4F32EEH"," 4L4' T8EE/ELEE HBF  ",146,"Linear Fluorescent","L4'"]
[null,"T8 Reduced Wattage","4F32EEE"," 4L4' T8EE/ELEE  ",108,"Linear Fluorescent","L4'"]
[null,"T8 Reduced Wattage","4F32EEL"," 4L4' T8EE/ELEE LBF",95,"Linear Fluorescent","L4'"]
[null,"Tandem Wired T8 Reduced Wattage","2W32EEE"," 2L4' TW T8EE/ELIG  ",27,"Linear Fluorescent","L4'"]
[null,"Tandem Wired T8 Reduced Wattage","2W32EEL"," 2L4' TW T8EE/ELEE LBF",24,"Linear Fluorescent","L4'"]
[null,"Tandem Wired T8 Reduced Wattage","3W32EEE"," 3L4' TW T8EE/ELIG  ",39,"Linear Fluorescent","L4'"]
[null,"Tandem Wired T8 Reduced Wattage","3W32EEL"," 3L4' TW T8EE/ELEE LBF ",34,"Linear Fluorescent","L4'"]
[null,"Tandem Wired T8 Reduced Wattage","4W32EEE"," 4L4' TW T8EE/ELIG  ",51,"Linear Fluorescent","L4'"]
[null,"Tandem Wired T8 Reduced Wattage","4W32EEL"," 4L4' TW T8EE/ELEE LBF",45,"Linear Fluorescent","L4'"]
[null,"Tandem-Wired Fluorescent Systems","2W32SSE"," 2L4' TW T8/ELIG  ",30,"Linear Fluorescent","L4'"]
[null,"Tandem-Wired Fluorescent Systems","2W32SSH"," 2L4' TW T8/ HBF  ",39,"Linear Fluorescent","L4'"]
[null,"Tandem-Wired Fluorescent Systems","2W40SEE"," 2L4' TW EE/ELIG  ",30,"Linear Fluorescent","L4'"]
[null,"Tandem-Wired Fluorescent Systems","2W40SSE"," 2L4' TW STD/ELIG  ",36,"Linear Fluorescent","L4'"]
[null,"Tandem-Wired Fluorescent Systems","2W59HSE"," 2L8' TW T8 HO/ELIG  ",80,"Linear Fluorescent","L8'"]
[null,"Tandem-Wired Fluorescent Systems","2W59SSE"," 2L8' TW T8/ELIG  ",55,"Linear Fluorescent","L8'"]
[null,"Tandem-Wired Fluorescent Systems","2W96HEE"," 2L8' TW HO-EE/ELIG  ",85,"Linear Fluorescent","L8'"]
[null,"Tandem-Wired Fluorescent Systems","2W96HSE"," 2L8' TW HO-STD/ELIG  ",98,"Linear Fluorescent","L8'"]
[null,"Tandem-Wired Fluorescent Systems","2W96SEE"," 2L8' TW EE/ELIG  ",55,"Linear Fluorescent","L8'"]
[null,"Tandem-Wired Fluorescent Systems","2W96SSE"," 2L8' TW STD/ELIG  ",67,"Linear Fluorescent","L8'"]
[null,"Tandem-Wired Fluorescent Systems","3W32SSE"," 3L4' TW T8/ELIG  ",29,"Linear Fluorescent","L4'"]
[null,"Tandem-Wired Fluorescent Systems","4D17SSE"," 4L2' TW T8/ELIG  ",31,"Linear Fluorescent","L2'"]
[null,"Tandem-Wired Fluorescent Systems","4D32EEE"," 4L4' DTW T8EE/ELIG  ",51,"Linear Fluorescent","L4'"]
[null,"Tandem-Wired Fluorescent Systems","4D32EEL"," 4L4' DTW T8EE/ELEE LBF ",45,"Linear Fluorescent","L4'"]
[null,"Tandem-Wired Fluorescent Systems","4D32SSE"," 4L4' DTW T8/ELIG  ",53,"Linear Fluorescent","L4'"]
[null,"Tandem-Wired Fluorescent Systems","4D32SSL"," 4L4 DTWT8/ELIG LBF ",49,"Linear Fluorescent","L4 "]
[null,"Tandem-Wired Fluorescent Systems","4W32SSE"," 4L4' TW T8/ELIG  ",27,"Linear Fluorescent","L4'"]
[null,"Tandem-Wired Fluorescent Systems","4W32SSL"," 4L4 TWT8/ELIG LBF  ",25,"Linear Fluorescent","L4 "]
[null,"Tandem-Wired Fluorescent Systems","6F32SHH"," 6L4' T8/ELIG HIGH LUMEN  HBF",234,"Linear Fluorescent","L4'"]
[null,"Three Foot Fluorescent Systems","1F25SSE"," 1L3'T8/ELIG  ",24,"Linear Fluorescent","L3'"]
[null,"Three Foot Fluorescent Systems","1F30SEM"," 1L3' EE/EEMAG  ",38,"Linear Fluorescent","L3'"]
[null,"Three Foot Fluorescent Systems","1F30SES"," 1L3' EE/STD  ",42,"Linear Fluorescent","L3'"]
[null,"Three Foot Fluorescent Systems","1F30SSS"," 1L3' STD/STD  ",46,"Linear Fluorescent","L3'"]
[null,"Three Foot Fluorescent Systems","2F25SSE"," 2L3' T8/ELIG  ",47,"Linear Fluorescent","L3'"]
[null,"Three Foot Fluorescent Systems","2F25SSM"," 2L3' T8/EEMAG  ",65,"Linear Fluorescent","L3'"]
[null,"Three Foot Fluorescent Systems","2F30SEE"," 2L3' EE/ELIG  ",49,"Linear Fluorescent","L3'"]
[null,"Three Foot Fluorescent Systems","2F30SEM"," 2L3' EE/EEMAG  ",66,"Linear Fluorescent","L3'"]
[null,"Three Foot Fluorescent Systems","2F30SES"," 2L3' EE/STD  ",73,"Linear Fluorescent","L3'"]
[null,"Three Foot Fluorescent Systems","2F30SSS"," 2L3' STD/STD  ",80,"Linear Fluorescent","L3'"]
[null,"Three Foot Fluorescent Systems","3F25SSE"," 3L3'T8/ELIG  ",68,"Linear Fluorescent","L3'"]
[null,"Three Foot Fluorescent Systems","3F30SES"," 3L3' EE/STD  ",127,"Linear Fluorescent","L3'"]
[null,"Three Foot Fluorescent Systems","3F30SSS"," 3L3' STD/STD  ",140,"Linear Fluorescent","L3'"]
[null,"Three Foot Fluorescent Systems","4F25SSE"," 4L3' T8/ELIG  ",88,"Linear Fluorescent","L3'"]
[null,"Three Foot Fluorescent Systems","4F30SEE"," 4L3' EE/ELIG  ",98,"Linear Fluorescent","L3'"]
[null,"Three Foot Fluorescent Systems","4F30SEM"," 4L3' EE/EEMAG  ",132,"Linear Fluorescent","L3'"]
[null,"Three Foot Fluorescent Systems","4F30SES"," 4L3' EE/STD  ",146,"Linear Fluorescent","L3'"]
[null,"Three Foot Fluorescent Systems","4F30SSS"," 4L3' STD/STD  ",160,"Linear Fluorescent","L3'"]
[null,"Two Foot Fluorescent Systems","1F17SSE"," 1L2'T8/ELIG  ",17,"Linear Fluorescent","L2'","1F20SSS"]
[null,"Two Foot Fluorescent Systems","1F20SSS"," F20T12/HPF(1)  ",32,"Linear Fluorescent","L2'"]
[null,"Two Foot Fluorescent Systems","1F40BXE"," 1L2' F40BX/ELIG  ",46,"Linear Fluorescent","L2'"]
[null,"Two Foot Fluorescent Systems","1F50BXE"," 1L2' F50BX/ELIG  ",54,"Linear Fluorescent","L2'"]
[null,"Two Foot Fluorescent Systems","1F55BXE"," 1L2' F55BX/ELIG  ",56,"Linear Fluorescent","L2'"]
[null,"Two Foot Fluorescent Systems","1F80BXE"," 1L2' F80BXE/ELIG  ",90,"Linear Fluorescent","L2'"]
[null,"Two Foot Fluorescent Systems","2F17SSE"," 2L2' T8/ELIG  ",37,"Linear Fluorescent","L2'","2F20SSS"]
[null,"Two Foot Fluorescent Systems","2F17SSL"," 2L2' T8/ELIG LBF  ",27,"Linear Fluorescent","L2'","2F20SSS"]
[null,"Two Foot Fluorescent Systems","2F17SSM"," 2L2' T8/EEMAG  ",45,"Linear Fluorescent","L2'","2F20SSS"]
[null,"Two Foot Fluorescent Systems","2F20SSS"," F20T12/HPF(2)  ",56,"Linear Fluorescent","L2'"]
[null,"Two Foot Fluorescent Systems","2F24HSS"," 2L2' HO/STD/STD  ",85,"Linear Fluorescent","L2'"]
[null,"Two Foot Fluorescent Systems","2F40BXE"," 2L2' F40BX/ELIG  ",72,"Linear Fluorescent","L2'"]
[null,"Two Foot Fluorescent Systems","2F50BXE"," 2L2' F50BX/ELIG  ",108,"Linear Fluorescent","L2'"]
[null,"Two Foot Fluorescent Systems","2F55BXE"," 2L2'55BXE/ELIG  ",112,"Linear Fluorescent","L2'"]
[null,"Two Foot Fluorescent Systems","3F17SSE"," 3L2' T8/ELIG  ",53,"Linear Fluorescent","L2'","3F20SSS"]
[null,"Two Foot Fluorescent Systems","3F17SSL"," 3L2' T8/ELIG LBF  ",39,"Linear Fluorescent","L2'","3F20SSS"]
[null,"Two Foot Fluorescent Systems","3F20SSS"," F20T12/HPF(3)  ",78,"Linear Fluorescent","L2'"]
[null,"Two Foot Fluorescent Systems","3F24HSE"," 3L4’ T5HO/ELIG  ",80,"Linear Fluorescent","L2'"]
[null,"Two Foot Fluorescent Systems","3F40BXE"," 3L2' F40BX/ELIG  ",102,"Linear Fluorescent","L2'"]
[null,"Two Foot Fluorescent Systems","3F50BXE"," 3L2' F50BX/ELIG  ",162,"Linear Fluorescent","L2'"]
[null,"Two Foot Fluorescent Systems","3F55BXE"," 3L2' F55BX/ELIG  ",168,"Linear Fluorescent","L2'"]
[null,"Two Foot Fluorescent Systems","4F17SSE"," 4L2' T8/ELIG  ",62,"Linear Fluorescent","L2'","4F20SSS"]
[null,"Two Foot Fluorescent Systems","4F20SSS"," F20T12/HPF(4)  ",104,"Linear Fluorescent","L2'"]
[null,"Two Foot Fluorescent Systems","4F36BXE"," 4L2' F36BX/ELIG  ",148,"Linear Fluorescent","L2'"]
[null,"Two Foot Fluorescent Systems","4F40BXE"," 4L2' F40BX/ELIG  ",144,"Linear Fluorescent","L2'"]
[null,"Two Foot Fluorescent Systems","4F40BXH"," 4L 40W T5 (Std.) HBF  ",170,"Linear Fluorescent","L2'"]
[null,"Two Foot Fluorescent Systems","4F50BXE"," 4L2' F50BX/ELIG  ",216,"Linear Fluorescent","L2'"]
[null,"Two Foot Fluorescent Systems","4F55BXE"," 4L2' F55BX/ELIG  ",224,"Linear Fluorescent","L2'"]
[null,"Two Foot Fluorescent Systems","5F40BXE"," 5L2' F40BX/ELIG  ",190,"Linear Fluorescent","L2'"]
[null,"Two Foot Fluorescent Systems","5F50BXE"," 5L2' F50BX/ELIG  ",270,"Linear Fluorescent","L2'"]
[null,"Two Foot Fluorescent Systems","5F55BXE"," 5L2' F55BX/ELIG  ",280,"Linear Fluorescent","L2'"]
[null,"Two Foot Fluorescent Systems","6F36BXE"," 6L2' F36BX/ELIG  ",212,"Linear Fluorescent","L2'"]
[null,"Two Foot Fluorescent Systems","6F40BXE"," 6L2' F40BX/ELIG  ",204,"Linear Fluorescent","L2'"]
[null,"Two Foot Fluorescent Systems","6F50BXE"," 6L2' F50BX/ELIG  ",324,"Linear Fluorescent","L2'"]
[null,"Two Foot Fluorescent Systems","6F55BXE"," 6L2' F55BX/ELIG  ",336,"Linear Fluorescent","L2'"]
[null,"Two Foot Fluorescent Systems","8F36BXE"," 8L2' F36BX/ELIG  ",296,"Linear Fluorescent","L2'"]
[null,"Two Foot Fluorescent Systems","8F40BXE"," 8L2' F40BX/ELIG  ",288,"Linear Fluorescent","L2'"]
[null,"Two Foot Fluorescent Systems","8F50BXE"," 8L2' F50BX/ELIG  ",432,"Linear Fluorescent","L2'"]
[null,"Two Foot Fluorescent Systems","8F55BXE"," 8L2' F55BX/ELIG  ",448,"Linear Fluorescent","L2'"]
[null,"Two Foot Fluorescent Systems","9F36BXE"," 9L2' F36BX/ELIG  ",318,"Linear Fluorescent","L2'"]
[null,"Two Foot Fluorescent Systems","9F40BXE"," 9L2' F40BX/ELIG  ",306,"Linear Fluorescent","L2'"]
[null,"Two Foot Fluorescent Systems","9F50BXE"," 9L2' F50BX/ELIG  ",486,"Linear Fluorescent","L2'"]
[null,"Two Foot Fluorescent Systems","9F55BXE"," 9L2' F55BX/ELIG  ",504,"Linear Fluorescent","L2'"]
[null,"Two Foot Fluorescent Systems","12F40BE"," 12L2' F40BX/ELIG  ",408,"Linear Fluorescent","L2'"]
[null,"Two Foot Fluorescent Systems","12F50BE"," 12L2' F50BX/ELIG  ",648,"Linear Fluorescent","L2'"]
[null,"Two Foot Fluorescent Systems","12F55BE"," 12L2' F55BX/ELIG  ",672,"Linear Fluorescent","L2'"]
[null,"Refrigeration Baseline Lighting","1RefrigBase","1 Refrigeration Fluorescent Baseline",72,"Fluorescent Refrigeration","L5'"]
[null,"LED Lighting in Reach-In Cases","1Cooler","1Pcimpact (Watts)",41,"Linear LED Lights","L5'"]
[null,"LED Lighting in Reach-In Cases","1Freezer","1Pcimpact (Watts)",41,"Linear LED Lights","L5'"]

{"sheet":"Version Tracking","index":16,"n_rows":44,"n_cols":5,"rows_kept":44,"cut":false,"hidden":true,"merged":[]}
[]
[]
[]
[null,"Current:",{"$f":"LOOKUP(2,1/(B1:B50001<>\"\"),B1:B50001)","v":10.199999999999999}]
[null,"Version","Notes","Date","Updated By"]
[null,"1.0","Initial creation of 2013 lighting tool for SCANA.","2013-03-07","CGO"]
[null,"1.1","Correct ficture incentive calc formula","2013-04-10","CGO"]
[null,"1.2","Make adjustment to MC fixture selection and min watts logic","2013-07-18","OOM"]
[null,"1.3","Make currection to lighting wattage table","2013-08-05","OOM"]
[null,"1.4","unpdate tool with new measure","2014-05-28","OOM"]
[null,"1.5","Minor updates for PY5","2015-02-11","Rick Campana"]
[null,"1.6","Update the CF for exterior fixtures","2015-02-19","OOM"]
[null,"2.0","Created tabs for the application form fields","2015-04-21","RMM"]
[null,"2.2","Updated various styles/language ","2015-05-11","JZ, RC, BH"]
[null,"2.3","Updated T&C with creditworthiness, added 4-6 week payment language","2015-07-27","JZ  "]
[null,"2.4","Jennier Mosser updates","2015-08-25","JZ/JM"]
[null,"2.5","Fixed cell on first tab, removed checkbox on Payment Instructions","2015-08-26","JZ"]
[null,"2.6","Fixed broken formula links and added T&C tab","2015-08-27","RMM and JZ"]
[null,"2.7","Formatted, added tab buttons, colored tabs, adjusted based on Jennifer's comments.","2015-10-21","RMM"]
[null,"2.8","Minor formating edits and content changes.","2015-10-21","Jennifer Mosser"]
[null,"2.9","Added reference to Orange tabs on Input Instruction tab #6.","2015-10-28","JZ"]
[null,"3.0","Changes to apply 5/16 Energy Algorithm Manual","2016-07-12","CGO"]
[null,"3.1","Move to per lamp TLED logic","2016-08-09","CGO"]
[null,"3.1a","Change TLED incentive to $7","2016-08-10","CGO"]
[null,"3.1b","Correct calculation error","2016-08-10","CGO"]
[null,"3.1c","Minor edits","2016-09-14","RC"]
[null,"3.1d","Minor edits","2016-10-14","RC"]
[null,"3.2","Fixed device qualification calculation","2016-11-29","RC"]
[null,"4.0","2017 Program changes","2017-01-05","CGO"]
[null,"4.1","Updated techincal requirements","2017-01-24","RC"]
[null,4.2,"Moved tech requirements, added primary contact","2017-01-25","jz"]
[null,4.3,"Add version number, highlight pre approval, fix measure code reference, add total project cost and cap","2017-01-31","JZ and CGO"]
[null,4.4000000000000004,"Fixed exit sign issue","2017-02-08","RC"]
[null,4.5,"Hid Min Watts column, fixed control qual on Input-RL","2017-02-10","CGO"]
[null,4.5999999999999996,"Fixed various issues","2017-03-17","RC"]
[null,4.7,"Fixed exit sign kWh calculation issue","2017-04-05","RC"]
[null,4.8,"Revised language and fixed buttons","2017-11-13","RC"]
[null,4.9000000000000004,"Fixed kW total calculation, other minor edits","2017-11-29","RC"]
[null,"5.0","updated W9 language","2018-01-04","RC"]
[null,5.0999999999999996,"Added fields for manufacturer and model number","2018-07-11","RC"]
[null,5.2,"Additional clarification regarding 50% cap","2018-01-28","RC"]
[null,5.3,"correct \"AEG Import\" csv issue","2020-08-19","CGO"]
[null,10.1,"Update Dominion branding, T&Cs, Controls only, ","2020-08-31","JSE"]
[null,10.199999999999999,"Included Total Project Cost Language. ","2020-09-23","JSE"]

{"sheet":"AEG Import - Ret","index":17,"n_rows":21,"n_cols":13,"rows_kept":21,"cut":false,"hidden":true,"merged":[]}
["I&C ID #","Measure #","Import?","Control_Type_sel","Elec_Util_cust_Incentive","Hrs_of_Use","kW_Impact","kW_Summer_Gross","kWh_Impact","quantity","Wattage"]
[{"$f":"'Input - Retrofit Lighting'!$M$11","v":0},101,{"$f":"IF(SUMIF('Input - Retrofit Lighting'!$G$25:$G$224,'AEG Import - Ret'!B2,'Input - Retrofit Lighting'!$R$25:$R$224)>0,\"Yes\",\"No\")","v":"No"},null,{"$f":"Validation!I21*'Measure Code Summary'!J$54/SUM('Measure Code Summary'!J$50:J$53,'Measure Code Summary'!J$47,'Measure Code Summary'!J$44)","v":{"$error":"#VALUE!"}},{"$f":"SUMIF('Input - Retrofit Lighting'!$G$25:$G$224,'AEG Import - Ret'!$B2,'Input - Retrofit Lighting'!$T$25:$T$224)","v":0},{"$f":"H2","v":0},{"$f":"SUMIF('Input - Retrofit Lighting'!$G$25:$G$224,'AEG Import - Ret'!$B2,'Input - Retrofit Lighting'!$AE$25:$AE$224)","v":0},{"$f":"SUMIF('Input - Retrofit Lighting'!$G$25:$G$224,'AEG Import - Ret'!$B2,'Input - Retrofit Lighting'!$AD$25:$AD$224)","v":0},{"$f":"SUMIF('Input - Retrofit Lighting'!$G$25:$G$224,'AEG Import - Ret'!$B2,'Input - Retrofit Lighting'!$AA$25:$AA$224)","v":0},{"$f":"SUMIF('Input - Retrofit Lighting'!$G$25:$G$224,'AEG Import - Ret'!$B2,'Input - Retrofit Lighting'!$AC$25:$AC$224)","v":0}]
[{"$f":"'Input - Retrofit Lighting'!$M$11","v":0},102,{"$f":"IF(SUMIF('Input - Retrofit Lighting'!$G$25:$G$224,'AEG Import - Ret'!B3,'Input - Retrofit Lighting'!$R$25:$R$224)>0,\"Yes\",\"No\")","v":"No"},null,{"$f":"Validation!I22*'Measure Code Summary'!J$54/SUM('Measure Code Summary'!J$50:J$53,'Measure Code Summary'!J$47,'Measure Code Summary'!J$44)","v":{"$error":"#VALUE!"}},{"$f":"SUMIF('Input - Retrofit Lighting'!$G$25:$G$224,'AEG Import - Ret'!$B3,'Input - Retrofit Lighting'!$T$25:$T$224)","v":0},0,{"$f":"SUMIF('Input - Retrofit Lighting'!$G$25:$G$224,'AEG Import - Ret'!$B3,'Input - Retrofit Lighting'!$AE$25:$AE$224)","v":0},{"$f":"SUMIF('Input - Retrofit Lighting'!$G$25:$G$224,'AEG Import - Ret'!$B3,'Input - Retrofit Lighting'!$AD$25:$AD$224)","v":0},{"$f":"SUMIF('Input - Retrofit Lighting'!$G$25:$G$224,'AEG Import - Ret'!$B3,'Input - Retrofit Lighting'!$AA$25:$AA$224)","v":0},{"$f":"SUMIF('Input - Retrofit Lighting'!$G$25:$G$224,'AEG Import - Ret'!$B3,'Input - Retrofit Lighting'!$AC$25:$AC$224)","v":0}]
[{"$f":"'Input - Retrofit Lighting'!$M$11","v":0},103,{"$f":"IF(SUMIF('Input - Retrofit Lighting'!$G$25:$G$224,'AEG Import - Ret'!B4,'Input - Retrofit Lighting'!$R$25:$R$224)>0,\"Yes\",\"No\")","v":"No"},null,{"$f":"Validation!I23*'Measure Code Summary'!J$54/SUM('Measure Code Summary'!J$50:J$53,'Measure Code Summary'!J$47,'Measure Code Summary'!J$44)","v":{"$error":"#VALUE!"}},{"$f":"SUMIF('Input - Retrofit Lighting'!$G$25:$G$224,'AEG Import - Ret'!$B4,'Input - Retrofit Lighting'!$T$25:$T$224)","v":0},0,{"$f":"SUMIF('Input - Retrofit Lighting'!$G$25:$G$224,'AEG Import - Ret'!$B4,'Input - Retrofit Lighting'!$AE$25:$AE$224)","v":0},{"$f":"SUMIF('Input - Retrofit Lighting'!$G$25:$G$224,'AEG Import - Ret'!$B4,'Input - Retrofit Lighting'!$AD$25:$AD$224)","v":0},{"$f":"SUMIF('Input - Retrofit Lighting'!$G$25:$G$224,'AEG Import - Ret'!$B4,'Input - Retrofit Lighting'!$AA$25:$AA$224)","v":0},{"$f":"SUMIF('Input - Retrofit Lighting'!$G$25:$G$224,'AEG Import - Ret'!$B4,'Input - Retrofit Lighting'!$AC$25:$AC$224)","v":0}]
[{"$f":"'Input - Retrofit Lighting'!$M$11","v":0},104,{"$f":"IF(SUMIF('Input - Retrofit Lighting'!$G$25:$G$224,'AEG Import - Ret'!B5,'Input - Retrofit Lighting'!$R$25:$R$224)>0,\"Yes\",\"No\")","v":"No"},null,{"$f":"Validation!I24*'Measure Code Summary'!J$54/SUM('Measure Code Summary'!J$50:J$53,'Measure Code Summary'!J$47,'Measure Code Summary'!J$44)","v":{"$error":"#VALUE!"}},{"$f":"SUMIF('Input - Retrofit Lighting'!$G$25:$G$224,'AEG Import - Ret'!$B5,'Input - Retrofit Lighting'!$T$25:$T$224)","v":0},0,{"$f":"SUMIF('Input - Retrofit Lighting'!$G$25:$G$224,'AEG Import - Ret'!$B5,'Input - Retrofit Lighting'!$AE$25:$AE$224)","v":0},{"$f":"SUMIF('Input - Retrofit Lighting'!$G$25:$G$224,'AEG Import - Ret'!$B5,'Input - Retrofit Lighting'!$AD$25:$AD$224)","v":0},{"$f":"SUMIF('Input - Retrofit Lighting'!$G$25:$G$224,'AEG Import - Ret'!$B5,'Input - Retrofit Lighting'!$AA$25:$AA$224)","v":0},{"$f":"SUMIF('Input - Retrofit Lighting'!$G$25:$G$224,'AEG Import - Ret'!$B5,'Input - Retrofit Lighting'!$AC$25:$AC$224)","v":0}]
[{"$f":"'Input - Retrofit Lighting'!$M$11","v":0},105,{"$f":"IF(SUMIF('Input - Retrofit Lighting'!$G$25:$G$224,'AEG Import - Ret'!B6,'Input - Retrofit Lighting'!$R$25:$R$224)>0,\"Yes\",\"No\")","v":"No"},null,{"$f":"Validation!I25*'Measure Code Summary'!J$54/SUM('Measure Code Summary'!J$50:J$53,'Measure Code Summary'!J$47,'Measure Code Summary'!J$44)","v":{"$error":"#VALUE!"}},{"$f":"SUMIF('Input - Retrofit Lighting'!$G$25:$G$224,'AEG Import - Ret'!$B6,'Input - Retrofit Lighting'!$T$25:$T$224)","v":0},0,{"$f":"SUMIF('Input - Retrofit Lighting'!$G$25:$G$224,'AEG Import - Ret'!$B6,'Input - Retrofit Lighting'!$AE$25:$AE$224)","v":0},{"$f":"SUMIF('Input - Retrofit Lighting'!$G$25:$G$224,'AEG Import - Ret'!$B6,'Input - Retrofit Lighting'!$AD$25:$AD$224)","v":0},{"$f":"SUMIF('Input - Retrofit Lighting'!$G$25:$G$224,'AEG Import - Ret'!$B6,'Input - Retrofit Lighting'!$AA$25:$AA$224)","v":0},{"$f":"SUMIF('Input - Retrofit Lighting'!$G$25:$G$224,'AEG Import - Ret'!$B6,'Input - Retrofit Lighting'!$AC$25:$AC$224)","v":0}]
[{"$f":"'Input - Retrofit Lighting'!$M$11","v":0},106,{"$f":"IF(SUMIF('Input - Retrofit Lighting'!$G$25:$G$224,'AEG Import - Ret'!B7,'Input - Retrofit Lighting'!$R$25:$R$224)>0,\"Yes\",\"No\")","v":"No"},null,{"$f":"Validation!I26*'Measure Code Summary'!J$54/SUM('Measure Code Summary'!J$50:J$53,'Measure Code Summary'!J$47,'Measure Code Summary'!J$44)","v":{"$error":"#VALUE!"}},{"$f":"SUMIF('Input - Retrofit Lighting'!$G$25:$G$224,'AEG Import - Ret'!$B7,'Input - Retrofit Lighting'!$T$25:$T$224)","v":0},0,{"$f":"SUMIF('Input - Retrofit Lighting'!$G$25:$G$224,'AEG Import - Ret'!$B7,'Input - Retrofit Lighting'!$AE$25:$AE$224)","v":0},{"$f":"SUMIF('Input - Retrofit Lighting'!$G$25:$G$224,'AEG Import - Ret'!$B7,'Input - Retrofit Lighting'!$AD$25:$AD$224)","v":0},{"$f":"SUMIF('Input - Retrofit Lighting'!$G$25:$G$224,'AEG Import - Ret'!$B7,'Input - Retrofit Lighting'!$AA$25:$AA$224)","v":0},{"$f":"SUMIF('Input - Retrofit Lighting'!$G$25:$G$224,'AEG Import - Ret'!$B7,'Input - Retrofit Lighting'!$AC$25:$AC$224)","v":0}]
[{"$f":"'Input - Retrofit Lighting'!$M$11","v":0},107,{"$f":"IF(SUMIF('Input - Retrofit Lighting'!$G$25:$G$224,'AEG Import - Ret'!B8,'Input - Retrofit Lighting'!$R$25:$R$224)>0,\"Yes\",\"No\")","v":"No"},null,{"$f":"Validation!I27*('Measure Code Summary'!J$54/SUM('Measure Code Summary'!J$50:J$53,'Measure Code Summary'!J$47,'Measure Code Summary'!J$44))","v":{"$error":"#VALUE!"}},{"$f":"SUMIF('Input - Retrofit Lighting'!$G$25:$G$224,'AEG Import - Ret'!$B8,'Input - Retrofit Lighting'!$T$25:$T$224)","v":0},0,{"$f":"SUMIF('Input - Retrofit Lighting'!$G$25:$G$224,'AEG Import - Ret'!$B8,'Input - Retrofit Lighting'!$AE$25:$AE$224)","v":0},{"$f":"SUMIF('Input - Retrofit Lighting'!$G$25:$G$224,'AEG Import - Ret'!$B8,'Input - Retrofit Lighting'!$AD$25:$AD$224)","v":0},{"$f":"SUMIF('Input - Retrofit Lighting'!$G$25:$G$224,'AEG Import - Ret'!$B8,'Input - Retrofit Lighting'!$AA$25:$AA$224)","v":0},{"$f":"SUMIF('Input - Retrofit Lighting'!$G$25:$G$224,'AEG Import - Ret'!$B8,'Input - Retrofit Lighting'!$AC$25:$AC$224)","v":0}]
[{"$f":"'Input - Retrofit Lighting'!$M$11","v":0},108,{"$f":"IF(SUMIF('Input - Retrofit Lighting'!$G$25:$G$224,'AEG Import - Ret'!B9,'Input - Retrofit Lighting'!$R$25:$R$224)>0,\"Yes\",\"No\")","v":"No"},null,{"$f":"Validation!I28*'Measure Code Summary'!J$54/SUM('Measure Code Summary'!J$50:J$53,'Measure Code Summary'!J$47,'Measure Code Summary'!J$44)","v":{"$error":"#VALUE!"}},{"$f":"SUMIF('Input - Retrofit Lighting'!$G$25:$G$224,'AEG Import - Ret'!$B9,'Input - Retrofit Lighting'!$T$25:$T$224)","v":0},0,{"$f":"SUMIF('Input - Retrofit Lighting'!$G$25:$G$224,'AEG Import - Ret'!$B9,'Input - Retrofit Lighting'!$AE$25:$AE$224)","v":0},{"$f":"SUMIF('Input - Retrofit Lighting'!$G$25:$G$224,'AEG Import - Ret'!$B9,'Input - Retrofit Lighting'!$AD$25:$AD$224)","v":0},{"$f":"SUMIF('Input - Retrofit Lighting'!$G$25:$G$224,'AEG Import - Ret'!$B9,'Input - Retrofit Lighting'!$AA$25:$AA$224)","v":0},{"$f":"SUMIF('Input - Retrofit Lighting'!$G$25:$G$224,'AEG Import - Ret'!$B9,'Input - Retrofit Lighting'!$AC$25:$AC$224)","v":0}]
[{"$f":"'Input - Retrofit Lighting'!$M$11","v":0},109,{"$f":"IF(SUMIF('Input - Retrofit Lighting'!$G$25:$G$224,'AEG Import - Ret'!B10,'Input - Retrofit Lighting'!$R$25:$R$224)>0,\"Yes\",\"No\")","v":"No"},null,{"$f":"Validation!I29*'Measure Code Summary'!J$54/SUM('Measure Code Summary'!J$50:J$53,'Measure Code Summary'!J$47,'Measure Code Summary'!J$44)","v":{"$error":"#VALUE!"}},{"$f":"SUMIF('Input - Retrofit Lighting'!$G$25:$G$224,'AEG Import - Ret'!$B10,'Input - Retrofit Lighting'!$T$25:$T$224)","v":0},0,{"$f":"SUMIF('Input - Retrofit Lighting'!$G$25:$G$224,'AEG Import - Ret'!$B10,'Input - Retrofit Lighting'!$AE$25:$AE$224)","v":0},{"$f":"SUMIF('Input - Retrofit Lighting'!$G$25:$G$224,'AEG Import - Ret'!$B10,'Input - Retrofit Lighting'!$AD$25:$AD$224)","v":0},{"$f":"SUMIF('Input - Retrofit Lighting'!$G$25:$G$224,'AEG Import - Ret'!$B10,'Input - Retrofit Lighting'!$AA$25:$AA$224)","v":0},{"$f":"SUMIF('Input - Retrofit Lighting'!$G$25:$G$224,'AEG Import - Ret'!$B10,'Input - Retrofit Lighting'!$AC$25:$AC$224)","v":0}]
[{"$f":"'Input - Retrofit Lighting'!$M$11","v":0},110,{"$f":"IF(SUMIF('Input - Retrofit Lighting'!$G$25:$G$224,'AEG Import - Ret'!B11,'Input - Retrofit Lighting'!$R$25:$R$224)>0,\"Yes\",\"No\")","v":"No"},null,{"$f":"Validation!I30*'Measure Code Summary'!J$54/SUM('Measure Code Summary'!J$50:J$53,'Measure Code Summary'!J$47,'Measure Code Summary'!J$44)","v":{"$error":"#VALUE!"}},{"$f":"SUMIF('Input - Retrofit Lighting'!$G$25:$G$224,'AEG Import - Ret'!$B11,'Input - Retrofit Lighting'!$T$25:$T$224)","v":0},0,{"$f":"SUMIF('Input - Retrofit Lighting'!$G$25:$G$224,'AEG Import - Ret'!$B11,'Input - Retrofit Lighting'!$AE$25:$AE$224)","v":0},{"$f":"SUMIF('Input - Retrofit Lighting'!$G$25:$G$224,'AEG Import - Ret'!$B11,'Input - Retrofit Lighting'!$AD$25:$AD$224)","v":0},{"$f":"SUMIF('Input - Retrofit Lighting'!$G$25:$G$224,'AEG Import - Ret'!$B11,'Input - Retrofit Lighting'!$AA$25:$AA$224)","v":0},{"$f":"SUMIF('Input - Retrofit Lighting'!$G$25:$G$224,'AEG Import - Ret'!$B11,'Input - Retrofit Lighting'!$AC$25:$AC$224)","v":0}]
[{"$f":"'Input - Retrofit Lighting'!$M$11","v":0},111,{"$f":"IF(SUMIF('Input - Retrofit Lighting'!$G$25:$G$224,'AEG Import - Ret'!B12,'Input - Retrofit Lighting'!$R$25:$R$224)>0,\"Yes\",\"No\")","v":"No"},null,{"$f":"Validation!I31*'Measure Code Summary'!J$54/SUM('Measure Code Summary'!J$50:J$53,'Measure Code Summary'!J$47,'Measure Code Summary'!J$44)","v":{"$error":"#VALUE!"}},{"$f":"SUMIF('Input - Retrofit Lighting'!$G$25:$G$224,'AEG Import - Ret'!$B12,'Input - Retrofit Lighting'!$T$25:$T$224)","v":0},0,{"$f":"SUMIF('Input - Retrofit Lighting'!$G$25:$G$224,'AEG Import - Ret'!$B12,'Input - Retrofit Lighting'!$AE$25:$AE$224)","v":0},{"$f":"SUMIF('Input - Retrofit Lighting'!$G$25:$G$224,'AEG Import - Ret'!$B12,'Input - Retrofit Lighting'!$AD$25:$AD$224)","v":0},{"$f":"SUMIF('Input - Retrofit Lighting'!$G$25:$G$224,'AEG Import - Ret'!$B12,'Input - Retrofit Lighting'!$AA$25:$AA$224)","v":0},{"$f":"SUMIF('Input - Retrofit Lighting'!$G$25:$G$224,'AEG Import - Ret'!$B12,'Input - Retrofit Lighting'!$AC$25:$AC$224)","v":0}]
[{"$f":"'Input - Retrofit Lighting'!$M$11","v":0},"90C",{"$f":"IF(SUMIF('Input - Retrofit Lighting'!$G$25:$G$224,'AEG Import - Ret'!B13,'Input - Retrofit Lighting'!$R$25:$R$224)>0,\"Yes\",\"No\")","v":"No"},null,{"$f":"'Measure Code Summary'!J47*'Measure Code Summary'!J$54/SUM('Measure Code Summary'!J$50:J$53,'Measure Code Summary'!J$47,'Measure Code Summary'!J$44)","v":{"$error":"#VALUE!"}},{"$f":"SUMIF('Input - Retrofit Lighting'!$G$25:$G$224,'AEG Import - Ret'!$B13,'Input - Retrofit Lighting'!$T$25:$T$224)","v":0},0,{"$f":"SUMIF('Input - Retrofit Lighting'!$G$25:$G$224,'AEG Import - Ret'!$B13,'Input - Retrofit Lighting'!$AE$25:$AE$224)","v":0},{"$f":"SUMIF('Input - Retrofit Lighting'!$G$25:$G$224,'AEG Import - Ret'!$B13,'Input - Retrofit Lighting'!$AD$25:$AD$224)","v":0},{"$f":"SUMIF('Input - Retrofit Lighting'!$G$25:$G$224,'AEG Import - Ret'!$B13,'Input - Retrofit Lighting'!$AA$25:$AA$224)","v":0},{"$f":"SUMIF('Input - Retrofit Lighting'!$G$25:$G$224,'AEG Import - Ret'!$B13,'Input - Retrofit Lighting'!$AC$25:$AC$224)","v":0}]
[{"$f":"'Input - Retrofit Lighting'!$M$11","v":0},"80A",{"$f":"IF(SUMIF('Input - Retrofit Lighting'!$U$25:$U$224,'AEG Import - Ret'!B14,'Input - Retrofit Lighting'!$W$25:$W$224)>0,\"Yes\",\"No\")","v":"No"},{"$f":"INDEX(Validation!$T$7:$T$10,MATCH($B14,Validation!$S$7:$S$10,0))","v":"Occupancy Control: Wall Switch Replacement"},{"$f":"'Measure Code Summary'!I50*'Measure Code Summary'!J$54/SUM('Measure Code Summary'!J$50:J$53,'Measure Code Summary'!J$47,'Measure Code Summary'!J$44)","v":{"$error":"#VALUE!"}},{"$f":"SUMIF('Input - Retrofit Lighting'!$U$25:$U$224,'AEG Import - Ret'!$B14,'Input - Retrofit Lighting'!$T$25:$T$224)","v":0},0,{"$f":"SUMIF('Input - Retrofit Lighting'!$U$25:$U$224,'AEG Import - Ret'!$B14,'Input - Retrofit Lighting'!$AI$25:$AI$224)","v":0},{"$f":"SUMIF('Input - Retrofit Lighting'!$U$25:$U$224,'AEG Import - Ret'!$B14,'Input - Retrofit Lighting'!$AH$25:$AH$224)","v":0},{"$f":"SUMIF('Input - Retrofit Lighting'!$U$25:$U$224,'AEG Import - Ret'!$B14,'Input - Retrofit Lighting'!$AB$25:$AB$224)","v":0},{"$f":"SUMIF('Input - Retrofit Lighting'!$U$25:$U$224,'AEG Import - Ret'!$B14,'Input - Retrofit Lighting'!$AC$25:$AC$224)","v":0}]
[{"$f":"'Input - Retrofit Lighting'!$M$11","v":0},"80B",{"$f":"IF(SUMIF('Input - Retrofit Lighting'!$U$25:$U$224,'AEG Import - Ret'!B15,'Input - Retrofit Lighting'!$W$25:$W$224)>0,\"Yes\",\"No\")","v":"No"},{"$f":"INDEX(Validation!$T$7:$T$10,MATCH($B15,Validation!$S$7:$S$10,0))","v":"Occupancy Control: Ceiling / Wall Mount"},{"$f":"'Measure Code Summary'!I51*'Measure Code Summary'!J$54/SUM('Measure Code Summary'!J$50:J$53,'Measure Code Summary'!J$47,'Measure Code Summary'!J$44)","v":{"$error":"#VALUE!"}},{"$f":"SUMIF('Input - Retrofit Lighting'!$U$25:$U$224,'AEG Import - Ret'!$B15,'Input - Retrofit Lighting'!$T$25:$T$224)","v":0},0,{"$f":"SUMIF('Input - Retrofit Lighting'!$U$25:$U$224,'AEG Import - Ret'!$B15,'Input - Retrofit Lighting'!$AI$25:$AI$224)","v":0},{"$f":"SUMIF('Input - Retrofit Lighting'!$U$25:$U$224,'AEG Import - Ret'!$B15,'Input - Retrofit Lighting'!$AH$25:$AH$224)","v":0},{"$f":"SUMIF('Input - Retrofit Lighting'!$U$25:$U$224,'AEG Import - Ret'!$B15,'Input - Retrofit Lighting'!$AB$25:$AB$224)","v":0},{"$f":"SUMIF('Input - Retrofit Lighting'!$U$25:$U$224,'AEG Import - Ret'!$B15,'Input - Retrofit Lighting'!$AC$25:$AC$224)","v":0}]
[{"$f":"'Input - Retrofit Lighting'!$M$11","v":0},"80C",{"$f":"IF(SUMIF('Input - Retrofit Lighting'!$U$25:$U$224,'AEG Import - Ret'!B16,'Input - Retrofit Lighting'!$W$25:$W$224)>0,\"Yes\",\"No\")","v":"No"},{"$f":"INDEX(Validation!$T$7:$T$10,MATCH($B16,Validation!$S$7:$S$10,0))","v":"Occupancy Control: \nFixture Mounted/High Bay"},{"$f":"'Measure Code Summary'!I52*'Measure Code Summary'!J$54/SUM('Measure Code Summary'!J$50:J$53,'Measure Code Summary'!J$47,'Measure Code Summary'!J$44)","v":{"$error":"#VALUE!"}},{"$f":"SUMIF('Input - Retrofit Lighting'!$U$25:$U$224,'AEG Import - Ret'!$B16,'Input - Retrofit Lighting'!$T$25:$T$224)","v":0},0,{"$f":"SUMIF('Input - Retrofit Lighting'!$U$25:$U$224,'AEG Import - Ret'!$B16,'Input - Retrofit Lighting'!$AI$25:$AI$224)","v":0},{"$f":"SUMIF('Input - Retrofit Lighting'!$U$25:$U$224,'AEG Import - Ret'!$B16,'Input - Retrofit Lighting'!$AH$25:$AH$224)","v":0},{"$f":"SUMIF('Input - Retrofit Lighting'!$U$25:$U$224,'AEG Import - Ret'!$B16,'Input - Retrofit Lighting'!$AB$25:$AB$224)","v":0},{"$f":"SUMIF('Input - Retrofit Lighting'!$U$25:$U$224,'AEG Import - Ret'!$B16,'Input - Retrofit Lighting'!$AC$25:$AC$224)","v":0}]
[{"$f":"'Input - Retrofit Lighting'!$M$11","v":0},"80E",{"$f":"IF(SUMIF('Input - Retrofit Lighting'!$U$25:$U$224,'AEG Import - Ret'!B17,'Input - Retrofit Lighting'!$W$25:$W$224)>0,\"Yes\",\"No\")","v":"No"},{"$f":"INDEX(Validation!$T$7:$T$10,MATCH($B17,Validation!$S$7:$S$10,0))","v":"Daylight Control/Harvesting (On/Off)"},{"$f":"'Measure Code Summary'!I53*'Measure Code Summary'!J$54/SUM('Measure Code Summary'!J$50:J$53,'Measure Code Summary'!J$47,'Measure Code Summary'!J$44)","v":{"$error":"#VALUE!"}},{"$f":"SUMIF('Input - Retrofit Lighting'!$U$25:$U$224,'AEG Import - Ret'!$B17,'Input - Retrofit Lighting'!$T$25:$T$224)","v":0},0,{"$f":"SUMIF('Input - Retrofit Lighting'!$U$25:$U$224,'AEG Import - Ret'!$B17,'Input - Retrofit Lighting'!$AI$25:$AI$224)","v":0},{"$f":"SUMIF('Input - Retrofit Lighting'!$U$25:$U$224,'AEG Import - Ret'!$B17,'Input - Retrofit Lighting'!$AH$25:$AH$224)","v":0},{"$f":"SUMIF('Input - Retrofit Lighting'!$U$25:$U$224,'AEG Import - Ret'!$B17,'Input - Retrofit Lighting'!$AB$25:$AB$224)","v":0},{"$f":"SUMIF('Input - Retrofit Lighting'!$U$25:$U$224,'AEG Import - Ret'!$B17,'Input - Retrofit Lighting'!$AC$25:$AC$224)","v":0}]
[]
[]
[]
[null,null,null,null,null,null,null,null,null,null,null,null,{"$f":"'Measure Code Summary'!J$54/SUM('Measure Code Summary'!J$50:J$53,'Measure Code Summary'!J$47,'Measure Code Summary'!J$44)","v":{"$error":"#VALUE!"}}]

{"sheet":"AEG Import - Con","index":18,"n_rows":17,"n_cols":11,"rows_kept":17,"cut":false,"hidden":true,"merged":[[19,2,20,2],[17,6,18,6],[17,4,18,4],[17,3,18,3],[19,7,20,7],[17,9,18,9],[17,5,18,5],[17,0,18,0],[17,1,18,1],[17,2,18,2],[19,3,20,3],[19,4,20,4],[19,0,20,0],[19,1,20,1],[17,10,18,10],[21,5,22,5],[19,9,20,9],[19,10,20,10],[19,5,20,5],[21,6,22,6],[21,7,22,7],[21,10,22,10],[21,9,22,9],[17,7,18,7],[21,3,22,3],[19,6,20,6],[29,10,30,10],[23,1,24,1],[23,2,24,2],[21,0,22,0],[21,1,22,1],[21,2,22,2],[21,4,22,4],[23,5,24,5],[23,3,24,3],[23,10,24,10],[23,4,24,4],[25,4,26,4],[23,9,24,9],[27,0,28,0],[27,1,28,1],[27,2,28,2],[23,6,24,6],[23,7,24,7],[23,0,24,0],[25,7,26,7],[25,0,26,0],[25,1,26,1],[25,2,26,2],[25,3,26,3],[25,10,26,10],[25,5,26,5],[25,6,26,6],[25,9,26,9],[27,3,28,3],[27,4,28,4],[33,5,34,5],[29,7,30,7],[31,7,32,7],[31,6,32,6],[33,0,34,0],[33,1,34,1],[33,2,34,2],[33,3,34,3],[35,0,36,0],[35,1,36,1],[35,2,36,2],[31,4,32,4],[33,4,34,4],[35,3,36,3],[35,9,36,9],[29,6,30,6],[27,10,28,10],[27,6,28,6],[27,7,28,7],[27,5,28,5],[29,3,30,3],[31,0,32,0],[31,1,32,1],[31,2,32,2],[27,9,28,9],[29,4,30,4],[29,0,30,0],[29,1,30,1],[29,2,30,2],[29,9,30,9],[29,5,30,5],[31,3,32,3],[33,10,34,10],[35,5,36,5],[33,7,34,7],[35,6,36,6],[33,6,34,6],[31,10,32,10],[37,1,38,1],[37,2,38,2],[35,10,36,10],[35,7,36,7],[37,9,38,9],[37,10,38,10],[39,0,40,0],[39,1,40,1],[39,2,40,2],[37,6,38,6],[35,4,36,4],[37,4,38,4],[37,5,38,5],[39,3,40,3],[37,3,38,3],[37,0,38,0],[39,9,40,9],[37,7,38,7],[39,6,40,6],[39,5,40,5],[39,4,40,4],[39,10,40,10],[39,7,40,7],[33,9,34,9],[31,5,32,5],[31,9,32,9],[41,10,42,10],[41,9,42,9],[41,6,42,6],[43,9,44,9],[41,5,42,5],[43,5,44,5],[41,0,42,0],[41,1,42,1],[41,2,42,2],[41,4,42,4],[43,4,44,4],[41,7,42,7],[41,3,42,3],[45,0,46,0],[45,1,46,1],[45,2,46,2],[45,4,46,4],[45,3,46,3],[43,0,44,0],[43,1,44,1],[43,2,44,2],[45,10,46,10],[45,9,46,9],[45,6,46,6],[45,7,46,7],[43,3,44,3],[43,10,44,10],[45,5,46,5],[43,6,44,6],[43,7,44,7],[47,3,48,3],[49,4,50,4],[47,10,48,10],[47,9,48,9],[47,4,48,4],[49,3,50,3],[49,6,50,6],[47,5,48,5],[47,6,48,6],[47,7,48,7],[49,0,50,0],[49,1,50,1],[49,2,50,2],[47,0,48,0],[47,1,48,1],[47,2,48,2],[49,5,50,5],[49,9,50,9],[49,10,50,10],[49,7,50,7],[53,2,54,2],[51,3,52,3],[51,7,52,7],[53,6,54,6],[53,4,54,4],[51,9,52,9],[51,5,52,5],[51,6,52,6],[51,4,52,4],[51,10,52,10],[53,0,54,0],[53,1,54,1],[53,10,54,10],[51,0,52,0],[51,1,52,1],[51,2,52,2],[55,0,56,0],[55,1,56,1],[55,2,56,2],[53,7,54,7],[53,5,54,5],[53,3,54,3],[55,3,56,3],[55,10,56,10],[53,9,54,9],[55,9,56,9],[55,5,56,5],[57,4,58,4],[55,6,56,6],[55,7,56,7],[55,4,56,4],[57,6,58,6],[57,5,58,5],[57,0,58,0],[57,1,58,1],[57,2,58,2],[57,3,58,3],[59,0,60,0],[59,1,60,1],[59,2,60,2],[57,10,58,10],[59,3,60,3],[57,7,58,7],[57,9,58,9],[59,10,60,10],[59,9,60,9],[59,6,60,6],[59,7,60,7],[59,4,60,4],[65,9,66,9],[67,10,68,10],[61,7,62,7],[59,5,60,5],[61,0,62,0],[61,1,62,1],[61,2,62,2],[61,3,62,3],[61,4,62,4],[61,10,62,10],[63,7,64,7],[63,6,64,6],[63,9,64,9],[61,9,62,9],[63,10,64,10],[63,5,64,5],[61,5,62,5],[61,6,62,6],[63,2,64,2],[69,10,70,10],[71,3,72,3],[71,4,72,4],[71,10,72,10],[71,9,72,9],[71,7,72,7],[69,4,70,4],[69,9,70,9],[71,6,72,6],[71,5,72,5],[65,5,66,5],[65,0,66,0],[65,1,66,1],[65,2,66,2],[65,3,66,3],[63,4,64,4],[67,0,68,0],[67,1,68,1],[67,2,68,2],[67,3,68,3],[63,3,64,3],[67,6,68,6],[67,4,68,4],[65,4,66,4],[63,0,64,0],[63,1,64,1],[65,10,66,10],[67,5,68,5],[67,9,68,9],[67,7,68,7],[65,7,66,7],[65,6,66,6],[77,9,78,9],[77,0,78,0],[77,1,78,1],[77,2,78,2],[77,7,78,7],[77,4,78,4],[77,3,78,3],[69,3,70,3],[69,7,70,7],[71,0,72,0],[71,1,72,1],[71,2,72,2],[69,0,70,0],[69,1,70,1],[69,2,70,2],[69,6,70,6],[69,5,70,5],[81,9,82,9],[83,3,84,3],[81,3,82,3],[83,6,84,6],[83,4,84,4],[83,5,84,5],[83,7,84,7],[83,10,84,10],[83,9,84,9],[75,0,76,0],[75,1,76,1],[75,2,76,2],[73,0,74,0],[73,1,74,1],[73,2,74,2],[73,3,74,3],[73,10,74,10],[75,3,76,3],[73,4,74,4],[73,6,74,6],[73,5,74,5],[73,9,74,9],[75,9,76,9],[73,7,74,7],[77,6,78,6],[75,6,76,6],[75,5,76,5],[75,4,76,4],[75,10,76,10],[77,5,78,5],[77,10,78,10],[75,7,76,7],[85,0,86,0],[85,1,86,1],[85,10,86,10],[87,3,88,3],[87,4,88,4],[85,7,86,7],[85,9,86,9],[87,10,88,10],[87,9,88,9],[85,3,86,3],[87,7,88,7],[79,7,80,7],[79,6,80,6],[79,4,80,4],[79,5,80,5],[79,9,80,9],[81,4,82,4],[79,10,80,10],[83,0,84,0],[83,1,84,1],[83,2,84,2],[81,0,82,0],[81,1,82,1],[81,2,82,2],[81,5,82,5],[79,0,80,0],[79,1,80,1],[79,2,80,2],[81,7,82,7],[81,6,82,6],[79,3,80,3],[81,10,82,10],[89,7,90,7],[87,6,88,6],[87,5,88,5],[89,5,90,5],[85,2,86,2],[85,6,86,6],[91,0,92,0],[91,1,92,1],[91,2,92,2],[89,0,90,0],[89,1,90,1],[89,2,90,2],[89,9,90,9],[91,9,92,9],[91,10,92,10],[93,10,94,10],[91,7,92,7],[89,3,90,3],[89,10,90,10],[91,3,92,3],[89,6,90,6],[89,4,90,4],[91,5,92,5],[91,4,92,4],[93,5,94,5],[93,6,94,6],[85,4,86,4],[93,9,94,9],[85,5,86,5],[87,0,88,0],[87,1,88,1],[87,2,88,2],[91,6,92,6],[93,0,94,0],[93,1,94,1],[93,2,94,2],[93,7,94,7],[93,4,94,4],[95,4,96,4],[93,3,94,3],[95,7,96,7],[95,0,96,0],[95,1,96,1],[99,0,100,0],[99,1,100,1],[99,2,100,2],[97,0,98,0],[97,1,98,1],[97,2,98,2],[95,2,96,2],[97,7,98,7],[97,6,98,6],[97,10,98,10],[97,9,98,9],[95,3,96,3],[97,4,98,4],[95,10,96,10],[97,5,98,5],[95,5,96,5],[99,3,100,3],[101,3,102,3],[97,3,98,3],[99,5,100,5],[99,7,100,7],[101,5,102,5],[99,10,100,10],[101,4,102,4],[99,6,100,6],[103,0,104,0],[103,1,104,1],[103,2,104,2],[101,0,102,0],[101,1,102,1],[101,2,102,2],[101,6,102,6],[99,9,100,9],[99,4,100,4],[101,7,102,7],[95,6,96,6],[95,9,96,9],[105,7,106,7],[103,6,104,6],[103,5,104,5],[101,9,102,9],[101,10,102,10],[103,3,104,3],[103,4,104,4],[103,9,104,9],[103,10,104,10],[105,10,106,10],[103,7,104,7],[105,0,106,0],[105,1,106,1],[105,2,106,2],[107,3,108,3],[105,3,106,3],[107,0,108,0],[107,1,108,1],[105,9,106,9],[107,9,108,9],[107,6,108,6],[105,6,106,6],[107,5,108,5],[107,4,108,4],[105,4,106,4],[105,5,106,5],[109,0,110,0],[109,1,110,1],[109,2,110,2],[109,7,110,7],[109,4,110,4],[107,2,108,2],[109,6,110,6],[109,9,110,9],[111,4,112,4],[109,3,110,3],[111,9,112,9],[107,10,108,10],[109,10,110,10],[109,5,110,5],[107,7,108,7],[111,10,112,10],[115,0,116,0],[115,1,116,1],[115,2,116,2],[113,0,114,0],[113,1,114,1],[113,2,114,2],[113,5,114,5],[111,5,112,5],[111,7,112,7],[111,0,112,0],[111,1,112,1],[111,2,112,2],[113,7,114,7],[113,6,114,6],[111,3,112,3],[113,4,114,4],[111,6,112,6],[113,10,114,10],[113,9,114,9],[115,3,116,3],[113,3,114,3],[115,6,116,6],[115,4,116,4],[115,5,116,5],[115,7,116,7],[115,10,116,10],[117,4,118,4],[115,9,116,9],[117,5,118,5],[119,0,120,0],[119,1,120,1],[119,2,120,2],[117,0,118,0],[117,1,118,1],[117,10,118,10],[119,3,120,3],[119,4,120,4],[117,7,118,7],[117,9,118,9],[119,10,120,10],[119,9,120,9],[117,3,118,3],[119,7,120,7],[121,7,122,7],[119,6,120,6],[119,5,120,5],[121,5,122,5],[117,2,118,2],[117,6,118,6],[123,0,124,0],[123,1,124,1],[123,2,124,2],[121,0,122,0],[121,1,122,1],[121,2,122,2],[121,9,122,9],[123,9,124,9],[123,10,124,10],[125,10,126,10],[123,7,124,7],[121,3,122,3],[121,10,122,10],[123,3,124,3],[121,6,122,6],[121,4,122,4],[123,5,124,5],[123,4,124,4],[125,5,126,5],[125,6,126,6],[125,9,126,9],[123,6,124,6],[125,0,126,0],[125,1,126,1],[125,2,126,2],[125,7,126,7],[125,4,126,4],[127,4,128,4],[125,3,126,3],[127,7,128,7],[127,0,128,0],[127,1,128,1],[131,0,132,0],[131,1,132,1],[131,2,132,2],[129,0,130,0],[129,1,130,1],[129,2,130,2],[127,2,128,2],[129,7,130,7],[129,6,130,6],[129,10,130,10],[129,9,130,9],[127,3,128,3],[129,4,130,4],[127,10,128,10],[129,5,130,5],[127,5,128,5],[131,3,132,3],[127,6,128,6],[127,9,128,9],[129,3,130,3],[131,5,132,5],[131,7,132,7],[131,10,132,10],[131,6,132,6],[131,9,132,9],[131,4,132,4],[133,10,134,10],[135,3,136,3],[135,4,136,4],[135,9,136,9],[135,10,136,10],[137,10,138,10],[135,7,136,7],[137,0,138,0],[137,1,138,1],[137,2,138,2],[139,3,140,3],[137,3,138,3],[139,0,140,0],[139,1,140,1],[137,9,138,9],[139,9,140,9],[139,6,140,6],[137,6,138,6],[139,5,140,5],[139,4,140,4],[137,4,138,4],[137,5,138,5],[133,3,134,3],[141,0,142,0],[141,1,142,1],[141,2,142,2],[141,7,142,7],[141,4,142,4],[139,2,140,2],[141,6,142,6],[141,9,142,9],[133,5,134,5],[133,4,134,4],[135,0,136,0],[135,1,136,1],[135,2,136,2],[133,0,134,0],[133,1,134,1],[133,2,134,2],[133,6,134,6],[133,7,134,7],[137,7,138,7],[135,6,136,6],[135,5,136,5],[133,9,134,9],[143,4,144,4],[141,3,142,3],[143,9,144,9],[139,10,140,10],[141,10,142,10],[141,5,142,5],[139,7,140,7],[143,10,144,10],[147,0,148,0],[147,1,148,1],[147,2,148,2],[145,0,146,0],[145,1,146,1],[145,2,146,2],[145,5,146,5],[143,5,144,5],[143,7,144,7],[143,0,144,0],[143,1,144,1],[143,2,144,2],[145,7,146,7],[145,6,146,6],[143,3,144,3],[145,4,146,4],[143,6,144,6],[145,10,146,10],[145,9,146,9],[147,3,148,3],[145,3,146,3],[147,6,148,6],[147,4,148,4],[147,5,148,5],[147,7,148,7],[147,10,148,10],[149,4,150,4],[147,9,148,9],[149,5,150,5],[151,0,152,0],[151,1,152,1],[151,2,152,2],[149,0,150,0],[149,1,150,1],[149,10,150,10],[151,3,152,3],[151,4,152,4],[149,7,150,7],[149,9,150,9],[151,10,152,10],[151,9,152,9],[149,3,150,3],[151,7,152,7],[153,7,154,7],[151,6,152,6],[151,5,152,5],[153,5,154,5],[149,2,150,2],[149,6,150,6],[155,0,156,0],[155,1,156,1],[155,2,156,2],[153,0,154,0],[153,1,154,1],[153,2,154,2],[153,9,154,9],[155,9,156,9],[155,10,156,10],[157,10,158,10],[155,7,156,7],[153,3,154,3],[153,10,154,10],[155,3,156,3],[153,6,154,6],[153,4,154,4],[155,5,156,5],[155,4,156,4],[157,5,158,5],[157,6,158,6],[157,9,158,9],[155,6,156,6],[157,0,158,0],[157,1,158,1],[157,2,158,2],[157,7,158,7],[157,4,158,4],[159,4,160,4],[157,3,158,3],[159,7,160,7],[159,0,160,0],[159,1,160,1],[163,0,164,0],[163,1,164,1],[163,2,164,2],[161,0,162,0],[161,1,162,1],[161,2,162,2],[159,2,160,2],[161,7,162,7],[161,6,162,6],[161,10,162,10],[161,9,162,9],[159,3,160,3],[161,4,162,4],[159,10,160,10],[161,5,162,5],[159,5,160,5],[163,3,164,3],[159,6,160,6],[159,9,160,9],[161,3,162,3],[163,5,164,5],[163,7,164,7],[163,10,164,10],[163,6,164,6],[163,9,164,9],[163,4,164,4],[165,10,166,10],[167,3,168,3],[167,4,168,4],[167,9,168,9],[167,10,168,10],[169,10,170,10],[167,7,168,7],[169,0,170,0],[169,1,170,1],[169,2,170,2],[171,3,172,3],[169,3,170,3],[171,0,172,0],[171,1,172,1],[169,9,170,9],[171,9,172,9],[171,6,172,6],[169,6,170,6],[171,5,172,5],[171,4,172,4],[169,4,170,4],[169,5,170,5],[165,3,166,3],[173,0,174,0],[173,1,174,1],[173,2,174,2],[173,7,174,7],[173,4,174,4],[171,2,172,2],[173,6,174,6],[173,9,174,9],[165,5,166,5],[165,4,166,4],[167,0,168,0],[167,1,168,1],[167,2,168,2],[165,0,166,0],[165,1,166,1],[165,2,166,2],[165,6,166,6],[165,7,166,7],[169,7,170,7],[167,6,168,6],[167,5,168,5],[165,9,166,9],[175,4,176,4],[173,3,174,3],[175,9,176,9],[171,10,172,10],[173,10,174,10],[173,5,174,5],[171,7,172,7],[175,10,176,10],[179,0,180,0],[179,1,180,1],[179,2,180,2],[177,0,178,0],[177,1,178,1],[177,2,178,2],[177,5,178,5],[175,5,176,5],[175,7,176,7],[175,0,176,0],[175,1,176,1],[175,2,176,2],[177,7,178,7],[177,6,178,6],[175,3,176,3],[177,4,178,4],[175,6,176,6],[177,10,178,10],[177,9,178,9],[179,3,180,3],[177,3,178,3],[179,6,180,6],[179,4,180,4],[179,5,180,5],[179,7,180,7],[179,10,180,10],[181,4,182,4],[179,9,180,9],[181,5,182,5],[183,0,184,0],[183,1,184,1],[183,2,184,2],[181,0,182,0],[181,1,182,1],[181,10,182,10],[183,3,184,3],[183,4,184,4],[181,7,182,7],[181,9,182,9],[183,10,184,10],[183,9,184,9],[181,3,182,3],[183,7,184,7],[185,7,186,7],[183,6,184,6],[183,5,184,5],[185,5,186,5],[181,2,182,2],[181,6,182,6],[187,0,188,0],[187,1,188,1],[187,2,188,2],[185,0,186,0],[185,1,186,1],[185,2,186,2],[185,9,186,9],[187,9,188,9],[187,10,188,10],[189,10,190,10],[187,7,188,7],[185,3,186,3],[185,10,186,10],[187,3,188,3],[185,6,186,6],[185,4,186,4],[187,5,188,5],[187,4,188,4],[189,5,190,5],[189,6,190,6],[189,9,190,9],[187,6,188,6],[189,0,190,0],[189,1,190,1],[189,2,190,2],[189,7,190,7],[189,4,190,4],[191,4,192,4],[189,3,190,3],[191,7,192,7],[191,0,192,0],[191,1,192,1],[195,0,196,0],[195,1,196,1],[195,2,196,2],[193,0,194,0],[193,1,194,1],[193,2,194,2],[191,2,192,2],[193,7,194,7],[193,6,194,6],[193,10,194,10],[193,9,194,9],[191,3,192,3],[193,4,194,4],[191,10,192,10],[193,5,194,5],[191,5,192,5],[195,3,196,3],[191,6,192,6],[191,9,192,9],[193,3,194,3],[195,5,196,5],[195,7,196,7],[195,10,196,10],[195,6,196,6],[195,9,196,9],[195,4,196,4],[197,10,198,10],[199,3,200,3],[199,4,200,4],[199,9,200,9],[199,10,200,10],[201,10,202,10],[199,7,200,7],[201,0,202,0],[201,1,202,1],[201,2,202,2],[203,3,204,3],[201,3,202,3],[203,0,204,0],[203,1,204,1],[201,9,202,9],[203,9,204,9],[203,6,204,6],[201,6,202,6],[203,5,204,5],[203,4,204,4],[201,4,202,4],[201,5,202,5],[197,3,198,3],[205,0,206,0],[205,1,206,1],[205,2,206,2],[205,7,206,7],[205,4,206,4],[203,2,204,2],[205,6,206,6],[205,9,206,9],[197,5,198,5],[197,4,198,4],[199,0,200,0],[199,1,200,1],[199,2,200,2],[197,0,198,0],[197,1,198,1],[197,2,198,2],[197,6,198,6],[197,7,198,7],[201,7,202,7],[199,6,200,6],[199,5,200,5],[197,9,198,9],[207,4,208,4],[205,3,206,3],[207,9,208,9],[203,10,204,10],[205,10,206,10],[205,5,206,5],[203,7,204,7],[207,10,208,10],[211,0,212,0],[211,1,212,1],[211,2,212,2],[209,0,210,0],[209,1,210,1],[209,2,210,2],[209,5,210,5],[207,5,208,5],[207,7,208,7],[207,0,208,0],[207,1,208,1],[207,2,208,2],[209,7,210,7],[209,6,210,6],[207,3,208,3],[209,4,210,4],[207,6,208,6],[209,10,210,10],[209,9,210,9],[211,3,212,3],[209,3,210,3],[211,6,212,6],[211,4,212,4],[211,5,212,5],[211,7,212,7],[211,10,212,10],[213,4,214,4],[211,9,212,9],[213,5,214,5],[215,0,216,0],[215,1,216,1],[215,2,216,2],[213,0,214,0],[213,1,214,1],[213,10,214,10],[215,3,216,3],[215,4,216,4],[213,7,214,7],[213,9,214,9],[215,10,216,10],[215,9,216,9],[213,3,214,3],[215,7,216,7],[217,7,218,7],[215,6,216,6],[215,5,216,5],[217,5,218,5]],"merged_total":2410,"flags":["merged_cut"]}
["I&C ID #","Measure #","Import?","Control_Type_sel","Elec_Util_cust_Incentive","Hrs_of_Use","kW_Impact","kW_Summer_Gross","kWh_Impact","quantity","Wattage"]
[{"$f":"'Input - Retrofit Lighting'!$M$11","v":0}]
[{"$f":"'Input - Retrofit Lighting'!$M$11","v":0}]
[{"$f":"'Input - Retrofit Lighting'!$M$11","v":0}]
[{"$f":"'Input - Retrofit Lighting'!$M$11","v":0}]
[{"$f":"'Input - Retrofit Lighting'!$M$11","v":0}]
[{"$f":"'Input - Retrofit Lighting'!$M$11","v":0}]
[{"$f":"'Input - Retrofit Lighting'!$M$11","v":0}]
[{"$f":"'Input - Retrofit Lighting'!$M$11","v":0}]
[{"$f":"'Input - Retrofit Lighting'!$M$11","v":0}]
[{"$f":"'Input - Retrofit Lighting'!$M$11","v":0}]
[{"$f":"'Input - Retrofit Lighting'!$M$11","v":0}]
[{"$f":"'Input - Retrofit Lighting'!$M$11","v":0}]
[{"$f":"'Input - Retrofit Lighting'!$M$11","v":0},"80A",{"$f":"IF(SUMIF('Input - Lighting Controls Only'!$F$24:$F$223,'AEG Import - Con'!B14,'Input - Lighting Controls Only'!$H$24:$H$223)>0,\"Yes\",\"No\")","v":"No"},{"$f":"INDEX(Validation!$T$7:$T$10,MATCH($B14,Validation!$S$7:$S$10,0))","v":"Occupancy Control: Wall Switch Replacement"},{"$f":"SUMIF('Input - Lighting Controls Only'!$F$24:$F$223,'AEG Import - Ret'!$B14,'Input - Lighting Controls Only'!$Q$24:$Q$223)","v":0},{"$f":"SUMIF('Input - Lighting Controls Only'!$F$24:$F$223,'AEG Import - Ret'!$B14,'Input - Lighting Controls Only'!$L$24:$L$223)","v":0},{"$f":"H14","v":0},{"$f":"SUMIF('Input - Lighting Controls Only'!$F$24:$F$223,'AEG Import - Ret'!$B14,'Input - Lighting Controls Only'!$P$24:$P$223)","v":0},{"$f":"SUMIF('Input - Lighting Controls Only'!$F$24:$F$223,'AEG Import - Ret'!$B14,'Input - Lighting Controls Only'!$O$24:$O$223)","v":0},{"$f":"SUMIF('Input - Lighting Controls Only'!$F$24:$F$223,'AEG Import - Ret'!$B14,'Input - Lighting Controls Only'!$R$24:$R$223)","v":0},{"$f":"SUMIF('Input - Lighting Controls Only'!$F$24:$F$223,'AEG Import - Ret'!$B14,'Input - Lighting Controls Only'!$S$24:$S$223)","v":0}]
[{"$f":"'Input - Retrofit Lighting'!$M$11","v":0},"80B",{"$f":"IF(SUMIF('Input - Lighting Controls Only'!$F$24:$F$223,'AEG Import - Con'!B15,'Input - Lighting Controls Only'!$H$24:$H$223)>0,\"Yes\",\"No\")","v":"No"},{"$f":"INDEX(Validation!$T$7:$T$10,MATCH($B15,Validation!$S$7:$S$10,0))","v":"Occupancy Control: Ceiling / Wall Mount"},{"$f":"SUMIF('Input - Lighting Controls Only'!$F$24:$F$223,'AEG Import - Ret'!$B15,'Input - Lighting Controls Only'!$Q$24:$Q$223)","v":0},{"$f":"SUMIF('Input - Lighting Controls Only'!$F$24:$F$223,'AEG Import - Ret'!$B15,'Input - Lighting Controls Only'!$L$24:$L$223)","v":0},{"$f":"H15","v":0},{"$f":"SUMIF('Input - Lighting Controls Only'!$F$24:$F$223,'AEG Import - Ret'!$B15,'Input - Lighting Controls Only'!$P$24:$P$223)","v":0},{"$f":"SUMIF('Input - Lighting Controls Only'!$F$24:$F$223,'AEG Import - Ret'!$B15,'Input - Lighting Controls Only'!$O$24:$O$223)","v":0},{"$f":"SUMIF('Input - Lighting Controls Only'!$F$24:$F$223,'AEG Import - Ret'!$B15,'Input - Lighting Controls Only'!$R$24:$R$223)","v":0},{"$f":"SUMIF('Input - Lighting Controls Only'!$F$24:$F$223,'AEG Import - Ret'!$B15,'Input - Lighting Controls Only'!$S$24:$S$223)","v":0}]
[{"$f":"'Input - Retrofit Lighting'!$M$11","v":0},"80C",{"$f":"IF(SUMIF('Input - Lighting Controls Only'!$F$24:$F$223,'AEG Import - Con'!B16,'Input - Lighting Controls Only'!$H$24:$H$223)>0,\"Yes\",\"No\")","v":"No"},{"$f":"INDEX(Validation!$T$7:$T$10,MATCH($B16,Validation!$S$7:$S$10,0))","v":"Occupancy Control: \nFixture Mounted/High Bay"},{"$f":"SUMIF('Input - Lighting Controls Only'!$F$24:$F$223,'AEG Import - Ret'!$B16,'Input - Lighting Controls Only'!$Q$24:$Q$223)","v":0},{"$f":"SUMIF('Input - Lighting Controls Only'!$F$24:$F$223,'AEG Import - Ret'!$B16,'Input - Lighting Controls Only'!$L$24:$L$223)","v":0},{"$f":"H16","v":0},{"$f":"SUMIF('Input - Lighting Controls Only'!$F$24:$F$223,'AEG Import - Ret'!$B16,'Input - Lighting Controls Only'!$P$24:$P$223)","v":0},{"$f":"SUMIF('Input - Lighting Controls Only'!$F$24:$F$223,'AEG Import - Ret'!$B16,'Input - Lighting Controls Only'!$O$24:$O$223)","v":0},{"$f":"SUMIF('Input - Lighting Controls Only'!$F$24:$F$223,'AEG Import - Ret'!$B16,'Input - Lighting Controls Only'!$R$24:$R$223)","v":0},{"$f":"SUMIF('Input - Lighting Controls Only'!$F$24:$F$223,'AEG Import - Ret'!$B16,'Input - Lighting Controls Only'!$S$24:$S$223)","v":0}]
[{"$f":"'Input - Retrofit Lighting'!$M$11","v":0},"80E",{"$f":"IF(SUMIF('Input - Lighting Controls Only'!$F$24:$F$223,'AEG Import - Con'!B17,'Input - Lighting Controls Only'!$H$24:$H$223)>0,\"Yes\",\"No\")","v":"No"},{"$f":"INDEX(Validation!$T$7:$T$10,MATCH($B17,Validation!$S$7:$S$10,0))","v":"Daylight Control/Harvesting (On/Off)"},{"$f":"SUMIF('Input - Lighting Controls Only'!$F$24:$F$223,'AEG Import - Ret'!$B17,'Input - Lighting Controls Only'!$Q$24:$Q$223)","v":0},{"$f":"SUMIF('Input - Lighting Controls Only'!$F$24:$F$223,'AEG Import - Ret'!$B17,'Input - Lighting Controls Only'!$L$24:$L$223)","v":0},{"$f":"H17","v":0},{"$f":"SUMIF('Input - Lighting Controls Only'!$F$24:$F$223,'AEG Import - Ret'!$B17,'Input - Lighting Controls Only'!$P$24:$P$223)","v":0},{"$f":"SUMIF('Input - Lighting Controls Only'!$F$24:$F$223,'AEG Import - Ret'!$B17,'Input - Lighting Controls Only'!$O$24:$O$223)","v":0},{"$f":"SUMIF('Input - Lighting Controls Only'!$F$24:$F$223,'AEG Import - Ret'!$B17,'Input - Lighting Controls Only'!$R$24:$R$223)","v":0},{"$f":"SUMIF('Input - Lighting Controls Only'!$F$24:$F$223,'AEG Import - Ret'!$B17,'Input - Lighting Controls Only'!$S$24:$S$223)","v":0}]

{"sheet":"AEG Import","index":19,"n_rows":17,"n_cols":11,"rows_kept":17,"cut":false,"hidden":true,"merged":[]}
["Measure #","Import?","Control_Type_sel","Elec_Util_cust_Incentive","Hrs_of_Use","kW_Impact","kW_Summer_Gross","kWh_Impact","Measure_Life","quantity","Wattage"]
[101,{"$f":"IF(OR('AEG Import - Con'!C2=\"Yes\",'AEG Import - Ret'!C2=\"Yes\"),\"Yes\",\"No\")","v":"No"},null,{"$f":"'AEG Import - Ret'!E2/IF(J2=0,1,J2)","v":{"$error":"#VALUE!"}},{"$f":"'AEG Import - Ret'!F2","v":0},{"$f":"+'AEG Import - Ret'!G2/IF(J2=0,1,J2)","v":0},{"$f":"'AEG Import - Ret'!H2/IF(J2=0,1,J2)","v":0},{"$f":"'AEG Import - Ret'!I2/IF(J2=0,1,J2)","v":0},11,{"$f":"'AEG Import - Con'!J2+'AEG Import - Ret'!J2","v":0},{"$f":"('AEG Import - Con'!K2+'AEG Import - Ret'!K2)/IF(J2=0,1,J2)","v":0}]
[102,{"$f":"IF(OR('AEG Import - Con'!C3=\"Yes\",'AEG Import - Ret'!C3=\"Yes\"),\"Yes\",\"No\")","v":"No"},null,{"$f":"'AEG Import - Ret'!E3/IF(J3=0,1,J3)","v":{"$error":"#VALUE!"}},{"$f":"'AEG Import - Ret'!F3","v":0},{"$f":"+'AEG Import - Ret'!G3/IF(J3=0,1,J3)","v":0},{"$f":"'AEG Import - Ret'!H3/IF(J3=0,1,J3)","v":0},{"$f":"'AEG Import - Ret'!I3/IF(J3=0,1,J3)","v":0},11,{"$f":"'AEG Import - Con'!J3+'AEG Import - Ret'!J3","v":0},{"$f":"('AEG Import - Con'!K3+'AEG Import - Ret'!K3)/IF(J3=0,1,J3)","v":0}]
[103,{"$f":"IF(OR('AEG Import - Con'!C4=\"Yes\",'AEG Import - Ret'!C4=\"Yes\"),\"Yes\",\"No\")","v":"No"},null,{"$f":"'AEG Import - Ret'!E4/IF(J4=0,1,J4)","v":{"$error":"#VALUE!"}},{"$f":"'AEG Import - Ret'!F4","v":0},{"$f":"+'AEG Import - Ret'!G4/IF(J4=0,1,J4)","v":0},{"$f":"'AEG Import - Ret'!H4/IF(J4=0,1,J4)","v":0},{"$f":"'AEG Import - Ret'!I4/IF(J4=0,1,J4)","v":0},11,{"$f":"'AEG Import - Con'!J4+'AEG Import - Ret'!J4","v":0},{"$f":"('AEG Import - Con'!K4+'AEG Import - Ret'!K4)/IF(J4=0,1,J4)","v":0}]
[104,{"$f":"IF(OR('AEG Import - Con'!C5=\"Yes\",'AEG Import - Ret'!C5=\"Yes\"),\"Yes\",\"No\")","v":"No"},null,{"$f":"'AEG Import - Ret'!E5/IF(J5=0,1,J5)","v":{"$error":"#VALUE!"}},{"$f":"'AEG Import - Ret'!F5","v":0},{"$f":"+'AEG Import - Ret'!G5/IF(J5=0,1,J5)","v":0},{"$f":"'AEG Import - Ret'!H5/IF(J5=0,1,J5)","v":0},{"$f":"'AEG Import - Ret'!I5/IF(J5=0,1,J5)","v":0},11,{"$f":"'AEG Import - Con'!J5+'AEG Import - Ret'!J5","v":0},{"$f":"('AEG Import - Con'!K5+'AEG Import - Ret'!K5)/IF(J5=0,1,J5)","v":0}]
[105,{"$f":"IF(OR('AEG Import - Con'!C6=\"Yes\",'AEG Import - Ret'!C6=\"Yes\"),\"Yes\",\"No\")","v":"No"},null,{"$f":"'AEG Import - Ret'!E6/IF(J6=0,1,J6)","v":{"$error":"#VALUE!"}},{"$f":"'AEG Import - Ret'!F6","v":0},{"$f":"+'AEG Import - Ret'!G6/IF(J6=0,1,J6)","v":0},{"$f":"'AEG Import - Ret'!H6/IF(J6=0,1,J6)","v":0},{"$f":"'AEG Import - Ret'!I6/IF(J6=0,1,J6)","v":0},11,{"$f":"'AEG Import - Con'!J6+'AEG Import - Ret'!J6","v":0},{"$f":"('AEG Import - Con'!K6+'AEG Import - Ret'!K6)/IF(J6=0,1,J6)","v":0}]
[106,{"$f":"IF(OR('AEG Import - Con'!C7=\"Yes\",'AEG Import - Ret'!C7=\"Yes\"),\"Yes\",\"No\")","v":"No"},null,{"$f":"'AEG Import - Ret'!E7/IF(J7=0,1,J7)","v":{"$error":"#VALUE!"}},{"$f":"'AEG Import - Ret'!F7","v":0},{"$f":"+'AEG Import - Ret'!G7/IF(J7=0,1,J7)","v":0},{"$f":"'AEG Import - Ret'!H7/IF(J7=0,1,J7)","v":0},{"$f":"'AEG Import - Ret'!I7/IF(J7=0,1,J7)","v":0},11,{"$f":"'AEG Import - Con'!J7+'AEG Import - Ret'!J7","v":0},{"$f":"('AEG Import - Con'!K7+'AEG Import - Ret'!K7)/IF(J7=0,1,J7)","v":0}]
[107,{"$f":"IF(OR('AEG Import - Con'!C8=\"Yes\",'AEG Import - Ret'!C8=\"Yes\"),\"Yes\",\"No\")","v":"No"},null,{"$f":"'AEG Import - Ret'!E8/IF(J8=0,1,J8)","v":{"$error":"#VALUE!"}},{"$f":"'AEG Import - Ret'!F8","v":0},{"$f":"+'AEG Import - Ret'!G8/IF(J8=0,1,J8)","v":0},{"$f":"'AEG Import - Ret'!H8/IF(J8=0,1,J8)","v":0},{"$f":"'AEG Import - Ret'!I8/IF(J8=0,1,J8)","v":0},11,{"$f":"'AEG Import - Con'!J8+'AEG Import - Ret'!J8","v":0},{"$f":"('AEG Import - Con'!K8+'AEG Import - Ret'!K8)/IF(J8=0,1,J8)","v":0}]
[108,{"$f":"IF(OR('AEG Import - Con'!C9=\"Yes\",'AEG Import - Ret'!C9=\"Yes\"),\"Yes\",\"No\")","v":"No"},null,{"$f":"'AEG Import - Ret'!E9/IF(J9=0,1,J9)","v":{"$error":"#VALUE!"}},{"$f":"'AEG Import - Ret'!F9","v":0},{"$f":"+'AEG Import - Ret'!G9/IF(J9=0,1,J9)","v":0},{"$f":"'AEG Import - Ret'!H9/IF(J9=0,1,J9)","v":0},{"$f":"'AEG Import - Ret'!I9/IF(J9=0,1,J9)","v":0},11,{"$f":"'AEG Import - Con'!J9+'AEG Import - Ret'!J9","v":0},{"$f":"('AEG Import - Con'!K9+'AEG Import - Ret'!K9)/IF(J9=0,1,J9)","v":0}]
[109,{"$f":"IF(OR('AEG Import - Con'!C10=\"Yes\",'AEG Import - Ret'!C10=\"Yes\"),\"Yes\",\"No\")","v":"No"},null,{"$f":"'AEG Import - Ret'!E10/IF(J10=0,1,J10)","v":{"$error":"#VALUE!"}},{"$f":"'AEG Import - Ret'!F10","v":0},{"$f":"+'AEG Import - Ret'!G10/IF(J10=0,1,J10)","v":0},{"$f":"'AEG Import - Ret'!H10/IF(J10=0,1,J10)","v":0},{"$f":"'AEG Import - Ret'!I10/IF(J10=0,1,J10)","v":0},11,{"$f":"'AEG Import - Con'!J10+'AEG Import - Ret'!J10","v":0},{"$f":"('AEG Import - Con'!K10+'AEG Import - Ret'!K10)/IF(J10=0,1,J10)","v":0}]
[110,{"$f":"IF(OR('AEG Import - Con'!C11=\"Yes\",'AEG Import - Ret'!C11=\"Yes\"),\"Yes\",\"No\")","v":"No"},null,{"$f":"'AEG Import - Ret'!E11/IF(J11=0,1,J11)","v":{"$error":"#VALUE!"}},{"$f":"'AEG Import - Ret'!F11","v":0},{"$f":"+'AEG Import - Ret'!G11/IF(J11=0,1,J11)","v":0},{"$f":"'AEG Import - Ret'!H11/IF(J11=0,1,J11)","v":0},{"$f":"'AEG Import - Ret'!I11/IF(J11=0,1,J11)","v":0},11,{"$f":"'AEG Import - Con'!J11+'AEG Import - Ret'!J11","v":0},{"$f":"('AEG Import - Con'!K11+'AEG Import - Ret'!K11)/IF(J11=0,1,J11)","v":0}]
[111,{"$f":"IF(OR('AEG Import - Con'!C12=\"Yes\",'AEG Import - Ret'!C12=\"Yes\"),\"Yes\",\"No\")","v":"No"},null,{"$f":"'AEG Import - Ret'!E12/IF(J12=0,1,J12)","v":{"$error":"#VALUE!"}},{"$f":"'AEG Import - Ret'!F12","v":0},{"$f":"+'AEG Import - Ret'!G12/IF(J12=0,1,J12)","v":0},{"$f":"'AEG Import - Ret'!H12/IF(J12=0,1,J12)","v":0},{"$f":"'AEG Import - Ret'!I12/IF(J12=0,1,J12)","v":0},11,{"$f":"'AEG Import - Con'!J12+'AEG Import - Ret'!J12","v":0},{"$f":"('AEG Import - Con'!K12+'AEG Import - Ret'!K12)/IF(J12=0,1,J12)","v":0}]
["90C",{"$f":"IF(OR('AEG Import - Con'!C13=\"Yes\",'AEG Import - Ret'!C13=\"Yes\"),\"Yes\",\"No\")","v":"No"},null,{"$f":"'Measure Code Summary'!I47*'Measure Code Summary'!J$54/SUM('Measure Code Summary'!J$50:J$53,'Measure Code Summary'!J$47,'Measure Code Summary'!J$44)","v":{"$error":"#VALUE!"}},{"$f":"'AEG Import - Ret'!F13","v":0},{"$f":"+'AEG Import - Ret'!G13/IF(J13=0,1,J13)","v":0},{"$f":"'AEG Import - Ret'!H13/IF(J13=0,1,J13)","v":0},{"$f":"'AEG Import - Ret'!I13/IF(J13=0,1,J13)","v":0},11,{"$f":"'AEG Import - Con'!J13+'AEG Import - Ret'!J13","v":0},{"$f":"('AEG Import - Con'!K13+'AEG Import - Ret'!K13)/IF(J13=0,1,J13)","v":0}]
["80A",{"$f":"IF(OR('AEG Import - Con'!C14=\"Yes\",'AEG Import - Ret'!C14=\"Yes\"),\"Yes\",\"No\")","v":"No"},{"$f":"INDEX(Validation!$T$7:$T$11,MATCH($A14,Validation!$S$7:$S$11,0))","v":"Occupancy Control: Wall Switch Replacement"},{"$f":"'Measure Code Summary'!I50*'Measure Code Summary'!J$54/SUM('Measure Code Summary'!J$50:J$53,'Measure Code Summary'!J$47,'Measure Code Summary'!J$44)","v":{"$error":"#VALUE!"}},{"$f":"'AEG Import - Con'!F14+'AEG Import - Ret'!F14","v":0},{"$f":"('AEG Import - Con'!G14+'AEG Import - Ret'!G14)/IF(J14=0,1,J14)","v":0},{"$f":"('AEG Import - Con'!H12+'AEG Import - Ret'!H14)/IF(J14=0,1,J14)","v":0},{"$f":"('AEG Import - Con'!I14+'AEG Import - Ret'!I14)/IF(J14=0,1,J14)","v":0},8,{"$f":"'AEG Import - Con'!J14+'AEG Import - Ret'!J14","v":0},{"$f":"('AEG Import - Con'!K14+'AEG Import - Ret'!K14)/IF(J14=0,1,J14)","v":0}]
["80B",{"$f":"IF(OR('AEG Import - Con'!C15=\"Yes\",'AEG Import - Ret'!C15=\"Yes\"),\"Yes\",\"No\")","v":"No"},{"$f":"INDEX(Validation!$T$7:$T$11,MATCH($A15,Validation!$S$7:$S$11,0))","v":"Occupancy Control: Ceiling / Wall Mount"},{"$f":"'Measure Code Summary'!I51*'Measure Code Summary'!J$54/SUM('Measure Code Summary'!J$50:J$53,'Measure Code Summary'!J$47,'Measure Code Summary'!J$44)","v":{"$error":"#VALUE!"}},{"$f":"'AEG Import - Con'!F15+'AEG Import - Ret'!F15","v":0},{"$f":"('AEG Import - Con'!G15+'AEG Import - Ret'!G15)/IF(J15=0,1,J15)","v":0},{"$f":"('AEG Import - Con'!H13+'AEG Import - Ret'!H15)/IF(J15=0,1,J15)","v":0},{"$f":"('AEG Import - Con'!I15+'AEG Import - Ret'!I15)/IF(J15=0,1,J15)","v":0},8,{"$f":"'AEG Import - Con'!J15+'AEG Import - Ret'!J15","v":0},{"$f":"('AEG Import - Con'!K15+'AEG Import - Ret'!K15)/IF(J15=0,1,J15)","v":0}]
["80C",{"$f":"IF(OR('AEG Import - Con'!C16=\"Yes\",'AEG Import - Ret'!C16=\"Yes\"),\"Yes\",\"No\")","v":"No"},{"$f":"INDEX(Validation!$T$7:$T$11,MATCH($A16,Validation!$S$7:$S$11,0))","v":"Occupancy Control: \nFixture Mounted/High Bay"},{"$f":"'Measure Code Summary'!I52*'Measure Code Summary'!J$54/SUM('Measure Code Summary'!J$50:J$53,'Measure Code Summary'!J$47,'Measure Code Summary'!J$44)","v":{"$error":"#VALUE!"}},{"$f":"'AEG Import - Con'!F16+'AEG Import - Ret'!F16","v":0},{"$f":"('AEG Import - Con'!G16+'AEG Import - Ret'!G16)/IF(J16=0,1,J16)","v":0},{"$f":"('AEG Import - Con'!H14+'AEG Import - Ret'!H16)/IF(J16=0,1,J16)","v":0},{"$f":"('AEG Import - Con'!I16+'AEG Import - Ret'!I16)/IF(J16=0,1,J16)","v":0},8,{"$f":"'AEG Import - Con'!J16+'AEG Import - Ret'!J16","v":0},{"$f":"('AEG Import - Con'!K16+'AEG Import - Ret'!K16)/IF(J16=0,1,J16)","v":0}]
["80E",{"$f":"IF(OR('AEG Import - Con'!C17=\"Yes\",'AEG Import - Ret'!C17=\"Yes\"),\"Yes\",\"No\")","v":"No"},{"$f":"INDEX(Validation!$T$7:$T$11,MATCH($A17,Validation!$S$7:$S$11,0))","v":"Daylight Control/Harvesting (On/Off)"},{"$f":"'Measure Code Summary'!I53*'Measure Code Summary'!J$54/SUM('Measure Code Summary'!J$50:J$53,'Measure Code Summary'!J$47,'Measure Code Summary'!J$44)","v":{"$error":"#VALUE!"}},{"$f":"'AEG Import - Con'!F17+'AEG Import - Ret'!F17","v":0},{"$f":"('AEG Import - Con'!G17+'AEG Import - Ret'!G17)/IF(J17=0,1,J17)","v":0},{"$f":"('AEG Import - Con'!H15+'AEG Import - Ret'!H17)/IF(J17=0,1,J17)","v":0},{"$f":"('AEG Import - Con'!I17+'AEG Import - Ret'!I17)/IF(J17=0,1,J17)","v":0},8,{"$f":"'AEG Import - Con'!J17+'AEG Import - Ret'!J17","v":0},{"$f":"('AEG Import - Con'!K17+'AEG Import - Ret'!K17)/IF(J17=0,1,J17)","v":0}]